{"text_format":"1","workbook":"xlsx","n_sheets":13,"sheets":["基本情報","学年名簿と評価・評定","１組","2組","3組","4組","5組","6組","7組","8組","9組","10組","11組"],"not_rendered":{"charts":0,"images":0,"macros":1,"external_links":0,"defined_names":0,"comments":0,"pivot_tables":0},"unopened":[],"bounds":{"document_bytes":16777216,"sheet_cells":100000,"rows_first":2000,"rows_last":500,"rows_between":2000,"halvings":0,"cell_chars":16384,"cell_head_chars":4096},"cells_cut":0,"cells_raw":0,"read":"whole","date_system":"1900"}

{"sheet":"基本情報","index":0,"n_rows":16,"n_cols":19,"rows_kept":16,"cut":false,"hidden":false,"merged":[[12,17,12,18],[13,17,13,18],[14,17,14,18],[15,17,15,18],[12,10,12,14],[13,15,13,16],[14,15,14,16],[15,15,15,16],[12,15,12,16],[13,10,13,14],[14,10,14,14],[15,10,15,14]]}
[]
[null,null,null,null,null,null,null,null,null,null,null,null,null,null,null,null,null,null,"可変"]
[null,null,null,"学校名","本荘","中学校",null,null,null,null,"評価","設定値",null,"観点1","観点2","観点3",null,"参照値","評定"]
[null,null,null,"学年",1,"年",null,null,null,null,"A",1,null,"C","C","C",null,{"$f":"COUNTIF($N4:$P4,\"A\")-COUNTIF($N4:$P4,\"C\")","v":-3},1]
[null,null,null,null,null,null,null,null,null,null,"B",0,null,"B","C","C",null,-2,2]
[null,null,null,"教科名","国語",null,null,null,null,null,"C",-1,null,"B","B","C",null,-1,3]
[null,null,null,null,null,null,null,null,null,null,null,null,null,"B","B","B",null,0,3]
[null,null,null,null,null,null,null,null,null,null,null,null,null,"A","B","B",null,1,3]
[null,null,null,null,null,null,null,null,null,null,null,null,null,"A","A","B",null,2,4]
[null,null,null,null,null,null,null,null,null,null,null,null,null,"A","A","A",null,3,5]
[]
[]
[null,null,null,null,null,null,null,null,null,null,"評価の観点",null,null,null,null,"略称1",null,"略称2"]
[null,null,null,null,null,null,null,null,null,null,"知識及び技能",null,null,null,null,"知技",null,"観点1"]
[null,null,null,null,null,null,null,null,null,null,"思考力,判断力,表現力等",null,null,null,null,"思判",null,"観点2"]
[null,null,null,null,null,null,null,null,null,null,"学びに向かう力,人間性等",null,null,null,null,"学び",null,"観点3"]

{"sheet":"学年名簿と評価・評定","index":1,"n_rows":573,"n_cols":40,"rows_kept":573,"cut":false,"hidden":false,"merged":[[21,11,21,15],[21,21,21,25],[21,31,21,35]]}
[]
[]
[]
[]
[]
[]
[]
[null,null,null,null,null,null,null,{"$f":"基本情報!E4","v":1},"年生",null,null,null,1,2,3,4,5,"-","人数",1,null,null,1,2,3,4,5,"-","人数",null,null,null,1,2,3,4,5,"-","人数"]
[null,null,null,null,null,null,null,null,"表示と非表示",null,null,1,{"$f":"COUNTIFS($G$24:$G$573,$L9,$L$24:$L$573,M$8)","v":0},0,0,0,1,0,{"$f":"SUM(M9:R9)","v":1},{"$f":"IF(SUM(M9:Q9)=0,\"\",ROUND(($M$8*M9+$N$8*N9+$O$8*O9+$P$8*P9+$Q$8*Q9)/SUM(M9:Q9),$T$8))","v":5},null,1,{"$f":"COUNTIFS($G$24:$G$573,$L9,$V$24:$V$573,W$8)","v":1},0,0,0,0,0,{"$f":"SUM(W9:AB9)","v":1},{"$f":"IF(SUM(W9:AA9)=0,\"\",ROUND(($M$8*W9+$N$8*X9+$O$8*Y9+$P$8*Z9+$Q$8*AA9)/SUM(W9:AA9),$T$8))","v":1},null,1,{"$f":"COUNTIFS($G$24:$G$573,$L9,$AF$24:$AF$573,AG$8)","v":0},0,1,0,0,0,{"$f":"SUM(AG9:AL9)","v":1},{"$f":"IF(SUM(AG9:AK9)=0,\"\",ROUND(($M$8*AG9+$N$8*AH9+$O$8*AI9+$P$8*AJ9+$Q$8*AK9)/SUM(AG9:AK9),$T$8))","v":3}]
[null,null,null,null,null,null,null,null,null,null,null,2,0,0,0,0,0,0,{"$f":"SUM(M10:R10)","v":0},"",null,2,0,0,0,0,0,0,{"$f":"SUM(W10:AB10)","v":0},"",null,2,0,0,0,0,0,0,{"$f":"SUM(AG10:AL10)","v":0},""]
[null,null,null,null,null,null,null,null,null,null,null,3,0,0,0,0,0,0,0,"",null,3,0,0,0,0,0,0,0,"",null,3,0,0,0,0,0,0,0,""]
[null,null,null,null,null,null,null,null,null,null,null,4,0,0,0,0,0,0,0,"",null,4,0,0,0,0,0,0,0,"",null,4,0,0,0,0,0,0,0,""]
[null,null,null,null,null,null,null,null,null,null,null,5,0,0,0,0,0,0,0,"",null,5,0,0,0,0,0,0,0,"",null,5,0,0,0,0,0,0,0,""]
[null,null,null,null,null,null,null,null,null,null,null,6,0,0,0,0,0,0,0,"",null,6,0,0,0,0,0,0,0,"",null,6,0,0,0,0,0,0,0,""]
[null,null,null,null,null,null,null,null,null,null,null,7,0,0,0,0,0,0,0,"",null,7,0,0,0,0,0,0,0,"",null,7,0,0,0,0,0,0,0,""]
[null,null,null,null,null,null,null,null,null,null,null,8,0,0,0,0,0,0,0,"",null,8,0,0,0,0,0,0,0,"",null,8,0,0,0,0,0,0,0,""]
[null,null,null,null,null,null,null,null,null,null,null,9,0,0,0,0,0,0,0,"",null,9,0,0,0,0,0,0,0,"",null,9,0,0,0,0,0,0,0,""]
[null,null,null,null,null,null,null,null,null,null,null,10,0,0,0,0,0,0,0,"",null,10,0,0,0,0,0,0,0,"",null,10,0,0,0,0,0,0,0,""]
[null,null,null,null,null,null,null,null,null,null,null,11,0,0,0,0,0,0,0,"",null,11,0,0,0,0,0,0,0,"",null,11,0,0,0,0,0,0,0,""]
[null,null,null,null,null,null,null,null,{"$f":"基本情報!E6","v":"国語"},null,null,"計",{"$f":"SUM(M9:M19)","v":0},{"$f":"SUM(N9:N19)","v":0},0,0,1,0,1,5,null,"計",{"$f":"SUM(W9:W19)","v":1},{"$f":"SUM(X9:X19)","v":0},{"$f":"SUM(Y9:Y19)","v":0},{"$f":"SUM(Z9:Z19)","v":0},{"$f":"SUM(AA9:AA19)","v":0},{"$f":"SUM(AB9:AB19)","v":0},{"$f":"SUM(AC9:AC19)","v":1},1,null,"計",{"$f":"SUM(AG9:AG19)","v":0},{"$f":"SUM(AH9:AH19)","v":0},{"$f":"SUM(AI9:AI19)","v":1},{"$f":"SUM(AJ9:AJ19)","v":0},{"$f":"SUM(AK9:AK19)","v":0},{"$f":"SUM(AL9:AL19)","v":0},{"$f":"SUM(AM9:AM19)","v":1},3]
[]
[null,null,null,null,null,null,null,null,null,null,null,"前　　期",null,null,null,null,null,null,null,null,null,"後　　期",null,null,null,null,null,null,null,null,null,"学　　年"]
[null,null,null,null,null,null,"組","番","氏名",null,"性","評定",{"$f":"基本情報!$P$14","v":"知技"},{"$f":"基本情報!$P$15","v":"思判"},{"$f":"基本情報!P16","v":"学び"},"評定",null,null,null,null,null,{"$f":"L23","v":"評定"},{"$f":"M23","v":"知技"},"思判","学び","評定",null,null,null,null,null,{"$f":"L23","v":"評定"},{"$f":"M23","v":"知技"},"思判","学び","評定"]
[null,null,null,null,{"$f":"$H$8*10000+G24*100+H24","v":10101},null,1,1,"中野　弘道",1,{"$f":"IF(J24=1,\"男\",IF(J24=2,\"女\",\"\"))","v":"男"},{"$f":"IF('１組'!L24=\"\",\"\",'１組'!L24)","v":5},{"$f":"IF('１組'!M24=\"\",\"\",'１組'!M24)","v":"A"},{"$f":"IF('１組'!N24=\"\",\"\",'１組'!N24)","v":"A"},{"$f":"IF('１組'!O24=\"\",\"\",'１組'!O24)","v":"A"},{"$f":"IF('１組'!P24=\"\",\"\",'１組'!P24)","v":5},null,null,null,null,null,{"$f":"IF('１組'!V24=\"\",\"\",'１組'!V24)","v":1},{"$f":"IF('１組'!W24=\"\",\"\",'１組'!W24)","v":"C"},{"$f":"IF('１組'!X24=\"\",\"\",'１組'!X24)","v":"C"},{"$f":"IF('１組'!Y24=\"\",\"\",'１組'!Y24)","v":"C"},{"$f":"IF('１組'!Z24=\"\",\"\",'１組'!Z24)","v":1},null,null,null,null,null,{"$f":"IF('１組'!AF24=\"\",\"\",'１組'!AF24)","v":3},{"$f":"IF('１組'!AG24=\"\",\"\",'１組'!AG24)","v":"B"},{"$f":"IF('１組'!AH24=\"\",\"\",'１組'!AH24)","v":"A"},{"$f":"IF('１組'!AI24=\"\",\"\",'１組'!AI24)","v":"C"},{"$f":"IF('１組'!AJ24=\"\",\"\",'１組'!AJ24)","v":3}]
[null,null,null,null,10102,null,{"$f":"IF(H24<50,G24,G24+1)","v":1},{"$f":"IF(G25<>G24,1,H24+1)","v":2},null,2,{"$f":"IF(J25=1,\"男\",IF(J25=2,\"女\",\"\"))","v":"女"},{"$f":"IF('１組'!L25=\"\",\"\",'１組'!L25)","v":""},{"$f":"IF('１組'!M25=\"\",\"\",'１組'!M25)","v":""},{"$f":"IF('１組'!N25=\"\",\"\",'１組'!N25)","v":""},{"$f":"IF('１組'!O25=\"\",\"\",'１組'!O25)","v":""},{"$f":"IF('１組'!P25=\"\",\"\",'１組'!P25)","v":""},null,null,null,null,null,{"$f":"IF('１組'!V25=\"\",\"\",'１組'!V25)","v":""},{"$f":"IF('１組'!W25=\"\",\"\",'１組'!W25)","v":""},{"$f":"IF('１組'!X25=\"\",\"\",'１組'!X25)","v":""},{"$f":"IF('１組'!Y25=\"\",\"\",'１組'!Y25)","v":""},{"$f":"IF('１組'!Z25=\"\",\"\",'１組'!Z25)","v":""},null,null,null,null,null,{"$f":"IF('１組'!AF25=\"\",\"\",'１組'!AF25)","v":""},{"$f":"IF('１組'!AG25=\"\",\"\",'１組'!AG25)","v":""},{"$f":"IF('１組'!AH25=\"\",\"\",'１組'!AH25)","v":""},{"$f":"IF('１組'!AI25=\"\",\"\",'１組'!AI25)","v":""},{"$f":"IF('１組'!AJ25=\"\",\"\",'１組'!AJ25)","v":""}]
[null,null,null,null,10103,null,{"$f":"IF(H25<50,G25,G25+1)","v":1},{"$f":"IF(G26<>G25,1,H25+1)","v":3},null,1,"男",{"$f":"IF('１組'!L26=\"\",\"\",'１組'!L26)","v":""},{"$f":"IF('１組'!M26=\"\",\"\",'１組'!M26)","v":""},{"$f":"IF('１組'!N26=\"\",\"\",'１組'!N26)","v":""},{"$f":"IF('１組'!O26=\"\",\"\",'１組'!O26)","v":""},{"$f":"IF('１組'!P26=\"\",\"\",'１組'!P26)","v":""},null,null,null,null,null,{"$f":"IF('１組'!V26=\"\",\"\",'１組'!V26)","v":""},{"$f":"IF('１組'!W26=\"\",\"\",'１組'!W26)","v":""},{"$f":"IF('１組'!X26=\"\",\"\",'１組'!X26)","v":""},{"$f":"IF('１組'!Y26=\"\",\"\",'１組'!Y26)","v":""},{"$f":"IF('１組'!Z26=\"\",\"\",'１組'!Z26)","v":""},null,null,null,null,null,{"$f":"IF('１組'!AF26=\"\",\"\",'１組'!AF26)","v":""},{"$f":"IF('１組'!AG26=\"\",\"\",'１組'!AG26)","v":""},{"$f":"IF('１組'!AH26=\"\",\"\",'１組'!AH26)","v":""},{"$f":"IF('１組'!AI26=\"\",\"\",'１組'!AI26)","v":""},{"$f":"IF('１組'!AJ26=\"\",\"\",'１組'!AJ26)","v":""}]
[null,null,null,null,10104,null,1,4,null,1,"男",{"$f":"IF('１組'!L27=\"\",\"\",'１組'!L27)","v":""},{"$f":"IF('１組'!M27=\"\",\"\",'１組'!M27)","v":""},{"$f":"IF('１組'!N27=\"\",\"\",'１組'!N27)","v":""},{"$f":"IF('１組'!O27=\"\",\"\",'１組'!O27)","v":""},{"$f":"IF('１組'!P27=\"\",\"\",'１組'!P27)","v":""},null,null,null,null,null,{"$f":"IF('１組'!V27=\"\",\"\",'１組'!V27)","v":""},{"$f":"IF('１組'!W27=\"\",\"\",'１組'!W27)","v":""},{"$f":"IF('１組'!X27=\"\",\"\",'１組'!X27)","v":""},{"$f":"IF('１組'!Y27=\"\",\"\",'１組'!Y27)","v":""},{"$f":"IF('１組'!Z27=\"\",\"\",'１組'!Z27)","v":""},null,null,null,null,null,{"$f":"IF('１組'!AF27=\"\",\"\",'１組'!AF27)","v":""},{"$f":"IF('１組'!AG27=\"\",\"\",'１組'!AG27)","v":""},{"$f":"IF('１組'!AH27=\"\",\"\",'１組'!AH27)","v":""},{"$f":"IF('１組'!AI27=\"\",\"\",'１組'!AI27)","v":""},{"$f":"IF('１組'!AJ27=\"\",\"\",'１組'!AJ27)","v":""}]
[null,null,null,null,10105,null,1,5,null,2,"女",{"$f":"IF('１組'!L28=\"\",\"\",'１組'!L28)","v":""},{"$f":"IF('１組'!M28=\"\",\"\",'１組'!M28)","v":""},{"$f":"IF('１組'!N28=\"\",\"\",'１組'!N28)","v":""},{"$f":"IF('１組'!O28=\"\",\"\",'１組'!O28)","v":""},{"$f":"IF('１組'!P28=\"\",\"\",'１組'!P28)","v":""},null,null,null,null,null,{"$f":"IF('１組'!V28=\"\",\"\",'１組'!V28)","v":""},{"$f":"IF('１組'!W28=\"\",\"\",'１組'!W28)","v":""},{"$f":"IF('１組'!X28=\"\",\"\",'１組'!X28)","v":""},{"$f":"IF('１組'!Y28=\"\",\"\",'１組'!Y28)","v":""},{"$f":"IF('１組'!Z28=\"\",\"\",'１組'!Z28)","v":""},null,null,null,null,null,{"$f":"IF('１組'!AF28=\"\",\"\",'１組'!AF28)","v":""},{"$f":"IF('１組'!AG28=\"\",\"\",'１組'!AG28)","v":""},{"$f":"IF('１組'!AH28=\"\",\"\",'１組'!AH28)","v":""},{"$f":"IF('１組'!AI28=\"\",\"\",'１組'!AI28)","v":""},{"$f":"IF('１組'!AJ28=\"\",\"\",'１組'!AJ28)","v":""}]
[null,null,null,null,10106,null,1,6,null,1,"男",{"$f":"IF('１組'!L29=\"\",\"\",'１組'!L29)","v":""},{"$f":"IF('１組'!M29=\"\",\"\",'１組'!M29)","v":""},{"$f":"IF('１組'!N29=\"\",\"\",'１組'!N29)","v":""},{"$f":"IF('１組'!O29=\"\",\"\",'１組'!O29)","v":""},{"$f":"IF('１組'!P29=\"\",\"\",'１組'!P29)","v":""},null,null,null,null,null,{"$f":"IF('１組'!V29=\"\",\"\",'１組'!V29)","v":""},{"$f":"IF('１組'!W29=\"\",\"\",'１組'!W29)","v":""},{"$f":"IF('１組'!X29=\"\",\"\",'１組'!X29)","v":""},{"$f":"IF('１組'!Y29=\"\",\"\",'１組'!Y29)","v":""},{"$f":"IF('１組'!Z29=\"\",\"\",'１組'!Z29)","v":""},null,null,null,null,null,{"$f":"IF('１組'!AF29=\"\",\"\",'１組'!AF29)","v":""},{"$f":"IF('１組'!AG29=\"\",\"\",'１組'!AG29)","v":""},{"$f":"IF('１組'!AH29=\"\",\"\",'１組'!AH29)","v":""},{"$f":"IF('１組'!AI29=\"\",\"\",'１組'!AI29)","v":""},{"$f":"IF('１組'!AJ29=\"\",\"\",'１組'!AJ29)","v":""}]
[null,null,null,null,10107,null,1,7,null,1,"男",{"$f":"IF('１組'!L30=\"\",\"\",'１組'!L30)","v":""},{"$f":"IF('１組'!M30=\"\",\"\",'１組'!M30)","v":""},{"$f":"IF('１組'!N30=\"\",\"\",'１組'!N30)","v":""},{"$f":"IF('１組'!O30=\"\",\"\",'１組'!O30)","v":""},{"$f":"IF('１組'!P30=\"\",\"\",'１組'!P30)","v":""},null,null,null,null,null,{"$f":"IF('１組'!V30=\"\",\"\",'１組'!V30)","v":""},{"$f":"IF('１組'!W30=\"\",\"\",'１組'!W30)","v":""},{"$f":"IF('１組'!X30=\"\",\"\",'１組'!X30)","v":""},{"$f":"IF('１組'!Y30=\"\",\"\",'１組'!Y30)","v":""},{"$f":"IF('１組'!Z30=\"\",\"\",'１組'!Z30)","v":""},null,null,null,null,null,{"$f":"IF('１組'!AF30=\"\",\"\",'１組'!AF30)","v":""},{"$f":"IF('１組'!AG30=\"\",\"\",'１組'!AG30)","v":""},{"$f":"IF('１組'!AH30=\"\",\"\",'１組'!AH30)","v":""},{"$f":"IF('１組'!AI30=\"\",\"\",'１組'!AI30)","v":""},{"$f":"IF('１組'!AJ30=\"\",\"\",'１組'!AJ30)","v":""}]
[null,null,null,null,10108,null,1,8,null,1,"男",{"$f":"IF('１組'!L31=\"\",\"\",'１組'!L31)","v":""},{"$f":"IF('１組'!M31=\"\",\"\",'１組'!M31)","v":""},{"$f":"IF('１組'!N31=\"\",\"\",'１組'!N31)","v":""},{"$f":"IF('１組'!O31=\"\",\"\",'１組'!O31)","v":""},{"$f":"IF('１組'!P31=\"\",\"\",'１組'!P31)","v":""},null,null,null,null,null,{"$f":"IF('１組'!V31=\"\",\"\",'１組'!V31)","v":""},{"$f":"IF('１組'!W31=\"\",\"\",'１組'!W31)","v":""},{"$f":"IF('１組'!X31=\"\",\"\",'１組'!X31)","v":""},{"$f":"IF('１組'!Y31=\"\",\"\",'１組'!Y31)","v":""},{"$f":"IF('１組'!Z31=\"\",\"\",'１組'!Z31)","v":""},null,null,null,null,null,{"$f":"IF('１組'!AF31=\"\",\"\",'１組'!AF31)","v":""},{"$f":"IF('１組'!AG31=\"\",\"\",'１組'!AG31)","v":""},{"$f":"IF('１組'!AH31=\"\",\"\",'１組'!AH31)","v":""},{"$f":"IF('１組'!AI31=\"\",\"\",'１組'!AI31)","v":""},{"$f":"IF('１組'!AJ31=\"\",\"\",'１組'!AJ31)","v":""}]
[null,null,null,null,10109,null,1,9,null,2,"女",{"$f":"IF('１組'!L32=\"\",\"\",'１組'!L32)","v":""},{"$f":"IF('１組'!M32=\"\",\"\",'１組'!M32)","v":""},{"$f":"IF('１組'!N32=\"\",\"\",'１組'!N32)","v":""},{"$f":"IF('１組'!O32=\"\",\"\",'１組'!O32)","v":""},{"$f":"IF('１組'!P32=\"\",\"\",'１組'!P32)","v":""},null,null,null,null,null,{"$f":"IF('１組'!V32=\"\",\"\",'１組'!V32)","v":""},{"$f":"IF('１組'!W32=\"\",\"\",'１組'!W32)","v":""},{"$f":"IF('１組'!X32=\"\",\"\",'１組'!X32)","v":""},{"$f":"IF('１組'!Y32=\"\",\"\",'１組'!Y32)","v":""},{"$f":"IF('１組'!Z32=\"\",\"\",'１組'!Z32)","v":""},null,null,null,null,null,{"$f":"IF('１組'!AF32=\"\",\"\",'１組'!AF32)","v":""},{"$f":"IF('１組'!AG32=\"\",\"\",'１組'!AG32)","v":""},{"$f":"IF('１組'!AH32=\"\",\"\",'１組'!AH32)","v":""},{"$f":"IF('１組'!AI32=\"\",\"\",'１組'!AI32)","v":""},{"$f":"IF('１組'!AJ32=\"\",\"\",'１組'!AJ32)","v":""}]
[null,null,null,null,10110,null,1,10,null,2,"女",{"$f":"IF('１組'!L33=\"\",\"\",'１組'!L33)","v":""},{"$f":"IF('１組'!M33=\"\",\"\",'１組'!M33)","v":""},{"$f":"IF('１組'!N33=\"\",\"\",'１組'!N33)","v":""},{"$f":"IF('１組'!O33=\"\",\"\",'１組'!O33)","v":""},{"$f":"IF('１組'!P33=\"\",\"\",'１組'!P33)","v":""},null,null,null,null,null,{"$f":"IF('１組'!V33=\"\",\"\",'１組'!V33)","v":""},{"$f":"IF('１組'!W33=\"\",\"\",'１組'!W33)","v":""},{"$f":"IF('１組'!X33=\"\",\"\",'１組'!X33)","v":""},{"$f":"IF('１組'!Y33=\"\",\"\",'１組'!Y33)","v":""},{"$f":"IF('１組'!Z33=\"\",\"\",'１組'!Z33)","v":""},null,null,null,null,null,{"$f":"IF('１組'!AF33=\"\",\"\",'１組'!AF33)","v":""},{"$f":"IF('１組'!AG33=\"\",\"\",'１組'!AG33)","v":""},{"$f":"IF('１組'!AH33=\"\",\"\",'１組'!AH33)","v":""},{"$f":"IF('１組'!AI33=\"\",\"\",'１組'!AI33)","v":""},{"$f":"IF('１組'!AJ33=\"\",\"\",'１組'!AJ33)","v":""}]
[null,null,null,null,10111,null,1,11,null,1,"男",{"$f":"IF('１組'!L34=\"\",\"\",'１組'!L34)","v":""},{"$f":"IF('１組'!M34=\"\",\"\",'１組'!M34)","v":""},{"$f":"IF('１組'!N34=\"\",\"\",'１組'!N34)","v":""},{"$f":"IF('１組'!O34=\"\",\"\",'１組'!O34)","v":""},{"$f":"IF('１組'!P34=\"\",\"\",'１組'!P34)","v":""},null,null,null,null,null,{"$f":"IF('１組'!V34=\"\",\"\",'１組'!V34)","v":""},{"$f":"IF('１組'!W34=\"\",\"\",'１組'!W34)","v":""},{"$f":"IF('１組'!X34=\"\",\"\",'１組'!X34)","v":""},{"$f":"IF('１組'!Y34=\"\",\"\",'１組'!Y34)","v":""},{"$f":"IF('１組'!Z34=\"\",\"\",'１組'!Z34)","v":""},null,null,null,null,null,{"$f":"IF('１組'!AF34=\"\",\"\",'１組'!AF34)","v":""},{"$f":"IF('１組'!AG34=\"\",\"\",'１組'!AG34)","v":""},{"$f":"IF('１組'!AH34=\"\",\"\",'１組'!AH34)","v":""},{"$f":"IF('１組'!AI34=\"\",\"\",'１組'!AI34)","v":""},{"$f":"IF('１組'!AJ34=\"\",\"\",'１組'!AJ34)","v":""}]
[null,null,null,null,10112,null,1,12,null,2,"女",{"$f":"IF('１組'!L35=\"\",\"\",'１組'!L35)","v":""},{"$f":"IF('１組'!M35=\"\",\"\",'１組'!M35)","v":""},{"$f":"IF('１組'!N35=\"\",\"\",'１組'!N35)","v":""},{"$f":"IF('１組'!O35=\"\",\"\",'１組'!O35)","v":""},{"$f":"IF('１組'!P35=\"\",\"\",'１組'!P35)","v":""},null,null,null,null,null,{"$f":"IF('１組'!V35=\"\",\"\",'１組'!V35)","v":""},{"$f":"IF('１組'!W35=\"\",\"\",'１組'!W35)","v":""},{"$f":"IF('１組'!X35=\"\",\"\",'１組'!X35)","v":""},{"$f":"IF('１組'!Y35=\"\",\"\",'１組'!Y35)","v":""},{"$f":"IF('１組'!Z35=\"\",\"\",'１組'!Z35)","v":""},null,null,null,null,null,{"$f":"IF('１組'!AF35=\"\",\"\",'１組'!AF35)","v":""},{"$f":"IF('１組'!AG35=\"\",\"\",'１組'!AG35)","v":""},{"$f":"IF('１組'!AH35=\"\",\"\",'１組'!AH35)","v":""},{"$f":"IF('１組'!AI35=\"\",\"\",'１組'!AI35)","v":""},{"$f":"IF('１組'!AJ35=\"\",\"\",'１組'!AJ35)","v":""}]
[null,null,null,null,10113,null,1,13,null,1,"男",{"$f":"IF('１組'!L36=\"\",\"\",'１組'!L36)","v":""},{"$f":"IF('１組'!M36=\"\",\"\",'１組'!M36)","v":""},{"$f":"IF('１組'!N36=\"\",\"\",'１組'!N36)","v":""},{"$f":"IF('１組'!O36=\"\",\"\",'１組'!O36)","v":""},{"$f":"IF('１組'!P36=\"\",\"\",'１組'!P36)","v":""},null,null,null,null,null,{"$f":"IF('１組'!V36=\"\",\"\",'１組'!V36)","v":""},{"$f":"IF('１組'!W36=\"\",\"\",'１組'!W36)","v":""},{"$f":"IF('１組'!X36=\"\",\"\",'１組'!X36)","v":""},{"$f":"IF('１組'!Y36=\"\",\"\",'１組'!Y36)","v":""},{"$f":"IF('１組'!Z36=\"\",\"\",'１組'!Z36)","v":""},null,null,null,null,null,{"$f":"IF('１組'!AF36=\"\",\"\",'１組'!AF36)","v":""},{"$f":"IF('１組'!AG36=\"\",\"\",'１組'!AG36)","v":""},{"$f":"IF('１組'!AH36=\"\",\"\",'１組'!AH36)","v":""},{"$f":"IF('１組'!AI36=\"\",\"\",'１組'!AI36)","v":""},{"$f":"IF('１組'!AJ36=\"\",\"\",'１組'!AJ36)","v":""}]
[null,null,null,null,10114,null,1,14,null,1,"男",{"$f":"IF('１組'!L37=\"\",\"\",'１組'!L37)","v":""},{"$f":"IF('１組'!M37=\"\",\"\",'１組'!M37)","v":""},{"$f":"IF('１組'!N37=\"\",\"\",'１組'!N37)","v":""},{"$f":"IF('１組'!O37=\"\",\"\",'１組'!O37)","v":""},{"$f":"IF('１組'!P37=\"\",\"\",'１組'!P37)","v":""},null,null,null,null,null,{"$f":"IF('１組'!V37=\"\",\"\",'１組'!V37)","v":""},{"$f":"IF('１組'!W37=\"\",\"\",'１組'!W37)","v":""},{"$f":"IF('１組'!X37=\"\",\"\",'１組'!X37)","v":""},{"$f":"IF('１組'!Y37=\"\",\"\",'１組'!Y37)","v":""},{"$f":"IF('１組'!Z37=\"\",\"\",'１組'!Z37)","v":""},null,null,null,null,null,{"$f":"IF('１組'!AF37=\"\",\"\",'１組'!AF37)","v":""},{"$f":"IF('１組'!AG37=\"\",\"\",'１組'!AG37)","v":""},{"$f":"IF('１組'!AH37=\"\",\"\",'１組'!AH37)","v":""},{"$f":"IF('１組'!AI37=\"\",\"\",'１組'!AI37)","v":""},{"$f":"IF('１組'!AJ37=\"\",\"\",'１組'!AJ37)","v":""}]
[null,null,null,null,10115,null,1,15,null,1,"男",{"$f":"IF('１組'!L38=\"\",\"\",'１組'!L38)","v":""},{"$f":"IF('１組'!M38=\"\",\"\",'１組'!M38)","v":""},{"$f":"IF('１組'!N38=\"\",\"\",'１組'!N38)","v":""},{"$f":"IF('１組'!O38=\"\",\"\",'１組'!O38)","v":""},{"$f":"IF('１組'!P38=\"\",\"\",'１組'!P38)","v":""},null,null,null,null,null,{"$f":"IF('１組'!V38=\"\",\"\",'１組'!V38)","v":""},{"$f":"IF('１組'!W38=\"\",\"\",'１組'!W38)","v":""},{"$f":"IF('１組'!X38=\"\",\"\",'１組'!X38)","v":""},{"$f":"IF('１組'!Y38=\"\",\"\",'１組'!Y38)","v":""},{"$f":"IF('１組'!Z38=\"\",\"\",'１組'!Z38)","v":""},null,null,null,null,null,{"$f":"IF('１組'!AF38=\"\",\"\",'１組'!AF38)","v":""},{"$f":"IF('１組'!AG38=\"\",\"\",'１組'!AG38)","v":""},{"$f":"IF('１組'!AH38=\"\",\"\",'１組'!AH38)","v":""},{"$f":"IF('１組'!AI38=\"\",\"\",'１組'!AI38)","v":""},{"$f":"IF('１組'!AJ38=\"\",\"\",'１組'!AJ38)","v":""}]
[null,null,null,null,10116,null,1,16,null,2,"女",{"$f":"IF('１組'!L39=\"\",\"\",'１組'!L39)","v":""},{"$f":"IF('１組'!M39=\"\",\"\",'１組'!M39)","v":""},{"$f":"IF('１組'!N39=\"\",\"\",'１組'!N39)","v":""},{"$f":"IF('１組'!O39=\"\",\"\",'１組'!O39)","v":""},{"$f":"IF('１組'!P39=\"\",\"\",'１組'!P39)","v":""},null,null,null,null,null,{"$f":"IF('１組'!V39=\"\",\"\",'１組'!V39)","v":""},{"$f":"IF('１組'!W39=\"\",\"\",'１組'!W39)","v":""},{"$f":"IF('１組'!X39=\"\",\"\",'１組'!X39)","v":""},{"$f":"IF('１組'!Y39=\"\",\"\",'１組'!Y39)","v":""},{"$f":"IF('１組'!Z39=\"\",\"\",'１組'!Z39)","v":""},null,null,null,null,null,{"$f":"IF('１組'!AF39=\"\",\"\",'１組'!AF39)","v":""},{"$f":"IF('１組'!AG39=\"\",\"\",'１組'!AG39)","v":""},{"$f":"IF('１組'!AH39=\"\",\"\",'１組'!AH39)","v":""},{"$f":"IF('１組'!AI39=\"\",\"\",'１組'!AI39)","v":""},{"$f":"IF('１組'!AJ39=\"\",\"\",'１組'!AJ39)","v":""}]
[null,null,null,null,10117,null,1,17,null,1,"男",{"$f":"IF('１組'!L40=\"\",\"\",'１組'!L40)","v":""},{"$f":"IF('１組'!M40=\"\",\"\",'１組'!M40)","v":""},{"$f":"IF('１組'!N40=\"\",\"\",'１組'!N40)","v":""},{"$f":"IF('１組'!O40=\"\",\"\",'１組'!O40)","v":""},{"$f":"IF('１組'!P40=\"\",\"\",'１組'!P40)","v":""},null,null,null,null,null,{"$f":"IF('１組'!V40=\"\",\"\",'１組'!V40)","v":""},{"$f":"IF('１組'!W40=\"\",\"\",'１組'!W40)","v":""},{"$f":"IF('１組'!X40=\"\",\"\",'１組'!X40)","v":""},{"$f":"IF('１組'!Y40=\"\",\"\",'１組'!Y40)","v":""},{"$f":"IF('１組'!Z40=\"\",\"\",'１組'!Z40)","v":""},null,null,null,null,null,{"$f":"IF('１組'!AF40=\"\",\"\",'１組'!AF40)","v":""},{"$f":"IF('１組'!AG40=\"\",\"\",'１組'!AG40)","v":""},{"$f":"IF('１組'!AH40=\"\",\"\",'１組'!AH40)","v":""},{"$f":"IF('１組'!AI40=\"\",\"\",'１組'!AI40)","v":""},{"$f":"IF('１組'!AJ40=\"\",\"\",'１組'!AJ40)","v":""}]
[null,null,null,null,10118,null,1,18,null,1,"男",{"$f":"IF('１組'!L41=\"\",\"\",'１組'!L41)","v":""},{"$f":"IF('１組'!M41=\"\",\"\",'１組'!M41)","v":""},{"$f":"IF('１組'!N41=\"\",\"\",'１組'!N41)","v":""},{"$f":"IF('１組'!O41=\"\",\"\",'１組'!O41)","v":""},{"$f":"IF('１組'!P41=\"\",\"\",'１組'!P41)","v":""},null,null,null,null,null,{"$f":"IF('１組'!V41=\"\",\"\",'１組'!V41)","v":""},{"$f":"IF('１組'!W41=\"\",\"\",'１組'!W41)","v":""},{"$f":"IF('１組'!X41=\"\",\"\",'１組'!X41)","v":""},{"$f":"IF('１組'!Y41=\"\",\"\",'１組'!Y41)","v":""},{"$f":"IF('１組'!Z41=\"\",\"\",'１組'!Z41)","v":""},null,null,null,null,null,{"$f":"IF('１組'!AF41=\"\",\"\",'１組'!AF41)","v":""},{"$f":"IF('１組'!AG41=\"\",\"\",'１組'!AG41)","v":""},{"$f":"IF('１組'!AH41=\"\",\"\",'１組'!AH41)","v":""},{"$f":"IF('１組'!AI41=\"\",\"\",'１組'!AI41)","v":""},{"$f":"IF('１組'!AJ41=\"\",\"\",'１組'!AJ41)","v":""}]
[null,null,null,null,10119,null,1,19,null,2,"女",{"$f":"IF('１組'!L42=\"\",\"\",'１組'!L42)","v":""},{"$f":"IF('１組'!M42=\"\",\"\",'１組'!M42)","v":""},{"$f":"IF('１組'!N42=\"\",\"\",'１組'!N42)","v":""},{"$f":"IF('１組'!O42=\"\",\"\",'１組'!O42)","v":""},{"$f":"IF('１組'!P42=\"\",\"\",'１組'!P42)","v":""},null,null,null,null,null,{"$f":"IF('１組'!V42=\"\",\"\",'１組'!V42)","v":""},{"$f":"IF('１組'!W42=\"\",\"\",'１組'!W42)","v":""},{"$f":"IF('１組'!X42=\"\",\"\",'１組'!X42)","v":""},{"$f":"IF('１組'!Y42=\"\",\"\",'１組'!Y42)","v":""},{"$f":"IF('１組'!Z42=\"\",\"\",'１組'!Z42)","v":""},null,null,null,null,null,{"$f":"IF('１組'!AF42=\"\",\"\",'１組'!AF42)","v":""},{"$f":"IF('１組'!AG42=\"\",\"\",'１組'!AG42)","v":""},{"$f":"IF('１組'!AH42=\"\",\"\",'１組'!AH42)","v":""},{"$f":"IF('１組'!AI42=\"\",\"\",'１組'!AI42)","v":""},{"$f":"IF('１組'!AJ42=\"\",\"\",'１組'!AJ42)","v":""}]
[null,null,null,null,10120,null,1,20,null,1,"男",{"$f":"IF('１組'!L43=\"\",\"\",'１組'!L43)","v":""},{"$f":"IF('１組'!M43=\"\",\"\",'１組'!M43)","v":""},{"$f":"IF('１組'!N43=\"\",\"\",'１組'!N43)","v":""},{"$f":"IF('１組'!O43=\"\",\"\",'１組'!O43)","v":""},{"$f":"IF('１組'!P43=\"\",\"\",'１組'!P43)","v":""},null,null,null,null,null,{"$f":"IF('１組'!V43=\"\",\"\",'１組'!V43)","v":""},{"$f":"IF('１組'!W43=\"\",\"\",'１組'!W43)","v":""},{"$f":"IF('１組'!X43=\"\",\"\",'１組'!X43)","v":""},{"$f":"IF('１組'!Y43=\"\",\"\",'１組'!Y43)","v":""},{"$f":"IF('１組'!Z43=\"\",\"\",'１組'!Z43)","v":""},null,null,null,null,null,{"$f":"IF('１組'!AF43=\"\",\"\",'１組'!AF43)","v":""},{"$f":"IF('１組'!AG43=\"\",\"\",'１組'!AG43)","v":""},{"$f":"IF('１組'!AH43=\"\",\"\",'１組'!AH43)","v":""},{"$f":"IF('１組'!AI43=\"\",\"\",'１組'!AI43)","v":""},{"$f":"IF('１組'!AJ43=\"\",\"\",'１組'!AJ43)","v":""}]
[null,null,null,null,10121,null,1,21,null,2,"女",{"$f":"IF('１組'!L44=\"\",\"\",'１組'!L44)","v":""},{"$f":"IF('１組'!M44=\"\",\"\",'１組'!M44)","v":""},{"$f":"IF('１組'!N44=\"\",\"\",'１組'!N44)","v":""},{"$f":"IF('１組'!O44=\"\",\"\",'１組'!O44)","v":""},{"$f":"IF('１組'!P44=\"\",\"\",'１組'!P44)","v":""},null,null,null,null,null,{"$f":"IF('１組'!V44=\"\",\"\",'１組'!V44)","v":""},{"$f":"IF('１組'!W44=\"\",\"\",'１組'!W44)","v":""},{"$f":"IF('１組'!X44=\"\",\"\",'１組'!X44)","v":""},{"$f":"IF('１組'!Y44=\"\",\"\",'１組'!Y44)","v":""},{"$f":"IF('１組'!Z44=\"\",\"\",'１組'!Z44)","v":""},null,null,null,null,null,{"$f":"IF('１組'!AF44=\"\",\"\",'１組'!AF44)","v":""},{"$f":"IF('１組'!AG44=\"\",\"\",'１組'!AG44)","v":""},{"$f":"IF('１組'!AH44=\"\",\"\",'１組'!AH44)","v":""},{"$f":"IF('１組'!AI44=\"\",\"\",'１組'!AI44)","v":""},{"$f":"IF('１組'!AJ44=\"\",\"\",'１組'!AJ44)","v":""}]
[null,null,null,null,10122,null,1,22,null,1,"男",{"$f":"IF('１組'!L45=\"\",\"\",'１組'!L45)","v":""},{"$f":"IF('１組'!M45=\"\",\"\",'１組'!M45)","v":""},{"$f":"IF('１組'!N45=\"\",\"\",'１組'!N45)","v":""},{"$f":"IF('１組'!O45=\"\",\"\",'１組'!O45)","v":""},{"$f":"IF('１組'!P45=\"\",\"\",'１組'!P45)","v":""},null,null,null,null,null,{"$f":"IF('１組'!V45=\"\",\"\",'１組'!V45)","v":""},{"$f":"IF('１組'!W45=\"\",\"\",'１組'!W45)","v":""},{"$f":"IF('１組'!X45=\"\",\"\",'１組'!X45)","v":""},{"$f":"IF('１組'!Y45=\"\",\"\",'１組'!Y45)","v":""},{"$f":"IF('１組'!Z45=\"\",\"\",'１組'!Z45)","v":""},null,null,null,null,null,{"$f":"IF('１組'!AF45=\"\",\"\",'１組'!AF45)","v":""},{"$f":"IF('１組'!AG45=\"\",\"\",'１組'!AG45)","v":""},{"$f":"IF('１組'!AH45=\"\",\"\",'１組'!AH45)","v":""},{"$f":"IF('１組'!AI45=\"\",\"\",'１組'!AI45)","v":""},{"$f":"IF('１組'!AJ45=\"\",\"\",'１組'!AJ45)","v":""}]
[null,null,null,null,10123,null,1,23,null,2,"女",{"$f":"IF('１組'!L46=\"\",\"\",'１組'!L46)","v":""},{"$f":"IF('１組'!M46=\"\",\"\",'１組'!M46)","v":""},{"$f":"IF('１組'!N46=\"\",\"\",'１組'!N46)","v":""},{"$f":"IF('１組'!O46=\"\",\"\",'１組'!O46)","v":""},{"$f":"IF('１組'!P46=\"\",\"\",'１組'!P46)","v":""},null,null,null,null,null,{"$f":"IF('１組'!V46=\"\",\"\",'１組'!V46)","v":""},{"$f":"IF('１組'!W46=\"\",\"\",'１組'!W46)","v":""},{"$f":"IF('１組'!X46=\"\",\"\",'１組'!X46)","v":""},{"$f":"IF('１組'!Y46=\"\",\"\",'１組'!Y46)","v":""},{"$f":"IF('１組'!Z46=\"\",\"\",'１組'!Z46)","v":""},null,null,null,null,null,{"$f":"IF('１組'!AF46=\"\",\"\",'１組'!AF46)","v":""},{"$f":"IF('１組'!AG46=\"\",\"\",'１組'!AG46)","v":""},{"$f":"IF('１組'!AH46=\"\",\"\",'１組'!AH46)","v":""},{"$f":"IF('１組'!AI46=\"\",\"\",'１組'!AI46)","v":""},{"$f":"IF('１組'!AJ46=\"\",\"\",'１組'!AJ46)","v":""}]
[null,null,null,null,10124,null,1,24,null,null,"",{"$f":"IF('１組'!L47=\"\",\"\",'１組'!L47)","v":""},{"$f":"IF('１組'!M47=\"\",\"\",'１組'!M47)","v":""},{"$f":"IF('１組'!N47=\"\",\"\",'１組'!N47)","v":""},{"$f":"IF('１組'!O47=\"\",\"\",'１組'!O47)","v":""},{"$f":"IF('１組'!P47=\"\",\"\",'１組'!P47)","v":""},null,null,null,null,null,{"$f":"IF('１組'!V47=\"\",\"\",'１組'!V47)","v":""},{"$f":"IF('１組'!W47=\"\",\"\",'１組'!W47)","v":""},{"$f":"IF('１組'!X47=\"\",\"\",'１組'!X47)","v":""},{"$f":"IF('１組'!Y47=\"\",\"\",'１組'!Y47)","v":""},{"$f":"IF('１組'!Z47=\"\",\"\",'１組'!Z47)","v":""},null,null,null,null,null,{"$f":"IF('１組'!AF47=\"\",\"\",'１組'!AF47)","v":""},{"$f":"IF('１組'!AG47=\"\",\"\",'１組'!AG47)","v":""},{"$f":"IF('１組'!AH47=\"\",\"\",'１組'!AH47)","v":""},{"$f":"IF('１組'!AI47=\"\",\"\",'１組'!AI47)","v":""},{"$f":"IF('１組'!AJ47=\"\",\"\",'１組'!AJ47)","v":""}]
[null,null,null,null,10125,null,1,25,null,null,"",{"$f":"IF('１組'!L48=\"\",\"\",'１組'!L48)","v":""},{"$f":"IF('１組'!M48=\"\",\"\",'１組'!M48)","v":""},{"$f":"IF('１組'!N48=\"\",\"\",'１組'!N48)","v":""},{"$f":"IF('１組'!O48=\"\",\"\",'１組'!O48)","v":""},{"$f":"IF('１組'!P48=\"\",\"\",'１組'!P48)","v":""},null,null,null,null,null,{"$f":"IF('１組'!V48=\"\",\"\",'１組'!V48)","v":""},{"$f":"IF('１組'!W48=\"\",\"\",'１組'!W48)","v":""},{"$f":"IF('１組'!X48=\"\",\"\",'１組'!X48)","v":""},{"$f":"IF('１組'!Y48=\"\",\"\",'１組'!Y48)","v":""},{"$f":"IF('１組'!Z48=\"\",\"\",'１組'!Z48)","v":""},null,null,null,null,null,{"$f":"IF('１組'!AF48=\"\",\"\",'１組'!AF48)","v":""},{"$f":"IF('１組'!AG48=\"\",\"\",'１組'!AG48)","v":""},{"$f":"IF('１組'!AH48=\"\",\"\",'１組'!AH48)","v":""},{"$f":"IF('１組'!AI48=\"\",\"\",'１組'!AI48)","v":""},{"$f":"IF('１組'!AJ48=\"\",\"\",'１組'!AJ48)","v":""}]
[null,null,null,null,10126,null,1,26,null,null,"",{"$f":"IF('１組'!L49=\"\",\"\",'１組'!L49)","v":""},{"$f":"IF('１組'!M49=\"\",\"\",'１組'!M49)","v":""},{"$f":"IF('１組'!N49=\"\",\"\",'１組'!N49)","v":""},{"$f":"IF('１組'!O49=\"\",\"\",'１組'!O49)","v":""},{"$f":"IF('１組'!P49=\"\",\"\",'１組'!P49)","v":""},null,null,null,null,null,{"$f":"IF('１組'!V49=\"\",\"\",'１組'!V49)","v":""},{"$f":"IF('１組'!W49=\"\",\"\",'１組'!W49)","v":""},{"$f":"IF('１組'!X49=\"\",\"\",'１組'!X49)","v":""},{"$f":"IF('１組'!Y49=\"\",\"\",'１組'!Y49)","v":""},{"$f":"IF('１組'!Z49=\"\",\"\",'１組'!Z49)","v":""},null,null,null,null,null,{"$f":"IF('１組'!AF49=\"\",\"\",'１組'!AF49)","v":""},{"$f":"IF('１組'!AG49=\"\",\"\",'１組'!AG49)","v":""},{"$f":"IF('１組'!AH49=\"\",\"\",'１組'!AH49)","v":""},{"$f":"IF('１組'!AI49=\"\",\"\",'１組'!AI49)","v":""},{"$f":"IF('１組'!AJ49=\"\",\"\",'１組'!AJ49)","v":""}]
[null,null,null,null,10127,null,1,27,null,null,"",{"$f":"IF('１組'!L50=\"\",\"\",'１組'!L50)","v":""},{"$f":"IF('１組'!M50=\"\",\"\",'１組'!M50)","v":""},{"$f":"IF('１組'!N50=\"\",\"\",'１組'!N50)","v":""},{"$f":"IF('１組'!O50=\"\",\"\",'１組'!O50)","v":""},{"$f":"IF('１組'!P50=\"\",\"\",'１組'!P50)","v":""},null,null,null,null,null,{"$f":"IF('１組'!V50=\"\",\"\",'１組'!V50)","v":""},{"$f":"IF('１組'!W50=\"\",\"\",'１組'!W50)","v":""},{"$f":"IF('１組'!X50=\"\",\"\",'１組'!X50)","v":""},{"$f":"IF('１組'!Y50=\"\",\"\",'１組'!Y50)","v":""},{"$f":"IF('１組'!Z50=\"\",\"\",'１組'!Z50)","v":""},null,null,null,null,null,{"$f":"IF('１組'!AF50=\"\",\"\",'１組'!AF50)","v":""},{"$f":"IF('１組'!AG50=\"\",\"\",'１組'!AG50)","v":""},{"$f":"IF('１組'!AH50=\"\",\"\",'１組'!AH50)","v":""},{"$f":"IF('１組'!AI50=\"\",\"\",'１組'!AI50)","v":""},{"$f":"IF('１組'!AJ50=\"\",\"\",'１組'!AJ50)","v":""}]
[null,null,null,null,10128,null,{"$f":"IF(H50<50,G50,G50+1)","v":1},28,null,null,"",{"$f":"IF('１組'!L51=\"\",\"\",'１組'!L51)","v":""},{"$f":"IF('１組'!M51=\"\",\"\",'１組'!M51)","v":""},{"$f":"IF('１組'!N51=\"\",\"\",'１組'!N51)","v":""},{"$f":"IF('１組'!O51=\"\",\"\",'１組'!O51)","v":""},{"$f":"IF('１組'!P51=\"\",\"\",'１組'!P51)","v":""},null,null,null,null,null,{"$f":"IF('１組'!V51=\"\",\"\",'１組'!V51)","v":""},{"$f":"IF('１組'!W51=\"\",\"\",'１組'!W51)","v":""},{"$f":"IF('１組'!X51=\"\",\"\",'１組'!X51)","v":""},{"$f":"IF('１組'!Y51=\"\",\"\",'１組'!Y51)","v":""},{"$f":"IF('１組'!Z51=\"\",\"\",'１組'!Z51)","v":""},null,null,null,null,null,{"$f":"IF('１組'!AF51=\"\",\"\",'１組'!AF51)","v":""},{"$f":"IF('１組'!AG51=\"\",\"\",'１組'!AG51)","v":""},{"$f":"IF('１組'!AH51=\"\",\"\",'１組'!AH51)","v":""},{"$f":"IF('１組'!AI51=\"\",\"\",'１組'!AI51)","v":""},{"$f":"IF('１組'!AJ51=\"\",\"\",'１組'!AJ51)","v":""}]
[null,null,null,null,10129,null,1,29,null,null,"",{"$f":"IF('１組'!L52=\"\",\"\",'１組'!L52)","v":""},{"$f":"IF('１組'!M52=\"\",\"\",'１組'!M52)","v":""},{"$f":"IF('１組'!N52=\"\",\"\",'１組'!N52)","v":""},{"$f":"IF('１組'!O52=\"\",\"\",'１組'!O52)","v":""},{"$f":"IF('１組'!P52=\"\",\"\",'１組'!P52)","v":""},null,null,null,null,null,{"$f":"IF('１組'!V52=\"\",\"\",'１組'!V52)","v":""},{"$f":"IF('１組'!W52=\"\",\"\",'１組'!W52)","v":""},{"$f":"IF('１組'!X52=\"\",\"\",'１組'!X52)","v":""},{"$f":"IF('１組'!Y52=\"\",\"\",'１組'!Y52)","v":""},{"$f":"IF('１組'!Z52=\"\",\"\",'１組'!Z52)","v":""},null,null,null,null,null,{"$f":"IF('１組'!AF52=\"\",\"\",'１組'!AF52)","v":""},{"$f":"IF('１組'!AG52=\"\",\"\",'１組'!AG52)","v":""},{"$f":"IF('１組'!AH52=\"\",\"\",'１組'!AH52)","v":""},{"$f":"IF('１組'!AI52=\"\",\"\",'１組'!AI52)","v":""},{"$f":"IF('１組'!AJ52=\"\",\"\",'１組'!AJ52)","v":""}]
[null,null,null,null,10130,null,1,30,null,null,"",{"$f":"IF('１組'!L53=\"\",\"\",'１組'!L53)","v":""},{"$f":"IF('１組'!M53=\"\",\"\",'１組'!M53)","v":""},{"$f":"IF('１組'!N53=\"\",\"\",'１組'!N53)","v":""},{"$f":"IF('１組'!O53=\"\",\"\",'１組'!O53)","v":""},{"$f":"IF('１組'!P53=\"\",\"\",'１組'!P53)","v":""},null,null,null,null,null,{"$f":"IF('１組'!V53=\"\",\"\",'１組'!V53)","v":""},{"$f":"IF('１組'!W53=\"\",\"\",'１組'!W53)","v":""},{"$f":"IF('１組'!X53=\"\",\"\",'１組'!X53)","v":""},{"$f":"IF('１組'!Y53=\"\",\"\",'１組'!Y53)","v":""},{"$f":"IF('１組'!Z53=\"\",\"\",'１組'!Z53)","v":""},null,null,null,null,null,{"$f":"IF('１組'!AF53=\"\",\"\",'１組'!AF53)","v":""},{"$f":"IF('１組'!AG53=\"\",\"\",'１組'!AG53)","v":""},{"$f":"IF('１組'!AH53=\"\",\"\",'１組'!AH53)","v":""},{"$f":"IF('１組'!AI53=\"\",\"\",'１組'!AI53)","v":""},{"$f":"IF('１組'!AJ53=\"\",\"\",'１組'!AJ53)","v":""}]
[null,null,null,null,10131,null,1,31,null,null,"",{"$f":"IF('１組'!L54=\"\",\"\",'１組'!L54)","v":""},{"$f":"IF('１組'!M54=\"\",\"\",'１組'!M54)","v":""},{"$f":"IF('１組'!N54=\"\",\"\",'１組'!N54)","v":""},{"$f":"IF('１組'!O54=\"\",\"\",'１組'!O54)","v":""},{"$f":"IF('１組'!P54=\"\",\"\",'１組'!P54)","v":""},null,null,null,null,null,{"$f":"IF('１組'!V54=\"\",\"\",'１組'!V54)","v":""},{"$f":"IF('１組'!W54=\"\",\"\",'１組'!W54)","v":""},{"$f":"IF('１組'!X54=\"\",\"\",'１組'!X54)","v":""},{"$f":"IF('１組'!Y54=\"\",\"\",'１組'!Y54)","v":""},{"$f":"IF('１組'!Z54=\"\",\"\",'１組'!Z54)","v":""},null,null,null,null,null,{"$f":"IF('１組'!AF54=\"\",\"\",'１組'!AF54)","v":""},{"$f":"IF('１組'!AG54=\"\",\"\",'１組'!AG54)","v":""},{"$f":"IF('１組'!AH54=\"\",\"\",'１組'!AH54)","v":""},{"$f":"IF('１組'!AI54=\"\",\"\",'１組'!AI54)","v":""},{"$f":"IF('１組'!AJ54=\"\",\"\",'１組'!AJ54)","v":""}]
[null,null,null,null,10132,null,1,32,null,null,"",{"$f":"IF('１組'!L55=\"\",\"\",'１組'!L55)","v":""},{"$f":"IF('１組'!M55=\"\",\"\",'１組'!M55)","v":""},{"$f":"IF('１組'!N55=\"\",\"\",'１組'!N55)","v":""},{"$f":"IF('１組'!O55=\"\",\"\",'１組'!O55)","v":""},{"$f":"IF('１組'!P55=\"\",\"\",'１組'!P55)","v":""},null,null,null,null,null,{"$f":"IF('１組'!V55=\"\",\"\",'１組'!V55)","v":""},{"$f":"IF('１組'!W55=\"\",\"\",'１組'!W55)","v":""},{"$f":"IF('１組'!X55=\"\",\"\",'１組'!X55)","v":""},{"$f":"IF('１組'!Y55=\"\",\"\",'１組'!Y55)","v":""},{"$f":"IF('１組'!Z55=\"\",\"\",'１組'!Z55)","v":""},null,null,null,null,null,{"$f":"IF('１組'!AF55=\"\",\"\",'１組'!AF55)","v":""},{"$f":"IF('１組'!AG55=\"\",\"\",'１組'!AG55)","v":""},{"$f":"IF('１組'!AH55=\"\",\"\",'１組'!AH55)","v":""},{"$f":"IF('１組'!AI55=\"\",\"\",'１組'!AI55)","v":""},{"$f":"IF('１組'!AJ55=\"\",\"\",'１組'!AJ55)","v":""}]
[null,null,null,null,10133,null,1,33,null,null,"",{"$f":"IF('１組'!L56=\"\",\"\",'１組'!L56)","v":""},{"$f":"IF('１組'!M56=\"\",\"\",'１組'!M56)","v":""},{"$f":"IF('１組'!N56=\"\",\"\",'１組'!N56)","v":""},{"$f":"IF('１組'!O56=\"\",\"\",'１組'!O56)","v":""},{"$f":"IF('１組'!P56=\"\",\"\",'１組'!P56)","v":""},null,null,null,null,null,{"$f":"IF('１組'!V56=\"\",\"\",'１組'!V56)","v":""},{"$f":"IF('１組'!W56=\"\",\"\",'１組'!W56)","v":""},{"$f":"IF('１組'!X56=\"\",\"\",'１組'!X56)","v":""},{"$f":"IF('１組'!Y56=\"\",\"\",'１組'!Y56)","v":""},{"$f":"IF('１組'!Z56=\"\",\"\",'１組'!Z56)","v":""},null,null,null,null,null,{"$f":"IF('１組'!AF56=\"\",\"\",'１組'!AF56)","v":""},{"$f":"IF('１組'!AG56=\"\",\"\",'１組'!AG56)","v":""},{"$f":"IF('１組'!AH56=\"\",\"\",'１組'!AH56)","v":""},{"$f":"IF('１組'!AI56=\"\",\"\",'１組'!AI56)","v":""},{"$f":"IF('１組'!AJ56=\"\",\"\",'１組'!AJ56)","v":""}]
[null,null,null,null,10134,null,1,34,null,null,"",{"$f":"IF('１組'!L57=\"\",\"\",'１組'!L57)","v":""},{"$f":"IF('１組'!M57=\"\",\"\",'１組'!M57)","v":""},{"$f":"IF('１組'!N57=\"\",\"\",'１組'!N57)","v":""},{"$f":"IF('１組'!O57=\"\",\"\",'１組'!O57)","v":""},{"$f":"IF('１組'!P57=\"\",\"\",'１組'!P57)","v":""},null,null,null,null,null,{"$f":"IF('１組'!V57=\"\",\"\",'１組'!V57)","v":""},{"$f":"IF('１組'!W57=\"\",\"\",'１組'!W57)","v":""},{"$f":"IF('１組'!X57=\"\",\"\",'１組'!X57)","v":""},{"$f":"IF('１組'!Y57=\"\",\"\",'１組'!Y57)","v":""},{"$f":"IF('１組'!Z57=\"\",\"\",'１組'!Z57)","v":""},null,null,null,null,null,{"$f":"IF('１組'!AF57=\"\",\"\",'１組'!AF57)","v":""},{"$f":"IF('１組'!AG57=\"\",\"\",'１組'!AG57)","v":""},{"$f":"IF('１組'!AH57=\"\",\"\",'１組'!AH57)","v":""},{"$f":"IF('１組'!AI57=\"\",\"\",'１組'!AI57)","v":""},{"$f":"IF('１組'!AJ57=\"\",\"\",'１組'!AJ57)","v":""}]
[null,null,null,null,10135,null,1,35,null,null,"",{"$f":"IF('１組'!L58=\"\",\"\",'１組'!L58)","v":""},{"$f":"IF('１組'!M58=\"\",\"\",'１組'!M58)","v":""},{"$f":"IF('１組'!N58=\"\",\"\",'１組'!N58)","v":""},{"$f":"IF('１組'!O58=\"\",\"\",'１組'!O58)","v":""},{"$f":"IF('１組'!P58=\"\",\"\",'１組'!P58)","v":""},null,null,null,null,null,{"$f":"IF('１組'!V58=\"\",\"\",'１組'!V58)","v":""},{"$f":"IF('１組'!W58=\"\",\"\",'１組'!W58)","v":""},{"$f":"IF('１組'!X58=\"\",\"\",'１組'!X58)","v":""},{"$f":"IF('１組'!Y58=\"\",\"\",'１組'!Y58)","v":""},{"$f":"IF('１組'!Z58=\"\",\"\",'１組'!Z58)","v":""},null,null,null,null,null,{"$f":"IF('１組'!AF58=\"\",\"\",'１組'!AF58)","v":""},{"$f":"IF('１組'!AG58=\"\",\"\",'１組'!AG58)","v":""},{"$f":"IF('１組'!AH58=\"\",\"\",'１組'!AH58)","v":""},{"$f":"IF('１組'!AI58=\"\",\"\",'１組'!AI58)","v":""},{"$f":"IF('１組'!AJ58=\"\",\"\",'１組'!AJ58)","v":""}]
[null,null,null,null,10136,null,1,36,null,null,"",{"$f":"IF('１組'!L59=\"\",\"\",'１組'!L59)","v":""},{"$f":"IF('１組'!M59=\"\",\"\",'１組'!M59)","v":""},{"$f":"IF('１組'!N59=\"\",\"\",'１組'!N59)","v":""},{"$f":"IF('１組'!O59=\"\",\"\",'１組'!O59)","v":""},{"$f":"IF('１組'!P59=\"\",\"\",'１組'!P59)","v":""},null,null,null,null,null,{"$f":"IF('１組'!V59=\"\",\"\",'１組'!V59)","v":""},{"$f":"IF('１組'!W59=\"\",\"\",'１組'!W59)","v":""},{"$f":"IF('１組'!X59=\"\",\"\",'１組'!X59)","v":""},{"$f":"IF('１組'!Y59=\"\",\"\",'１組'!Y59)","v":""},{"$f":"IF('１組'!Z59=\"\",\"\",'１組'!Z59)","v":""},null,null,null,null,null,{"$f":"IF('１組'!AF59=\"\",\"\",'１組'!AF59)","v":""},{"$f":"IF('１組'!AG59=\"\",\"\",'１組'!AG59)","v":""},{"$f":"IF('１組'!AH59=\"\",\"\",'１組'!AH59)","v":""},{"$f":"IF('１組'!AI59=\"\",\"\",'１組'!AI59)","v":""},{"$f":"IF('１組'!AJ59=\"\",\"\",'１組'!AJ59)","v":""}]
[null,null,null,null,10137,null,1,37,null,null,"",{"$f":"IF('１組'!L60=\"\",\"\",'１組'!L60)","v":""},{"$f":"IF('１組'!M60=\"\",\"\",'１組'!M60)","v":""},{"$f":"IF('１組'!N60=\"\",\"\",'１組'!N60)","v":""},{"$f":"IF('１組'!O60=\"\",\"\",'１組'!O60)","v":""},{"$f":"IF('１組'!P60=\"\",\"\",'１組'!P60)","v":""},null,null,null,null,null,{"$f":"IF('１組'!V60=\"\",\"\",'１組'!V60)","v":""},{"$f":"IF('１組'!W60=\"\",\"\",'１組'!W60)","v":""},{"$f":"IF('１組'!X60=\"\",\"\",'１組'!X60)","v":""},{"$f":"IF('１組'!Y60=\"\",\"\",'１組'!Y60)","v":""},{"$f":"IF('１組'!Z60=\"\",\"\",'１組'!Z60)","v":""},null,null,null,null,null,{"$f":"IF('１組'!AF60=\"\",\"\",'１組'!AF60)","v":""},{"$f":"IF('１組'!AG60=\"\",\"\",'１組'!AG60)","v":""},{"$f":"IF('１組'!AH60=\"\",\"\",'１組'!AH60)","v":""},{"$f":"IF('１組'!AI60=\"\",\"\",'１組'!AI60)","v":""},{"$f":"IF('１組'!AJ60=\"\",\"\",'１組'!AJ60)","v":""}]
[null,null,null,null,10138,null,1,38,null,null,"",{"$f":"IF('１組'!L61=\"\",\"\",'１組'!L61)","v":""},{"$f":"IF('１組'!M61=\"\",\"\",'１組'!M61)","v":""},{"$f":"IF('１組'!N61=\"\",\"\",'１組'!N61)","v":""},{"$f":"IF('１組'!O61=\"\",\"\",'１組'!O61)","v":""},{"$f":"IF('１組'!P61=\"\",\"\",'１組'!P61)","v":""},null,null,null,null,null,{"$f":"IF('１組'!V61=\"\",\"\",'１組'!V61)","v":""},{"$f":"IF('１組'!W61=\"\",\"\",'１組'!W61)","v":""},{"$f":"IF('１組'!X61=\"\",\"\",'１組'!X61)","v":""},{"$f":"IF('１組'!Y61=\"\",\"\",'１組'!Y61)","v":""},{"$f":"IF('１組'!Z61=\"\",\"\",'１組'!Z61)","v":""},null,null,null,null,null,{"$f":"IF('１組'!AF61=\"\",\"\",'１組'!AF61)","v":""},{"$f":"IF('１組'!AG61=\"\",\"\",'１組'!AG61)","v":""},{"$f":"IF('１組'!AH61=\"\",\"\",'１組'!AH61)","v":""},{"$f":"IF('１組'!AI61=\"\",\"\",'１組'!AI61)","v":""},{"$f":"IF('１組'!AJ61=\"\",\"\",'１組'!AJ61)","v":""}]
[null,null,null,null,10139,null,1,39,null,null,"",{"$f":"IF('１組'!L62=\"\",\"\",'１組'!L62)","v":""},{"$f":"IF('１組'!M62=\"\",\"\",'１組'!M62)","v":""},{"$f":"IF('１組'!N62=\"\",\"\",'１組'!N62)","v":""},{"$f":"IF('１組'!O62=\"\",\"\",'１組'!O62)","v":""},{"$f":"IF('１組'!P62=\"\",\"\",'１組'!P62)","v":""},null,null,null,null,null,{"$f":"IF('１組'!V62=\"\",\"\",'１組'!V62)","v":""},{"$f":"IF('１組'!W62=\"\",\"\",'１組'!W62)","v":""},{"$f":"IF('１組'!X62=\"\",\"\",'１組'!X62)","v":""},{"$f":"IF('１組'!Y62=\"\",\"\",'１組'!Y62)","v":""},{"$f":"IF('１組'!Z62=\"\",\"\",'１組'!Z62)","v":""},null,null,null,null,null,{"$f":"IF('１組'!AF62=\"\",\"\",'１組'!AF62)","v":""},{"$f":"IF('１組'!AG62=\"\",\"\",'１組'!AG62)","v":""},{"$f":"IF('１組'!AH62=\"\",\"\",'１組'!AH62)","v":""},{"$f":"IF('１組'!AI62=\"\",\"\",'１組'!AI62)","v":""},{"$f":"IF('１組'!AJ62=\"\",\"\",'１組'!AJ62)","v":""}]
[null,null,null,null,10140,null,1,40,null,null,"",{"$f":"IF('１組'!L63=\"\",\"\",'１組'!L63)","v":""},{"$f":"IF('１組'!M63=\"\",\"\",'１組'!M63)","v":""},{"$f":"IF('１組'!N63=\"\",\"\",'１組'!N63)","v":""},{"$f":"IF('１組'!O63=\"\",\"\",'１組'!O63)","v":""},{"$f":"IF('１組'!P63=\"\",\"\",'１組'!P63)","v":""},null,null,null,null,null,{"$f":"IF('１組'!V63=\"\",\"\",'１組'!V63)","v":""},{"$f":"IF('１組'!W63=\"\",\"\",'１組'!W63)","v":""},{"$f":"IF('１組'!X63=\"\",\"\",'１組'!X63)","v":""},{"$f":"IF('１組'!Y63=\"\",\"\",'１組'!Y63)","v":""},{"$f":"IF('１組'!Z63=\"\",\"\",'１組'!Z63)","v":""},null,null,null,null,null,{"$f":"IF('１組'!AF63=\"\",\"\",'１組'!AF63)","v":""},{"$f":"IF('１組'!AG63=\"\",\"\",'１組'!AG63)","v":""},{"$f":"IF('１組'!AH63=\"\",\"\",'１組'!AH63)","v":""},{"$f":"IF('１組'!AI63=\"\",\"\",'１組'!AI63)","v":""},{"$f":"IF('１組'!AJ63=\"\",\"\",'１組'!AJ63)","v":""}]
[null,null,null,null,10141,null,1,41,null,null,"",{"$f":"IF('１組'!L64=\"\",\"\",'１組'!L64)","v":""},{"$f":"IF('１組'!M64=\"\",\"\",'１組'!M64)","v":""},{"$f":"IF('１組'!N64=\"\",\"\",'１組'!N64)","v":""},{"$f":"IF('１組'!O64=\"\",\"\",'１組'!O64)","v":""},{"$f":"IF('１組'!P64=\"\",\"\",'１組'!P64)","v":""},null,null,null,null,null,{"$f":"IF('１組'!V64=\"\",\"\",'１組'!V64)","v":""},{"$f":"IF('１組'!W64=\"\",\"\",'１組'!W64)","v":""},{"$f":"IF('１組'!X64=\"\",\"\",'１組'!X64)","v":""},{"$f":"IF('１組'!Y64=\"\",\"\",'１組'!Y64)","v":""},{"$f":"IF('１組'!Z64=\"\",\"\",'１組'!Z64)","v":""},null,null,null,null,null,{"$f":"IF('１組'!AF64=\"\",\"\",'１組'!AF64)","v":""},{"$f":"IF('１組'!AG64=\"\",\"\",'１組'!AG64)","v":""},{"$f":"IF('１組'!AH64=\"\",\"\",'１組'!AH64)","v":""},{"$f":"IF('１組'!AI64=\"\",\"\",'１組'!AI64)","v":""},{"$f":"IF('１組'!AJ64=\"\",\"\",'１組'!AJ64)","v":""}]
[null,null,null,null,10142,null,1,42,null,null,"",{"$f":"IF('１組'!L65=\"\",\"\",'１組'!L65)","v":""},{"$f":"IF('１組'!M65=\"\",\"\",'１組'!M65)","v":""},{"$f":"IF('１組'!N65=\"\",\"\",'１組'!N65)","v":""},{"$f":"IF('１組'!O65=\"\",\"\",'１組'!O65)","v":""},{"$f":"IF('１組'!P65=\"\",\"\",'１組'!P65)","v":""},null,null,null,null,null,{"$f":"IF('１組'!V65=\"\",\"\",'１組'!V65)","v":""},{"$f":"IF('１組'!W65=\"\",\"\",'１組'!W65)","v":""},{"$f":"IF('１組'!X65=\"\",\"\",'１組'!X65)","v":""},{"$f":"IF('１組'!Y65=\"\",\"\",'１組'!Y65)","v":""},{"$f":"IF('１組'!Z65=\"\",\"\",'１組'!Z65)","v":""},null,null,null,null,null,{"$f":"IF('１組'!AF65=\"\",\"\",'１組'!AF65)","v":""},{"$f":"IF('１組'!AG65=\"\",\"\",'１組'!AG65)","v":""},{"$f":"IF('１組'!AH65=\"\",\"\",'１組'!AH65)","v":""},{"$f":"IF('１組'!AI65=\"\",\"\",'１組'!AI65)","v":""},{"$f":"IF('１組'!AJ65=\"\",\"\",'１組'!AJ65)","v":""}]
[null,null,null,null,10143,null,1,43,null,null,"",{"$f":"IF('１組'!L66=\"\",\"\",'１組'!L66)","v":""},{"$f":"IF('１組'!M66=\"\",\"\",'１組'!M66)","v":""},{"$f":"IF('１組'!N66=\"\",\"\",'１組'!N66)","v":""},{"$f":"IF('１組'!O66=\"\",\"\",'１組'!O66)","v":""},{"$f":"IF('１組'!P66=\"\",\"\",'１組'!P66)","v":""},null,null,null,null,null,{"$f":"IF('１組'!V66=\"\",\"\",'１組'!V66)","v":""},{"$f":"IF('１組'!W66=\"\",\"\",'１組'!W66)","v":""},{"$f":"IF('１組'!X66=\"\",\"\",'１組'!X66)","v":""},{"$f":"IF('１組'!Y66=\"\",\"\",'１組'!Y66)","v":""},{"$f":"IF('１組'!Z66=\"\",\"\",'１組'!Z66)","v":""},null,null,null,null,null,{"$f":"IF('１組'!AF66=\"\",\"\",'１組'!AF66)","v":""},{"$f":"IF('１組'!AG66=\"\",\"\",'１組'!AG66)","v":""},{"$f":"IF('１組'!AH66=\"\",\"\",'１組'!AH66)","v":""},{"$f":"IF('１組'!AI66=\"\",\"\",'１組'!AI66)","v":""},{"$f":"IF('１組'!AJ66=\"\",\"\",'１組'!AJ66)","v":""}]
[null,null,null,null,10144,null,1,44,null,null,"",{"$f":"IF('１組'!L67=\"\",\"\",'１組'!L67)","v":""},{"$f":"IF('１組'!M67=\"\",\"\",'１組'!M67)","v":""},{"$f":"IF('１組'!N67=\"\",\"\",'１組'!N67)","v":""},{"$f":"IF('１組'!O67=\"\",\"\",'１組'!O67)","v":""},{"$f":"IF('１組'!P67=\"\",\"\",'１組'!P67)","v":""},null,null,null,null,null,{"$f":"IF('１組'!V67=\"\",\"\",'１組'!V67)","v":""},{"$f":"IF('１組'!W67=\"\",\"\",'１組'!W67)","v":""},{"$f":"IF('１組'!X67=\"\",\"\",'１組'!X67)","v":""},{"$f":"IF('１組'!Y67=\"\",\"\",'１組'!Y67)","v":""},{"$f":"IF('１組'!Z67=\"\",\"\",'１組'!Z67)","v":""},null,null,null,null,null,{"$f":"IF('１組'!AF67=\"\",\"\",'１組'!AF67)","v":""},{"$f":"IF('１組'!AG67=\"\",\"\",'１組'!AG67)","v":""},{"$f":"IF('１組'!AH67=\"\",\"\",'１組'!AH67)","v":""},{"$f":"IF('１組'!AI67=\"\",\"\",'１組'!AI67)","v":""},{"$f":"IF('１組'!AJ67=\"\",\"\",'１組'!AJ67)","v":""}]
[null,null,null,null,10145,null,1,45,null,null,"",{"$f":"IF('１組'!L68=\"\",\"\",'１組'!L68)","v":""},{"$f":"IF('１組'!M68=\"\",\"\",'１組'!M68)","v":""},{"$f":"IF('１組'!N68=\"\",\"\",'１組'!N68)","v":""},{"$f":"IF('１組'!O68=\"\",\"\",'１組'!O68)","v":""},{"$f":"IF('１組'!P68=\"\",\"\",'１組'!P68)","v":""},null,null,null,null,null,{"$f":"IF('１組'!V68=\"\",\"\",'１組'!V68)","v":""},{"$f":"IF('１組'!W68=\"\",\"\",'１組'!W68)","v":""},{"$f":"IF('１組'!X68=\"\",\"\",'１組'!X68)","v":""},{"$f":"IF('１組'!Y68=\"\",\"\",'１組'!Y68)","v":""},{"$f":"IF('１組'!Z68=\"\",\"\",'１組'!Z68)","v":""},null,null,null,null,null,{"$f":"IF('１組'!AF68=\"\",\"\",'１組'!AF68)","v":""},{"$f":"IF('１組'!AG68=\"\",\"\",'１組'!AG68)","v":""},{"$f":"IF('１組'!AH68=\"\",\"\",'１組'!AH68)","v":""},{"$f":"IF('１組'!AI68=\"\",\"\",'１組'!AI68)","v":""},{"$f":"IF('１組'!AJ68=\"\",\"\",'１組'!AJ68)","v":""}]
[null,null,null,null,10146,null,1,46,null,null,"",{"$f":"IF('１組'!L69=\"\",\"\",'１組'!L69)","v":""},{"$f":"IF('１組'!M69=\"\",\"\",'１組'!M69)","v":""},{"$f":"IF('１組'!N69=\"\",\"\",'１組'!N69)","v":""},{"$f":"IF('１組'!O69=\"\",\"\",'１組'!O69)","v":""},{"$f":"IF('１組'!P69=\"\",\"\",'１組'!P69)","v":""},null,null,null,null,null,{"$f":"IF('１組'!V69=\"\",\"\",'１組'!V69)","v":""},{"$f":"IF('１組'!W69=\"\",\"\",'１組'!W69)","v":""},{"$f":"IF('１組'!X69=\"\",\"\",'１組'!X69)","v":""},{"$f":"IF('１組'!Y69=\"\",\"\",'１組'!Y69)","v":""},{"$f":"IF('１組'!Z69=\"\",\"\",'１組'!Z69)","v":""},null,null,null,null,null,{"$f":"IF('１組'!AF69=\"\",\"\",'１組'!AF69)","v":""},{"$f":"IF('１組'!AG69=\"\",\"\",'１組'!AG69)","v":""},{"$f":"IF('１組'!AH69=\"\",\"\",'１組'!AH69)","v":""},{"$f":"IF('１組'!AI69=\"\",\"\",'１組'!AI69)","v":""},{"$f":"IF('１組'!AJ69=\"\",\"\",'１組'!AJ69)","v":""}]
[null,null,null,null,10147,null,1,47,null,null,"",{"$f":"IF('１組'!L70=\"\",\"\",'１組'!L70)","v":""},{"$f":"IF('１組'!M70=\"\",\"\",'１組'!M70)","v":""},{"$f":"IF('１組'!N70=\"\",\"\",'１組'!N70)","v":""},{"$f":"IF('１組'!O70=\"\",\"\",'１組'!O70)","v":""},{"$f":"IF('１組'!P70=\"\",\"\",'１組'!P70)","v":""},null,null,null,null,null,{"$f":"IF('１組'!V70=\"\",\"\",'１組'!V70)","v":""},{"$f":"IF('１組'!W70=\"\",\"\",'１組'!W70)","v":""},{"$f":"IF('１組'!X70=\"\",\"\",'１組'!X70)","v":""},{"$f":"IF('１組'!Y70=\"\",\"\",'１組'!Y70)","v":""},{"$f":"IF('１組'!Z70=\"\",\"\",'１組'!Z70)","v":""},null,null,null,null,null,{"$f":"IF('１組'!AF70=\"\",\"\",'１組'!AF70)","v":""},{"$f":"IF('１組'!AG70=\"\",\"\",'１組'!AG70)","v":""},{"$f":"IF('１組'!AH70=\"\",\"\",'１組'!AH70)","v":""},{"$f":"IF('１組'!AI70=\"\",\"\",'１組'!AI70)","v":""},{"$f":"IF('１組'!AJ70=\"\",\"\",'１組'!AJ70)","v":""}]
[null,null,null,null,10148,null,1,48,null,null,"",{"$f":"IF('１組'!L71=\"\",\"\",'１組'!L71)","v":""},{"$f":"IF('１組'!M71=\"\",\"\",'１組'!M71)","v":""},{"$f":"IF('１組'!N71=\"\",\"\",'１組'!N71)","v":""},{"$f":"IF('１組'!O71=\"\",\"\",'１組'!O71)","v":""},{"$f":"IF('１組'!P71=\"\",\"\",'１組'!P71)","v":""},null,null,null,null,null,{"$f":"IF('１組'!V71=\"\",\"\",'１組'!V71)","v":""},{"$f":"IF('１組'!W71=\"\",\"\",'１組'!W71)","v":""},{"$f":"IF('１組'!X71=\"\",\"\",'１組'!X71)","v":""},{"$f":"IF('１組'!Y71=\"\",\"\",'１組'!Y71)","v":""},{"$f":"IF('１組'!Z71=\"\",\"\",'１組'!Z71)","v":""},null,null,null,null,null,{"$f":"IF('１組'!AF71=\"\",\"\",'１組'!AF71)","v":""},{"$f":"IF('１組'!AG71=\"\",\"\",'１組'!AG71)","v":""},{"$f":"IF('１組'!AH71=\"\",\"\",'１組'!AH71)","v":""},{"$f":"IF('１組'!AI71=\"\",\"\",'１組'!AI71)","v":""},{"$f":"IF('１組'!AJ71=\"\",\"\",'１組'!AJ71)","v":""}]
[null,null,null,null,10149,null,1,49,null,null,"",{"$f":"IF('１組'!L72=\"\",\"\",'１組'!L72)","v":""},{"$f":"IF('１組'!M72=\"\",\"\",'１組'!M72)","v":""},{"$f":"IF('１組'!N72=\"\",\"\",'１組'!N72)","v":""},{"$f":"IF('１組'!O72=\"\",\"\",'１組'!O72)","v":""},{"$f":"IF('１組'!P72=\"\",\"\",'１組'!P72)","v":""},null,null,null,null,null,{"$f":"IF('１組'!V72=\"\",\"\",'１組'!V72)","v":""},{"$f":"IF('１組'!W72=\"\",\"\",'１組'!W72)","v":""},{"$f":"IF('１組'!X72=\"\",\"\",'１組'!X72)","v":""},{"$f":"IF('１組'!Y72=\"\",\"\",'１組'!Y72)","v":""},{"$f":"IF('１組'!Z72=\"\",\"\",'１組'!Z72)","v":""},null,null,null,null,null,{"$f":"IF('１組'!AF72=\"\",\"\",'１組'!AF72)","v":""},{"$f":"IF('１組'!AG72=\"\",\"\",'１組'!AG72)","v":""},{"$f":"IF('１組'!AH72=\"\",\"\",'１組'!AH72)","v":""},{"$f":"IF('１組'!AI72=\"\",\"\",'１組'!AI72)","v":""},{"$f":"IF('１組'!AJ72=\"\",\"\",'１組'!AJ72)","v":""}]
[null,null,null,null,10150,null,1,50,null,null,"",{"$f":"IF('１組'!L73=\"\",\"\",'１組'!L73)","v":""},{"$f":"IF('１組'!M73=\"\",\"\",'１組'!M73)","v":""},{"$f":"IF('１組'!N73=\"\",\"\",'１組'!N73)","v":""},{"$f":"IF('１組'!O73=\"\",\"\",'１組'!O73)","v":""},{"$f":"IF('１組'!P73=\"\",\"\",'１組'!P73)","v":""},null,null,null,null,null,{"$f":"IF('１組'!V73=\"\",\"\",'１組'!V73)","v":""},{"$f":"IF('１組'!W73=\"\",\"\",'１組'!W73)","v":""},{"$f":"IF('１組'!X73=\"\",\"\",'１組'!X73)","v":""},{"$f":"IF('１組'!Y73=\"\",\"\",'１組'!Y73)","v":""},{"$f":"IF('１組'!Z73=\"\",\"\",'１組'!Z73)","v":""},null,null,null,null,null,{"$f":"IF('１組'!AF73=\"\",\"\",'１組'!AF73)","v":""},{"$f":"IF('１組'!AG73=\"\",\"\",'１組'!AG73)","v":""},{"$f":"IF('１組'!AH73=\"\",\"\",'１組'!AH73)","v":""},{"$f":"IF('１組'!AI73=\"\",\"\",'１組'!AI73)","v":""},{"$f":"IF('１組'!AJ73=\"\",\"\",'１組'!AJ73)","v":""}]
[null,null,null,null,10201,null,{"$f":"IF(H73<50,G73,G73+1)","v":2},1,null,null,"",{"$f":"IF('2組'!L24=\"\",\"\",'2組'!L24)","v":""},{"$f":"IF('2組'!M24=\"\",\"\",'2組'!M24)","v":""},{"$f":"IF('2組'!N24=\"\",\"\",'2組'!N24)","v":""},{"$f":"IF('2組'!O24=\"\",\"\",'2組'!O24)","v":""},{"$f":"IF('2組'!P24=\"\",\"\",'2組'!P24)","v":""},null,null,null,null,null,{"$f":"IF('2組'!V24=\"\",\"\",'2組'!V24)","v":""},{"$f":"IF('2組'!W24=\"\",\"\",'2組'!W24)","v":""},{"$f":"IF('2組'!X24=\"\",\"\",'2組'!X24)","v":""},{"$f":"IF('2組'!Y24=\"\",\"\",'2組'!Y24)","v":""},{"$f":"IF('2組'!Z24=\"\",\"\",'2組'!Z24)","v":""},null,null,null,null,null,{"$f":"IF('2組'!AF24=\"\",\"\",'2組'!AF24)","v":""},{"$f":"IF('2組'!AG24=\"\",\"\",'2組'!AG24)","v":""},{"$f":"IF('2組'!AH24=\"\",\"\",'2組'!AH24)","v":""},{"$f":"IF('2組'!AI24=\"\",\"\",'2組'!AI24)","v":""},{"$f":"IF('2組'!AJ24=\"\",\"\",'2組'!AJ24)","v":""}]
[null,null,null,null,10202,null,2,2,null,null,"",{"$f":"IF('2組'!L25=\"\",\"\",'2組'!L25)","v":""},{"$f":"IF('2組'!M25=\"\",\"\",'2組'!M25)","v":""},{"$f":"IF('2組'!N25=\"\",\"\",'2組'!N25)","v":""},{"$f":"IF('2組'!O25=\"\",\"\",'2組'!O25)","v":""},{"$f":"IF('2組'!P25=\"\",\"\",'2組'!P25)","v":""},null,null,null,null,null,{"$f":"IF('2組'!V25=\"\",\"\",'2組'!V25)","v":""},{"$f":"IF('2組'!W25=\"\",\"\",'2組'!W25)","v":""},{"$f":"IF('2組'!X25=\"\",\"\",'2組'!X25)","v":""},{"$f":"IF('2組'!Y25=\"\",\"\",'2組'!Y25)","v":""},{"$f":"IF('2組'!Z25=\"\",\"\",'2組'!Z25)","v":""},null,null,null,null,null,{"$f":"IF('2組'!AF25=\"\",\"\",'2組'!AF25)","v":""},{"$f":"IF('2組'!AG25=\"\",\"\",'2組'!AG25)","v":""},{"$f":"IF('2組'!AH25=\"\",\"\",'2組'!AH25)","v":""},{"$f":"IF('2組'!AI25=\"\",\"\",'2組'!AI25)","v":""},{"$f":"IF('2組'!AJ25=\"\",\"\",'2組'!AJ25)","v":""}]
[null,null,null,null,10203,null,2,3,null,null,"",{"$f":"IF('2組'!L26=\"\",\"\",'2組'!L26)","v":""},{"$f":"IF('2組'!M26=\"\",\"\",'2組'!M26)","v":""},{"$f":"IF('2組'!N26=\"\",\"\",'2組'!N26)","v":""},{"$f":"IF('2組'!O26=\"\",\"\",'2組'!O26)","v":""},{"$f":"IF('2組'!P26=\"\",\"\",'2組'!P26)","v":""},null,null,null,null,null,{"$f":"IF('2組'!V26=\"\",\"\",'2組'!V26)","v":""},{"$f":"IF('2組'!W26=\"\",\"\",'2組'!W26)","v":""},{"$f":"IF('2組'!X26=\"\",\"\",'2組'!X26)","v":""},{"$f":"IF('2組'!Y26=\"\",\"\",'2組'!Y26)","v":""},{"$f":"IF('2組'!Z26=\"\",\"\",'2組'!Z26)","v":""},null,null,null,null,null,{"$f":"IF('2組'!AF26=\"\",\"\",'2組'!AF26)","v":""},{"$f":"IF('2組'!AG26=\"\",\"\",'2組'!AG26)","v":""},{"$f":"IF('2組'!AH26=\"\",\"\",'2組'!AH26)","v":""},{"$f":"IF('2組'!AI26=\"\",\"\",'2組'!AI26)","v":""},{"$f":"IF('2組'!AJ26=\"\",\"\",'2組'!AJ26)","v":""}]
[null,null,null,null,10204,null,2,4,null,null,"",{"$f":"IF('2組'!L27=\"\",\"\",'2組'!L27)","v":""},{"$f":"IF('2組'!M27=\"\",\"\",'2組'!M27)","v":""},{"$f":"IF('2組'!N27=\"\",\"\",'2組'!N27)","v":""},{"$f":"IF('2組'!O27=\"\",\"\",'2組'!O27)","v":""},{"$f":"IF('2組'!P27=\"\",\"\",'2組'!P27)","v":""},null,null,null,null,null,{"$f":"IF('2組'!V27=\"\",\"\",'2組'!V27)","v":""},{"$f":"IF('2組'!W27=\"\",\"\",'2組'!W27)","v":""},{"$f":"IF('2組'!X27=\"\",\"\",'2組'!X27)","v":""},{"$f":"IF('2組'!Y27=\"\",\"\",'2組'!Y27)","v":""},{"$f":"IF('2組'!Z27=\"\",\"\",'2組'!Z27)","v":""},null,null,null,null,null,{"$f":"IF('2組'!AF27=\"\",\"\",'2組'!AF27)","v":""},{"$f":"IF('2組'!AG27=\"\",\"\",'2組'!AG27)","v":""},{"$f":"IF('2組'!AH27=\"\",\"\",'2組'!AH27)","v":""},{"$f":"IF('2組'!AI27=\"\",\"\",'2組'!AI27)","v":""},{"$f":"IF('2組'!AJ27=\"\",\"\",'2組'!AJ27)","v":""}]
[null,null,null,null,10205,null,2,5,null,null,"",{"$f":"IF('2組'!L28=\"\",\"\",'2組'!L28)","v":""},{"$f":"IF('2組'!M28=\"\",\"\",'2組'!M28)","v":""},{"$f":"IF('2組'!N28=\"\",\"\",'2組'!N28)","v":""},{"$f":"IF('2組'!O28=\"\",\"\",'2組'!O28)","v":""},{"$f":"IF('2組'!P28=\"\",\"\",'2組'!P28)","v":""},null,null,null,null,null,{"$f":"IF('2組'!V28=\"\",\"\",'2組'!V28)","v":""},{"$f":"IF('2組'!W28=\"\",\"\",'2組'!W28)","v":""},{"$f":"IF('2組'!X28=\"\",\"\",'2組'!X28)","v":""},{"$f":"IF('2組'!Y28=\"\",\"\",'2組'!Y28)","v":""},{"$f":"IF('2組'!Z28=\"\",\"\",'2組'!Z28)","v":""},null,null,null,null,null,{"$f":"IF('2組'!AF28=\"\",\"\",'2組'!AF28)","v":""},{"$f":"IF('2組'!AG28=\"\",\"\",'2組'!AG28)","v":""},{"$f":"IF('2組'!AH28=\"\",\"\",'2組'!AH28)","v":""},{"$f":"IF('2組'!AI28=\"\",\"\",'2組'!AI28)","v":""},{"$f":"IF('2組'!AJ28=\"\",\"\",'2組'!AJ28)","v":""}]
[null,null,null,null,10206,null,2,6,null,null,"",{"$f":"IF('2組'!L29=\"\",\"\",'2組'!L29)","v":""},{"$f":"IF('2組'!M29=\"\",\"\",'2組'!M29)","v":""},{"$f":"IF('2組'!N29=\"\",\"\",'2組'!N29)","v":""},{"$f":"IF('2組'!O29=\"\",\"\",'2組'!O29)","v":""},{"$f":"IF('2組'!P29=\"\",\"\",'2組'!P29)","v":""},null,null,null,null,null,{"$f":"IF('2組'!V29=\"\",\"\",'2組'!V29)","v":""},{"$f":"IF('2組'!W29=\"\",\"\",'2組'!W29)","v":""},{"$f":"IF('2組'!X29=\"\",\"\",'2組'!X29)","v":""},{"$f":"IF('2組'!Y29=\"\",\"\",'2組'!Y29)","v":""},{"$f":"IF('2組'!Z29=\"\",\"\",'2組'!Z29)","v":""},null,null,null,null,null,{"$f":"IF('2組'!AF29=\"\",\"\",'2組'!AF29)","v":""},{"$f":"IF('2組'!AG29=\"\",\"\",'2組'!AG29)","v":""},{"$f":"IF('2組'!AH29=\"\",\"\",'2組'!AH29)","v":""},{"$f":"IF('2組'!AI29=\"\",\"\",'2組'!AI29)","v":""},{"$f":"IF('2組'!AJ29=\"\",\"\",'2組'!AJ29)","v":""}]
[null,null,null,null,10207,null,2,7,null,null,"",{"$f":"IF('2組'!L30=\"\",\"\",'2組'!L30)","v":""},{"$f":"IF('2組'!M30=\"\",\"\",'2組'!M30)","v":""},{"$f":"IF('2組'!N30=\"\",\"\",'2組'!N30)","v":""},{"$f":"IF('2組'!O30=\"\",\"\",'2組'!O30)","v":""},{"$f":"IF('2組'!P30=\"\",\"\",'2組'!P30)","v":""},null,null,null,null,null,{"$f":"IF('2組'!V30=\"\",\"\",'2組'!V30)","v":""},{"$f":"IF('2組'!W30=\"\",\"\",'2組'!W30)","v":""},{"$f":"IF('2組'!X30=\"\",\"\",'2組'!X30)","v":""},{"$f":"IF('2組'!Y30=\"\",\"\",'2組'!Y30)","v":""},{"$f":"IF('2組'!Z30=\"\",\"\",'2組'!Z30)","v":""},null,null,null,null,null,{"$f":"IF('2組'!AF30=\"\",\"\",'2組'!AF30)","v":""},{"$f":"IF('2組'!AG30=\"\",\"\",'2組'!AG30)","v":""},{"$f":"IF('2組'!AH30=\"\",\"\",'2組'!AH30)","v":""},{"$f":"IF('2組'!AI30=\"\",\"\",'2組'!AI30)","v":""},{"$f":"IF('2組'!AJ30=\"\",\"\",'2組'!AJ30)","v":""}]
[null,null,null,null,10208,null,2,8,null,null,"",{"$f":"IF('2組'!L31=\"\",\"\",'2組'!L31)","v":""},{"$f":"IF('2組'!M31=\"\",\"\",'2組'!M31)","v":""},{"$f":"IF('2組'!N31=\"\",\"\",'2組'!N31)","v":""},{"$f":"IF('2組'!O31=\"\",\"\",'2組'!O31)","v":""},{"$f":"IF('2組'!P31=\"\",\"\",'2組'!P31)","v":""},null,null,null,null,null,{"$f":"IF('2組'!V31=\"\",\"\",'2組'!V31)","v":""},{"$f":"IF('2組'!W31=\"\",\"\",'2組'!W31)","v":""},{"$f":"IF('2組'!X31=\"\",\"\",'2組'!X31)","v":""},{"$f":"IF('2組'!Y31=\"\",\"\",'2組'!Y31)","v":""},{"$f":"IF('2組'!Z31=\"\",\"\",'2組'!Z31)","v":""},null,null,null,null,null,{"$f":"IF('2組'!AF31=\"\",\"\",'2組'!AF31)","v":""},{"$f":"IF('2組'!AG31=\"\",\"\",'2組'!AG31)","v":""},{"$f":"IF('2組'!AH31=\"\",\"\",'2組'!AH31)","v":""},{"$f":"IF('2組'!AI31=\"\",\"\",'2組'!AI31)","v":""},{"$f":"IF('2組'!AJ31=\"\",\"\",'2組'!AJ31)","v":""}]
[null,null,null,null,10209,null,2,9,null,null,"",{"$f":"IF('2組'!L32=\"\",\"\",'2組'!L32)","v":""},{"$f":"IF('2組'!M32=\"\",\"\",'2組'!M32)","v":""},{"$f":"IF('2組'!N32=\"\",\"\",'2組'!N32)","v":""},{"$f":"IF('2組'!O32=\"\",\"\",'2組'!O32)","v":""},{"$f":"IF('2組'!P32=\"\",\"\",'2組'!P32)","v":""},null,null,null,null,null,{"$f":"IF('2組'!V32=\"\",\"\",'2組'!V32)","v":""},{"$f":"IF('2組'!W32=\"\",\"\",'2組'!W32)","v":""},{"$f":"IF('2組'!X32=\"\",\"\",'2組'!X32)","v":""},{"$f":"IF('2組'!Y32=\"\",\"\",'2組'!Y32)","v":""},{"$f":"IF('2組'!Z32=\"\",\"\",'2組'!Z32)","v":""},null,null,null,null,null,{"$f":"IF('2組'!AF32=\"\",\"\",'2組'!AF32)","v":""},{"$f":"IF('2組'!AG32=\"\",\"\",'2組'!AG32)","v":""},{"$f":"IF('2組'!AH32=\"\",\"\",'2組'!AH32)","v":""},{"$f":"IF('2組'!AI32=\"\",\"\",'2組'!AI32)","v":""},{"$f":"IF('2組'!AJ32=\"\",\"\",'2組'!AJ32)","v":""}]
[null,null,null,null,10210,null,2,10,null,null,"",{"$f":"IF('2組'!L33=\"\",\"\",'2組'!L33)","v":""},{"$f":"IF('2組'!M33=\"\",\"\",'2組'!M33)","v":""},{"$f":"IF('2組'!N33=\"\",\"\",'2組'!N33)","v":""},{"$f":"IF('2組'!O33=\"\",\"\",'2組'!O33)","v":""},{"$f":"IF('2組'!P33=\"\",\"\",'2組'!P33)","v":""},null,null,null,null,null,{"$f":"IF('2組'!V33=\"\",\"\",'2組'!V33)","v":""},{"$f":"IF('2組'!W33=\"\",\"\",'2組'!W33)","v":""},{"$f":"IF('2組'!X33=\"\",\"\",'2組'!X33)","v":""},{"$f":"IF('2組'!Y33=\"\",\"\",'2組'!Y33)","v":""},{"$f":"IF('2組'!Z33=\"\",\"\",'2組'!Z33)","v":""},null,null,null,null,null,{"$f":"IF('2組'!AF33=\"\",\"\",'2組'!AF33)","v":""},{"$f":"IF('2組'!AG33=\"\",\"\",'2組'!AG33)","v":""},{"$f":"IF('2組'!AH33=\"\",\"\",'2組'!AH33)","v":""},{"$f":"IF('2組'!AI33=\"\",\"\",'2組'!AI33)","v":""},{"$f":"IF('2組'!AJ33=\"\",\"\",'2組'!AJ33)","v":""}]
[null,null,null,null,10211,null,2,11,null,null,"",{"$f":"IF('2組'!L34=\"\",\"\",'2組'!L34)","v":""},{"$f":"IF('2組'!M34=\"\",\"\",'2組'!M34)","v":""},{"$f":"IF('2組'!N34=\"\",\"\",'2組'!N34)","v":""},{"$f":"IF('2組'!O34=\"\",\"\",'2組'!O34)","v":""},{"$f":"IF('2組'!P34=\"\",\"\",'2組'!P34)","v":""},null,null,null,null,null,{"$f":"IF('2組'!V34=\"\",\"\",'2組'!V34)","v":""},{"$f":"IF('2組'!W34=\"\",\"\",'2組'!W34)","v":""},{"$f":"IF('2組'!X34=\"\",\"\",'2組'!X34)","v":""},{"$f":"IF('2組'!Y34=\"\",\"\",'2組'!Y34)","v":""},{"$f":"IF('2組'!Z34=\"\",\"\",'2組'!Z34)","v":""},null,null,null,null,null,{"$f":"IF('2組'!AF34=\"\",\"\",'2組'!AF34)","v":""},{"$f":"IF('2組'!AG34=\"\",\"\",'2組'!AG34)","v":""},{"$f":"IF('2組'!AH34=\"\",\"\",'2組'!AH34)","v":""},{"$f":"IF('2組'!AI34=\"\",\"\",'2組'!AI34)","v":""},{"$f":"IF('2組'!AJ34=\"\",\"\",'2組'!AJ34)","v":""}]
[null,null,null,null,10212,null,2,12,null,null,"",{"$f":"IF('2組'!L35=\"\",\"\",'2組'!L35)","v":""},{"$f":"IF('2組'!M35=\"\",\"\",'2組'!M35)","v":""},{"$f":"IF('2組'!N35=\"\",\"\",'2組'!N35)","v":""},{"$f":"IF('2組'!O35=\"\",\"\",'2組'!O35)","v":""},{"$f":"IF('2組'!P35=\"\",\"\",'2組'!P35)","v":""},null,null,null,null,null,{"$f":"IF('2組'!V35=\"\",\"\",'2組'!V35)","v":""},{"$f":"IF('2組'!W35=\"\",\"\",'2組'!W35)","v":""},{"$f":"IF('2組'!X35=\"\",\"\",'2組'!X35)","v":""},{"$f":"IF('2組'!Y35=\"\",\"\",'2組'!Y35)","v":""},{"$f":"IF('2組'!Z35=\"\",\"\",'2組'!Z35)","v":""},null,null,null,null,null,{"$f":"IF('2組'!AF35=\"\",\"\",'2組'!AF35)","v":""},{"$f":"IF('2組'!AG35=\"\",\"\",'2組'!AG35)","v":""},{"$f":"IF('2組'!AH35=\"\",\"\",'2組'!AH35)","v":""},{"$f":"IF('2組'!AI35=\"\",\"\",'2組'!AI35)","v":""},{"$f":"IF('2組'!AJ35=\"\",\"\",'2組'!AJ35)","v":""}]
[null,null,null,null,10213,null,2,13,null,null,"",{"$f":"IF('2組'!L36=\"\",\"\",'2組'!L36)","v":""},{"$f":"IF('2組'!M36=\"\",\"\",'2組'!M36)","v":""},{"$f":"IF('2組'!N36=\"\",\"\",'2組'!N36)","v":""},{"$f":"IF('2組'!O36=\"\",\"\",'2組'!O36)","v":""},{"$f":"IF('2組'!P36=\"\",\"\",'2組'!P36)","v":""},null,null,null,null,null,{"$f":"IF('2組'!V36=\"\",\"\",'2組'!V36)","v":""},{"$f":"IF('2組'!W36=\"\",\"\",'2組'!W36)","v":""},{"$f":"IF('2組'!X36=\"\",\"\",'2組'!X36)","v":""},{"$f":"IF('2組'!Y36=\"\",\"\",'2組'!Y36)","v":""},{"$f":"IF('2組'!Z36=\"\",\"\",'2組'!Z36)","v":""},null,null,null,null,null,{"$f":"IF('2組'!AF36=\"\",\"\",'2組'!AF36)","v":""},{"$f":"IF('2組'!AG36=\"\",\"\",'2組'!AG36)","v":""},{"$f":"IF('2組'!AH36=\"\",\"\",'2組'!AH36)","v":""},{"$f":"IF('2組'!AI36=\"\",\"\",'2組'!AI36)","v":""},{"$f":"IF('2組'!AJ36=\"\",\"\",'2組'!AJ36)","v":""}]
[null,null,null,null,10214,null,2,14,null,null,"",{"$f":"IF('2組'!L37=\"\",\"\",'2組'!L37)","v":""},{"$f":"IF('2組'!M37=\"\",\"\",'2組'!M37)","v":""},{"$f":"IF('2組'!N37=\"\",\"\",'2組'!N37)","v":""},{"$f":"IF('2組'!O37=\"\",\"\",'2組'!O37)","v":""},{"$f":"IF('2組'!P37=\"\",\"\",'2組'!P37)","v":""},null,null,null,null,null,{"$f":"IF('2組'!V37=\"\",\"\",'2組'!V37)","v":""},{"$f":"IF('2組'!W37=\"\",\"\",'2組'!W37)","v":""},{"$f":"IF('2組'!X37=\"\",\"\",'2組'!X37)","v":""},{"$f":"IF('2組'!Y37=\"\",\"\",'2組'!Y37)","v":""},{"$f":"IF('2組'!Z37=\"\",\"\",'2組'!Z37)","v":""},null,null,null,null,null,{"$f":"IF('2組'!AF37=\"\",\"\",'2組'!AF37)","v":""},{"$f":"IF('2組'!AG37=\"\",\"\",'2組'!AG37)","v":""},{"$f":"IF('2組'!AH37=\"\",\"\",'2組'!AH37)","v":""},{"$f":"IF('2組'!AI37=\"\",\"\",'2組'!AI37)","v":""},{"$f":"IF('2組'!AJ37=\"\",\"\",'2組'!AJ37)","v":""}]
[null,null,null,null,{"$f":"$H$8*10000+G88*100+H88","v":10215},null,2,15,null,null,"",{"$f":"IF('2組'!L38=\"\",\"\",'2組'!L38)","v":""},{"$f":"IF('2組'!M38=\"\",\"\",'2組'!M38)","v":""},{"$f":"IF('2組'!N38=\"\",\"\",'2組'!N38)","v":""},{"$f":"IF('2組'!O38=\"\",\"\",'2組'!O38)","v":""},{"$f":"IF('2組'!P38=\"\",\"\",'2組'!P38)","v":""},null,null,null,null,null,{"$f":"IF('2組'!V38=\"\",\"\",'2組'!V38)","v":""},{"$f":"IF('2組'!W38=\"\",\"\",'2組'!W38)","v":""},{"$f":"IF('2組'!X38=\"\",\"\",'2組'!X38)","v":""},{"$f":"IF('2組'!Y38=\"\",\"\",'2組'!Y38)","v":""},{"$f":"IF('2組'!Z38=\"\",\"\",'2組'!Z38)","v":""},null,null,null,null,null,{"$f":"IF('2組'!AF38=\"\",\"\",'2組'!AF38)","v":""},{"$f":"IF('2組'!AG38=\"\",\"\",'2組'!AG38)","v":""},{"$f":"IF('2組'!AH38=\"\",\"\",'2組'!AH38)","v":""},{"$f":"IF('2組'!AI38=\"\",\"\",'2組'!AI38)","v":""},{"$f":"IF('2組'!AJ38=\"\",\"\",'2組'!AJ38)","v":""}]
[null,null,null,null,10216,null,2,16,null,null,{"$f":"IF(J89=1,\"男\",IF(J89=2,\"女\",\"\"))","v":""},{"$f":"IF('2組'!L39=\"\",\"\",'2組'!L39)","v":""},{"$f":"IF('2組'!M39=\"\",\"\",'2組'!M39)","v":""},{"$f":"IF('2組'!N39=\"\",\"\",'2組'!N39)","v":""},{"$f":"IF('2組'!O39=\"\",\"\",'2組'!O39)","v":""},{"$f":"IF('2組'!P39=\"\",\"\",'2組'!P39)","v":""},null,null,null,null,null,{"$f":"IF('2組'!V39=\"\",\"\",'2組'!V39)","v":""},{"$f":"IF('2組'!W39=\"\",\"\",'2組'!W39)","v":""},{"$f":"IF('2組'!X39=\"\",\"\",'2組'!X39)","v":""},{"$f":"IF('2組'!Y39=\"\",\"\",'2組'!Y39)","v":""},{"$f":"IF('2組'!Z39=\"\",\"\",'2組'!Z39)","v":""},null,null,null,null,null,{"$f":"IF('2組'!AF39=\"\",\"\",'2組'!AF39)","v":""},{"$f":"IF('2組'!AG39=\"\",\"\",'2組'!AG39)","v":""},{"$f":"IF('2組'!AH39=\"\",\"\",'2組'!AH39)","v":""},{"$f":"IF('2組'!AI39=\"\",\"\",'2組'!AI39)","v":""},{"$f":"IF('2組'!AJ39=\"\",\"\",'2組'!AJ39)","v":""}]
[null,null,null,null,10217,null,{"$f":"IF(H89<50,G89,G89+1)","v":2},{"$f":"IF(G90<>G89,1,H89+1)","v":17},null,null,"",{"$f":"IF('2組'!L40=\"\",\"\",'2組'!L40)","v":""},{"$f":"IF('2組'!M40=\"\",\"\",'2組'!M40)","v":""},{"$f":"IF('2組'!N40=\"\",\"\",'2組'!N40)","v":""},{"$f":"IF('2組'!O40=\"\",\"\",'2組'!O40)","v":""},{"$f":"IF('2組'!P40=\"\",\"\",'2組'!P40)","v":""},null,null,null,null,null,{"$f":"IF('2組'!V40=\"\",\"\",'2組'!V40)","v":""},{"$f":"IF('2組'!W40=\"\",\"\",'2組'!W40)","v":""},{"$f":"IF('2組'!X40=\"\",\"\",'2組'!X40)","v":""},{"$f":"IF('2組'!Y40=\"\",\"\",'2組'!Y40)","v":""},{"$f":"IF('2組'!Z40=\"\",\"\",'2組'!Z40)","v":""},null,null,null,null,null,{"$f":"IF('2組'!AF40=\"\",\"\",'2組'!AF40)","v":""},{"$f":"IF('2組'!AG40=\"\",\"\",'2組'!AG40)","v":""},{"$f":"IF('2組'!AH40=\"\",\"\",'2組'!AH40)","v":""},{"$f":"IF('2組'!AI40=\"\",\"\",'2組'!AI40)","v":""},{"$f":"IF('2組'!AJ40=\"\",\"\",'2組'!AJ40)","v":""}]
[null,null,null,null,10218,null,2,18,null,null,"",{"$f":"IF('2組'!L41=\"\",\"\",'2組'!L41)","v":""},{"$f":"IF('2組'!M41=\"\",\"\",'2組'!M41)","v":""},{"$f":"IF('2組'!N41=\"\",\"\",'2組'!N41)","v":""},{"$f":"IF('2組'!O41=\"\",\"\",'2組'!O41)","v":""},{"$f":"IF('2組'!P41=\"\",\"\",'2組'!P41)","v":""},null,null,null,null,null,{"$f":"IF('2組'!V41=\"\",\"\",'2組'!V41)","v":""},{"$f":"IF('2組'!W41=\"\",\"\",'2組'!W41)","v":""},{"$f":"IF('2組'!X41=\"\",\"\",'2組'!X41)","v":""},{"$f":"IF('2組'!Y41=\"\",\"\",'2組'!Y41)","v":""},{"$f":"IF('2組'!Z41=\"\",\"\",'2組'!Z41)","v":""},null,null,null,null,null,{"$f":"IF('2組'!AF41=\"\",\"\",'2組'!AF41)","v":""},{"$f":"IF('2組'!AG41=\"\",\"\",'2組'!AG41)","v":""},{"$f":"IF('2組'!AH41=\"\",\"\",'2組'!AH41)","v":""},{"$f":"IF('2組'!AI41=\"\",\"\",'2組'!AI41)","v":""},{"$f":"IF('2組'!AJ41=\"\",\"\",'2組'!AJ41)","v":""}]
[null,null,null,null,10219,null,2,19,null,null,"",{"$f":"IF('2組'!L42=\"\",\"\",'2組'!L42)","v":""},{"$f":"IF('2組'!M42=\"\",\"\",'2組'!M42)","v":""},{"$f":"IF('2組'!N42=\"\",\"\",'2組'!N42)","v":""},{"$f":"IF('2組'!O42=\"\",\"\",'2組'!O42)","v":""},{"$f":"IF('2組'!P42=\"\",\"\",'2組'!P42)","v":""},null,null,null,null,null,{"$f":"IF('2組'!V42=\"\",\"\",'2組'!V42)","v":""},{"$f":"IF('2組'!W42=\"\",\"\",'2組'!W42)","v":""},{"$f":"IF('2組'!X42=\"\",\"\",'2組'!X42)","v":""},{"$f":"IF('2組'!Y42=\"\",\"\",'2組'!Y42)","v":""},{"$f":"IF('2組'!Z42=\"\",\"\",'2組'!Z42)","v":""},null,null,null,null,null,{"$f":"IF('2組'!AF42=\"\",\"\",'2組'!AF42)","v":""},{"$f":"IF('2組'!AG42=\"\",\"\",'2組'!AG42)","v":""},{"$f":"IF('2組'!AH42=\"\",\"\",'2組'!AH42)","v":""},{"$f":"IF('2組'!AI42=\"\",\"\",'2組'!AI42)","v":""},{"$f":"IF('2組'!AJ42=\"\",\"\",'2組'!AJ42)","v":""}]
[null,null,null,null,10220,null,2,20,null,null,"",{"$f":"IF('2組'!L43=\"\",\"\",'2組'!L43)","v":""},{"$f":"IF('2組'!M43=\"\",\"\",'2組'!M43)","v":""},{"$f":"IF('2組'!N43=\"\",\"\",'2組'!N43)","v":""},{"$f":"IF('2組'!O43=\"\",\"\",'2組'!O43)","v":""},{"$f":"IF('2組'!P43=\"\",\"\",'2組'!P43)","v":""},null,null,null,null,null,{"$f":"IF('2組'!V43=\"\",\"\",'2組'!V43)","v":""},{"$f":"IF('2組'!W43=\"\",\"\",'2組'!W43)","v":""},{"$f":"IF('2組'!X43=\"\",\"\",'2組'!X43)","v":""},{"$f":"IF('2組'!Y43=\"\",\"\",'2組'!Y43)","v":""},{"$f":"IF('2組'!Z43=\"\",\"\",'2組'!Z43)","v":""},null,null,null,null,null,{"$f":"IF('2組'!AF43=\"\",\"\",'2組'!AF43)","v":""},{"$f":"IF('2組'!AG43=\"\",\"\",'2組'!AG43)","v":""},{"$f":"IF('2組'!AH43=\"\",\"\",'2組'!AH43)","v":""},{"$f":"IF('2組'!AI43=\"\",\"\",'2組'!AI43)","v":""},{"$f":"IF('2組'!AJ43=\"\",\"\",'2組'!AJ43)","v":""}]
[null,null,null,null,10221,null,2,21,null,null,"",{"$f":"IF('2組'!L44=\"\",\"\",'2組'!L44)","v":""},{"$f":"IF('2組'!M44=\"\",\"\",'2組'!M44)","v":""},{"$f":"IF('2組'!N44=\"\",\"\",'2組'!N44)","v":""},{"$f":"IF('2組'!O44=\"\",\"\",'2組'!O44)","v":""},{"$f":"IF('2組'!P44=\"\",\"\",'2組'!P44)","v":""},null,null,null,null,null,{"$f":"IF('2組'!V44=\"\",\"\",'2組'!V44)","v":""},{"$f":"IF('2組'!W44=\"\",\"\",'2組'!W44)","v":""},{"$f":"IF('2組'!X44=\"\",\"\",'2組'!X44)","v":""},{"$f":"IF('2組'!Y44=\"\",\"\",'2組'!Y44)","v":""},{"$f":"IF('2組'!Z44=\"\",\"\",'2組'!Z44)","v":""},null,null,null,null,null,{"$f":"IF('2組'!AF44=\"\",\"\",'2組'!AF44)","v":""},{"$f":"IF('2組'!AG44=\"\",\"\",'2組'!AG44)","v":""},{"$f":"IF('2組'!AH44=\"\",\"\",'2組'!AH44)","v":""},{"$f":"IF('2組'!AI44=\"\",\"\",'2組'!AI44)","v":""},{"$f":"IF('2組'!AJ44=\"\",\"\",'2組'!AJ44)","v":""}]
[null,null,null,null,10222,null,2,22,null,null,"",{"$f":"IF('2組'!L45=\"\",\"\",'2組'!L45)","v":""},{"$f":"IF('2組'!M45=\"\",\"\",'2組'!M45)","v":""},{"$f":"IF('2組'!N45=\"\",\"\",'2組'!N45)","v":""},{"$f":"IF('2組'!O45=\"\",\"\",'2組'!O45)","v":""},{"$f":"IF('2組'!P45=\"\",\"\",'2組'!P45)","v":""},null,null,null,null,null,{"$f":"IF('2組'!V45=\"\",\"\",'2組'!V45)","v":""},{"$f":"IF('2組'!W45=\"\",\"\",'2組'!W45)","v":""},{"$f":"IF('2組'!X45=\"\",\"\",'2組'!X45)","v":""},{"$f":"IF('2組'!Y45=\"\",\"\",'2組'!Y45)","v":""},{"$f":"IF('2組'!Z45=\"\",\"\",'2組'!Z45)","v":""},null,null,null,null,null,{"$f":"IF('2組'!AF45=\"\",\"\",'2組'!AF45)","v":""},{"$f":"IF('2組'!AG45=\"\",\"\",'2組'!AG45)","v":""},{"$f":"IF('2組'!AH45=\"\",\"\",'2組'!AH45)","v":""},{"$f":"IF('2組'!AI45=\"\",\"\",'2組'!AI45)","v":""},{"$f":"IF('2組'!AJ45=\"\",\"\",'2組'!AJ45)","v":""}]
[null,null,null,null,10223,null,2,23,null,null,"",{"$f":"IF('2組'!L46=\"\",\"\",'2組'!L46)","v":""},{"$f":"IF('2組'!M46=\"\",\"\",'2組'!M46)","v":""},{"$f":"IF('2組'!N46=\"\",\"\",'2組'!N46)","v":""},{"$f":"IF('2組'!O46=\"\",\"\",'2組'!O46)","v":""},{"$f":"IF('2組'!P46=\"\",\"\",'2組'!P46)","v":""},null,null,null,null,null,{"$f":"IF('2組'!V46=\"\",\"\",'2組'!V46)","v":""},{"$f":"IF('2組'!W46=\"\",\"\",'2組'!W46)","v":""},{"$f":"IF('2組'!X46=\"\",\"\",'2組'!X46)","v":""},{"$f":"IF('2組'!Y46=\"\",\"\",'2組'!Y46)","v":""},{"$f":"IF('2組'!Z46=\"\",\"\",'2組'!Z46)","v":""},null,null,null,null,null,{"$f":"IF('2組'!AF46=\"\",\"\",'2組'!AF46)","v":""},{"$f":"IF('2組'!AG46=\"\",\"\",'2組'!AG46)","v":""},{"$f":"IF('2組'!AH46=\"\",\"\",'2組'!AH46)","v":""},{"$f":"IF('2組'!AI46=\"\",\"\",'2組'!AI46)","v":""},{"$f":"IF('2組'!AJ46=\"\",\"\",'2組'!AJ46)","v":""}]
[null,null,null,null,10224,null,2,24,null,null,"",{"$f":"IF('2組'!L47=\"\",\"\",'2組'!L47)","v":""},{"$f":"IF('2組'!M47=\"\",\"\",'2組'!M47)","v":""},{"$f":"IF('2組'!N47=\"\",\"\",'2組'!N47)","v":""},{"$f":"IF('2組'!O47=\"\",\"\",'2組'!O47)","v":""},{"$f":"IF('2組'!P47=\"\",\"\",'2組'!P47)","v":""},null,null,null,null,null,{"$f":"IF('2組'!V47=\"\",\"\",'2組'!V47)","v":""},{"$f":"IF('2組'!W47=\"\",\"\",'2組'!W47)","v":""},{"$f":"IF('2組'!X47=\"\",\"\",'2組'!X47)","v":""},{"$f":"IF('2組'!Y47=\"\",\"\",'2組'!Y47)","v":""},{"$f":"IF('2組'!Z47=\"\",\"\",'2組'!Z47)","v":""},null,null,null,null,null,{"$f":"IF('2組'!AF47=\"\",\"\",'2組'!AF47)","v":""},{"$f":"IF('2組'!AG47=\"\",\"\",'2組'!AG47)","v":""},{"$f":"IF('2組'!AH47=\"\",\"\",'2組'!AH47)","v":""},{"$f":"IF('2組'!AI47=\"\",\"\",'2組'!AI47)","v":""},{"$f":"IF('2組'!AJ47=\"\",\"\",'2組'!AJ47)","v":""}]
[null,null,null,null,10225,null,2,25,null,null,"",{"$f":"IF('2組'!L48=\"\",\"\",'2組'!L48)","v":""},{"$f":"IF('2組'!M48=\"\",\"\",'2組'!M48)","v":""},{"$f":"IF('2組'!N48=\"\",\"\",'2組'!N48)","v":""},{"$f":"IF('2組'!O48=\"\",\"\",'2組'!O48)","v":""},{"$f":"IF('2組'!P48=\"\",\"\",'2組'!P48)","v":""},null,null,null,null,null,{"$f":"IF('2組'!V48=\"\",\"\",'2組'!V48)","v":""},{"$f":"IF('2組'!W48=\"\",\"\",'2組'!W48)","v":""},{"$f":"IF('2組'!X48=\"\",\"\",'2組'!X48)","v":""},{"$f":"IF('2組'!Y48=\"\",\"\",'2組'!Y48)","v":""},{"$f":"IF('2組'!Z48=\"\",\"\",'2組'!Z48)","v":""},null,null,null,null,null,{"$f":"IF('2組'!AF48=\"\",\"\",'2組'!AF48)","v":""},{"$f":"IF('2組'!AG48=\"\",\"\",'2組'!AG48)","v":""},{"$f":"IF('2組'!AH48=\"\",\"\",'2組'!AH48)","v":""},{"$f":"IF('2組'!AI48=\"\",\"\",'2組'!AI48)","v":""},{"$f":"IF('2組'!AJ48=\"\",\"\",'2組'!AJ48)","v":""}]
[null,null,null,null,10226,null,2,26,null,null,"",{"$f":"IF('2組'!L49=\"\",\"\",'2組'!L49)","v":""},{"$f":"IF('2組'!M49=\"\",\"\",'2組'!M49)","v":""},{"$f":"IF('2組'!N49=\"\",\"\",'2組'!N49)","v":""},{"$f":"IF('2組'!O49=\"\",\"\",'2組'!O49)","v":""},{"$f":"IF('2組'!P49=\"\",\"\",'2組'!P49)","v":""},null,null,null,null,null,{"$f":"IF('2組'!V49=\"\",\"\",'2組'!V49)","v":""},{"$f":"IF('2組'!W49=\"\",\"\",'2組'!W49)","v":""},{"$f":"IF('2組'!X49=\"\",\"\",'2組'!X49)","v":""},{"$f":"IF('2組'!Y49=\"\",\"\",'2組'!Y49)","v":""},{"$f":"IF('2組'!Z49=\"\",\"\",'2組'!Z49)","v":""},null,null,null,null,null,{"$f":"IF('2組'!AF49=\"\",\"\",'2組'!AF49)","v":""},{"$f":"IF('2組'!AG49=\"\",\"\",'2組'!AG49)","v":""},{"$f":"IF('2組'!AH49=\"\",\"\",'2組'!AH49)","v":""},{"$f":"IF('2組'!AI49=\"\",\"\",'2組'!AI49)","v":""},{"$f":"IF('2組'!AJ49=\"\",\"\",'2組'!AJ49)","v":""}]
[null,null,null,null,10227,null,2,27,null,null,"",{"$f":"IF('2組'!L50=\"\",\"\",'2組'!L50)","v":""},{"$f":"IF('2組'!M50=\"\",\"\",'2組'!M50)","v":""},{"$f":"IF('2組'!N50=\"\",\"\",'2組'!N50)","v":""},{"$f":"IF('2組'!O50=\"\",\"\",'2組'!O50)","v":""},{"$f":"IF('2組'!P50=\"\",\"\",'2組'!P50)","v":""},null,null,null,null,null,{"$f":"IF('2組'!V50=\"\",\"\",'2組'!V50)","v":""},{"$f":"IF('2組'!W50=\"\",\"\",'2組'!W50)","v":""},{"$f":"IF('2組'!X50=\"\",\"\",'2組'!X50)","v":""},{"$f":"IF('2組'!Y50=\"\",\"\",'2組'!Y50)","v":""},{"$f":"IF('2組'!Z50=\"\",\"\",'2組'!Z50)","v":""},null,null,null,null,null,{"$f":"IF('2組'!AF50=\"\",\"\",'2組'!AF50)","v":""},{"$f":"IF('2組'!AG50=\"\",\"\",'2組'!AG50)","v":""},{"$f":"IF('2組'!AH50=\"\",\"\",'2組'!AH50)","v":""},{"$f":"IF('2組'!AI50=\"\",\"\",'2組'!AI50)","v":""},{"$f":"IF('2組'!AJ50=\"\",\"\",'2組'!AJ50)","v":""}]
[null,null,null,null,10228,null,2,28,null,null,"",{"$f":"IF('2組'!L51=\"\",\"\",'2組'!L51)","v":""},{"$f":"IF('2組'!M51=\"\",\"\",'2組'!M51)","v":""},{"$f":"IF('2組'!N51=\"\",\"\",'2組'!N51)","v":""},{"$f":"IF('2組'!O51=\"\",\"\",'2組'!O51)","v":""},{"$f":"IF('2組'!P51=\"\",\"\",'2組'!P51)","v":""},null,null,null,null,null,{"$f":"IF('2組'!V51=\"\",\"\",'2組'!V51)","v":""},{"$f":"IF('2組'!W51=\"\",\"\",'2組'!W51)","v":""},{"$f":"IF('2組'!X51=\"\",\"\",'2組'!X51)","v":""},{"$f":"IF('2組'!Y51=\"\",\"\",'2組'!Y51)","v":""},{"$f":"IF('2組'!Z51=\"\",\"\",'2組'!Z51)","v":""},null,null,null,null,null,{"$f":"IF('2組'!AF51=\"\",\"\",'2組'!AF51)","v":""},{"$f":"IF('2組'!AG51=\"\",\"\",'2組'!AG51)","v":""},{"$f":"IF('2組'!AH51=\"\",\"\",'2組'!AH51)","v":""},{"$f":"IF('2組'!AI51=\"\",\"\",'2組'!AI51)","v":""},{"$f":"IF('2組'!AJ51=\"\",\"\",'2組'!AJ51)","v":""}]
[null,null,null,null,10229,null,2,29,null,null,"",{"$f":"IF('2組'!L52=\"\",\"\",'2組'!L52)","v":""},{"$f":"IF('2組'!M52=\"\",\"\",'2組'!M52)","v":""},{"$f":"IF('2組'!N52=\"\",\"\",'2組'!N52)","v":""},{"$f":"IF('2組'!O52=\"\",\"\",'2組'!O52)","v":""},{"$f":"IF('2組'!P52=\"\",\"\",'2組'!P52)","v":""},null,null,null,null,null,{"$f":"IF('2組'!V52=\"\",\"\",'2組'!V52)","v":""},{"$f":"IF('2組'!W52=\"\",\"\",'2組'!W52)","v":""},{"$f":"IF('2組'!X52=\"\",\"\",'2組'!X52)","v":""},{"$f":"IF('2組'!Y52=\"\",\"\",'2組'!Y52)","v":""},{"$f":"IF('2組'!Z52=\"\",\"\",'2組'!Z52)","v":""},null,null,null,null,null,{"$f":"IF('2組'!AF52=\"\",\"\",'2組'!AF52)","v":""},{"$f":"IF('2組'!AG52=\"\",\"\",'2組'!AG52)","v":""},{"$f":"IF('2組'!AH52=\"\",\"\",'2組'!AH52)","v":""},{"$f":"IF('2組'!AI52=\"\",\"\",'2組'!AI52)","v":""},{"$f":"IF('2組'!AJ52=\"\",\"\",'2組'!AJ52)","v":""}]
[null,null,null,null,10230,null,2,30,null,null,"",{"$f":"IF('2組'!L53=\"\",\"\",'2組'!L53)","v":""},{"$f":"IF('2組'!M53=\"\",\"\",'2組'!M53)","v":""},{"$f":"IF('2組'!N53=\"\",\"\",'2組'!N53)","v":""},{"$f":"IF('2組'!O53=\"\",\"\",'2組'!O53)","v":""},{"$f":"IF('2組'!P53=\"\",\"\",'2組'!P53)","v":""},null,null,null,null,null,{"$f":"IF('2組'!V53=\"\",\"\",'2組'!V53)","v":""},{"$f":"IF('2組'!W53=\"\",\"\",'2組'!W53)","v":""},{"$f":"IF('2組'!X53=\"\",\"\",'2組'!X53)","v":""},{"$f":"IF('2組'!Y53=\"\",\"\",'2組'!Y53)","v":""},{"$f":"IF('2組'!Z53=\"\",\"\",'2組'!Z53)","v":""},null,null,null,null,null,{"$f":"IF('2組'!AF53=\"\",\"\",'2組'!AF53)","v":""},{"$f":"IF('2組'!AG53=\"\",\"\",'2組'!AG53)","v":""},{"$f":"IF('2組'!AH53=\"\",\"\",'2組'!AH53)","v":""},{"$f":"IF('2組'!AI53=\"\",\"\",'2組'!AI53)","v":""},{"$f":"IF('2組'!AJ53=\"\",\"\",'2組'!AJ53)","v":""}]
[null,null,null,null,10231,null,2,31,null,null,"",{"$f":"IF('2組'!L54=\"\",\"\",'2組'!L54)","v":""},{"$f":"IF('2組'!M54=\"\",\"\",'2組'!M54)","v":""},{"$f":"IF('2組'!N54=\"\",\"\",'2組'!N54)","v":""},{"$f":"IF('2組'!O54=\"\",\"\",'2組'!O54)","v":""},{"$f":"IF('2組'!P54=\"\",\"\",'2組'!P54)","v":""},null,null,null,null,null,{"$f":"IF('2組'!V54=\"\",\"\",'2組'!V54)","v":""},{"$f":"IF('2組'!W54=\"\",\"\",'2組'!W54)","v":""},{"$f":"IF('2組'!X54=\"\",\"\",'2組'!X54)","v":""},{"$f":"IF('2組'!Y54=\"\",\"\",'2組'!Y54)","v":""},{"$f":"IF('2組'!Z54=\"\",\"\",'2組'!Z54)","v":""},null,null,null,null,null,{"$f":"IF('2組'!AF54=\"\",\"\",'2組'!AF54)","v":""},{"$f":"IF('2組'!AG54=\"\",\"\",'2組'!AG54)","v":""},{"$f":"IF('2組'!AH54=\"\",\"\",'2組'!AH54)","v":""},{"$f":"IF('2組'!AI54=\"\",\"\",'2組'!AI54)","v":""},{"$f":"IF('2組'!AJ54=\"\",\"\",'2組'!AJ54)","v":""}]
[null,null,null,null,10232,null,2,32,null,null,"",{"$f":"IF('2組'!L55=\"\",\"\",'2組'!L55)","v":""},{"$f":"IF('2組'!M55=\"\",\"\",'2組'!M55)","v":""},{"$f":"IF('2組'!N55=\"\",\"\",'2組'!N55)","v":""},{"$f":"IF('2組'!O55=\"\",\"\",'2組'!O55)","v":""},{"$f":"IF('2組'!P55=\"\",\"\",'2組'!P55)","v":""},null,null,null,null,null,{"$f":"IF('2組'!V55=\"\",\"\",'2組'!V55)","v":""},{"$f":"IF('2組'!W55=\"\",\"\",'2組'!W55)","v":""},{"$f":"IF('2組'!X55=\"\",\"\",'2組'!X55)","v":""},{"$f":"IF('2組'!Y55=\"\",\"\",'2組'!Y55)","v":""},{"$f":"IF('2組'!Z55=\"\",\"\",'2組'!Z55)","v":""},null,null,null,null,null,{"$f":"IF('2組'!AF55=\"\",\"\",'2組'!AF55)","v":""},{"$f":"IF('2組'!AG55=\"\",\"\",'2組'!AG55)","v":""},{"$f":"IF('2組'!AH55=\"\",\"\",'2組'!AH55)","v":""},{"$f":"IF('2組'!AI55=\"\",\"\",'2組'!AI55)","v":""},{"$f":"IF('2組'!AJ55=\"\",\"\",'2組'!AJ55)","v":""}]
[null,null,null,null,10233,null,2,33,null,null,"",{"$f":"IF('2組'!L56=\"\",\"\",'2組'!L56)","v":""},{"$f":"IF('2組'!M56=\"\",\"\",'2組'!M56)","v":""},{"$f":"IF('2組'!N56=\"\",\"\",'2組'!N56)","v":""},{"$f":"IF('2組'!O56=\"\",\"\",'2組'!O56)","v":""},{"$f":"IF('2組'!P56=\"\",\"\",'2組'!P56)","v":""},null,null,null,null,null,{"$f":"IF('2組'!V56=\"\",\"\",'2組'!V56)","v":""},{"$f":"IF('2組'!W56=\"\",\"\",'2組'!W56)","v":""},{"$f":"IF('2組'!X56=\"\",\"\",'2組'!X56)","v":""},{"$f":"IF('2組'!Y56=\"\",\"\",'2組'!Y56)","v":""},{"$f":"IF('2組'!Z56=\"\",\"\",'2組'!Z56)","v":""},null,null,null,null,null,{"$f":"IF('2組'!AF56=\"\",\"\",'2組'!AF56)","v":""},{"$f":"IF('2組'!AG56=\"\",\"\",'2組'!AG56)","v":""},{"$f":"IF('2組'!AH56=\"\",\"\",'2組'!AH56)","v":""},{"$f":"IF('2組'!AI56=\"\",\"\",'2組'!AI56)","v":""},{"$f":"IF('2組'!AJ56=\"\",\"\",'2組'!AJ56)","v":""}]
[null,null,null,null,10234,null,2,34,null,null,"",{"$f":"IF('2組'!L57=\"\",\"\",'2組'!L57)","v":""},{"$f":"IF('2組'!M57=\"\",\"\",'2組'!M57)","v":""},{"$f":"IF('2組'!N57=\"\",\"\",'2組'!N57)","v":""},{"$f":"IF('2組'!O57=\"\",\"\",'2組'!O57)","v":""},{"$f":"IF('2組'!P57=\"\",\"\",'2組'!P57)","v":""},null,null,null,null,null,{"$f":"IF('2組'!V57=\"\",\"\",'2組'!V57)","v":""},{"$f":"IF('2組'!W57=\"\",\"\",'2組'!W57)","v":""},{"$f":"IF('2組'!X57=\"\",\"\",'2組'!X57)","v":""},{"$f":"IF('2組'!Y57=\"\",\"\",'2組'!Y57)","v":""},{"$f":"IF('2組'!Z57=\"\",\"\",'2組'!Z57)","v":""},null,null,null,null,null,{"$f":"IF('2組'!AF57=\"\",\"\",'2組'!AF57)","v":""},{"$f":"IF('2組'!AG57=\"\",\"\",'2組'!AG57)","v":""},{"$f":"IF('2組'!AH57=\"\",\"\",'2組'!AH57)","v":""},{"$f":"IF('2組'!AI57=\"\",\"\",'2組'!AI57)","v":""},{"$f":"IF('2組'!AJ57=\"\",\"\",'2組'!AJ57)","v":""}]
[null,null,null,null,10235,null,2,35,null,null,"",{"$f":"IF('2組'!L58=\"\",\"\",'2組'!L58)","v":""},{"$f":"IF('2組'!M58=\"\",\"\",'2組'!M58)","v":""},{"$f":"IF('2組'!N58=\"\",\"\",'2組'!N58)","v":""},{"$f":"IF('2組'!O58=\"\",\"\",'2組'!O58)","v":""},{"$f":"IF('2組'!P58=\"\",\"\",'2組'!P58)","v":""},null,null,null,null,null,{"$f":"IF('2組'!V58=\"\",\"\",'2組'!V58)","v":""},{"$f":"IF('2組'!W58=\"\",\"\",'2組'!W58)","v":""},{"$f":"IF('2組'!X58=\"\",\"\",'2組'!X58)","v":""},{"$f":"IF('2組'!Y58=\"\",\"\",'2組'!Y58)","v":""},{"$f":"IF('2組'!Z58=\"\",\"\",'2組'!Z58)","v":""},null,null,null,null,null,{"$f":"IF('2組'!AF58=\"\",\"\",'2組'!AF58)","v":""},{"$f":"IF('2組'!AG58=\"\",\"\",'2組'!AG58)","v":""},{"$f":"IF('2組'!AH58=\"\",\"\",'2組'!AH58)","v":""},{"$f":"IF('2組'!AI58=\"\",\"\",'2組'!AI58)","v":""},{"$f":"IF('2組'!AJ58=\"\",\"\",'2組'!AJ58)","v":""}]
[null,null,null,null,10236,null,2,36,null,null,"",{"$f":"IF('2組'!L59=\"\",\"\",'2組'!L59)","v":""},{"$f":"IF('2組'!M59=\"\",\"\",'2組'!M59)","v":""},{"$f":"IF('2組'!N59=\"\",\"\",'2組'!N59)","v":""},{"$f":"IF('2組'!O59=\"\",\"\",'2組'!O59)","v":""},{"$f":"IF('2組'!P59=\"\",\"\",'2組'!P59)","v":""},null,null,null,null,null,{"$f":"IF('2組'!V59=\"\",\"\",'2組'!V59)","v":""},{"$f":"IF('2組'!W59=\"\",\"\",'2組'!W59)","v":""},{"$f":"IF('2組'!X59=\"\",\"\",'2組'!X59)","v":""},{"$f":"IF('2組'!Y59=\"\",\"\",'2組'!Y59)","v":""},{"$f":"IF('2組'!Z59=\"\",\"\",'2組'!Z59)","v":""},null,null,null,null,null,{"$f":"IF('2組'!AF59=\"\",\"\",'2組'!AF59)","v":""},{"$f":"IF('2組'!AG59=\"\",\"\",'2組'!AG59)","v":""},{"$f":"IF('2組'!AH59=\"\",\"\",'2組'!AH59)","v":""},{"$f":"IF('2組'!AI59=\"\",\"\",'2組'!AI59)","v":""},{"$f":"IF('2組'!AJ59=\"\",\"\",'2組'!AJ59)","v":""}]
[null,null,null,null,10237,null,2,37,null,null,"",{"$f":"IF('2組'!L60=\"\",\"\",'2組'!L60)","v":""},{"$f":"IF('2組'!M60=\"\",\"\",'2組'!M60)","v":""},{"$f":"IF('2組'!N60=\"\",\"\",'2組'!N60)","v":""},{"$f":"IF('2組'!O60=\"\",\"\",'2組'!O60)","v":""},{"$f":"IF('2組'!P60=\"\",\"\",'2組'!P60)","v":""},null,null,null,null,null,{"$f":"IF('2組'!V60=\"\",\"\",'2組'!V60)","v":""},{"$f":"IF('2組'!W60=\"\",\"\",'2組'!W60)","v":""},{"$f":"IF('2組'!X60=\"\",\"\",'2組'!X60)","v":""},{"$f":"IF('2組'!Y60=\"\",\"\",'2組'!Y60)","v":""},{"$f":"IF('2組'!Z60=\"\",\"\",'2組'!Z60)","v":""},null,null,null,null,null,{"$f":"IF('2組'!AF60=\"\",\"\",'2組'!AF60)","v":""},{"$f":"IF('2組'!AG60=\"\",\"\",'2組'!AG60)","v":""},{"$f":"IF('2組'!AH60=\"\",\"\",'2組'!AH60)","v":""},{"$f":"IF('2組'!AI60=\"\",\"\",'2組'!AI60)","v":""},{"$f":"IF('2組'!AJ60=\"\",\"\",'2組'!AJ60)","v":""}]
[null,null,null,null,10238,null,2,38,null,null,"",{"$f":"IF('2組'!L61=\"\",\"\",'2組'!L61)","v":""},{"$f":"IF('2組'!M61=\"\",\"\",'2組'!M61)","v":""},{"$f":"IF('2組'!N61=\"\",\"\",'2組'!N61)","v":""},{"$f":"IF('2組'!O61=\"\",\"\",'2組'!O61)","v":""},{"$f":"IF('2組'!P61=\"\",\"\",'2組'!P61)","v":""},null,null,null,null,null,{"$f":"IF('2組'!V61=\"\",\"\",'2組'!V61)","v":""},{"$f":"IF('2組'!W61=\"\",\"\",'2組'!W61)","v":""},{"$f":"IF('2組'!X61=\"\",\"\",'2組'!X61)","v":""},{"$f":"IF('2組'!Y61=\"\",\"\",'2組'!Y61)","v":""},{"$f":"IF('2組'!Z61=\"\",\"\",'2組'!Z61)","v":""},null,null,null,null,null,{"$f":"IF('2組'!AF61=\"\",\"\",'2組'!AF61)","v":""},{"$f":"IF('2組'!AG61=\"\",\"\",'2組'!AG61)","v":""},{"$f":"IF('2組'!AH61=\"\",\"\",'2組'!AH61)","v":""},{"$f":"IF('2組'!AI61=\"\",\"\",'2組'!AI61)","v":""},{"$f":"IF('2組'!AJ61=\"\",\"\",'2組'!AJ61)","v":""}]
[null,null,null,null,10239,null,2,39,null,null,"",{"$f":"IF('2組'!L62=\"\",\"\",'2組'!L62)","v":""},{"$f":"IF('2組'!M62=\"\",\"\",'2組'!M62)","v":""},{"$f":"IF('2組'!N62=\"\",\"\",'2組'!N62)","v":""},{"$f":"IF('2組'!O62=\"\",\"\",'2組'!O62)","v":""},{"$f":"IF('2組'!P62=\"\",\"\",'2組'!P62)","v":""},null,null,null,null,null,{"$f":"IF('2組'!V62=\"\",\"\",'2組'!V62)","v":""},{"$f":"IF('2組'!W62=\"\",\"\",'2組'!W62)","v":""},{"$f":"IF('2組'!X62=\"\",\"\",'2組'!X62)","v":""},{"$f":"IF('2組'!Y62=\"\",\"\",'2組'!Y62)","v":""},{"$f":"IF('2組'!Z62=\"\",\"\",'2組'!Z62)","v":""},null,null,null,null,null,{"$f":"IF('2組'!AF62=\"\",\"\",'2組'!AF62)","v":""},{"$f":"IF('2組'!AG62=\"\",\"\",'2組'!AG62)","v":""},{"$f":"IF('2組'!AH62=\"\",\"\",'2組'!AH62)","v":""},{"$f":"IF('2組'!AI62=\"\",\"\",'2組'!AI62)","v":""},{"$f":"IF('2組'!AJ62=\"\",\"\",'2組'!AJ62)","v":""}]
[null,null,null,null,10240,null,2,40,null,null,"",{"$f":"IF('2組'!L63=\"\",\"\",'2組'!L63)","v":""},{"$f":"IF('2組'!M63=\"\",\"\",'2組'!M63)","v":""},{"$f":"IF('2組'!N63=\"\",\"\",'2組'!N63)","v":""},{"$f":"IF('2組'!O63=\"\",\"\",'2組'!O63)","v":""},{"$f":"IF('2組'!P63=\"\",\"\",'2組'!P63)","v":""},null,null,null,null,null,{"$f":"IF('2組'!V63=\"\",\"\",'2組'!V63)","v":""},{"$f":"IF('2組'!W63=\"\",\"\",'2組'!W63)","v":""},{"$f":"IF('2組'!X63=\"\",\"\",'2組'!X63)","v":""},{"$f":"IF('2組'!Y63=\"\",\"\",'2組'!Y63)","v":""},{"$f":"IF('2組'!Z63=\"\",\"\",'2組'!Z63)","v":""},null,null,null,null,null,{"$f":"IF('2組'!AF63=\"\",\"\",'2組'!AF63)","v":""},{"$f":"IF('2組'!AG63=\"\",\"\",'2組'!AG63)","v":""},{"$f":"IF('2組'!AH63=\"\",\"\",'2組'!AH63)","v":""},{"$f":"IF('2組'!AI63=\"\",\"\",'2組'!AI63)","v":""},{"$f":"IF('2組'!AJ63=\"\",\"\",'2組'!AJ63)","v":""}]
[null,null,null,null,10241,null,2,41,null,null,"",{"$f":"IF('2組'!L64=\"\",\"\",'2組'!L64)","v":""},{"$f":"IF('2組'!M64=\"\",\"\",'2組'!M64)","v":""},{"$f":"IF('2組'!N64=\"\",\"\",'2組'!N64)","v":""},{"$f":"IF('2組'!O64=\"\",\"\",'2組'!O64)","v":""},{"$f":"IF('2組'!P64=\"\",\"\",'2組'!P64)","v":""},null,null,null,null,null,{"$f":"IF('2組'!V64=\"\",\"\",'2組'!V64)","v":""},{"$f":"IF('2組'!W64=\"\",\"\",'2組'!W64)","v":""},{"$f":"IF('2組'!X64=\"\",\"\",'2組'!X64)","v":""},{"$f":"IF('2組'!Y64=\"\",\"\",'2組'!Y64)","v":""},{"$f":"IF('2組'!Z64=\"\",\"\",'2組'!Z64)","v":""},null,null,null,null,null,{"$f":"IF('2組'!AF64=\"\",\"\",'2組'!AF64)","v":""},{"$f":"IF('2組'!AG64=\"\",\"\",'2組'!AG64)","v":""},{"$f":"IF('2組'!AH64=\"\",\"\",'2組'!AH64)","v":""},{"$f":"IF('2組'!AI64=\"\",\"\",'2組'!AI64)","v":""},{"$f":"IF('2組'!AJ64=\"\",\"\",'2組'!AJ64)","v":""}]
[null,null,null,null,10242,null,2,42,null,null,"",{"$f":"IF('2組'!L65=\"\",\"\",'2組'!L65)","v":""},{"$f":"IF('2組'!M65=\"\",\"\",'2組'!M65)","v":""},{"$f":"IF('2組'!N65=\"\",\"\",'2組'!N65)","v":""},{"$f":"IF('2組'!O65=\"\",\"\",'2組'!O65)","v":""},{"$f":"IF('2組'!P65=\"\",\"\",'2組'!P65)","v":""},null,null,null,null,null,{"$f":"IF('2組'!V65=\"\",\"\",'2組'!V65)","v":""},{"$f":"IF('2組'!W65=\"\",\"\",'2組'!W65)","v":""},{"$f":"IF('2組'!X65=\"\",\"\",'2組'!X65)","v":""},{"$f":"IF('2組'!Y65=\"\",\"\",'2組'!Y65)","v":""},{"$f":"IF('2組'!Z65=\"\",\"\",'2組'!Z65)","v":""},null,null,null,null,null,{"$f":"IF('2組'!AF65=\"\",\"\",'2組'!AF65)","v":""},{"$f":"IF('2組'!AG65=\"\",\"\",'2組'!AG65)","v":""},{"$f":"IF('2組'!AH65=\"\",\"\",'2組'!AH65)","v":""},{"$f":"IF('2組'!AI65=\"\",\"\",'2組'!AI65)","v":""},{"$f":"IF('2組'!AJ65=\"\",\"\",'2組'!AJ65)","v":""}]
[null,null,null,null,10243,null,2,43,null,null,"",{"$f":"IF('2組'!L66=\"\",\"\",'2組'!L66)","v":""},{"$f":"IF('2組'!M66=\"\",\"\",'2組'!M66)","v":""},{"$f":"IF('2組'!N66=\"\",\"\",'2組'!N66)","v":""},{"$f":"IF('2組'!O66=\"\",\"\",'2組'!O66)","v":""},{"$f":"IF('2組'!P66=\"\",\"\",'2組'!P66)","v":""},null,null,null,null,null,{"$f":"IF('2組'!V66=\"\",\"\",'2組'!V66)","v":""},{"$f":"IF('2組'!W66=\"\",\"\",'2組'!W66)","v":""},{"$f":"IF('2組'!X66=\"\",\"\",'2組'!X66)","v":""},{"$f":"IF('2組'!Y66=\"\",\"\",'2組'!Y66)","v":""},{"$f":"IF('2組'!Z66=\"\",\"\",'2組'!Z66)","v":""},null,null,null,null,null,{"$f":"IF('2組'!AF66=\"\",\"\",'2組'!AF66)","v":""},{"$f":"IF('2組'!AG66=\"\",\"\",'2組'!AG66)","v":""},{"$f":"IF('2組'!AH66=\"\",\"\",'2組'!AH66)","v":""},{"$f":"IF('2組'!AI66=\"\",\"\",'2組'!AI66)","v":""},{"$f":"IF('2組'!AJ66=\"\",\"\",'2組'!AJ66)","v":""}]
[null,null,null,null,10244,null,2,44,null,null,"",{"$f":"IF('2組'!L67=\"\",\"\",'2組'!L67)","v":""},{"$f":"IF('2組'!M67=\"\",\"\",'2組'!M67)","v":""},{"$f":"IF('2組'!N67=\"\",\"\",'2組'!N67)","v":""},{"$f":"IF('2組'!O67=\"\",\"\",'2組'!O67)","v":""},{"$f":"IF('2組'!P67=\"\",\"\",'2組'!P67)","v":""},null,null,null,null,null,{"$f":"IF('2組'!V67=\"\",\"\",'2組'!V67)","v":""},{"$f":"IF('2組'!W67=\"\",\"\",'2組'!W67)","v":""},{"$f":"IF('2組'!X67=\"\",\"\",'2組'!X67)","v":""},{"$f":"IF('2組'!Y67=\"\",\"\",'2組'!Y67)","v":""},{"$f":"IF('2組'!Z67=\"\",\"\",'2組'!Z67)","v":""},null,null,null,null,null,{"$f":"IF('2組'!AF67=\"\",\"\",'2組'!AF67)","v":""},{"$f":"IF('2組'!AG67=\"\",\"\",'2組'!AG67)","v":""},{"$f":"IF('2組'!AH67=\"\",\"\",'2組'!AH67)","v":""},{"$f":"IF('2組'!AI67=\"\",\"\",'2組'!AI67)","v":""},{"$f":"IF('2組'!AJ67=\"\",\"\",'2組'!AJ67)","v":""}]
[null,null,null,null,10245,null,2,45,null,null,"",{"$f":"IF('2組'!L68=\"\",\"\",'2組'!L68)","v":""},{"$f":"IF('2組'!M68=\"\",\"\",'2組'!M68)","v":""},{"$f":"IF('2組'!N68=\"\",\"\",'2組'!N68)","v":""},{"$f":"IF('2組'!O68=\"\",\"\",'2組'!O68)","v":""},{"$f":"IF('2組'!P68=\"\",\"\",'2組'!P68)","v":""},null,null,null,null,null,{"$f":"IF('2組'!V68=\"\",\"\",'2組'!V68)","v":""},{"$f":"IF('2組'!W68=\"\",\"\",'2組'!W68)","v":""},{"$f":"IF('2組'!X68=\"\",\"\",'2組'!X68)","v":""},{"$f":"IF('2組'!Y68=\"\",\"\",'2組'!Y68)","v":""},{"$f":"IF('2組'!Z68=\"\",\"\",'2組'!Z68)","v":""},null,null,null,null,null,{"$f":"IF('2組'!AF68=\"\",\"\",'2組'!AF68)","v":""},{"$f":"IF('2組'!AG68=\"\",\"\",'2組'!AG68)","v":""},{"$f":"IF('2組'!AH68=\"\",\"\",'2組'!AH68)","v":""},{"$f":"IF('2組'!AI68=\"\",\"\",'2組'!AI68)","v":""},{"$f":"IF('2組'!AJ68=\"\",\"\",'2組'!AJ68)","v":""}]
[null,null,null,null,10246,null,2,46,null,null,"",{"$f":"IF('2組'!L69=\"\",\"\",'2組'!L69)","v":""},{"$f":"IF('2組'!M69=\"\",\"\",'2組'!M69)","v":""},{"$f":"IF('2組'!N69=\"\",\"\",'2組'!N69)","v":""},{"$f":"IF('2組'!O69=\"\",\"\",'2組'!O69)","v":""},{"$f":"IF('2組'!P69=\"\",\"\",'2組'!P69)","v":""},null,null,null,null,null,{"$f":"IF('2組'!V69=\"\",\"\",'2組'!V69)","v":""},{"$f":"IF('2組'!W69=\"\",\"\",'2組'!W69)","v":""},{"$f":"IF('2組'!X69=\"\",\"\",'2組'!X69)","v":""},{"$f":"IF('2組'!Y69=\"\",\"\",'2組'!Y69)","v":""},{"$f":"IF('2組'!Z69=\"\",\"\",'2組'!Z69)","v":""},null,null,null,null,null,{"$f":"IF('2組'!AF69=\"\",\"\",'2組'!AF69)","v":""},{"$f":"IF('2組'!AG69=\"\",\"\",'2組'!AG69)","v":""},{"$f":"IF('2組'!AH69=\"\",\"\",'2組'!AH69)","v":""},{"$f":"IF('2組'!AI69=\"\",\"\",'2組'!AI69)","v":""},{"$f":"IF('2組'!AJ69=\"\",\"\",'2組'!AJ69)","v":""}]
[null,null,null,null,10247,null,2,47,null,null,"",{"$f":"IF('2組'!L70=\"\",\"\",'2組'!L70)","v":""},{"$f":"IF('2組'!M70=\"\",\"\",'2組'!M70)","v":""},{"$f":"IF('2組'!N70=\"\",\"\",'2組'!N70)","v":""},{"$f":"IF('2組'!O70=\"\",\"\",'2組'!O70)","v":""},{"$f":"IF('2組'!P70=\"\",\"\",'2組'!P70)","v":""},null,null,null,null,null,{"$f":"IF('2組'!V70=\"\",\"\",'2組'!V70)","v":""},{"$f":"IF('2組'!W70=\"\",\"\",'2組'!W70)","v":""},{"$f":"IF('2組'!X70=\"\",\"\",'2組'!X70)","v":""},{"$f":"IF('2組'!Y70=\"\",\"\",'2組'!Y70)","v":""},{"$f":"IF('2組'!Z70=\"\",\"\",'2組'!Z70)","v":""},null,null,null,null,null,{"$f":"IF('2組'!AF70=\"\",\"\",'2組'!AF70)","v":""},{"$f":"IF('2組'!AG70=\"\",\"\",'2組'!AG70)","v":""},{"$f":"IF('2組'!AH70=\"\",\"\",'2組'!AH70)","v":""},{"$f":"IF('2組'!AI70=\"\",\"\",'2組'!AI70)","v":""},{"$f":"IF('2組'!AJ70=\"\",\"\",'2組'!AJ70)","v":""}]
[null,null,null,null,10248,null,2,48,null,null,"",{"$f":"IF('2組'!L71=\"\",\"\",'2組'!L71)","v":""},{"$f":"IF('2組'!M71=\"\",\"\",'2組'!M71)","v":""},{"$f":"IF('2組'!N71=\"\",\"\",'2組'!N71)","v":""},{"$f":"IF('2組'!O71=\"\",\"\",'2組'!O71)","v":""},{"$f":"IF('2組'!P71=\"\",\"\",'2組'!P71)","v":""},null,null,null,null,null,{"$f":"IF('2組'!V71=\"\",\"\",'2組'!V71)","v":""},{"$f":"IF('2組'!W71=\"\",\"\",'2組'!W71)","v":""},{"$f":"IF('2組'!X71=\"\",\"\",'2組'!X71)","v":""},{"$f":"IF('2組'!Y71=\"\",\"\",'2組'!Y71)","v":""},{"$f":"IF('2組'!Z71=\"\",\"\",'2組'!Z71)","v":""},null,null,null,null,null,{"$f":"IF('2組'!AF71=\"\",\"\",'2組'!AF71)","v":""},{"$f":"IF('2組'!AG71=\"\",\"\",'2組'!AG71)","v":""},{"$f":"IF('2組'!AH71=\"\",\"\",'2組'!AH71)","v":""},{"$f":"IF('2組'!AI71=\"\",\"\",'2組'!AI71)","v":""},{"$f":"IF('2組'!AJ71=\"\",\"\",'2組'!AJ71)","v":""}]
[null,null,null,null,10249,null,2,49,null,null,"",{"$f":"IF('2組'!L72=\"\",\"\",'2組'!L72)","v":""},{"$f":"IF('2組'!M72=\"\",\"\",'2組'!M72)","v":""},{"$f":"IF('2組'!N72=\"\",\"\",'2組'!N72)","v":""},{"$f":"IF('2組'!O72=\"\",\"\",'2組'!O72)","v":""},{"$f":"IF('2組'!P72=\"\",\"\",'2組'!P72)","v":""},null,null,null,null,null,{"$f":"IF('2組'!V72=\"\",\"\",'2組'!V72)","v":""},{"$f":"IF('2組'!W72=\"\",\"\",'2組'!W72)","v":""},{"$f":"IF('2組'!X72=\"\",\"\",'2組'!X72)","v":""},{"$f":"IF('2組'!Y72=\"\",\"\",'2組'!Y72)","v":""},{"$f":"IF('2組'!Z72=\"\",\"\",'2組'!Z72)","v":""},null,null,null,null,null,{"$f":"IF('2組'!AF72=\"\",\"\",'2組'!AF72)","v":""},{"$f":"IF('2組'!AG72=\"\",\"\",'2組'!AG72)","v":""},{"$f":"IF('2組'!AH72=\"\",\"\",'2組'!AH72)","v":""},{"$f":"IF('2組'!AI72=\"\",\"\",'2組'!AI72)","v":""},{"$f":"IF('2組'!AJ72=\"\",\"\",'2組'!AJ72)","v":""}]
[null,null,null,null,10250,null,2,50,null,null,"",{"$f":"IF('2組'!L73=\"\",\"\",'2組'!L73)","v":""},{"$f":"IF('2組'!M73=\"\",\"\",'2組'!M73)","v":""},{"$f":"IF('2組'!N73=\"\",\"\",'2組'!N73)","v":""},{"$f":"IF('2組'!O73=\"\",\"\",'2組'!O73)","v":""},{"$f":"IF('2組'!P73=\"\",\"\",'2組'!P73)","v":""},null,null,null,null,null,{"$f":"IF('2組'!V73=\"\",\"\",'2組'!V73)","v":""},{"$f":"IF('2組'!W73=\"\",\"\",'2組'!W73)","v":""},{"$f":"IF('2組'!X73=\"\",\"\",'2組'!X73)","v":""},{"$f":"IF('2組'!Y73=\"\",\"\",'2組'!Y73)","v":""},{"$f":"IF('2組'!Z73=\"\",\"\",'2組'!Z73)","v":""},null,null,null,null,null,{"$f":"IF('2組'!AF73=\"\",\"\",'2組'!AF73)","v":""},{"$f":"IF('2組'!AG73=\"\",\"\",'2組'!AG73)","v":""},{"$f":"IF('2組'!AH73=\"\",\"\",'2組'!AH73)","v":""},{"$f":"IF('2組'!AI73=\"\",\"\",'2組'!AI73)","v":""},{"$f":"IF('2組'!AJ73=\"\",\"\",'2組'!AJ73)","v":""}]
[null,null,null,null,10301,null,3,1,null,null,"",{"$f":"IF('3組'!L24=\"\",\"\",'3組'!L24)","v":""},{"$f":"IF('3組'!M24=\"\",\"\",'3組'!M24)","v":""},{"$f":"IF('3組'!N24=\"\",\"\",'3組'!N24)","v":""},{"$f":"IF('3組'!O24=\"\",\"\",'3組'!O24)","v":""},{"$f":"IF('3組'!P24=\"\",\"\",'3組'!P24)","v":""},null,null,null,null,null,{"$f":"IF('3組'!V24=\"\",\"\",'3組'!V24)","v":""},{"$f":"IF('3組'!W24=\"\",\"\",'3組'!W24)","v":""},{"$f":"IF('3組'!X24=\"\",\"\",'3組'!X24)","v":""},{"$f":"IF('3組'!Y24=\"\",\"\",'3組'!Y24)","v":""},{"$f":"IF('3組'!Z24=\"\",\"\",'3組'!Z24)","v":""},null,null,null,null,null,{"$f":"IF('3組'!AF24=\"\",\"\",'3組'!AF24)","v":""},{"$f":"IF('3組'!AG24=\"\",\"\",'3組'!AG24)","v":""},{"$f":"IF('3組'!AH24=\"\",\"\",'3組'!AH24)","v":""},{"$f":"IF('3組'!AI24=\"\",\"\",'3組'!AI24)","v":""},{"$f":"IF('3組'!AJ24=\"\",\"\",'3組'!AJ24)","v":""}]
[null,null,null,null,10302,null,3,2,null,null,"",{"$f":"IF('3組'!L25=\"\",\"\",'3組'!L25)","v":""},{"$f":"IF('3組'!M25=\"\",\"\",'3組'!M25)","v":""},{"$f":"IF('3組'!N25=\"\",\"\",'3組'!N25)","v":""},{"$f":"IF('3組'!O25=\"\",\"\",'3組'!O25)","v":""},{"$f":"IF('3組'!P25=\"\",\"\",'3組'!P25)","v":""},null,null,null,null,null,{"$f":"IF('3組'!V25=\"\",\"\",'3組'!V25)","v":""},{"$f":"IF('3組'!W25=\"\",\"\",'3組'!W25)","v":""},{"$f":"IF('3組'!X25=\"\",\"\",'3組'!X25)","v":""},{"$f":"IF('3組'!Y25=\"\",\"\",'3組'!Y25)","v":""},{"$f":"IF('3組'!Z25=\"\",\"\",'3組'!Z25)","v":""},null,null,null,null,null,{"$f":"IF('3組'!AF25=\"\",\"\",'3組'!AF25)","v":""},{"$f":"IF('3組'!AG25=\"\",\"\",'3組'!AG25)","v":""},{"$f":"IF('3組'!AH25=\"\",\"\",'3組'!AH25)","v":""},{"$f":"IF('3組'!AI25=\"\",\"\",'3組'!AI25)","v":""},{"$f":"IF('3組'!AJ25=\"\",\"\",'3組'!AJ25)","v":""}]
[null,null,null,null,10303,null,3,3,null,null,"",{"$f":"IF('3組'!L26=\"\",\"\",'3組'!L26)","v":""},{"$f":"IF('3組'!M26=\"\",\"\",'3組'!M26)","v":""},{"$f":"IF('3組'!N26=\"\",\"\",'3組'!N26)","v":""},{"$f":"IF('3組'!O26=\"\",\"\",'3組'!O26)","v":""},{"$f":"IF('3組'!P26=\"\",\"\",'3組'!P26)","v":""},null,null,null,null,null,{"$f":"IF('3組'!V26=\"\",\"\",'3組'!V26)","v":""},{"$f":"IF('3組'!W26=\"\",\"\",'3組'!W26)","v":""},{"$f":"IF('3組'!X26=\"\",\"\",'3組'!X26)","v":""},{"$f":"IF('3組'!Y26=\"\",\"\",'3組'!Y26)","v":""},{"$f":"IF('3組'!Z26=\"\",\"\",'3組'!Z26)","v":""},null,null,null,null,null,{"$f":"IF('3組'!AF26=\"\",\"\",'3組'!AF26)","v":""},{"$f":"IF('3組'!AG26=\"\",\"\",'3組'!AG26)","v":""},{"$f":"IF('3組'!AH26=\"\",\"\",'3組'!AH26)","v":""},{"$f":"IF('3組'!AI26=\"\",\"\",'3組'!AI26)","v":""},{"$f":"IF('3組'!AJ26=\"\",\"\",'3組'!AJ26)","v":""}]
[null,null,null,null,10304,null,3,4,null,null,"",{"$f":"IF('3組'!L27=\"\",\"\",'3組'!L27)","v":""},{"$f":"IF('3組'!M27=\"\",\"\",'3組'!M27)","v":""},{"$f":"IF('3組'!N27=\"\",\"\",'3組'!N27)","v":""},{"$f":"IF('3組'!O27=\"\",\"\",'3組'!O27)","v":""},{"$f":"IF('3組'!P27=\"\",\"\",'3組'!P27)","v":""},null,null,null,null,null,{"$f":"IF('3組'!V27=\"\",\"\",'3組'!V27)","v":""},{"$f":"IF('3組'!W27=\"\",\"\",'3組'!W27)","v":""},{"$f":"IF('3組'!X27=\"\",\"\",'3組'!X27)","v":""},{"$f":"IF('3組'!Y27=\"\",\"\",'3組'!Y27)","v":""},{"$f":"IF('3組'!Z27=\"\",\"\",'3組'!Z27)","v":""},null,null,null,null,null,{"$f":"IF('3組'!AF27=\"\",\"\",'3組'!AF27)","v":""},{"$f":"IF('3組'!AG27=\"\",\"\",'3組'!AG27)","v":""},{"$f":"IF('3組'!AH27=\"\",\"\",'3組'!AH27)","v":""},{"$f":"IF('3組'!AI27=\"\",\"\",'3組'!AI27)","v":""},{"$f":"IF('3組'!AJ27=\"\",\"\",'3組'!AJ27)","v":""}]
[null,null,null,null,10305,null,3,5,null,null,"",{"$f":"IF('3組'!L28=\"\",\"\",'3組'!L28)","v":""},{"$f":"IF('3組'!M28=\"\",\"\",'3組'!M28)","v":""},{"$f":"IF('3組'!N28=\"\",\"\",'3組'!N28)","v":""},{"$f":"IF('3組'!O28=\"\",\"\",'3組'!O28)","v":""},{"$f":"IF('3組'!P28=\"\",\"\",'3組'!P28)","v":""},null,null,null,null,null,{"$f":"IF('3組'!V28=\"\",\"\",'3組'!V28)","v":""},{"$f":"IF('3組'!W28=\"\",\"\",'3組'!W28)","v":""},{"$f":"IF('3組'!X28=\"\",\"\",'3組'!X28)","v":""},{"$f":"IF('3組'!Y28=\"\",\"\",'3組'!Y28)","v":""},{"$f":"IF('3組'!Z28=\"\",\"\",'3組'!Z28)","v":""},null,null,null,null,null,{"$f":"IF('3組'!AF28=\"\",\"\",'3組'!AF28)","v":""},{"$f":"IF('3組'!AG28=\"\",\"\",'3組'!AG28)","v":""},{"$f":"IF('3組'!AH28=\"\",\"\",'3組'!AH28)","v":""},{"$f":"IF('3組'!AI28=\"\",\"\",'3組'!AI28)","v":""},{"$f":"IF('3組'!AJ28=\"\",\"\",'3組'!AJ28)","v":""}]
[null,null,null,null,10306,null,3,6,null,null,"",{"$f":"IF('3組'!L29=\"\",\"\",'3組'!L29)","v":""},{"$f":"IF('3組'!M29=\"\",\"\",'3組'!M29)","v":""},{"$f":"IF('3組'!N29=\"\",\"\",'3組'!N29)","v":""},{"$f":"IF('3組'!O29=\"\",\"\",'3組'!O29)","v":""},{"$f":"IF('3組'!P29=\"\",\"\",'3組'!P29)","v":""},null,null,null,null,null,{"$f":"IF('3組'!V29=\"\",\"\",'3組'!V29)","v":""},{"$f":"IF('3組'!W29=\"\",\"\",'3組'!W29)","v":""},{"$f":"IF('3組'!X29=\"\",\"\",'3組'!X29)","v":""},{"$f":"IF('3組'!Y29=\"\",\"\",'3組'!Y29)","v":""},{"$f":"IF('3組'!Z29=\"\",\"\",'3組'!Z29)","v":""},null,null,null,null,null,{"$f":"IF('3組'!AF29=\"\",\"\",'3組'!AF29)","v":""},{"$f":"IF('3組'!AG29=\"\",\"\",'3組'!AG29)","v":""},{"$f":"IF('3組'!AH29=\"\",\"\",'3組'!AH29)","v":""},{"$f":"IF('3組'!AI29=\"\",\"\",'3組'!AI29)","v":""},{"$f":"IF('3組'!AJ29=\"\",\"\",'3組'!AJ29)","v":""}]
[null,null,null,null,10307,null,3,7,null,null,"",{"$f":"IF('3組'!L30=\"\",\"\",'3組'!L30)","v":""},{"$f":"IF('3組'!M30=\"\",\"\",'3組'!M30)","v":""},{"$f":"IF('3組'!N30=\"\",\"\",'3組'!N30)","v":""},{"$f":"IF('3組'!O30=\"\",\"\",'3組'!O30)","v":""},{"$f":"IF('3組'!P30=\"\",\"\",'3組'!P30)","v":""},null,null,null,null,null,{"$f":"IF('3組'!V30=\"\",\"\",'3組'!V30)","v":""},{"$f":"IF('3組'!W30=\"\",\"\",'3組'!W30)","v":""},{"$f":"IF('3組'!X30=\"\",\"\",'3組'!X30)","v":""},{"$f":"IF('3組'!Y30=\"\",\"\",'3組'!Y30)","v":""},{"$f":"IF('3組'!Z30=\"\",\"\",'3組'!Z30)","v":""},null,null,null,null,null,{"$f":"IF('3組'!AF30=\"\",\"\",'3組'!AF30)","v":""},{"$f":"IF('3組'!AG30=\"\",\"\",'3組'!AG30)","v":""},{"$f":"IF('3組'!AH30=\"\",\"\",'3組'!AH30)","v":""},{"$f":"IF('3組'!AI30=\"\",\"\",'3組'!AI30)","v":""},{"$f":"IF('3組'!AJ30=\"\",\"\",'3組'!AJ30)","v":""}]
[null,null,null,null,10308,null,3,8,null,null,"",{"$f":"IF('3組'!L31=\"\",\"\",'3組'!L31)","v":""},{"$f":"IF('3組'!M31=\"\",\"\",'3組'!M31)","v":""},{"$f":"IF('3組'!N31=\"\",\"\",'3組'!N31)","v":""},{"$f":"IF('3組'!O31=\"\",\"\",'3組'!O31)","v":""},{"$f":"IF('3組'!P31=\"\",\"\",'3組'!P31)","v":""},null,null,null,null,null,{"$f":"IF('3組'!V31=\"\",\"\",'3組'!V31)","v":""},{"$f":"IF('3組'!W31=\"\",\"\",'3組'!W31)","v":""},{"$f":"IF('3組'!X31=\"\",\"\",'3組'!X31)","v":""},{"$f":"IF('3組'!Y31=\"\",\"\",'3組'!Y31)","v":""},{"$f":"IF('3組'!Z31=\"\",\"\",'3組'!Z31)","v":""},null,null,null,null,null,{"$f":"IF('3組'!AF31=\"\",\"\",'3組'!AF31)","v":""},{"$f":"IF('3組'!AG31=\"\",\"\",'3組'!AG31)","v":""},{"$f":"IF('3組'!AH31=\"\",\"\",'3組'!AH31)","v":""},{"$f":"IF('3組'!AI31=\"\",\"\",'3組'!AI31)","v":""},{"$f":"IF('3組'!AJ31=\"\",\"\",'3組'!AJ31)","v":""}]
[null,null,null,null,10309,null,3,9,null,null,"",{"$f":"IF('3組'!L32=\"\",\"\",'3組'!L32)","v":""},{"$f":"IF('3組'!M32=\"\",\"\",'3組'!M32)","v":""},{"$f":"IF('3組'!N32=\"\",\"\",'3組'!N32)","v":""},{"$f":"IF('3組'!O32=\"\",\"\",'3組'!O32)","v":""},{"$f":"IF('3組'!P32=\"\",\"\",'3組'!P32)","v":""},null,null,null,null,null,{"$f":"IF('3組'!V32=\"\",\"\",'3組'!V32)","v":""},{"$f":"IF('3組'!W32=\"\",\"\",'3組'!W32)","v":""},{"$f":"IF('3組'!X32=\"\",\"\",'3組'!X32)","v":""},{"$f":"IF('3組'!Y32=\"\",\"\",'3組'!Y32)","v":""},{"$f":"IF('3組'!Z32=\"\",\"\",'3組'!Z32)","v":""},null,null,null,null,null,{"$f":"IF('3組'!AF32=\"\",\"\",'3組'!AF32)","v":""},{"$f":"IF('3組'!AG32=\"\",\"\",'3組'!AG32)","v":""},{"$f":"IF('3組'!AH32=\"\",\"\",'3組'!AH32)","v":""},{"$f":"IF('3組'!AI32=\"\",\"\",'3組'!AI32)","v":""},{"$f":"IF('3組'!AJ32=\"\",\"\",'3組'!AJ32)","v":""}]
[null,null,null,null,10310,null,3,10,null,null,"",{"$f":"IF('3組'!L33=\"\",\"\",'3組'!L33)","v":""},{"$f":"IF('3組'!M33=\"\",\"\",'3組'!M33)","v":""},{"$f":"IF('3組'!N33=\"\",\"\",'3組'!N33)","v":""},{"$f":"IF('3組'!O33=\"\",\"\",'3組'!O33)","v":""},{"$f":"IF('3組'!P33=\"\",\"\",'3組'!P33)","v":""},null,null,null,null,null,{"$f":"IF('3組'!V33=\"\",\"\",'3組'!V33)","v":""},{"$f":"IF('3組'!W33=\"\",\"\",'3組'!W33)","v":""},{"$f":"IF('3組'!X33=\"\",\"\",'3組'!X33)","v":""},{"$f":"IF('3組'!Y33=\"\",\"\",'3組'!Y33)","v":""},{"$f":"IF('3組'!Z33=\"\",\"\",'3組'!Z33)","v":""},null,null,null,null,null,{"$f":"IF('3組'!AF33=\"\",\"\",'3組'!AF33)","v":""},{"$f":"IF('3組'!AG33=\"\",\"\",'3組'!AG33)","v":""},{"$f":"IF('3組'!AH33=\"\",\"\",'3組'!AH33)","v":""},{"$f":"IF('3組'!AI33=\"\",\"\",'3組'!AI33)","v":""},{"$f":"IF('3組'!AJ33=\"\",\"\",'3組'!AJ33)","v":""}]
[null,null,null,null,10311,null,3,11,null,null,"",{"$f":"IF('3組'!L34=\"\",\"\",'3組'!L34)","v":""},{"$f":"IF('3組'!M34=\"\",\"\",'3組'!M34)","v":""},{"$f":"IF('3組'!N34=\"\",\"\",'3組'!N34)","v":""},{"$f":"IF('3組'!O34=\"\",\"\",'3組'!O34)","v":""},{"$f":"IF('3組'!P34=\"\",\"\",'3組'!P34)","v":""},null,null,null,null,null,{"$f":"IF('3組'!V34=\"\",\"\",'3組'!V34)","v":""},{"$f":"IF('3組'!W34=\"\",\"\",'3組'!W34)","v":""},{"$f":"IF('3組'!X34=\"\",\"\",'3組'!X34)","v":""},{"$f":"IF('3組'!Y34=\"\",\"\",'3組'!Y34)","v":""},{"$f":"IF('3組'!Z34=\"\",\"\",'3組'!Z34)","v":""},null,null,null,null,null,{"$f":"IF('3組'!AF34=\"\",\"\",'3組'!AF34)","v":""},{"$f":"IF('3組'!AG34=\"\",\"\",'3組'!AG34)","v":""},{"$f":"IF('3組'!AH34=\"\",\"\",'3組'!AH34)","v":""},{"$f":"IF('3組'!AI34=\"\",\"\",'3組'!AI34)","v":""},{"$f":"IF('3組'!AJ34=\"\",\"\",'3組'!AJ34)","v":""}]
[null,null,null,null,10312,null,3,12,null,null,"",{"$f":"IF('3組'!L35=\"\",\"\",'3組'!L35)","v":""},{"$f":"IF('3組'!M35=\"\",\"\",'3組'!M35)","v":""},{"$f":"IF('3組'!N35=\"\",\"\",'3組'!N35)","v":""},{"$f":"IF('3組'!O35=\"\",\"\",'3組'!O35)","v":""},{"$f":"IF('3組'!P35=\"\",\"\",'3組'!P35)","v":""},null,null,null,null,null,{"$f":"IF('3組'!V35=\"\",\"\",'3組'!V35)","v":""},{"$f":"IF('3組'!W35=\"\",\"\",'3組'!W35)","v":""},{"$f":"IF('3組'!X35=\"\",\"\",'3組'!X35)","v":""},{"$f":"IF('3組'!Y35=\"\",\"\",'3組'!Y35)","v":""},{"$f":"IF('3組'!Z35=\"\",\"\",'3組'!Z35)","v":""},null,null,null,null,null,{"$f":"IF('3組'!AF35=\"\",\"\",'3組'!AF35)","v":""},{"$f":"IF('3組'!AG35=\"\",\"\",'3組'!AG35)","v":""},{"$f":"IF('3組'!AH35=\"\",\"\",'3組'!AH35)","v":""},{"$f":"IF('3組'!AI35=\"\",\"\",'3組'!AI35)","v":""},{"$f":"IF('3組'!AJ35=\"\",\"\",'3組'!AJ35)","v":""}]
[null,null,null,null,10313,null,3,13,null,null,"",{"$f":"IF('3組'!L36=\"\",\"\",'3組'!L36)","v":""},{"$f":"IF('3組'!M36=\"\",\"\",'3組'!M36)","v":""},{"$f":"IF('3組'!N36=\"\",\"\",'3組'!N36)","v":""},{"$f":"IF('3組'!O36=\"\",\"\",'3組'!O36)","v":""},{"$f":"IF('3組'!P36=\"\",\"\",'3組'!P36)","v":""},null,null,null,null,null,{"$f":"IF('3組'!V36=\"\",\"\",'3組'!V36)","v":""},{"$f":"IF('3組'!W36=\"\",\"\",'3組'!W36)","v":""},{"$f":"IF('3組'!X36=\"\",\"\",'3組'!X36)","v":""},{"$f":"IF('3組'!Y36=\"\",\"\",'3組'!Y36)","v":""},{"$f":"IF('3組'!Z36=\"\",\"\",'3組'!Z36)","v":""},null,null,null,null,null,{"$f":"IF('3組'!AF36=\"\",\"\",'3組'!AF36)","v":""},{"$f":"IF('3組'!AG36=\"\",\"\",'3組'!AG36)","v":""},{"$f":"IF('3組'!AH36=\"\",\"\",'3組'!AH36)","v":""},{"$f":"IF('3組'!AI36=\"\",\"\",'3組'!AI36)","v":""},{"$f":"IF('3組'!AJ36=\"\",\"\",'3組'!AJ36)","v":""}]
[null,null,null,null,10314,null,3,14,null,null,"",{"$f":"IF('3組'!L37=\"\",\"\",'3組'!L37)","v":""},{"$f":"IF('3組'!M37=\"\",\"\",'3組'!M37)","v":""},{"$f":"IF('3組'!N37=\"\",\"\",'3組'!N37)","v":""},{"$f":"IF('3組'!O37=\"\",\"\",'3組'!O37)","v":""},{"$f":"IF('3組'!P37=\"\",\"\",'3組'!P37)","v":""},null,null,null,null,null,{"$f":"IF('3組'!V37=\"\",\"\",'3組'!V37)","v":""},{"$f":"IF('3組'!W37=\"\",\"\",'3組'!W37)","v":""},{"$f":"IF('3組'!X37=\"\",\"\",'3組'!X37)","v":""},{"$f":"IF('3組'!Y37=\"\",\"\",'3組'!Y37)","v":""},{"$f":"IF('3組'!Z37=\"\",\"\",'3組'!Z37)","v":""},null,null,null,null,null,{"$f":"IF('3組'!AF37=\"\",\"\",'3組'!AF37)","v":""},{"$f":"IF('3組'!AG37=\"\",\"\",'3組'!AG37)","v":""},{"$f":"IF('3組'!AH37=\"\",\"\",'3組'!AH37)","v":""},{"$f":"IF('3組'!AI37=\"\",\"\",'3組'!AI37)","v":""},{"$f":"IF('3組'!AJ37=\"\",\"\",'3組'!AJ37)","v":""}]
[null,null,null,null,10315,null,3,15,null,null,"",{"$f":"IF('3組'!L38=\"\",\"\",'3組'!L38)","v":""},{"$f":"IF('3組'!M38=\"\",\"\",'3組'!M38)","v":""},{"$f":"IF('3組'!N38=\"\",\"\",'3組'!N38)","v":""},{"$f":"IF('3組'!O38=\"\",\"\",'3組'!O38)","v":""},{"$f":"IF('3組'!P38=\"\",\"\",'3組'!P38)","v":""},null,null,null,null,null,{"$f":"IF('3組'!V38=\"\",\"\",'3組'!V38)","v":""},{"$f":"IF('3組'!W38=\"\",\"\",'3組'!W38)","v":""},{"$f":"IF('3組'!X38=\"\",\"\",'3組'!X38)","v":""},{"$f":"IF('3組'!Y38=\"\",\"\",'3組'!Y38)","v":""},{"$f":"IF('3組'!Z38=\"\",\"\",'3組'!Z38)","v":""},null,null,null,null,null,{"$f":"IF('3組'!AF38=\"\",\"\",'3組'!AF38)","v":""},{"$f":"IF('3組'!AG38=\"\",\"\",'3組'!AG38)","v":""},{"$f":"IF('3組'!AH38=\"\",\"\",'3組'!AH38)","v":""},{"$f":"IF('3組'!AI38=\"\",\"\",'3組'!AI38)","v":""},{"$f":"IF('3組'!AJ38=\"\",\"\",'3組'!AJ38)","v":""}]
[null,null,null,null,10316,null,3,16,null,null,"",{"$f":"IF('3組'!L39=\"\",\"\",'3組'!L39)","v":""},{"$f":"IF('3組'!M39=\"\",\"\",'3組'!M39)","v":""},{"$f":"IF('3組'!N39=\"\",\"\",'3組'!N39)","v":""},{"$f":"IF('3組'!O39=\"\",\"\",'3組'!O39)","v":""},{"$f":"IF('3組'!P39=\"\",\"\",'3組'!P39)","v":""},null,null,null,null,null,{"$f":"IF('3組'!V39=\"\",\"\",'3組'!V39)","v":""},{"$f":"IF('3組'!W39=\"\",\"\",'3組'!W39)","v":""},{"$f":"IF('3組'!X39=\"\",\"\",'3組'!X39)","v":""},{"$f":"IF('3組'!Y39=\"\",\"\",'3組'!Y39)","v":""},{"$f":"IF('3組'!Z39=\"\",\"\",'3組'!Z39)","v":""},null,null,null,null,null,{"$f":"IF('3組'!AF39=\"\",\"\",'3組'!AF39)","v":""},{"$f":"IF('3組'!AG39=\"\",\"\",'3組'!AG39)","v":""},{"$f":"IF('3組'!AH39=\"\",\"\",'3組'!AH39)","v":""},{"$f":"IF('3組'!AI39=\"\",\"\",'3組'!AI39)","v":""},{"$f":"IF('3組'!AJ39=\"\",\"\",'3組'!AJ39)","v":""}]
[null,null,null,null,10317,null,3,17,null,null,"",{"$f":"IF('3組'!L40=\"\",\"\",'3組'!L40)","v":""},{"$f":"IF('3組'!M40=\"\",\"\",'3組'!M40)","v":""},{"$f":"IF('3組'!N40=\"\",\"\",'3組'!N40)","v":""},{"$f":"IF('3組'!O40=\"\",\"\",'3組'!O40)","v":""},{"$f":"IF('3組'!P40=\"\",\"\",'3組'!P40)","v":""},null,null,null,null,null,{"$f":"IF('3組'!V40=\"\",\"\",'3組'!V40)","v":""},{"$f":"IF('3組'!W40=\"\",\"\",'3組'!W40)","v":""},{"$f":"IF('3組'!X40=\"\",\"\",'3組'!X40)","v":""},{"$f":"IF('3組'!Y40=\"\",\"\",'3組'!Y40)","v":""},{"$f":"IF('3組'!Z40=\"\",\"\",'3組'!Z40)","v":""},null,null,null,null,null,{"$f":"IF('3組'!AF40=\"\",\"\",'3組'!AF40)","v":""},{"$f":"IF('3組'!AG40=\"\",\"\",'3組'!AG40)","v":""},{"$f":"IF('3組'!AH40=\"\",\"\",'3組'!AH40)","v":""},{"$f":"IF('3組'!AI40=\"\",\"\",'3組'!AI40)","v":""},{"$f":"IF('3組'!AJ40=\"\",\"\",'3組'!AJ40)","v":""}]
[null,null,null,null,10318,null,3,18,null,null,"",{"$f":"IF('3組'!L41=\"\",\"\",'3組'!L41)","v":""},{"$f":"IF('3組'!M41=\"\",\"\",'3組'!M41)","v":""},{"$f":"IF('3組'!N41=\"\",\"\",'3組'!N41)","v":""},{"$f":"IF('3組'!O41=\"\",\"\",'3組'!O41)","v":""},{"$f":"IF('3組'!P41=\"\",\"\",'3組'!P41)","v":""},null,null,null,null,null,{"$f":"IF('3組'!V41=\"\",\"\",'3組'!V41)","v":""},{"$f":"IF('3組'!W41=\"\",\"\",'3組'!W41)","v":""},{"$f":"IF('3組'!X41=\"\",\"\",'3組'!X41)","v":""},{"$f":"IF('3組'!Y41=\"\",\"\",'3組'!Y41)","v":""},{"$f":"IF('3組'!Z41=\"\",\"\",'3組'!Z41)","v":""},null,null,null,null,null,{"$f":"IF('3組'!AF41=\"\",\"\",'3組'!AF41)","v":""},{"$f":"IF('3組'!AG41=\"\",\"\",'3組'!AG41)","v":""},{"$f":"IF('3組'!AH41=\"\",\"\",'3組'!AH41)","v":""},{"$f":"IF('3組'!AI41=\"\",\"\",'3組'!AI41)","v":""},{"$f":"IF('3組'!AJ41=\"\",\"\",'3組'!AJ41)","v":""}]
[null,null,null,null,10319,null,3,19,null,null,"",{"$f":"IF('3組'!L42=\"\",\"\",'3組'!L42)","v":""},{"$f":"IF('3組'!M42=\"\",\"\",'3組'!M42)","v":""},{"$f":"IF('3組'!N42=\"\",\"\",'3組'!N42)","v":""},{"$f":"IF('3組'!O42=\"\",\"\",'3組'!O42)","v":""},{"$f":"IF('3組'!P42=\"\",\"\",'3組'!P42)","v":""},null,null,null,null,null,{"$f":"IF('3組'!V42=\"\",\"\",'3組'!V42)","v":""},{"$f":"IF('3組'!W42=\"\",\"\",'3組'!W42)","v":""},{"$f":"IF('3組'!X42=\"\",\"\",'3組'!X42)","v":""},{"$f":"IF('3組'!Y42=\"\",\"\",'3組'!Y42)","v":""},{"$f":"IF('3組'!Z42=\"\",\"\",'3組'!Z42)","v":""},null,null,null,null,null,{"$f":"IF('3組'!AF42=\"\",\"\",'3組'!AF42)","v":""},{"$f":"IF('3組'!AG42=\"\",\"\",'3組'!AG42)","v":""},{"$f":"IF('3組'!AH42=\"\",\"\",'3組'!AH42)","v":""},{"$f":"IF('3組'!AI42=\"\",\"\",'3組'!AI42)","v":""},{"$f":"IF('3組'!AJ42=\"\",\"\",'3組'!AJ42)","v":""}]
[null,null,null,null,10320,null,3,20,null,null,"",{"$f":"IF('3組'!L43=\"\",\"\",'3組'!L43)","v":""},{"$f":"IF('3組'!M43=\"\",\"\",'3組'!M43)","v":""},{"$f":"IF('3組'!N43=\"\",\"\",'3組'!N43)","v":""},{"$f":"IF('3組'!O43=\"\",\"\",'3組'!O43)","v":""},{"$f":"IF('3組'!P43=\"\",\"\",'3組'!P43)","v":""},null,null,null,null,null,{"$f":"IF('3組'!V43=\"\",\"\",'3組'!V43)","v":""},{"$f":"IF('3組'!W43=\"\",\"\",'3組'!W43)","v":""},{"$f":"IF('3組'!X43=\"\",\"\",'3組'!X43)","v":""},{"$f":"IF('3組'!Y43=\"\",\"\",'3組'!Y43)","v":""},{"$f":"IF('3組'!Z43=\"\",\"\",'3組'!Z43)","v":""},null,null,null,null,null,{"$f":"IF('3組'!AF43=\"\",\"\",'3組'!AF43)","v":""},{"$f":"IF('3組'!AG43=\"\",\"\",'3組'!AG43)","v":""},{"$f":"IF('3組'!AH43=\"\",\"\",'3組'!AH43)","v":""},{"$f":"IF('3組'!AI43=\"\",\"\",'3組'!AI43)","v":""},{"$f":"IF('3組'!AJ43=\"\",\"\",'3組'!AJ43)","v":""}]
[null,null,null,null,10321,null,3,21,null,null,"",{"$f":"IF('3組'!L44=\"\",\"\",'3組'!L44)","v":""},{"$f":"IF('3組'!M44=\"\",\"\",'3組'!M44)","v":""},{"$f":"IF('3組'!N44=\"\",\"\",'3組'!N44)","v":""},{"$f":"IF('3組'!O44=\"\",\"\",'3組'!O44)","v":""},{"$f":"IF('3組'!P44=\"\",\"\",'3組'!P44)","v":""},null,null,null,null,null,{"$f":"IF('3組'!V44=\"\",\"\",'3組'!V44)","v":""},{"$f":"IF('3組'!W44=\"\",\"\",'3組'!W44)","v":""},{"$f":"IF('3組'!X44=\"\",\"\",'3組'!X44)","v":""},{"$f":"IF('3組'!Y44=\"\",\"\",'3組'!Y44)","v":""},{"$f":"IF('3組'!Z44=\"\",\"\",'3組'!Z44)","v":""},null,null,null,null,null,{"$f":"IF('3組'!AF44=\"\",\"\",'3組'!AF44)","v":""},{"$f":"IF('3組'!AG44=\"\",\"\",'3組'!AG44)","v":""},{"$f":"IF('3組'!AH44=\"\",\"\",'3組'!AH44)","v":""},{"$f":"IF('3組'!AI44=\"\",\"\",'3組'!AI44)","v":""},{"$f":"IF('3組'!AJ44=\"\",\"\",'3組'!AJ44)","v":""}]
[null,null,null,null,10322,null,3,22,null,null,"",{"$f":"IF('3組'!L45=\"\",\"\",'3組'!L45)","v":""},{"$f":"IF('3組'!M45=\"\",\"\",'3組'!M45)","v":""},{"$f":"IF('3組'!N45=\"\",\"\",'3組'!N45)","v":""},{"$f":"IF('3組'!O45=\"\",\"\",'3組'!O45)","v":""},{"$f":"IF('3組'!P45=\"\",\"\",'3組'!P45)","v":""},null,null,null,null,null,{"$f":"IF('3組'!V45=\"\",\"\",'3組'!V45)","v":""},{"$f":"IF('3組'!W45=\"\",\"\",'3組'!W45)","v":""},{"$f":"IF('3組'!X45=\"\",\"\",'3組'!X45)","v":""},{"$f":"IF('3組'!Y45=\"\",\"\",'3組'!Y45)","v":""},{"$f":"IF('3組'!Z45=\"\",\"\",'3組'!Z45)","v":""},null,null,null,null,null,{"$f":"IF('3組'!AF45=\"\",\"\",'3組'!AF45)","v":""},{"$f":"IF('3組'!AG45=\"\",\"\",'3組'!AG45)","v":""},{"$f":"IF('3組'!AH45=\"\",\"\",'3組'!AH45)","v":""},{"$f":"IF('3組'!AI45=\"\",\"\",'3組'!AI45)","v":""},{"$f":"IF('3組'!AJ45=\"\",\"\",'3組'!AJ45)","v":""}]
[null,null,null,null,10323,null,3,23,null,null,"",{"$f":"IF('3組'!L46=\"\",\"\",'3組'!L46)","v":""},{"$f":"IF('3組'!M46=\"\",\"\",'3組'!M46)","v":""},{"$f":"IF('3組'!N46=\"\",\"\",'3組'!N46)","v":""},{"$f":"IF('3組'!O46=\"\",\"\",'3組'!O46)","v":""},{"$f":"IF('3組'!P46=\"\",\"\",'3組'!P46)","v":""},null,null,null,null,null,{"$f":"IF('3組'!V46=\"\",\"\",'3組'!V46)","v":""},{"$f":"IF('3組'!W46=\"\",\"\",'3組'!W46)","v":""},{"$f":"IF('3組'!X46=\"\",\"\",'3組'!X46)","v":""},{"$f":"IF('3組'!Y46=\"\",\"\",'3組'!Y46)","v":""},{"$f":"IF('3組'!Z46=\"\",\"\",'3組'!Z46)","v":""},null,null,null,null,null,{"$f":"IF('3組'!AF46=\"\",\"\",'3組'!AF46)","v":""},{"$f":"IF('3組'!AG46=\"\",\"\",'3組'!AG46)","v":""},{"$f":"IF('3組'!AH46=\"\",\"\",'3組'!AH46)","v":""},{"$f":"IF('3組'!AI46=\"\",\"\",'3組'!AI46)","v":""},{"$f":"IF('3組'!AJ46=\"\",\"\",'3組'!AJ46)","v":""}]
[null,null,null,null,10324,null,3,24,null,null,"",{"$f":"IF('3組'!L47=\"\",\"\",'3組'!L47)","v":""},{"$f":"IF('3組'!M47=\"\",\"\",'3組'!M47)","v":""},{"$f":"IF('3組'!N47=\"\",\"\",'3組'!N47)","v":""},{"$f":"IF('3組'!O47=\"\",\"\",'3組'!O47)","v":""},{"$f":"IF('3組'!P47=\"\",\"\",'3組'!P47)","v":""},null,null,null,null,null,{"$f":"IF('3組'!V47=\"\",\"\",'3組'!V47)","v":""},{"$f":"IF('3組'!W47=\"\",\"\",'3組'!W47)","v":""},{"$f":"IF('3組'!X47=\"\",\"\",'3組'!X47)","v":""},{"$f":"IF('3組'!Y47=\"\",\"\",'3組'!Y47)","v":""},{"$f":"IF('3組'!Z47=\"\",\"\",'3組'!Z47)","v":""},null,null,null,null,null,{"$f":"IF('3組'!AF47=\"\",\"\",'3組'!AF47)","v":""},{"$f":"IF('3組'!AG47=\"\",\"\",'3組'!AG47)","v":""},{"$f":"IF('3組'!AH47=\"\",\"\",'3組'!AH47)","v":""},{"$f":"IF('3組'!AI47=\"\",\"\",'3組'!AI47)","v":""},{"$f":"IF('3組'!AJ47=\"\",\"\",'3組'!AJ47)","v":""}]
[null,null,null,null,10325,null,3,25,null,null,"",{"$f":"IF('3組'!L48=\"\",\"\",'3組'!L48)","v":""},{"$f":"IF('3組'!M48=\"\",\"\",'3組'!M48)","v":""},{"$f":"IF('3組'!N48=\"\",\"\",'3組'!N48)","v":""},{"$f":"IF('3組'!O48=\"\",\"\",'3組'!O48)","v":""},{"$f":"IF('3組'!P48=\"\",\"\",'3組'!P48)","v":""},null,null,null,null,null,{"$f":"IF('3組'!V48=\"\",\"\",'3組'!V48)","v":""},{"$f":"IF('3組'!W48=\"\",\"\",'3組'!W48)","v":""},{"$f":"IF('3組'!X48=\"\",\"\",'3組'!X48)","v":""},{"$f":"IF('3組'!Y48=\"\",\"\",'3組'!Y48)","v":""},{"$f":"IF('3組'!Z48=\"\",\"\",'3組'!Z48)","v":""},null,null,null,null,null,{"$f":"IF('3組'!AF48=\"\",\"\",'3組'!AF48)","v":""},{"$f":"IF('3組'!AG48=\"\",\"\",'3組'!AG48)","v":""},{"$f":"IF('3組'!AH48=\"\",\"\",'3組'!AH48)","v":""},{"$f":"IF('3組'!AI48=\"\",\"\",'3組'!AI48)","v":""},{"$f":"IF('3組'!AJ48=\"\",\"\",'3組'!AJ48)","v":""}]
[null,null,null,null,10326,null,3,26,null,null,"",{"$f":"IF('3組'!L49=\"\",\"\",'3組'!L49)","v":""},{"$f":"IF('3組'!M49=\"\",\"\",'3組'!M49)","v":""},{"$f":"IF('3組'!N49=\"\",\"\",'3組'!N49)","v":""},{"$f":"IF('3組'!O49=\"\",\"\",'3組'!O49)","v":""},{"$f":"IF('3組'!P49=\"\",\"\",'3組'!P49)","v":""},null,null,null,null,null,{"$f":"IF('3組'!V49=\"\",\"\",'3組'!V49)","v":""},{"$f":"IF('3組'!W49=\"\",\"\",'3組'!W49)","v":""},{"$f":"IF('3組'!X49=\"\",\"\",'3組'!X49)","v":""},{"$f":"IF('3組'!Y49=\"\",\"\",'3組'!Y49)","v":""},{"$f":"IF('3組'!Z49=\"\",\"\",'3組'!Z49)","v":""},null,null,null,null,null,{"$f":"IF('3組'!AF49=\"\",\"\",'3組'!AF49)","v":""},{"$f":"IF('3組'!AG49=\"\",\"\",'3組'!AG49)","v":""},{"$f":"IF('3組'!AH49=\"\",\"\",'3組'!AH49)","v":""},{"$f":"IF('3組'!AI49=\"\",\"\",'3組'!AI49)","v":""},{"$f":"IF('3組'!AJ49=\"\",\"\",'3組'!AJ49)","v":""}]
[null,null,null,null,10327,null,3,27,null,null,"",{"$f":"IF('3組'!L50=\"\",\"\",'3組'!L50)","v":""},{"$f":"IF('3組'!M50=\"\",\"\",'3組'!M50)","v":""},{"$f":"IF('3組'!N50=\"\",\"\",'3組'!N50)","v":""},{"$f":"IF('3組'!O50=\"\",\"\",'3組'!O50)","v":""},{"$f":"IF('3組'!P50=\"\",\"\",'3組'!P50)","v":""},null,null,null,null,null,{"$f":"IF('3組'!V50=\"\",\"\",'3組'!V50)","v":""},{"$f":"IF('3組'!W50=\"\",\"\",'3組'!W50)","v":""},{"$f":"IF('3組'!X50=\"\",\"\",'3組'!X50)","v":""},{"$f":"IF('3組'!Y50=\"\",\"\",'3組'!Y50)","v":""},{"$f":"IF('3組'!Z50=\"\",\"\",'3組'!Z50)","v":""},null,null,null,null,null,{"$f":"IF('3組'!AF50=\"\",\"\",'3組'!AF50)","v":""},{"$f":"IF('3組'!AG50=\"\",\"\",'3組'!AG50)","v":""},{"$f":"IF('3組'!AH50=\"\",\"\",'3組'!AH50)","v":""},{"$f":"IF('3組'!AI50=\"\",\"\",'3組'!AI50)","v":""},{"$f":"IF('3組'!AJ50=\"\",\"\",'3組'!AJ50)","v":""}]
[null,null,null,null,10328,null,3,28,null,null,"",{"$f":"IF('3組'!L51=\"\",\"\",'3組'!L51)","v":""},{"$f":"IF('3組'!M51=\"\",\"\",'3組'!M51)","v":""},{"$f":"IF('3組'!N51=\"\",\"\",'3組'!N51)","v":""},{"$f":"IF('3組'!O51=\"\",\"\",'3組'!O51)","v":""},{"$f":"IF('3組'!P51=\"\",\"\",'3組'!P51)","v":""},null,null,null,null,null,{"$f":"IF('3組'!V51=\"\",\"\",'3組'!V51)","v":""},{"$f":"IF('3組'!W51=\"\",\"\",'3組'!W51)","v":""},{"$f":"IF('3組'!X51=\"\",\"\",'3組'!X51)","v":""},{"$f":"IF('3組'!Y51=\"\",\"\",'3組'!Y51)","v":""},{"$f":"IF('3組'!Z51=\"\",\"\",'3組'!Z51)","v":""},null,null,null,null,null,{"$f":"IF('3組'!AF51=\"\",\"\",'3組'!AF51)","v":""},{"$f":"IF('3組'!AG51=\"\",\"\",'3組'!AG51)","v":""},{"$f":"IF('3組'!AH51=\"\",\"\",'3組'!AH51)","v":""},{"$f":"IF('3組'!AI51=\"\",\"\",'3組'!AI51)","v":""},{"$f":"IF('3組'!AJ51=\"\",\"\",'3組'!AJ51)","v":""}]
[null,null,null,null,{"$f":"$H$8*10000+G152*100+H152","v":10329},null,3,29,null,null,"",{"$f":"IF('3組'!L52=\"\",\"\",'3組'!L52)","v":""},{"$f":"IF('3組'!M52=\"\",\"\",'3組'!M52)","v":""},{"$f":"IF('3組'!N52=\"\",\"\",'3組'!N52)","v":""},{"$f":"IF('3組'!O52=\"\",\"\",'3組'!O52)","v":""},{"$f":"IF('3組'!P52=\"\",\"\",'3組'!P52)","v":""},null,null,null,null,null,{"$f":"IF('3組'!V52=\"\",\"\",'3組'!V52)","v":""},{"$f":"IF('3組'!W52=\"\",\"\",'3組'!W52)","v":""},{"$f":"IF('3組'!X52=\"\",\"\",'3組'!X52)","v":""},{"$f":"IF('3組'!Y52=\"\",\"\",'3組'!Y52)","v":""},{"$f":"IF('3組'!Z52=\"\",\"\",'3組'!Z52)","v":""},null,null,null,null,null,{"$f":"IF('3組'!AF52=\"\",\"\",'3組'!AF52)","v":""},{"$f":"IF('3組'!AG52=\"\",\"\",'3組'!AG52)","v":""},{"$f":"IF('3組'!AH52=\"\",\"\",'3組'!AH52)","v":""},{"$f":"IF('3組'!AI52=\"\",\"\",'3組'!AI52)","v":""},{"$f":"IF('3組'!AJ52=\"\",\"\",'3組'!AJ52)","v":""}]
[null,null,null,null,10330,null,3,30,null,null,{"$f":"IF(J153=1,\"男\",IF(J153=2,\"女\",\"\"))","v":""},{"$f":"IF('3組'!L53=\"\",\"\",'3組'!L53)","v":""},{"$f":"IF('3組'!M53=\"\",\"\",'3組'!M53)","v":""},{"$f":"IF('3組'!N53=\"\",\"\",'3組'!N53)","v":""},{"$f":"IF('3組'!O53=\"\",\"\",'3組'!O53)","v":""},{"$f":"IF('3組'!P53=\"\",\"\",'3組'!P53)","v":""},null,null,null,null,null,{"$f":"IF('3組'!V53=\"\",\"\",'3組'!V53)","v":""},{"$f":"IF('3組'!W53=\"\",\"\",'3組'!W53)","v":""},{"$f":"IF('3組'!X53=\"\",\"\",'3組'!X53)","v":""},{"$f":"IF('3組'!Y53=\"\",\"\",'3組'!Y53)","v":""},{"$f":"IF('3組'!Z53=\"\",\"\",'3組'!Z53)","v":""},null,null,null,null,null,{"$f":"IF('3組'!AF53=\"\",\"\",'3組'!AF53)","v":""},{"$f":"IF('3組'!AG53=\"\",\"\",'3組'!AG53)","v":""},{"$f":"IF('3組'!AH53=\"\",\"\",'3組'!AH53)","v":""},{"$f":"IF('3組'!AI53=\"\",\"\",'3組'!AI53)","v":""},{"$f":"IF('3組'!AJ53=\"\",\"\",'3組'!AJ53)","v":""}]
[null,null,null,null,10331,null,{"$f":"IF(H153<50,G153,G153+1)","v":3},{"$f":"IF(G154<>G153,1,H153+1)","v":31},null,null,"",{"$f":"IF('3組'!L54=\"\",\"\",'3組'!L54)","v":""},{"$f":"IF('3組'!M54=\"\",\"\",'3組'!M54)","v":""},{"$f":"IF('3組'!N54=\"\",\"\",'3組'!N54)","v":""},{"$f":"IF('3組'!O54=\"\",\"\",'3組'!O54)","v":""},{"$f":"IF('3組'!P54=\"\",\"\",'3組'!P54)","v":""},null,null,null,null,null,{"$f":"IF('3組'!V54=\"\",\"\",'3組'!V54)","v":""},{"$f":"IF('3組'!W54=\"\",\"\",'3組'!W54)","v":""},{"$f":"IF('3組'!X54=\"\",\"\",'3組'!X54)","v":""},{"$f":"IF('3組'!Y54=\"\",\"\",'3組'!Y54)","v":""},{"$f":"IF('3組'!Z54=\"\",\"\",'3組'!Z54)","v":""},null,null,null,null,null,{"$f":"IF('3組'!AF54=\"\",\"\",'3組'!AF54)","v":""},{"$f":"IF('3組'!AG54=\"\",\"\",'3組'!AG54)","v":""},{"$f":"IF('3組'!AH54=\"\",\"\",'3組'!AH54)","v":""},{"$f":"IF('3組'!AI54=\"\",\"\",'3組'!AI54)","v":""},{"$f":"IF('3組'!AJ54=\"\",\"\",'3組'!AJ54)","v":""}]
[null,null,null,null,10332,null,3,32,null,null,"",{"$f":"IF('3組'!L55=\"\",\"\",'3組'!L55)","v":""},{"$f":"IF('3組'!M55=\"\",\"\",'3組'!M55)","v":""},{"$f":"IF('3組'!N55=\"\",\"\",'3組'!N55)","v":""},{"$f":"IF('3組'!O55=\"\",\"\",'3組'!O55)","v":""},{"$f":"IF('3組'!P55=\"\",\"\",'3組'!P55)","v":""},null,null,null,null,null,{"$f":"IF('3組'!V55=\"\",\"\",'3組'!V55)","v":""},{"$f":"IF('3組'!W55=\"\",\"\",'3組'!W55)","v":""},{"$f":"IF('3組'!X55=\"\",\"\",'3組'!X55)","v":""},{"$f":"IF('3組'!Y55=\"\",\"\",'3組'!Y55)","v":""},{"$f":"IF('3組'!Z55=\"\",\"\",'3組'!Z55)","v":""},null,null,null,null,null,{"$f":"IF('3組'!AF55=\"\",\"\",'3組'!AF55)","v":""},{"$f":"IF('3組'!AG55=\"\",\"\",'3組'!AG55)","v":""},{"$f":"IF('3組'!AH55=\"\",\"\",'3組'!AH55)","v":""},{"$f":"IF('3組'!AI55=\"\",\"\",'3組'!AI55)","v":""},{"$f":"IF('3組'!AJ55=\"\",\"\",'3組'!AJ55)","v":""}]
[null,null,null,null,10333,null,3,33,null,null,"",{"$f":"IF('3組'!L56=\"\",\"\",'3組'!L56)","v":""},{"$f":"IF('3組'!M56=\"\",\"\",'3組'!M56)","v":""},{"$f":"IF('3組'!N56=\"\",\"\",'3組'!N56)","v":""},{"$f":"IF('3組'!O56=\"\",\"\",'3組'!O56)","v":""},{"$f":"IF('3組'!P56=\"\",\"\",'3組'!P56)","v":""},null,null,null,null,null,{"$f":"IF('3組'!V56=\"\",\"\",'3組'!V56)","v":""},{"$f":"IF('3組'!W56=\"\",\"\",'3組'!W56)","v":""},{"$f":"IF('3組'!X56=\"\",\"\",'3組'!X56)","v":""},{"$f":"IF('3組'!Y56=\"\",\"\",'3組'!Y56)","v":""},{"$f":"IF('3組'!Z56=\"\",\"\",'3組'!Z56)","v":""},null,null,null,null,null,{"$f":"IF('3組'!AF56=\"\",\"\",'3組'!AF56)","v":""},{"$f":"IF('3組'!AG56=\"\",\"\",'3組'!AG56)","v":""},{"$f":"IF('3組'!AH56=\"\",\"\",'3組'!AH56)","v":""},{"$f":"IF('3組'!AI56=\"\",\"\",'3組'!AI56)","v":""},{"$f":"IF('3組'!AJ56=\"\",\"\",'3組'!AJ56)","v":""}]
[null,null,null,null,10334,null,3,34,null,null,"",{"$f":"IF('3組'!L57=\"\",\"\",'3組'!L57)","v":""},{"$f":"IF('3組'!M57=\"\",\"\",'3組'!M57)","v":""},{"$f":"IF('3組'!N57=\"\",\"\",'3組'!N57)","v":""},{"$f":"IF('3組'!O57=\"\",\"\",'3組'!O57)","v":""},{"$f":"IF('3組'!P57=\"\",\"\",'3組'!P57)","v":""},null,null,null,null,null,{"$f":"IF('3組'!V57=\"\",\"\",'3組'!V57)","v":""},{"$f":"IF('3組'!W57=\"\",\"\",'3組'!W57)","v":""},{"$f":"IF('3組'!X57=\"\",\"\",'3組'!X57)","v":""},{"$f":"IF('3組'!Y57=\"\",\"\",'3組'!Y57)","v":""},{"$f":"IF('3組'!Z57=\"\",\"\",'3組'!Z57)","v":""},null,null,null,null,null,{"$f":"IF('3組'!AF57=\"\",\"\",'3組'!AF57)","v":""},{"$f":"IF('3組'!AG57=\"\",\"\",'3組'!AG57)","v":""},{"$f":"IF('3組'!AH57=\"\",\"\",'3組'!AH57)","v":""},{"$f":"IF('3組'!AI57=\"\",\"\",'3組'!AI57)","v":""},{"$f":"IF('3組'!AJ57=\"\",\"\",'3組'!AJ57)","v":""}]
[null,null,null,null,10335,null,3,35,null,null,"",{"$f":"IF('3組'!L58=\"\",\"\",'3組'!L58)","v":""},{"$f":"IF('3組'!M58=\"\",\"\",'3組'!M58)","v":""},{"$f":"IF('3組'!N58=\"\",\"\",'3組'!N58)","v":""},{"$f":"IF('3組'!O58=\"\",\"\",'3組'!O58)","v":""},{"$f":"IF('3組'!P58=\"\",\"\",'3組'!P58)","v":""},null,null,null,null,null,{"$f":"IF('3組'!V58=\"\",\"\",'3組'!V58)","v":""},{"$f":"IF('3組'!W58=\"\",\"\",'3組'!W58)","v":""},{"$f":"IF('3組'!X58=\"\",\"\",'3組'!X58)","v":""},{"$f":"IF('3組'!Y58=\"\",\"\",'3組'!Y58)","v":""},{"$f":"IF('3組'!Z58=\"\",\"\",'3組'!Z58)","v":""},null,null,null,null,null,{"$f":"IF('3組'!AF58=\"\",\"\",'3組'!AF58)","v":""},{"$f":"IF('3組'!AG58=\"\",\"\",'3組'!AG58)","v":""},{"$f":"IF('3組'!AH58=\"\",\"\",'3組'!AH58)","v":""},{"$f":"IF('3組'!AI58=\"\",\"\",'3組'!AI58)","v":""},{"$f":"IF('3組'!AJ58=\"\",\"\",'3組'!AJ58)","v":""}]
[null,null,null,null,10336,null,3,36,null,null,"",{"$f":"IF('3組'!L59=\"\",\"\",'3組'!L59)","v":""},{"$f":"IF('3組'!M59=\"\",\"\",'3組'!M59)","v":""},{"$f":"IF('3組'!N59=\"\",\"\",'3組'!N59)","v":""},{"$f":"IF('3組'!O59=\"\",\"\",'3組'!O59)","v":""},{"$f":"IF('3組'!P59=\"\",\"\",'3組'!P59)","v":""},null,null,null,null,null,{"$f":"IF('3組'!V59=\"\",\"\",'3組'!V59)","v":""},{"$f":"IF('3組'!W59=\"\",\"\",'3組'!W59)","v":""},{"$f":"IF('3組'!X59=\"\",\"\",'3組'!X59)","v":""},{"$f":"IF('3組'!Y59=\"\",\"\",'3組'!Y59)","v":""},{"$f":"IF('3組'!Z59=\"\",\"\",'3組'!Z59)","v":""},null,null,null,null,null,{"$f":"IF('3組'!AF59=\"\",\"\",'3組'!AF59)","v":""},{"$f":"IF('3組'!AG59=\"\",\"\",'3組'!AG59)","v":""},{"$f":"IF('3組'!AH59=\"\",\"\",'3組'!AH59)","v":""},{"$f":"IF('3組'!AI59=\"\",\"\",'3組'!AI59)","v":""},{"$f":"IF('3組'!AJ59=\"\",\"\",'3組'!AJ59)","v":""}]
[null,null,null,null,10337,null,3,37,null,null,"",{"$f":"IF('3組'!L60=\"\",\"\",'3組'!L60)","v":""},{"$f":"IF('3組'!M60=\"\",\"\",'3組'!M60)","v":""},{"$f":"IF('3組'!N60=\"\",\"\",'3組'!N60)","v":""},{"$f":"IF('3組'!O60=\"\",\"\",'3組'!O60)","v":""},{"$f":"IF('3組'!P60=\"\",\"\",'3組'!P60)","v":""},null,null,null,null,null,{"$f":"IF('3組'!V60=\"\",\"\",'3組'!V60)","v":""},{"$f":"IF('3組'!W60=\"\",\"\",'3組'!W60)","v":""},{"$f":"IF('3組'!X60=\"\",\"\",'3組'!X60)","v":""},{"$f":"IF('3組'!Y60=\"\",\"\",'3組'!Y60)","v":""},{"$f":"IF('3組'!Z60=\"\",\"\",'3組'!Z60)","v":""},null,null,null,null,null,{"$f":"IF('3組'!AF60=\"\",\"\",'3組'!AF60)","v":""},{"$f":"IF('3組'!AG60=\"\",\"\",'3組'!AG60)","v":""},{"$f":"IF('3組'!AH60=\"\",\"\",'3組'!AH60)","v":""},{"$f":"IF('3組'!AI60=\"\",\"\",'3組'!AI60)","v":""},{"$f":"IF('3組'!AJ60=\"\",\"\",'3組'!AJ60)","v":""}]
[null,null,null,null,10338,null,3,38,null,null,"",{"$f":"IF('3組'!L61=\"\",\"\",'3組'!L61)","v":""},{"$f":"IF('3組'!M61=\"\",\"\",'3組'!M61)","v":""},{"$f":"IF('3組'!N61=\"\",\"\",'3組'!N61)","v":""},{"$f":"IF('3組'!O61=\"\",\"\",'3組'!O61)","v":""},{"$f":"IF('3組'!P61=\"\",\"\",'3組'!P61)","v":""},null,null,null,null,null,{"$f":"IF('3組'!V61=\"\",\"\",'3組'!V61)","v":""},{"$f":"IF('3組'!W61=\"\",\"\",'3組'!W61)","v":""},{"$f":"IF('3組'!X61=\"\",\"\",'3組'!X61)","v":""},{"$f":"IF('3組'!Y61=\"\",\"\",'3組'!Y61)","v":""},{"$f":"IF('3組'!Z61=\"\",\"\",'3組'!Z61)","v":""},null,null,null,null,null,{"$f":"IF('3組'!AF61=\"\",\"\",'3組'!AF61)","v":""},{"$f":"IF('3組'!AG61=\"\",\"\",'3組'!AG61)","v":""},{"$f":"IF('3組'!AH61=\"\",\"\",'3組'!AH61)","v":""},{"$f":"IF('3組'!AI61=\"\",\"\",'3組'!AI61)","v":""},{"$f":"IF('3組'!AJ61=\"\",\"\",'3組'!AJ61)","v":""}]
[null,null,null,null,10339,null,3,39,null,null,"",{"$f":"IF('3組'!L62=\"\",\"\",'3組'!L62)","v":""},{"$f":"IF('3組'!M62=\"\",\"\",'3組'!M62)","v":""},{"$f":"IF('3組'!N62=\"\",\"\",'3組'!N62)","v":""},{"$f":"IF('3組'!O62=\"\",\"\",'3組'!O62)","v":""},{"$f":"IF('3組'!P62=\"\",\"\",'3組'!P62)","v":""},null,null,null,null,null,{"$f":"IF('3組'!V62=\"\",\"\",'3組'!V62)","v":""},{"$f":"IF('3組'!W62=\"\",\"\",'3組'!W62)","v":""},{"$f":"IF('3組'!X62=\"\",\"\",'3組'!X62)","v":""},{"$f":"IF('3組'!Y62=\"\",\"\",'3組'!Y62)","v":""},{"$f":"IF('3組'!Z62=\"\",\"\",'3組'!Z62)","v":""},null,null,null,null,null,{"$f":"IF('3組'!AF62=\"\",\"\",'3組'!AF62)","v":""},{"$f":"IF('3組'!AG62=\"\",\"\",'3組'!AG62)","v":""},{"$f":"IF('3組'!AH62=\"\",\"\",'3組'!AH62)","v":""},{"$f":"IF('3組'!AI62=\"\",\"\",'3組'!AI62)","v":""},{"$f":"IF('3組'!AJ62=\"\",\"\",'3組'!AJ62)","v":""}]
[null,null,null,null,10340,null,3,40,null,null,"",{"$f":"IF('3組'!L63=\"\",\"\",'3組'!L63)","v":""},{"$f":"IF('3組'!M63=\"\",\"\",'3組'!M63)","v":""},{"$f":"IF('3組'!N63=\"\",\"\",'3組'!N63)","v":""},{"$f":"IF('3組'!O63=\"\",\"\",'3組'!O63)","v":""},{"$f":"IF('3組'!P63=\"\",\"\",'3組'!P63)","v":""},null,null,null,null,null,{"$f":"IF('3組'!V63=\"\",\"\",'3組'!V63)","v":""},{"$f":"IF('3組'!W63=\"\",\"\",'3組'!W63)","v":""},{"$f":"IF('3組'!X63=\"\",\"\",'3組'!X63)","v":""},{"$f":"IF('3組'!Y63=\"\",\"\",'3組'!Y63)","v":""},{"$f":"IF('3組'!Z63=\"\",\"\",'3組'!Z63)","v":""},null,null,null,null,null,{"$f":"IF('3組'!AF63=\"\",\"\",'3組'!AF63)","v":""},{"$f":"IF('3組'!AG63=\"\",\"\",'3組'!AG63)","v":""},{"$f":"IF('3組'!AH63=\"\",\"\",'3組'!AH63)","v":""},{"$f":"IF('3組'!AI63=\"\",\"\",'3組'!AI63)","v":""},{"$f":"IF('3組'!AJ63=\"\",\"\",'3組'!AJ63)","v":""}]
[null,null,null,null,10341,null,3,41,null,null,"",{"$f":"IF('3組'!L64=\"\",\"\",'3組'!L64)","v":""},{"$f":"IF('3組'!M64=\"\",\"\",'3組'!M64)","v":""},{"$f":"IF('3組'!N64=\"\",\"\",'3組'!N64)","v":""},{"$f":"IF('3組'!O64=\"\",\"\",'3組'!O64)","v":""},{"$f":"IF('3組'!P64=\"\",\"\",'3組'!P64)","v":""},null,null,null,null,null,{"$f":"IF('3組'!V64=\"\",\"\",'3組'!V64)","v":""},{"$f":"IF('3組'!W64=\"\",\"\",'3組'!W64)","v":""},{"$f":"IF('3組'!X64=\"\",\"\",'3組'!X64)","v":""},{"$f":"IF('3組'!Y64=\"\",\"\",'3組'!Y64)","v":""},{"$f":"IF('3組'!Z64=\"\",\"\",'3組'!Z64)","v":""},null,null,null,null,null,{"$f":"IF('3組'!AF64=\"\",\"\",'3組'!AF64)","v":""},{"$f":"IF('3組'!AG64=\"\",\"\",'3組'!AG64)","v":""},{"$f":"IF('3組'!AH64=\"\",\"\",'3組'!AH64)","v":""},{"$f":"IF('3組'!AI64=\"\",\"\",'3組'!AI64)","v":""},{"$f":"IF('3組'!AJ64=\"\",\"\",'3組'!AJ64)","v":""}]
[null,null,null,null,10342,null,3,42,null,null,"",{"$f":"IF('3組'!L65=\"\",\"\",'3組'!L65)","v":""},{"$f":"IF('3組'!M65=\"\",\"\",'3組'!M65)","v":""},{"$f":"IF('3組'!N65=\"\",\"\",'3組'!N65)","v":""},{"$f":"IF('3組'!O65=\"\",\"\",'3組'!O65)","v":""},{"$f":"IF('3組'!P65=\"\",\"\",'3組'!P65)","v":""},null,null,null,null,null,{"$f":"IF('3組'!V65=\"\",\"\",'3組'!V65)","v":""},{"$f":"IF('3組'!W65=\"\",\"\",'3組'!W65)","v":""},{"$f":"IF('3組'!X65=\"\",\"\",'3組'!X65)","v":""},{"$f":"IF('3組'!Y65=\"\",\"\",'3組'!Y65)","v":""},{"$f":"IF('3組'!Z65=\"\",\"\",'3組'!Z65)","v":""},null,null,null,null,null,{"$f":"IF('3組'!AF65=\"\",\"\",'3組'!AF65)","v":""},{"$f":"IF('3組'!AG65=\"\",\"\",'3組'!AG65)","v":""},{"$f":"IF('3組'!AH65=\"\",\"\",'3組'!AH65)","v":""},{"$f":"IF('3組'!AI65=\"\",\"\",'3組'!AI65)","v":""},{"$f":"IF('3組'!AJ65=\"\",\"\",'3組'!AJ65)","v":""}]
[null,null,null,null,10343,null,3,43,null,null,"",{"$f":"IF('3組'!L66=\"\",\"\",'3組'!L66)","v":""},{"$f":"IF('3組'!M66=\"\",\"\",'3組'!M66)","v":""},{"$f":"IF('3組'!N66=\"\",\"\",'3組'!N66)","v":""},{"$f":"IF('3組'!O66=\"\",\"\",'3組'!O66)","v":""},{"$f":"IF('3組'!P66=\"\",\"\",'3組'!P66)","v":""},null,null,null,null,null,{"$f":"IF('3組'!V66=\"\",\"\",'3組'!V66)","v":""},{"$f":"IF('3組'!W66=\"\",\"\",'3組'!W66)","v":""},{"$f":"IF('3組'!X66=\"\",\"\",'3組'!X66)","v":""},{"$f":"IF('3組'!Y66=\"\",\"\",'3組'!Y66)","v":""},{"$f":"IF('3組'!Z66=\"\",\"\",'3組'!Z66)","v":""},null,null,null,null,null,{"$f":"IF('3組'!AF66=\"\",\"\",'3組'!AF66)","v":""},{"$f":"IF('3組'!AG66=\"\",\"\",'3組'!AG66)","v":""},{"$f":"IF('3組'!AH66=\"\",\"\",'3組'!AH66)","v":""},{"$f":"IF('3組'!AI66=\"\",\"\",'3組'!AI66)","v":""},{"$f":"IF('3組'!AJ66=\"\",\"\",'3組'!AJ66)","v":""}]
[null,null,null,null,10344,null,3,44,null,null,"",{"$f":"IF('3組'!L67=\"\",\"\",'3組'!L67)","v":""},{"$f":"IF('3組'!M67=\"\",\"\",'3組'!M67)","v":""},{"$f":"IF('3組'!N67=\"\",\"\",'3組'!N67)","v":""},{"$f":"IF('3組'!O67=\"\",\"\",'3組'!O67)","v":""},{"$f":"IF('3組'!P67=\"\",\"\",'3組'!P67)","v":""},null,null,null,null,null,{"$f":"IF('3組'!V67=\"\",\"\",'3組'!V67)","v":""},{"$f":"IF('3組'!W67=\"\",\"\",'3組'!W67)","v":""},{"$f":"IF('3組'!X67=\"\",\"\",'3組'!X67)","v":""},{"$f":"IF('3組'!Y67=\"\",\"\",'3組'!Y67)","v":""},{"$f":"IF('3組'!Z67=\"\",\"\",'3組'!Z67)","v":""},null,null,null,null,null,{"$f":"IF('3組'!AF67=\"\",\"\",'3組'!AF67)","v":""},{"$f":"IF('3組'!AG67=\"\",\"\",'3組'!AG67)","v":""},{"$f":"IF('3組'!AH67=\"\",\"\",'3組'!AH67)","v":""},{"$f":"IF('3組'!AI67=\"\",\"\",'3組'!AI67)","v":""},{"$f":"IF('3組'!AJ67=\"\",\"\",'3組'!AJ67)","v":""}]
[null,null,null,null,10345,null,3,45,null,null,"",{"$f":"IF('3組'!L68=\"\",\"\",'3組'!L68)","v":""},{"$f":"IF('3組'!M68=\"\",\"\",'3組'!M68)","v":""},{"$f":"IF('3組'!N68=\"\",\"\",'3組'!N68)","v":""},{"$f":"IF('3組'!O68=\"\",\"\",'3組'!O68)","v":""},{"$f":"IF('3組'!P68=\"\",\"\",'3組'!P68)","v":""},null,null,null,null,null,{"$f":"IF('3組'!V68=\"\",\"\",'3組'!V68)","v":""},{"$f":"IF('3組'!W68=\"\",\"\",'3組'!W68)","v":""},{"$f":"IF('3組'!X68=\"\",\"\",'3組'!X68)","v":""},{"$f":"IF('3組'!Y68=\"\",\"\",'3組'!Y68)","v":""},{"$f":"IF('3組'!Z68=\"\",\"\",'3組'!Z68)","v":""},null,null,null,null,null,{"$f":"IF('3組'!AF68=\"\",\"\",'3組'!AF68)","v":""},{"$f":"IF('3組'!AG68=\"\",\"\",'3組'!AG68)","v":""},{"$f":"IF('3組'!AH68=\"\",\"\",'3組'!AH68)","v":""},{"$f":"IF('3組'!AI68=\"\",\"\",'3組'!AI68)","v":""},{"$f":"IF('3組'!AJ68=\"\",\"\",'3組'!AJ68)","v":""}]
[null,null,null,null,10346,null,3,46,null,null,"",{"$f":"IF('3組'!L69=\"\",\"\",'3組'!L69)","v":""},{"$f":"IF('3組'!M69=\"\",\"\",'3組'!M69)","v":""},{"$f":"IF('3組'!N69=\"\",\"\",'3組'!N69)","v":""},{"$f":"IF('3組'!O69=\"\",\"\",'3組'!O69)","v":""},{"$f":"IF('3組'!P69=\"\",\"\",'3組'!P69)","v":""},null,null,null,null,null,{"$f":"IF('3組'!V69=\"\",\"\",'3組'!V69)","v":""},{"$f":"IF('3組'!W69=\"\",\"\",'3組'!W69)","v":""},{"$f":"IF('3組'!X69=\"\",\"\",'3組'!X69)","v":""},{"$f":"IF('3組'!Y69=\"\",\"\",'3組'!Y69)","v":""},{"$f":"IF('3組'!Z69=\"\",\"\",'3組'!Z69)","v":""},null,null,null,null,null,{"$f":"IF('3組'!AF69=\"\",\"\",'3組'!AF69)","v":""},{"$f":"IF('3組'!AG69=\"\",\"\",'3組'!AG69)","v":""},{"$f":"IF('3組'!AH69=\"\",\"\",'3組'!AH69)","v":""},{"$f":"IF('3組'!AI69=\"\",\"\",'3組'!AI69)","v":""},{"$f":"IF('3組'!AJ69=\"\",\"\",'3組'!AJ69)","v":""}]
[null,null,null,null,10347,null,3,47,null,null,"",{"$f":"IF('3組'!L70=\"\",\"\",'3組'!L70)","v":""},{"$f":"IF('3組'!M70=\"\",\"\",'3組'!M70)","v":""},{"$f":"IF('3組'!N70=\"\",\"\",'3組'!N70)","v":""},{"$f":"IF('3組'!O70=\"\",\"\",'3組'!O70)","v":""},{"$f":"IF('3組'!P70=\"\",\"\",'3組'!P70)","v":""},null,null,null,null,null,{"$f":"IF('3組'!V70=\"\",\"\",'3組'!V70)","v":""},{"$f":"IF('3組'!W70=\"\",\"\",'3組'!W70)","v":""},{"$f":"IF('3組'!X70=\"\",\"\",'3組'!X70)","v":""},{"$f":"IF('3組'!Y70=\"\",\"\",'3組'!Y70)","v":""},{"$f":"IF('3組'!Z70=\"\",\"\",'3組'!Z70)","v":""},null,null,null,null,null,{"$f":"IF('3組'!AF70=\"\",\"\",'3組'!AF70)","v":""},{"$f":"IF('3組'!AG70=\"\",\"\",'3組'!AG70)","v":""},{"$f":"IF('3組'!AH70=\"\",\"\",'3組'!AH70)","v":""},{"$f":"IF('3組'!AI70=\"\",\"\",'3組'!AI70)","v":""},{"$f":"IF('3組'!AJ70=\"\",\"\",'3組'!AJ70)","v":""}]
[null,null,null,null,10348,null,3,48,null,null,"",{"$f":"IF('3組'!L71=\"\",\"\",'3組'!L71)","v":""},{"$f":"IF('3組'!M71=\"\",\"\",'3組'!M71)","v":""},{"$f":"IF('3組'!N71=\"\",\"\",'3組'!N71)","v":""},{"$f":"IF('3組'!O71=\"\",\"\",'3組'!O71)","v":""},{"$f":"IF('3組'!P71=\"\",\"\",'3組'!P71)","v":""},null,null,null,null,null,{"$f":"IF('3組'!V71=\"\",\"\",'3組'!V71)","v":""},{"$f":"IF('3組'!W71=\"\",\"\",'3組'!W71)","v":""},{"$f":"IF('3組'!X71=\"\",\"\",'3組'!X71)","v":""},{"$f":"IF('3組'!Y71=\"\",\"\",'3組'!Y71)","v":""},{"$f":"IF('3組'!Z71=\"\",\"\",'3組'!Z71)","v":""},null,null,null,null,null,{"$f":"IF('3組'!AF71=\"\",\"\",'3組'!AF71)","v":""},{"$f":"IF('3組'!AG71=\"\",\"\",'3組'!AG71)","v":""},{"$f":"IF('3組'!AH71=\"\",\"\",'3組'!AH71)","v":""},{"$f":"IF('3組'!AI71=\"\",\"\",'3組'!AI71)","v":""},{"$f":"IF('3組'!AJ71=\"\",\"\",'3組'!AJ71)","v":""}]
[null,null,null,null,10349,null,3,49,null,null,"",{"$f":"IF('3組'!L72=\"\",\"\",'3組'!L72)","v":""},{"$f":"IF('3組'!M72=\"\",\"\",'3組'!M72)","v":""},{"$f":"IF('3組'!N72=\"\",\"\",'3組'!N72)","v":""},{"$f":"IF('3組'!O72=\"\",\"\",'3組'!O72)","v":""},{"$f":"IF('3組'!P72=\"\",\"\",'3組'!P72)","v":""},null,null,null,null,null,{"$f":"IF('3組'!V72=\"\",\"\",'3組'!V72)","v":""},{"$f":"IF('3組'!W72=\"\",\"\",'3組'!W72)","v":""},{"$f":"IF('3組'!X72=\"\",\"\",'3組'!X72)","v":""},{"$f":"IF('3組'!Y72=\"\",\"\",'3組'!Y72)","v":""},{"$f":"IF('3組'!Z72=\"\",\"\",'3組'!Z72)","v":""},null,null,null,null,null,{"$f":"IF('3組'!AF72=\"\",\"\",'3組'!AF72)","v":""},{"$f":"IF('3組'!AG72=\"\",\"\",'3組'!AG72)","v":""},{"$f":"IF('3組'!AH72=\"\",\"\",'3組'!AH72)","v":""},{"$f":"IF('3組'!AI72=\"\",\"\",'3組'!AI72)","v":""},{"$f":"IF('3組'!AJ72=\"\",\"\",'3組'!AJ72)","v":""}]
[null,null,null,null,10350,null,3,50,null,null,"",{"$f":"IF('3組'!L73=\"\",\"\",'3組'!L73)","v":""},{"$f":"IF('3組'!M73=\"\",\"\",'3組'!M73)","v":""},{"$f":"IF('3組'!N73=\"\",\"\",'3組'!N73)","v":""},{"$f":"IF('3組'!O73=\"\",\"\",'3組'!O73)","v":""},{"$f":"IF('3組'!P73=\"\",\"\",'3組'!P73)","v":""},null,null,null,null,null,{"$f":"IF('3組'!V73=\"\",\"\",'3組'!V73)","v":""},{"$f":"IF('3組'!W73=\"\",\"\",'3組'!W73)","v":""},{"$f":"IF('3組'!X73=\"\",\"\",'3組'!X73)","v":""},{"$f":"IF('3組'!Y73=\"\",\"\",'3組'!Y73)","v":""},{"$f":"IF('3組'!Z73=\"\",\"\",'3組'!Z73)","v":""},null,null,null,null,null,{"$f":"IF('3組'!AF73=\"\",\"\",'3組'!AF73)","v":""},{"$f":"IF('3組'!AG73=\"\",\"\",'3組'!AG73)","v":""},{"$f":"IF('3組'!AH73=\"\",\"\",'3組'!AH73)","v":""},{"$f":"IF('3組'!AI73=\"\",\"\",'3組'!AI73)","v":""},{"$f":"IF('3組'!AJ73=\"\",\"\",'3組'!AJ73)","v":""}]
[null,null,null,null,10401,null,4,1,null,null,"",{"$f":"IF('4組'!L24=\"\",\"\",'4組'!L24)","v":""},{"$f":"IF('4組'!M24=\"\",\"\",'4組'!M24)","v":""},{"$f":"IF('4組'!N24=\"\",\"\",'4組'!N24)","v":""},{"$f":"IF('4組'!O24=\"\",\"\",'4組'!O24)","v":""},{"$f":"IF('4組'!P24=\"\",\"\",'4組'!P24)","v":""},null,null,null,null,null,{"$f":"IF('4組'!V24=\"\",\"\",'4組'!V24)","v":""},{"$f":"IF('4組'!W24=\"\",\"\",'4組'!W24)","v":""},{"$f":"IF('4組'!X24=\"\",\"\",'4組'!X24)","v":""},{"$f":"IF('4組'!Y24=\"\",\"\",'4組'!Y24)","v":""},{"$f":"IF('4組'!Z24=\"\",\"\",'4組'!Z24)","v":""},null,null,null,null,null,{"$f":"IF('4組'!AF24=\"\",\"\",'4組'!AF24)","v":""},{"$f":"IF('4組'!AG24=\"\",\"\",'4組'!AG24)","v":""},{"$f":"IF('4組'!AH24=\"\",\"\",'4組'!AH24)","v":""},{"$f":"IF('4組'!AI24=\"\",\"\",'4組'!AI24)","v":""},{"$f":"IF('4組'!AJ24=\"\",\"\",'4組'!AJ24)","v":""}]
[null,null,null,null,10402,null,4,2,null,null,"",{"$f":"IF('4組'!L25=\"\",\"\",'4組'!L25)","v":""},{"$f":"IF('4組'!M25=\"\",\"\",'4組'!M25)","v":""},{"$f":"IF('4組'!N25=\"\",\"\",'4組'!N25)","v":""},{"$f":"IF('4組'!O25=\"\",\"\",'4組'!O25)","v":""},{"$f":"IF('4組'!P25=\"\",\"\",'4組'!P25)","v":""},null,null,null,null,null,{"$f":"IF('4組'!V25=\"\",\"\",'4組'!V25)","v":""},{"$f":"IF('4組'!W25=\"\",\"\",'4組'!W25)","v":""},{"$f":"IF('4組'!X25=\"\",\"\",'4組'!X25)","v":""},{"$f":"IF('4組'!Y25=\"\",\"\",'4組'!Y25)","v":""},{"$f":"IF('4組'!Z25=\"\",\"\",'4組'!Z25)","v":""},null,null,null,null,null,{"$f":"IF('4組'!AF25=\"\",\"\",'4組'!AF25)","v":""},{"$f":"IF('4組'!AG25=\"\",\"\",'4組'!AG25)","v":""},{"$f":"IF('4組'!AH25=\"\",\"\",'4組'!AH25)","v":""},{"$f":"IF('4組'!AI25=\"\",\"\",'4組'!AI25)","v":""},{"$f":"IF('4組'!AJ25=\"\",\"\",'4組'!AJ25)","v":""}]
[null,null,null,null,10403,null,4,3,null,null,"",{"$f":"IF('4組'!L26=\"\",\"\",'4組'!L26)","v":""},{"$f":"IF('4組'!M26=\"\",\"\",'4組'!M26)","v":""},{"$f":"IF('4組'!N26=\"\",\"\",'4組'!N26)","v":""},{"$f":"IF('4組'!O26=\"\",\"\",'4組'!O26)","v":""},{"$f":"IF('4組'!P26=\"\",\"\",'4組'!P26)","v":""},null,null,null,null,null,{"$f":"IF('4組'!V26=\"\",\"\",'4組'!V26)","v":""},{"$f":"IF('4組'!W26=\"\",\"\",'4組'!W26)","v":""},{"$f":"IF('4組'!X26=\"\",\"\",'4組'!X26)","v":""},{"$f":"IF('4組'!Y26=\"\",\"\",'4組'!Y26)","v":""},{"$f":"IF('4組'!Z26=\"\",\"\",'4組'!Z26)","v":""},null,null,null,null,null,{"$f":"IF('4組'!AF26=\"\",\"\",'4組'!AF26)","v":""},{"$f":"IF('4組'!AG26=\"\",\"\",'4組'!AG26)","v":""},{"$f":"IF('4組'!AH26=\"\",\"\",'4組'!AH26)","v":""},{"$f":"IF('4組'!AI26=\"\",\"\",'4組'!AI26)","v":""},{"$f":"IF('4組'!AJ26=\"\",\"\",'4組'!AJ26)","v":""}]
[null,null,null,null,10404,null,4,4,null,null,"",{"$f":"IF('4組'!L27=\"\",\"\",'4組'!L27)","v":""},{"$f":"IF('4組'!M27=\"\",\"\",'4組'!M27)","v":""},{"$f":"IF('4組'!N27=\"\",\"\",'4組'!N27)","v":""},{"$f":"IF('4組'!O27=\"\",\"\",'4組'!O27)","v":""},{"$f":"IF('4組'!P27=\"\",\"\",'4組'!P27)","v":""},null,null,null,null,null,{"$f":"IF('4組'!V27=\"\",\"\",'4組'!V27)","v":""},{"$f":"IF('4組'!W27=\"\",\"\",'4組'!W27)","v":""},{"$f":"IF('4組'!X27=\"\",\"\",'4組'!X27)","v":""},{"$f":"IF('4組'!Y27=\"\",\"\",'4組'!Y27)","v":""},{"$f":"IF('4組'!Z27=\"\",\"\",'4組'!Z27)","v":""},null,null,null,null,null,{"$f":"IF('4組'!AF27=\"\",\"\",'4組'!AF27)","v":""},{"$f":"IF('4組'!AG27=\"\",\"\",'4組'!AG27)","v":""},{"$f":"IF('4組'!AH27=\"\",\"\",'4組'!AH27)","v":""},{"$f":"IF('4組'!AI27=\"\",\"\",'4組'!AI27)","v":""},{"$f":"IF('4組'!AJ27=\"\",\"\",'4組'!AJ27)","v":""}]
[null,null,null,null,10405,null,4,5,null,null,"",{"$f":"IF('4組'!L28=\"\",\"\",'4組'!L28)","v":""},{"$f":"IF('4組'!M28=\"\",\"\",'4組'!M28)","v":""},{"$f":"IF('4組'!N28=\"\",\"\",'4組'!N28)","v":""},{"$f":"IF('4組'!O28=\"\",\"\",'4組'!O28)","v":""},{"$f":"IF('4組'!P28=\"\",\"\",'4組'!P28)","v":""},null,null,null,null,null,{"$f":"IF('4組'!V28=\"\",\"\",'4組'!V28)","v":""},{"$f":"IF('4組'!W28=\"\",\"\",'4組'!W28)","v":""},{"$f":"IF('4組'!X28=\"\",\"\",'4組'!X28)","v":""},{"$f":"IF('4組'!Y28=\"\",\"\",'4組'!Y28)","v":""},{"$f":"IF('4組'!Z28=\"\",\"\",'4組'!Z28)","v":""},null,null,null,null,null,{"$f":"IF('4組'!AF28=\"\",\"\",'4組'!AF28)","v":""},{"$f":"IF('4組'!AG28=\"\",\"\",'4組'!AG28)","v":""},{"$f":"IF('4組'!AH28=\"\",\"\",'4組'!AH28)","v":""},{"$f":"IF('4組'!AI28=\"\",\"\",'4組'!AI28)","v":""},{"$f":"IF('4組'!AJ28=\"\",\"\",'4組'!AJ28)","v":""}]
[null,null,null,null,10406,null,4,6,null,null,"",{"$f":"IF('4組'!L29=\"\",\"\",'4組'!L29)","v":""},{"$f":"IF('4組'!M29=\"\",\"\",'4組'!M29)","v":""},{"$f":"IF('4組'!N29=\"\",\"\",'4組'!N29)","v":""},{"$f":"IF('4組'!O29=\"\",\"\",'4組'!O29)","v":""},{"$f":"IF('4組'!P29=\"\",\"\",'4組'!P29)","v":""},null,null,null,null,null,{"$f":"IF('4組'!V29=\"\",\"\",'4組'!V29)","v":""},{"$f":"IF('4組'!W29=\"\",\"\",'4組'!W29)","v":""},{"$f":"IF('4組'!X29=\"\",\"\",'4組'!X29)","v":""},{"$f":"IF('4組'!Y29=\"\",\"\",'4組'!Y29)","v":""},{"$f":"IF('4組'!Z29=\"\",\"\",'4組'!Z29)","v":""},null,null,null,null,null,{"$f":"IF('4組'!AF29=\"\",\"\",'4組'!AF29)","v":""},{"$f":"IF('4組'!AG29=\"\",\"\",'4組'!AG29)","v":""},{"$f":"IF('4組'!AH29=\"\",\"\",'4組'!AH29)","v":""},{"$f":"IF('4組'!AI29=\"\",\"\",'4組'!AI29)","v":""},{"$f":"IF('4組'!AJ29=\"\",\"\",'4組'!AJ29)","v":""}]
[null,null,null,null,10407,null,4,7,null,null,"",{"$f":"IF('4組'!L30=\"\",\"\",'4組'!L30)","v":""},{"$f":"IF('4組'!M30=\"\",\"\",'4組'!M30)","v":""},{"$f":"IF('4組'!N30=\"\",\"\",'4組'!N30)","v":""},{"$f":"IF('4組'!O30=\"\",\"\",'4組'!O30)","v":""},{"$f":"IF('4組'!P30=\"\",\"\",'4組'!P30)","v":""},null,null,null,null,null,{"$f":"IF('4組'!V30=\"\",\"\",'4組'!V30)","v":""},{"$f":"IF('4組'!W30=\"\",\"\",'4組'!W30)","v":""},{"$f":"IF('4組'!X30=\"\",\"\",'4組'!X30)","v":""},{"$f":"IF('4組'!Y30=\"\",\"\",'4組'!Y30)","v":""},{"$f":"IF('4組'!Z30=\"\",\"\",'4組'!Z30)","v":""},null,null,null,null,null,{"$f":"IF('4組'!AF30=\"\",\"\",'4組'!AF30)","v":""},{"$f":"IF('4組'!AG30=\"\",\"\",'4組'!AG30)","v":""},{"$f":"IF('4組'!AH30=\"\",\"\",'4組'!AH30)","v":""},{"$f":"IF('4組'!AI30=\"\",\"\",'4組'!AI30)","v":""},{"$f":"IF('4組'!AJ30=\"\",\"\",'4組'!AJ30)","v":""}]
[null,null,null,null,10408,null,4,8,null,null,"",{"$f":"IF('4組'!L31=\"\",\"\",'4組'!L31)","v":""},{"$f":"IF('4組'!M31=\"\",\"\",'4組'!M31)","v":""},{"$f":"IF('4組'!N31=\"\",\"\",'4組'!N31)","v":""},{"$f":"IF('4組'!O31=\"\",\"\",'4組'!O31)","v":""},{"$f":"IF('4組'!P31=\"\",\"\",'4組'!P31)","v":""},null,null,null,null,null,{"$f":"IF('4組'!V31=\"\",\"\",'4組'!V31)","v":""},{"$f":"IF('4組'!W31=\"\",\"\",'4組'!W31)","v":""},{"$f":"IF('4組'!X31=\"\",\"\",'4組'!X31)","v":""},{"$f":"IF('4組'!Y31=\"\",\"\",'4組'!Y31)","v":""},{"$f":"IF('4組'!Z31=\"\",\"\",'4組'!Z31)","v":""},null,null,null,null,null,{"$f":"IF('4組'!AF31=\"\",\"\",'4組'!AF31)","v":""},{"$f":"IF('4組'!AG31=\"\",\"\",'4組'!AG31)","v":""},{"$f":"IF('4組'!AH31=\"\",\"\",'4組'!AH31)","v":""},{"$f":"IF('4組'!AI31=\"\",\"\",'4組'!AI31)","v":""},{"$f":"IF('4組'!AJ31=\"\",\"\",'4組'!AJ31)","v":""}]
[null,null,null,null,10409,null,4,9,null,null,"",{"$f":"IF('4組'!L32=\"\",\"\",'4組'!L32)","v":""},{"$f":"IF('4組'!M32=\"\",\"\",'4組'!M32)","v":""},{"$f":"IF('4組'!N32=\"\",\"\",'4組'!N32)","v":""},{"$f":"IF('4組'!O32=\"\",\"\",'4組'!O32)","v":""},{"$f":"IF('4組'!P32=\"\",\"\",'4組'!P32)","v":""},null,null,null,null,null,{"$f":"IF('4組'!V32=\"\",\"\",'4組'!V32)","v":""},{"$f":"IF('4組'!W32=\"\",\"\",'4組'!W32)","v":""},{"$f":"IF('4組'!X32=\"\",\"\",'4組'!X32)","v":""},{"$f":"IF('4組'!Y32=\"\",\"\",'4組'!Y32)","v":""},{"$f":"IF('4組'!Z32=\"\",\"\",'4組'!Z32)","v":""},null,null,null,null,null,{"$f":"IF('4組'!AF32=\"\",\"\",'4組'!AF32)","v":""},{"$f":"IF('4組'!AG32=\"\",\"\",'4組'!AG32)","v":""},{"$f":"IF('4組'!AH32=\"\",\"\",'4組'!AH32)","v":""},{"$f":"IF('4組'!AI32=\"\",\"\",'4組'!AI32)","v":""},{"$f":"IF('4組'!AJ32=\"\",\"\",'4組'!AJ32)","v":""}]
[null,null,null,null,10410,null,4,10,null,null,"",{"$f":"IF('4組'!L33=\"\",\"\",'4組'!L33)","v":""},{"$f":"IF('4組'!M33=\"\",\"\",'4組'!M33)","v":""},{"$f":"IF('4組'!N33=\"\",\"\",'4組'!N33)","v":""},{"$f":"IF('4組'!O33=\"\",\"\",'4組'!O33)","v":""},{"$f":"IF('4組'!P33=\"\",\"\",'4組'!P33)","v":""},null,null,null,null,null,{"$f":"IF('4組'!V33=\"\",\"\",'4組'!V33)","v":""},{"$f":"IF('4組'!W33=\"\",\"\",'4組'!W33)","v":""},{"$f":"IF('4組'!X33=\"\",\"\",'4組'!X33)","v":""},{"$f":"IF('4組'!Y33=\"\",\"\",'4組'!Y33)","v":""},{"$f":"IF('4組'!Z33=\"\",\"\",'4組'!Z33)","v":""},null,null,null,null,null,{"$f":"IF('4組'!AF33=\"\",\"\",'4組'!AF33)","v":""},{"$f":"IF('4組'!AG33=\"\",\"\",'4組'!AG33)","v":""},{"$f":"IF('4組'!AH33=\"\",\"\",'4組'!AH33)","v":""},{"$f":"IF('4組'!AI33=\"\",\"\",'4組'!AI33)","v":""},{"$f":"IF('4組'!AJ33=\"\",\"\",'4組'!AJ33)","v":""}]
[null,null,null,null,10411,null,4,11,null,null,"",{"$f":"IF('4組'!L34=\"\",\"\",'4組'!L34)","v":""},{"$f":"IF('4組'!M34=\"\",\"\",'4組'!M34)","v":""},{"$f":"IF('4組'!N34=\"\",\"\",'4組'!N34)","v":""},{"$f":"IF('4組'!O34=\"\",\"\",'4組'!O34)","v":""},{"$f":"IF('4組'!P34=\"\",\"\",'4組'!P34)","v":""},null,null,null,null,null,{"$f":"IF('4組'!V34=\"\",\"\",'4組'!V34)","v":""},{"$f":"IF('4組'!W34=\"\",\"\",'4組'!W34)","v":""},{"$f":"IF('4組'!X34=\"\",\"\",'4組'!X34)","v":""},{"$f":"IF('4組'!Y34=\"\",\"\",'4組'!Y34)","v":""},{"$f":"IF('4組'!Z34=\"\",\"\",'4組'!Z34)","v":""},null,null,null,null,null,{"$f":"IF('4組'!AF34=\"\",\"\",'4組'!AF34)","v":""},{"$f":"IF('4組'!AG34=\"\",\"\",'4組'!AG34)","v":""},{"$f":"IF('4組'!AH34=\"\",\"\",'4組'!AH34)","v":""},{"$f":"IF('4組'!AI34=\"\",\"\",'4組'!AI34)","v":""},{"$f":"IF('4組'!AJ34=\"\",\"\",'4組'!AJ34)","v":""}]
[null,null,null,null,10412,null,4,12,null,null,"",{"$f":"IF('4組'!L35=\"\",\"\",'4組'!L35)","v":""},{"$f":"IF('4組'!M35=\"\",\"\",'4組'!M35)","v":""},{"$f":"IF('4組'!N35=\"\",\"\",'4組'!N35)","v":""},{"$f":"IF('4組'!O35=\"\",\"\",'4組'!O35)","v":""},{"$f":"IF('4組'!P35=\"\",\"\",'4組'!P35)","v":""},null,null,null,null,null,{"$f":"IF('4組'!V35=\"\",\"\",'4組'!V35)","v":""},{"$f":"IF('4組'!W35=\"\",\"\",'4組'!W35)","v":""},{"$f":"IF('4組'!X35=\"\",\"\",'4組'!X35)","v":""},{"$f":"IF('4組'!Y35=\"\",\"\",'4組'!Y35)","v":""},{"$f":"IF('4組'!Z35=\"\",\"\",'4組'!Z35)","v":""},null,null,null,null,null,{"$f":"IF('4組'!AF35=\"\",\"\",'4組'!AF35)","v":""},{"$f":"IF('4組'!AG35=\"\",\"\",'4組'!AG35)","v":""},{"$f":"IF('4組'!AH35=\"\",\"\",'4組'!AH35)","v":""},{"$f":"IF('4組'!AI35=\"\",\"\",'4組'!AI35)","v":""},{"$f":"IF('4組'!AJ35=\"\",\"\",'4組'!AJ35)","v":""}]
[null,null,null,null,10413,null,4,13,null,null,"",{"$f":"IF('4組'!L36=\"\",\"\",'4組'!L36)","v":""},{"$f":"IF('4組'!M36=\"\",\"\",'4組'!M36)","v":""},{"$f":"IF('4組'!N36=\"\",\"\",'4組'!N36)","v":""},{"$f":"IF('4組'!O36=\"\",\"\",'4組'!O36)","v":""},{"$f":"IF('4組'!P36=\"\",\"\",'4組'!P36)","v":""},null,null,null,null,null,{"$f":"IF('4組'!V36=\"\",\"\",'4組'!V36)","v":""},{"$f":"IF('4組'!W36=\"\",\"\",'4組'!W36)","v":""},{"$f":"IF('4組'!X36=\"\",\"\",'4組'!X36)","v":""},{"$f":"IF('4組'!Y36=\"\",\"\",'4組'!Y36)","v":""},{"$f":"IF('4組'!Z36=\"\",\"\",'4組'!Z36)","v":""},null,null,null,null,null,{"$f":"IF('4組'!AF36=\"\",\"\",'4組'!AF36)","v":""},{"$f":"IF('4組'!AG36=\"\",\"\",'4組'!AG36)","v":""},{"$f":"IF('4組'!AH36=\"\",\"\",'4組'!AH36)","v":""},{"$f":"IF('4組'!AI36=\"\",\"\",'4組'!AI36)","v":""},{"$f":"IF('4組'!AJ36=\"\",\"\",'4組'!AJ36)","v":""}]
[null,null,null,null,10414,null,4,14,null,null,"",{"$f":"IF('4組'!L37=\"\",\"\",'4組'!L37)","v":""},{"$f":"IF('4組'!M37=\"\",\"\",'4組'!M37)","v":""},{"$f":"IF('4組'!N37=\"\",\"\",'4組'!N37)","v":""},{"$f":"IF('4組'!O37=\"\",\"\",'4組'!O37)","v":""},{"$f":"IF('4組'!P37=\"\",\"\",'4組'!P37)","v":""},null,null,null,null,null,{"$f":"IF('4組'!V37=\"\",\"\",'4組'!V37)","v":""},{"$f":"IF('4組'!W37=\"\",\"\",'4組'!W37)","v":""},{"$f":"IF('4組'!X37=\"\",\"\",'4組'!X37)","v":""},{"$f":"IF('4組'!Y37=\"\",\"\",'4組'!Y37)","v":""},{"$f":"IF('4組'!Z37=\"\",\"\",'4組'!Z37)","v":""},null,null,null,null,null,{"$f":"IF('4組'!AF37=\"\",\"\",'4組'!AF37)","v":""},{"$f":"IF('4組'!AG37=\"\",\"\",'4組'!AG37)","v":""},{"$f":"IF('4組'!AH37=\"\",\"\",'4組'!AH37)","v":""},{"$f":"IF('4組'!AI37=\"\",\"\",'4組'!AI37)","v":""},{"$f":"IF('4組'!AJ37=\"\",\"\",'4組'!AJ37)","v":""}]
[null,null,null,null,10415,null,4,15,null,null,"",{"$f":"IF('4組'!L38=\"\",\"\",'4組'!L38)","v":""},{"$f":"IF('4組'!M38=\"\",\"\",'4組'!M38)","v":""},{"$f":"IF('4組'!N38=\"\",\"\",'4組'!N38)","v":""},{"$f":"IF('4組'!O38=\"\",\"\",'4組'!O38)","v":""},{"$f":"IF('4組'!P38=\"\",\"\",'4組'!P38)","v":""},null,null,null,null,null,{"$f":"IF('4組'!V38=\"\",\"\",'4組'!V38)","v":""},{"$f":"IF('4組'!W38=\"\",\"\",'4組'!W38)","v":""},{"$f":"IF('4組'!X38=\"\",\"\",'4組'!X38)","v":""},{"$f":"IF('4組'!Y38=\"\",\"\",'4組'!Y38)","v":""},{"$f":"IF('4組'!Z38=\"\",\"\",'4組'!Z38)","v":""},null,null,null,null,null,{"$f":"IF('4組'!AF38=\"\",\"\",'4組'!AF38)","v":""},{"$f":"IF('4組'!AG38=\"\",\"\",'4組'!AG38)","v":""},{"$f":"IF('4組'!AH38=\"\",\"\",'4組'!AH38)","v":""},{"$f":"IF('4組'!AI38=\"\",\"\",'4組'!AI38)","v":""},{"$f":"IF('4組'!AJ38=\"\",\"\",'4組'!AJ38)","v":""}]
[null,null,null,null,10416,null,4,16,null,null,"",{"$f":"IF('4組'!L39=\"\",\"\",'4組'!L39)","v":""},{"$f":"IF('4組'!M39=\"\",\"\",'4組'!M39)","v":""},{"$f":"IF('4組'!N39=\"\",\"\",'4組'!N39)","v":""},{"$f":"IF('4組'!O39=\"\",\"\",'4組'!O39)","v":""},{"$f":"IF('4組'!P39=\"\",\"\",'4組'!P39)","v":""},null,null,null,null,null,{"$f":"IF('4組'!V39=\"\",\"\",'4組'!V39)","v":""},{"$f":"IF('4組'!W39=\"\",\"\",'4組'!W39)","v":""},{"$f":"IF('4組'!X39=\"\",\"\",'4組'!X39)","v":""},{"$f":"IF('4組'!Y39=\"\",\"\",'4組'!Y39)","v":""},{"$f":"IF('4組'!Z39=\"\",\"\",'4組'!Z39)","v":""},null,null,null,null,null,{"$f":"IF('4組'!AF39=\"\",\"\",'4組'!AF39)","v":""},{"$f":"IF('4組'!AG39=\"\",\"\",'4組'!AG39)","v":""},{"$f":"IF('4組'!AH39=\"\",\"\",'4組'!AH39)","v":""},{"$f":"IF('4組'!AI39=\"\",\"\",'4組'!AI39)","v":""},{"$f":"IF('4組'!AJ39=\"\",\"\",'4組'!AJ39)","v":""}]
[null,null,null,null,10417,null,4,17,null,null,"",{"$f":"IF('4組'!L40=\"\",\"\",'4組'!L40)","v":""},{"$f":"IF('4組'!M40=\"\",\"\",'4組'!M40)","v":""},{"$f":"IF('4組'!N40=\"\",\"\",'4組'!N40)","v":""},{"$f":"IF('4組'!O40=\"\",\"\",'4組'!O40)","v":""},{"$f":"IF('4組'!P40=\"\",\"\",'4組'!P40)","v":""},null,null,null,null,null,{"$f":"IF('4組'!V40=\"\",\"\",'4組'!V40)","v":""},{"$f":"IF('4組'!W40=\"\",\"\",'4組'!W40)","v":""},{"$f":"IF('4組'!X40=\"\",\"\",'4組'!X40)","v":""},{"$f":"IF('4組'!Y40=\"\",\"\",'4組'!Y40)","v":""},{"$f":"IF('4組'!Z40=\"\",\"\",'4組'!Z40)","v":""},null,null,null,null,null,{"$f":"IF('4組'!AF40=\"\",\"\",'4組'!AF40)","v":""},{"$f":"IF('4組'!AG40=\"\",\"\",'4組'!AG40)","v":""},{"$f":"IF('4組'!AH40=\"\",\"\",'4組'!AH40)","v":""},{"$f":"IF('4組'!AI40=\"\",\"\",'4組'!AI40)","v":""},{"$f":"IF('4組'!AJ40=\"\",\"\",'4組'!AJ40)","v":""}]
[null,null,null,null,10418,null,4,18,null,null,"",{"$f":"IF('4組'!L41=\"\",\"\",'4組'!L41)","v":""},{"$f":"IF('4組'!M41=\"\",\"\",'4組'!M41)","v":""},{"$f":"IF('4組'!N41=\"\",\"\",'4組'!N41)","v":""},{"$f":"IF('4組'!O41=\"\",\"\",'4組'!O41)","v":""},{"$f":"IF('4組'!P41=\"\",\"\",'4組'!P41)","v":""},null,null,null,null,null,{"$f":"IF('4組'!V41=\"\",\"\",'4組'!V41)","v":""},{"$f":"IF('4組'!W41=\"\",\"\",'4組'!W41)","v":""},{"$f":"IF('4組'!X41=\"\",\"\",'4組'!X41)","v":""},{"$f":"IF('4組'!Y41=\"\",\"\",'4組'!Y41)","v":""},{"$f":"IF('4組'!Z41=\"\",\"\",'4組'!Z41)","v":""},null,null,null,null,null,{"$f":"IF('4組'!AF41=\"\",\"\",'4組'!AF41)","v":""},{"$f":"IF('4組'!AG41=\"\",\"\",'4組'!AG41)","v":""},{"$f":"IF('4組'!AH41=\"\",\"\",'4組'!AH41)","v":""},{"$f":"IF('4組'!AI41=\"\",\"\",'4組'!AI41)","v":""},{"$f":"IF('4組'!AJ41=\"\",\"\",'4組'!AJ41)","v":""}]
[null,null,null,null,10419,null,4,19,null,null,"",{"$f":"IF('4組'!L42=\"\",\"\",'4組'!L42)","v":""},{"$f":"IF('4組'!M42=\"\",\"\",'4組'!M42)","v":""},{"$f":"IF('4組'!N42=\"\",\"\",'4組'!N42)","v":""},{"$f":"IF('4組'!O42=\"\",\"\",'4組'!O42)","v":""},{"$f":"IF('4組'!P42=\"\",\"\",'4組'!P42)","v":""},null,null,null,null,null,{"$f":"IF('4組'!V42=\"\",\"\",'4組'!V42)","v":""},{"$f":"IF('4組'!W42=\"\",\"\",'4組'!W42)","v":""},{"$f":"IF('4組'!X42=\"\",\"\",'4組'!X42)","v":""},{"$f":"IF('4組'!Y42=\"\",\"\",'4組'!Y42)","v":""},{"$f":"IF('4組'!Z42=\"\",\"\",'4組'!Z42)","v":""},null,null,null,null,null,{"$f":"IF('4組'!AF42=\"\",\"\",'4組'!AF42)","v":""},{"$f":"IF('4組'!AG42=\"\",\"\",'4組'!AG42)","v":""},{"$f":"IF('4組'!AH42=\"\",\"\",'4組'!AH42)","v":""},{"$f":"IF('4組'!AI42=\"\",\"\",'4組'!AI42)","v":""},{"$f":"IF('4組'!AJ42=\"\",\"\",'4組'!AJ42)","v":""}]
[null,null,null,null,10420,null,4,20,null,null,"",{"$f":"IF('4組'!L43=\"\",\"\",'4組'!L43)","v":""},{"$f":"IF('4組'!M43=\"\",\"\",'4組'!M43)","v":""},{"$f":"IF('4組'!N43=\"\",\"\",'4組'!N43)","v":""},{"$f":"IF('4組'!O43=\"\",\"\",'4組'!O43)","v":""},{"$f":"IF('4組'!P43=\"\",\"\",'4組'!P43)","v":""},null,null,null,null,null,{"$f":"IF('4組'!V43=\"\",\"\",'4組'!V43)","v":""},{"$f":"IF('4組'!W43=\"\",\"\",'4組'!W43)","v":""},{"$f":"IF('4組'!X43=\"\",\"\",'4組'!X43)","v":""},{"$f":"IF('4組'!Y43=\"\",\"\",'4組'!Y43)","v":""},{"$f":"IF('4組'!Z43=\"\",\"\",'4組'!Z43)","v":""},null,null,null,null,null,{"$f":"IF('4組'!AF43=\"\",\"\",'4組'!AF43)","v":""},{"$f":"IF('4組'!AG43=\"\",\"\",'4組'!AG43)","v":""},{"$f":"IF('4組'!AH43=\"\",\"\",'4組'!AH43)","v":""},{"$f":"IF('4組'!AI43=\"\",\"\",'4組'!AI43)","v":""},{"$f":"IF('4組'!AJ43=\"\",\"\",'4組'!AJ43)","v":""}]
[null,null,null,null,10421,null,4,21,null,null,"",{"$f":"IF('4組'!L44=\"\",\"\",'4組'!L44)","v":""},{"$f":"IF('4組'!M44=\"\",\"\",'4組'!M44)","v":""},{"$f":"IF('4組'!N44=\"\",\"\",'4組'!N44)","v":""},{"$f":"IF('4組'!O44=\"\",\"\",'4組'!O44)","v":""},{"$f":"IF('4組'!P44=\"\",\"\",'4組'!P44)","v":""},null,null,null,null,null,{"$f":"IF('4組'!V44=\"\",\"\",'4組'!V44)","v":""},{"$f":"IF('4組'!W44=\"\",\"\",'4組'!W44)","v":""},{"$f":"IF('4組'!X44=\"\",\"\",'4組'!X44)","v":""},{"$f":"IF('4組'!Y44=\"\",\"\",'4組'!Y44)","v":""},{"$f":"IF('4組'!Z44=\"\",\"\",'4組'!Z44)","v":""},null,null,null,null,null,{"$f":"IF('4組'!AF44=\"\",\"\",'4組'!AF44)","v":""},{"$f":"IF('4組'!AG44=\"\",\"\",'4組'!AG44)","v":""},{"$f":"IF('4組'!AH44=\"\",\"\",'4組'!AH44)","v":""},{"$f":"IF('4組'!AI44=\"\",\"\",'4組'!AI44)","v":""},{"$f":"IF('4組'!AJ44=\"\",\"\",'4組'!AJ44)","v":""}]
[null,null,null,null,10422,null,4,22,null,null,"",{"$f":"IF('4組'!L45=\"\",\"\",'4組'!L45)","v":""},{"$f":"IF('4組'!M45=\"\",\"\",'4組'!M45)","v":""},{"$f":"IF('4組'!N45=\"\",\"\",'4組'!N45)","v":""},{"$f":"IF('4組'!O45=\"\",\"\",'4組'!O45)","v":""},{"$f":"IF('4組'!P45=\"\",\"\",'4組'!P45)","v":""},null,null,null,null,null,{"$f":"IF('4組'!V45=\"\",\"\",'4組'!V45)","v":""},{"$f":"IF('4組'!W45=\"\",\"\",'4組'!W45)","v":""},{"$f":"IF('4組'!X45=\"\",\"\",'4組'!X45)","v":""},{"$f":"IF('4組'!Y45=\"\",\"\",'4組'!Y45)","v":""},{"$f":"IF('4組'!Z45=\"\",\"\",'4組'!Z45)","v":""},null,null,null,null,null,{"$f":"IF('4組'!AF45=\"\",\"\",'4組'!AF45)","v":""},{"$f":"IF('4組'!AG45=\"\",\"\",'4組'!AG45)","v":""},{"$f":"IF('4組'!AH45=\"\",\"\",'4組'!AH45)","v":""},{"$f":"IF('4組'!AI45=\"\",\"\",'4組'!AI45)","v":""},{"$f":"IF('4組'!AJ45=\"\",\"\",'4組'!AJ45)","v":""}]
[null,null,null,null,10423,null,4,23,null,null,"",{"$f":"IF('4組'!L46=\"\",\"\",'4組'!L46)","v":""},{"$f":"IF('4組'!M46=\"\",\"\",'4組'!M46)","v":""},{"$f":"IF('4組'!N46=\"\",\"\",'4組'!N46)","v":""},{"$f":"IF('4組'!O46=\"\",\"\",'4組'!O46)","v":""},{"$f":"IF('4組'!P46=\"\",\"\",'4組'!P46)","v":""},null,null,null,null,null,{"$f":"IF('4組'!V46=\"\",\"\",'4組'!V46)","v":""},{"$f":"IF('4組'!W46=\"\",\"\",'4組'!W46)","v":""},{"$f":"IF('4組'!X46=\"\",\"\",'4組'!X46)","v":""},{"$f":"IF('4組'!Y46=\"\",\"\",'4組'!Y46)","v":""},{"$f":"IF('4組'!Z46=\"\",\"\",'4組'!Z46)","v":""},null,null,null,null,null,{"$f":"IF('4組'!AF46=\"\",\"\",'4組'!AF46)","v":""},{"$f":"IF('4組'!AG46=\"\",\"\",'4組'!AG46)","v":""},{"$f":"IF('4組'!AH46=\"\",\"\",'4組'!AH46)","v":""},{"$f":"IF('4組'!AI46=\"\",\"\",'4組'!AI46)","v":""},{"$f":"IF('4組'!AJ46=\"\",\"\",'4組'!AJ46)","v":""}]
[null,null,null,null,10424,null,4,24,null,null,"",{"$f":"IF('4組'!L47=\"\",\"\",'4組'!L47)","v":""},{"$f":"IF('4組'!M47=\"\",\"\",'4組'!M47)","v":""},{"$f":"IF('4組'!N47=\"\",\"\",'4組'!N47)","v":""},{"$f":"IF('4組'!O47=\"\",\"\",'4組'!O47)","v":""},{"$f":"IF('4組'!P47=\"\",\"\",'4組'!P47)","v":""},null,null,null,null,null,{"$f":"IF('4組'!V47=\"\",\"\",'4組'!V47)","v":""},{"$f":"IF('4組'!W47=\"\",\"\",'4組'!W47)","v":""},{"$f":"IF('4組'!X47=\"\",\"\",'4組'!X47)","v":""},{"$f":"IF('4組'!Y47=\"\",\"\",'4組'!Y47)","v":""},{"$f":"IF('4組'!Z47=\"\",\"\",'4組'!Z47)","v":""},null,null,null,null,null,{"$f":"IF('4組'!AF47=\"\",\"\",'4組'!AF47)","v":""},{"$f":"IF('4組'!AG47=\"\",\"\",'4組'!AG47)","v":""},{"$f":"IF('4組'!AH47=\"\",\"\",'4組'!AH47)","v":""},{"$f":"IF('4組'!AI47=\"\",\"\",'4組'!AI47)","v":""},{"$f":"IF('4組'!AJ47=\"\",\"\",'4組'!AJ47)","v":""}]
[null,null,null,null,10425,null,4,25,null,null,"",{"$f":"IF('4組'!L48=\"\",\"\",'4組'!L48)","v":""},{"$f":"IF('4組'!M48=\"\",\"\",'4組'!M48)","v":""},{"$f":"IF('4組'!N48=\"\",\"\",'4組'!N48)","v":""},{"$f":"IF('4組'!O48=\"\",\"\",'4組'!O48)","v":""},{"$f":"IF('4組'!P48=\"\",\"\",'4組'!P48)","v":""},null,null,null,null,null,{"$f":"IF('4組'!V48=\"\",\"\",'4組'!V48)","v":""},{"$f":"IF('4組'!W48=\"\",\"\",'4組'!W48)","v":""},{"$f":"IF('4組'!X48=\"\",\"\",'4組'!X48)","v":""},{"$f":"IF('4組'!Y48=\"\",\"\",'4組'!Y48)","v":""},{"$f":"IF('4組'!Z48=\"\",\"\",'4組'!Z48)","v":""},null,null,null,null,null,{"$f":"IF('4組'!AF48=\"\",\"\",'4組'!AF48)","v":""},{"$f":"IF('4組'!AG48=\"\",\"\",'4組'!AG48)","v":""},{"$f":"IF('4組'!AH48=\"\",\"\",'4組'!AH48)","v":""},{"$f":"IF('4組'!AI48=\"\",\"\",'4組'!AI48)","v":""},{"$f":"IF('4組'!AJ48=\"\",\"\",'4組'!AJ48)","v":""}]
[null,null,null,null,10426,null,4,26,null,null,"",{"$f":"IF('4組'!L49=\"\",\"\",'4組'!L49)","v":""},{"$f":"IF('4組'!M49=\"\",\"\",'4組'!M49)","v":""},{"$f":"IF('4組'!N49=\"\",\"\",'4組'!N49)","v":""},{"$f":"IF('4組'!O49=\"\",\"\",'4組'!O49)","v":""},{"$f":"IF('4組'!P49=\"\",\"\",'4組'!P49)","v":""},null,null,null,null,null,{"$f":"IF('4組'!V49=\"\",\"\",'4組'!V49)","v":""},{"$f":"IF('4組'!W49=\"\",\"\",'4組'!W49)","v":""},{"$f":"IF('4組'!X49=\"\",\"\",'4組'!X49)","v":""},{"$f":"IF('4組'!Y49=\"\",\"\",'4組'!Y49)","v":""},{"$f":"IF('4組'!Z49=\"\",\"\",'4組'!Z49)","v":""},null,null,null,null,null,{"$f":"IF('4組'!AF49=\"\",\"\",'4組'!AF49)","v":""},{"$f":"IF('4組'!AG49=\"\",\"\",'4組'!AG49)","v":""},{"$f":"IF('4組'!AH49=\"\",\"\",'4組'!AH49)","v":""},{"$f":"IF('4組'!AI49=\"\",\"\",'4組'!AI49)","v":""},{"$f":"IF('4組'!AJ49=\"\",\"\",'4組'!AJ49)","v":""}]
[null,null,null,null,10427,null,4,27,null,null,"",{"$f":"IF('4組'!L50=\"\",\"\",'4組'!L50)","v":""},{"$f":"IF('4組'!M50=\"\",\"\",'4組'!M50)","v":""},{"$f":"IF('4組'!N50=\"\",\"\",'4組'!N50)","v":""},{"$f":"IF('4組'!O50=\"\",\"\",'4組'!O50)","v":""},{"$f":"IF('4組'!P50=\"\",\"\",'4組'!P50)","v":""},null,null,null,null,null,{"$f":"IF('4組'!V50=\"\",\"\",'4組'!V50)","v":""},{"$f":"IF('4組'!W50=\"\",\"\",'4組'!W50)","v":""},{"$f":"IF('4組'!X50=\"\",\"\",'4組'!X50)","v":""},{"$f":"IF('4組'!Y50=\"\",\"\",'4組'!Y50)","v":""},{"$f":"IF('4組'!Z50=\"\",\"\",'4組'!Z50)","v":""},null,null,null,null,null,{"$f":"IF('4組'!AF50=\"\",\"\",'4組'!AF50)","v":""},{"$f":"IF('4組'!AG50=\"\",\"\",'4組'!AG50)","v":""},{"$f":"IF('4組'!AH50=\"\",\"\",'4組'!AH50)","v":""},{"$f":"IF('4組'!AI50=\"\",\"\",'4組'!AI50)","v":""},{"$f":"IF('4組'!AJ50=\"\",\"\",'4組'!AJ50)","v":""}]
[null,null,null,null,10428,null,4,28,null,null,"",{"$f":"IF('4組'!L51=\"\",\"\",'4組'!L51)","v":""},{"$f":"IF('4組'!M51=\"\",\"\",'4組'!M51)","v":""},{"$f":"IF('4組'!N51=\"\",\"\",'4組'!N51)","v":""},{"$f":"IF('4組'!O51=\"\",\"\",'4組'!O51)","v":""},{"$f":"IF('4組'!P51=\"\",\"\",'4組'!P51)","v":""},null,null,null,null,null,{"$f":"IF('4組'!V51=\"\",\"\",'4組'!V51)","v":""},{"$f":"IF('4組'!W51=\"\",\"\",'4組'!W51)","v":""},{"$f":"IF('4組'!X51=\"\",\"\",'4組'!X51)","v":""},{"$f":"IF('4組'!Y51=\"\",\"\",'4組'!Y51)","v":""},{"$f":"IF('4組'!Z51=\"\",\"\",'4組'!Z51)","v":""},null,null,null,null,null,{"$f":"IF('4組'!AF51=\"\",\"\",'4組'!AF51)","v":""},{"$f":"IF('4組'!AG51=\"\",\"\",'4組'!AG51)","v":""},{"$f":"IF('4組'!AH51=\"\",\"\",'4組'!AH51)","v":""},{"$f":"IF('4組'!AI51=\"\",\"\",'4組'!AI51)","v":""},{"$f":"IF('4組'!AJ51=\"\",\"\",'4組'!AJ51)","v":""}]
[null,null,null,null,10429,null,4,29,null,null,"",{"$f":"IF('4組'!L52=\"\",\"\",'4組'!L52)","v":""},{"$f":"IF('4組'!M52=\"\",\"\",'4組'!M52)","v":""},{"$f":"IF('4組'!N52=\"\",\"\",'4組'!N52)","v":""},{"$f":"IF('4組'!O52=\"\",\"\",'4組'!O52)","v":""},{"$f":"IF('4組'!P52=\"\",\"\",'4組'!P52)","v":""},null,null,null,null,null,{"$f":"IF('4組'!V52=\"\",\"\",'4組'!V52)","v":""},{"$f":"IF('4組'!W52=\"\",\"\",'4組'!W52)","v":""},{"$f":"IF('4組'!X52=\"\",\"\",'4組'!X52)","v":""},{"$f":"IF('4組'!Y52=\"\",\"\",'4組'!Y52)","v":""},{"$f":"IF('4組'!Z52=\"\",\"\",'4組'!Z52)","v":""},null,null,null,null,null,{"$f":"IF('4組'!AF52=\"\",\"\",'4組'!AF52)","v":""},{"$f":"IF('4組'!AG52=\"\",\"\",'4組'!AG52)","v":""},{"$f":"IF('4組'!AH52=\"\",\"\",'4組'!AH52)","v":""},{"$f":"IF('4組'!AI52=\"\",\"\",'4組'!AI52)","v":""},{"$f":"IF('4組'!AJ52=\"\",\"\",'4組'!AJ52)","v":""}]
[null,null,null,null,10430,null,4,30,null,null,"",{"$f":"IF('4組'!L53=\"\",\"\",'4組'!L53)","v":""},{"$f":"IF('4組'!M53=\"\",\"\",'4組'!M53)","v":""},{"$f":"IF('4組'!N53=\"\",\"\",'4組'!N53)","v":""},{"$f":"IF('4組'!O53=\"\",\"\",'4組'!O53)","v":""},{"$f":"IF('4組'!P53=\"\",\"\",'4組'!P53)","v":""},null,null,null,null,null,{"$f":"IF('4組'!V53=\"\",\"\",'4組'!V53)","v":""},{"$f":"IF('4組'!W53=\"\",\"\",'4組'!W53)","v":""},{"$f":"IF('4組'!X53=\"\",\"\",'4組'!X53)","v":""},{"$f":"IF('4組'!Y53=\"\",\"\",'4組'!Y53)","v":""},{"$f":"IF('4組'!Z53=\"\",\"\",'4組'!Z53)","v":""},null,null,null,null,null,{"$f":"IF('4組'!AF53=\"\",\"\",'4組'!AF53)","v":""},{"$f":"IF('4組'!AG53=\"\",\"\",'4組'!AG53)","v":""},{"$f":"IF('4組'!AH53=\"\",\"\",'4組'!AH53)","v":""},{"$f":"IF('4組'!AI53=\"\",\"\",'4組'!AI53)","v":""},{"$f":"IF('4組'!AJ53=\"\",\"\",'4組'!AJ53)","v":""}]
[null,null,null,null,10431,null,4,31,null,null,"",{"$f":"IF('4組'!L54=\"\",\"\",'4組'!L54)","v":""},{"$f":"IF('4組'!M54=\"\",\"\",'4組'!M54)","v":""},{"$f":"IF('4組'!N54=\"\",\"\",'4組'!N54)","v":""},{"$f":"IF('4組'!O54=\"\",\"\",'4組'!O54)","v":""},{"$f":"IF('4組'!P54=\"\",\"\",'4組'!P54)","v":""},null,null,null,null,null,{"$f":"IF('4組'!V54=\"\",\"\",'4組'!V54)","v":""},{"$f":"IF('4組'!W54=\"\",\"\",'4組'!W54)","v":""},{"$f":"IF('4組'!X54=\"\",\"\",'4組'!X54)","v":""},{"$f":"IF('4組'!Y54=\"\",\"\",'4組'!Y54)","v":""},{"$f":"IF('4組'!Z54=\"\",\"\",'4組'!Z54)","v":""},null,null,null,null,null,{"$f":"IF('4組'!AF54=\"\",\"\",'4組'!AF54)","v":""},{"$f":"IF('4組'!AG54=\"\",\"\",'4組'!AG54)","v":""},{"$f":"IF('4組'!AH54=\"\",\"\",'4組'!AH54)","v":""},{"$f":"IF('4組'!AI54=\"\",\"\",'4組'!AI54)","v":""},{"$f":"IF('4組'!AJ54=\"\",\"\",'4組'!AJ54)","v":""}]
[null,null,null,null,10432,null,4,32,null,null,"",{"$f":"IF('4組'!L55=\"\",\"\",'4組'!L55)","v":""},{"$f":"IF('4組'!M55=\"\",\"\",'4組'!M55)","v":""},{"$f":"IF('4組'!N55=\"\",\"\",'4組'!N55)","v":""},{"$f":"IF('4組'!O55=\"\",\"\",'4組'!O55)","v":""},{"$f":"IF('4組'!P55=\"\",\"\",'4組'!P55)","v":""},null,null,null,null,null,{"$f":"IF('4組'!V55=\"\",\"\",'4組'!V55)","v":""},{"$f":"IF('4組'!W55=\"\",\"\",'4組'!W55)","v":""},{"$f":"IF('4組'!X55=\"\",\"\",'4組'!X55)","v":""},{"$f":"IF('4組'!Y55=\"\",\"\",'4組'!Y55)","v":""},{"$f":"IF('4組'!Z55=\"\",\"\",'4組'!Z55)","v":""},null,null,null,null,null,{"$f":"IF('4組'!AF55=\"\",\"\",'4組'!AF55)","v":""},{"$f":"IF('4組'!AG55=\"\",\"\",'4組'!AG55)","v":""},{"$f":"IF('4組'!AH55=\"\",\"\",'4組'!AH55)","v":""},{"$f":"IF('4組'!AI55=\"\",\"\",'4組'!AI55)","v":""},{"$f":"IF('4組'!AJ55=\"\",\"\",'4組'!AJ55)","v":""}]
[null,null,null,null,10433,null,4,33,null,null,"",{"$f":"IF('4組'!L56=\"\",\"\",'4組'!L56)","v":""},{"$f":"IF('4組'!M56=\"\",\"\",'4組'!M56)","v":""},{"$f":"IF('4組'!N56=\"\",\"\",'4組'!N56)","v":""},{"$f":"IF('4組'!O56=\"\",\"\",'4組'!O56)","v":""},{"$f":"IF('4組'!P56=\"\",\"\",'4組'!P56)","v":""},null,null,null,null,null,{"$f":"IF('4組'!V56=\"\",\"\",'4組'!V56)","v":""},{"$f":"IF('4組'!W56=\"\",\"\",'4組'!W56)","v":""},{"$f":"IF('4組'!X56=\"\",\"\",'4組'!X56)","v":""},{"$f":"IF('4組'!Y56=\"\",\"\",'4組'!Y56)","v":""},{"$f":"IF('4組'!Z56=\"\",\"\",'4組'!Z56)","v":""},null,null,null,null,null,{"$f":"IF('4組'!AF56=\"\",\"\",'4組'!AF56)","v":""},{"$f":"IF('4組'!AG56=\"\",\"\",'4組'!AG56)","v":""},{"$f":"IF('4組'!AH56=\"\",\"\",'4組'!AH56)","v":""},{"$f":"IF('4組'!AI56=\"\",\"\",'4組'!AI56)","v":""},{"$f":"IF('4組'!AJ56=\"\",\"\",'4組'!AJ56)","v":""}]
[null,null,null,null,10434,null,4,34,null,null,"",{"$f":"IF('4組'!L57=\"\",\"\",'4組'!L57)","v":""},{"$f":"IF('4組'!M57=\"\",\"\",'4組'!M57)","v":""},{"$f":"IF('4組'!N57=\"\",\"\",'4組'!N57)","v":""},{"$f":"IF('4組'!O57=\"\",\"\",'4組'!O57)","v":""},{"$f":"IF('4組'!P57=\"\",\"\",'4組'!P57)","v":""},null,null,null,null,null,{"$f":"IF('4組'!V57=\"\",\"\",'4組'!V57)","v":""},{"$f":"IF('4組'!W57=\"\",\"\",'4組'!W57)","v":""},{"$f":"IF('4組'!X57=\"\",\"\",'4組'!X57)","v":""},{"$f":"IF('4組'!Y57=\"\",\"\",'4組'!Y57)","v":""},{"$f":"IF('4組'!Z57=\"\",\"\",'4組'!Z57)","v":""},null,null,null,null,null,{"$f":"IF('4組'!AF57=\"\",\"\",'4組'!AF57)","v":""},{"$f":"IF('4組'!AG57=\"\",\"\",'4組'!AG57)","v":""},{"$f":"IF('4組'!AH57=\"\",\"\",'4組'!AH57)","v":""},{"$f":"IF('4組'!AI57=\"\",\"\",'4組'!AI57)","v":""},{"$f":"IF('4組'!AJ57=\"\",\"\",'4組'!AJ57)","v":""}]
[null,null,null,null,10435,null,4,35,null,null,"",{"$f":"IF('4組'!L58=\"\",\"\",'4組'!L58)","v":""},{"$f":"IF('4組'!M58=\"\",\"\",'4組'!M58)","v":""},{"$f":"IF('4組'!N58=\"\",\"\",'4組'!N58)","v":""},{"$f":"IF('4組'!O58=\"\",\"\",'4組'!O58)","v":""},{"$f":"IF('4組'!P58=\"\",\"\",'4組'!P58)","v":""},null,null,null,null,null,{"$f":"IF('4組'!V58=\"\",\"\",'4組'!V58)","v":""},{"$f":"IF('4組'!W58=\"\",\"\",'4組'!W58)","v":""},{"$f":"IF('4組'!X58=\"\",\"\",'4組'!X58)","v":""},{"$f":"IF('4組'!Y58=\"\",\"\",'4組'!Y58)","v":""},{"$f":"IF('4組'!Z58=\"\",\"\",'4組'!Z58)","v":""},null,null,null,null,null,{"$f":"IF('4組'!AF58=\"\",\"\",'4組'!AF58)","v":""},{"$f":"IF('4組'!AG58=\"\",\"\",'4組'!AG58)","v":""},{"$f":"IF('4組'!AH58=\"\",\"\",'4組'!AH58)","v":""},{"$f":"IF('4組'!AI58=\"\",\"\",'4組'!AI58)","v":""},{"$f":"IF('4組'!AJ58=\"\",\"\",'4組'!AJ58)","v":""}]
[null,null,null,null,10436,null,4,36,null,null,"",{"$f":"IF('4組'!L59=\"\",\"\",'4組'!L59)","v":""},{"$f":"IF('4組'!M59=\"\",\"\",'4組'!M59)","v":""},{"$f":"IF('4組'!N59=\"\",\"\",'4組'!N59)","v":""},{"$f":"IF('4組'!O59=\"\",\"\",'4組'!O59)","v":""},{"$f":"IF('4組'!P59=\"\",\"\",'4組'!P59)","v":""},null,null,null,null,null,{"$f":"IF('4組'!V59=\"\",\"\",'4組'!V59)","v":""},{"$f":"IF('4組'!W59=\"\",\"\",'4組'!W59)","v":""},{"$f":"IF('4組'!X59=\"\",\"\",'4組'!X59)","v":""},{"$f":"IF('4組'!Y59=\"\",\"\",'4組'!Y59)","v":""},{"$f":"IF('4組'!Z59=\"\",\"\",'4組'!Z59)","v":""},null,null,null,null,null,{"$f":"IF('4組'!AF59=\"\",\"\",'4組'!AF59)","v":""},{"$f":"IF('4組'!AG59=\"\",\"\",'4組'!AG59)","v":""},{"$f":"IF('4組'!AH59=\"\",\"\",'4組'!AH59)","v":""},{"$f":"IF('4組'!AI59=\"\",\"\",'4組'!AI59)","v":""},{"$f":"IF('4組'!AJ59=\"\",\"\",'4組'!AJ59)","v":""}]
[null,null,null,null,10437,null,4,37,null,null,"",{"$f":"IF('4組'!L60=\"\",\"\",'4組'!L60)","v":""},{"$f":"IF('4組'!M60=\"\",\"\",'4組'!M60)","v":""},{"$f":"IF('4組'!N60=\"\",\"\",'4組'!N60)","v":""},{"$f":"IF('4組'!O60=\"\",\"\",'4組'!O60)","v":""},{"$f":"IF('4組'!P60=\"\",\"\",'4組'!P60)","v":""},null,null,null,null,null,{"$f":"IF('4組'!V60=\"\",\"\",'4組'!V60)","v":""},{"$f":"IF('4組'!W60=\"\",\"\",'4組'!W60)","v":""},{"$f":"IF('4組'!X60=\"\",\"\",'4組'!X60)","v":""},{"$f":"IF('4組'!Y60=\"\",\"\",'4組'!Y60)","v":""},{"$f":"IF('4組'!Z60=\"\",\"\",'4組'!Z60)","v":""},null,null,null,null,null,{"$f":"IF('4組'!AF60=\"\",\"\",'4組'!AF60)","v":""},{"$f":"IF('4組'!AG60=\"\",\"\",'4組'!AG60)","v":""},{"$f":"IF('4組'!AH60=\"\",\"\",'4組'!AH60)","v":""},{"$f":"IF('4組'!AI60=\"\",\"\",'4組'!AI60)","v":""},{"$f":"IF('4組'!AJ60=\"\",\"\",'4組'!AJ60)","v":""}]
[null,null,null,null,10438,null,4,38,null,null,"",{"$f":"IF('4組'!L61=\"\",\"\",'4組'!L61)","v":""},{"$f":"IF('4組'!M61=\"\",\"\",'4組'!M61)","v":""},{"$f":"IF('4組'!N61=\"\",\"\",'4組'!N61)","v":""},{"$f":"IF('4組'!O61=\"\",\"\",'4組'!O61)","v":""},{"$f":"IF('4組'!P61=\"\",\"\",'4組'!P61)","v":""},null,null,null,null,null,{"$f":"IF('4組'!V61=\"\",\"\",'4組'!V61)","v":""},{"$f":"IF('4組'!W61=\"\",\"\",'4組'!W61)","v":""},{"$f":"IF('4組'!X61=\"\",\"\",'4組'!X61)","v":""},{"$f":"IF('4組'!Y61=\"\",\"\",'4組'!Y61)","v":""},{"$f":"IF('4組'!Z61=\"\",\"\",'4組'!Z61)","v":""},null,null,null,null,null,{"$f":"IF('4組'!AF61=\"\",\"\",'4組'!AF61)","v":""},{"$f":"IF('4組'!AG61=\"\",\"\",'4組'!AG61)","v":""},{"$f":"IF('4組'!AH61=\"\",\"\",'4組'!AH61)","v":""},{"$f":"IF('4組'!AI61=\"\",\"\",'4組'!AI61)","v":""},{"$f":"IF('4組'!AJ61=\"\",\"\",'4組'!AJ61)","v":""}]
[null,null,null,null,10439,null,4,39,null,null,"",{"$f":"IF('4組'!L62=\"\",\"\",'4組'!L62)","v":""},{"$f":"IF('4組'!M62=\"\",\"\",'4組'!M62)","v":""},{"$f":"IF('4組'!N62=\"\",\"\",'4組'!N62)","v":""},{"$f":"IF('4組'!O62=\"\",\"\",'4組'!O62)","v":""},{"$f":"IF('4組'!P62=\"\",\"\",'4組'!P62)","v":""},null,null,null,null,null,{"$f":"IF('4組'!V62=\"\",\"\",'4組'!V62)","v":""},{"$f":"IF('4組'!W62=\"\",\"\",'4組'!W62)","v":""},{"$f":"IF('4組'!X62=\"\",\"\",'4組'!X62)","v":""},{"$f":"IF('4組'!Y62=\"\",\"\",'4組'!Y62)","v":""},{"$f":"IF('4組'!Z62=\"\",\"\",'4組'!Z62)","v":""},null,null,null,null,null,{"$f":"IF('4組'!AF62=\"\",\"\",'4組'!AF62)","v":""},{"$f":"IF('4組'!AG62=\"\",\"\",'4組'!AG62)","v":""},{"$f":"IF('4組'!AH62=\"\",\"\",'4組'!AH62)","v":""},{"$f":"IF('4組'!AI62=\"\",\"\",'4組'!AI62)","v":""},{"$f":"IF('4組'!AJ62=\"\",\"\",'4組'!AJ62)","v":""}]
[null,null,null,null,10440,null,4,40,null,null,"",{"$f":"IF('4組'!L63=\"\",\"\",'4組'!L63)","v":""},{"$f":"IF('4組'!M63=\"\",\"\",'4組'!M63)","v":""},{"$f":"IF('4組'!N63=\"\",\"\",'4組'!N63)","v":""},{"$f":"IF('4組'!O63=\"\",\"\",'4組'!O63)","v":""},{"$f":"IF('4組'!P63=\"\",\"\",'4組'!P63)","v":""},null,null,null,null,null,{"$f":"IF('4組'!V63=\"\",\"\",'4組'!V63)","v":""},{"$f":"IF('4組'!W63=\"\",\"\",'4組'!W63)","v":""},{"$f":"IF('4組'!X63=\"\",\"\",'4組'!X63)","v":""},{"$f":"IF('4組'!Y63=\"\",\"\",'4組'!Y63)","v":""},{"$f":"IF('4組'!Z63=\"\",\"\",'4組'!Z63)","v":""},null,null,null,null,null,{"$f":"IF('4組'!AF63=\"\",\"\",'4組'!AF63)","v":""},{"$f":"IF('4組'!AG63=\"\",\"\",'4組'!AG63)","v":""},{"$f":"IF('4組'!AH63=\"\",\"\",'4組'!AH63)","v":""},{"$f":"IF('4組'!AI63=\"\",\"\",'4組'!AI63)","v":""},{"$f":"IF('4組'!AJ63=\"\",\"\",'4組'!AJ63)","v":""}]
[null,null,null,null,10441,null,4,41,null,null,"",{"$f":"IF('4組'!L64=\"\",\"\",'4組'!L64)","v":""},{"$f":"IF('4組'!M64=\"\",\"\",'4組'!M64)","v":""},{"$f":"IF('4組'!N64=\"\",\"\",'4組'!N64)","v":""},{"$f":"IF('4組'!O64=\"\",\"\",'4組'!O64)","v":""},{"$f":"IF('4組'!P64=\"\",\"\",'4組'!P64)","v":""},null,null,null,null,null,{"$f":"IF('4組'!V64=\"\",\"\",'4組'!V64)","v":""},{"$f":"IF('4組'!W64=\"\",\"\",'4組'!W64)","v":""},{"$f":"IF('4組'!X64=\"\",\"\",'4組'!X64)","v":""},{"$f":"IF('4組'!Y64=\"\",\"\",'4組'!Y64)","v":""},{"$f":"IF('4組'!Z64=\"\",\"\",'4組'!Z64)","v":""},null,null,null,null,null,{"$f":"IF('4組'!AF64=\"\",\"\",'4組'!AF64)","v":""},{"$f":"IF('4組'!AG64=\"\",\"\",'4組'!AG64)","v":""},{"$f":"IF('4組'!AH64=\"\",\"\",'4組'!AH64)","v":""},{"$f":"IF('4組'!AI64=\"\",\"\",'4組'!AI64)","v":""},{"$f":"IF('4組'!AJ64=\"\",\"\",'4組'!AJ64)","v":""}]
[null,null,null,null,10442,null,4,42,null,null,"",{"$f":"IF('4組'!L65=\"\",\"\",'4組'!L65)","v":""},{"$f":"IF('4組'!M65=\"\",\"\",'4組'!M65)","v":""},{"$f":"IF('4組'!N65=\"\",\"\",'4組'!N65)","v":""},{"$f":"IF('4組'!O65=\"\",\"\",'4組'!O65)","v":""},{"$f":"IF('4組'!P65=\"\",\"\",'4組'!P65)","v":""},null,null,null,null,null,{"$f":"IF('4組'!V65=\"\",\"\",'4組'!V65)","v":""},{"$f":"IF('4組'!W65=\"\",\"\",'4組'!W65)","v":""},{"$f":"IF('4組'!X65=\"\",\"\",'4組'!X65)","v":""},{"$f":"IF('4組'!Y65=\"\",\"\",'4組'!Y65)","v":""},{"$f":"IF('4組'!Z65=\"\",\"\",'4組'!Z65)","v":""},null,null,null,null,null,{"$f":"IF('4組'!AF65=\"\",\"\",'4組'!AF65)","v":""},{"$f":"IF('4組'!AG65=\"\",\"\",'4組'!AG65)","v":""},{"$f":"IF('4組'!AH65=\"\",\"\",'4組'!AH65)","v":""},{"$f":"IF('4組'!AI65=\"\",\"\",'4組'!AI65)","v":""},{"$f":"IF('4組'!AJ65=\"\",\"\",'4組'!AJ65)","v":""}]
[null,null,null,null,{"$f":"$H$8*10000+G216*100+H216","v":10443},null,4,43,null,null,"",{"$f":"IF('4組'!L66=\"\",\"\",'4組'!L66)","v":""},{"$f":"IF('4組'!M66=\"\",\"\",'4組'!M66)","v":""},{"$f":"IF('4組'!N66=\"\",\"\",'4組'!N66)","v":""},{"$f":"IF('4組'!O66=\"\",\"\",'4組'!O66)","v":""},{"$f":"IF('4組'!P66=\"\",\"\",'4組'!P66)","v":""},null,null,null,null,null,{"$f":"IF('4組'!V66=\"\",\"\",'4組'!V66)","v":""},{"$f":"IF('4組'!W66=\"\",\"\",'4組'!W66)","v":""},{"$f":"IF('4組'!X66=\"\",\"\",'4組'!X66)","v":""},{"$f":"IF('4組'!Y66=\"\",\"\",'4組'!Y66)","v":""},{"$f":"IF('4組'!Z66=\"\",\"\",'4組'!Z66)","v":""},null,null,null,null,null,{"$f":"IF('4組'!AF66=\"\",\"\",'4組'!AF66)","v":""},{"$f":"IF('4組'!AG66=\"\",\"\",'4組'!AG66)","v":""},{"$f":"IF('4組'!AH66=\"\",\"\",'4組'!AH66)","v":""},{"$f":"IF('4組'!AI66=\"\",\"\",'4組'!AI66)","v":""},{"$f":"IF('4組'!AJ66=\"\",\"\",'4組'!AJ66)","v":""}]
[null,null,null,null,10444,null,4,44,null,null,{"$f":"IF(J217=1,\"男\",IF(J217=2,\"女\",\"\"))","v":""},{"$f":"IF('4組'!L67=\"\",\"\",'4組'!L67)","v":""},{"$f":"IF('4組'!M67=\"\",\"\",'4組'!M67)","v":""},{"$f":"IF('4組'!N67=\"\",\"\",'4組'!N67)","v":""},{"$f":"IF('4組'!O67=\"\",\"\",'4組'!O67)","v":""},{"$f":"IF('4組'!P67=\"\",\"\",'4組'!P67)","v":""},null,null,null,null,null,{"$f":"IF('4組'!V67=\"\",\"\",'4組'!V67)","v":""},{"$f":"IF('4組'!W67=\"\",\"\",'4組'!W67)","v":""},{"$f":"IF('4組'!X67=\"\",\"\",'4組'!X67)","v":""},{"$f":"IF('4組'!Y67=\"\",\"\",'4組'!Y67)","v":""},{"$f":"IF('4組'!Z67=\"\",\"\",'4組'!Z67)","v":""},null,null,null,null,null,{"$f":"IF('4組'!AF67=\"\",\"\",'4組'!AF67)","v":""},{"$f":"IF('4組'!AG67=\"\",\"\",'4組'!AG67)","v":""},{"$f":"IF('4組'!AH67=\"\",\"\",'4組'!AH67)","v":""},{"$f":"IF('4組'!AI67=\"\",\"\",'4組'!AI67)","v":""},{"$f":"IF('4組'!AJ67=\"\",\"\",'4組'!AJ67)","v":""}]
[null,null,null,null,10445,null,{"$f":"IF(H217<50,G217,G217+1)","v":4},{"$f":"IF(G218<>G217,1,H217+1)","v":45},null,null,"",{"$f":"IF('4組'!L68=\"\",\"\",'4組'!L68)","v":""},{"$f":"IF('4組'!M68=\"\",\"\",'4組'!M68)","v":""},{"$f":"IF('4組'!N68=\"\",\"\",'4組'!N68)","v":""},{"$f":"IF('4組'!O68=\"\",\"\",'4組'!O68)","v":""},{"$f":"IF('4組'!P68=\"\",\"\",'4組'!P68)","v":""},null,null,null,null,null,{"$f":"IF('4組'!V68=\"\",\"\",'4組'!V68)","v":""},{"$f":"IF('4組'!W68=\"\",\"\",'4組'!W68)","v":""},{"$f":"IF('4組'!X68=\"\",\"\",'4組'!X68)","v":""},{"$f":"IF('4組'!Y68=\"\",\"\",'4組'!Y68)","v":""},{"$f":"IF('4組'!Z68=\"\",\"\",'4組'!Z68)","v":""},null,null,null,null,null,{"$f":"IF('4組'!AF68=\"\",\"\",'4組'!AF68)","v":""},{"$f":"IF('4組'!AG68=\"\",\"\",'4組'!AG68)","v":""},{"$f":"IF('4組'!AH68=\"\",\"\",'4組'!AH68)","v":""},{"$f":"IF('4組'!AI68=\"\",\"\",'4組'!AI68)","v":""},{"$f":"IF('4組'!AJ68=\"\",\"\",'4組'!AJ68)","v":""}]
[null,null,null,null,10446,null,4,46,null,null,"",{"$f":"IF('4組'!L69=\"\",\"\",'4組'!L69)","v":""},{"$f":"IF('4組'!M69=\"\",\"\",'4組'!M69)","v":""},{"$f":"IF('4組'!N69=\"\",\"\",'4組'!N69)","v":""},{"$f":"IF('4組'!O69=\"\",\"\",'4組'!O69)","v":""},{"$f":"IF('4組'!P69=\"\",\"\",'4組'!P69)","v":""},null,null,null,null,null,{"$f":"IF('4組'!V69=\"\",\"\",'4組'!V69)","v":""},{"$f":"IF('4組'!W69=\"\",\"\",'4組'!W69)","v":""},{"$f":"IF('4組'!X69=\"\",\"\",'4組'!X69)","v":""},{"$f":"IF('4組'!Y69=\"\",\"\",'4組'!Y69)","v":""},{"$f":"IF('4組'!Z69=\"\",\"\",'4組'!Z69)","v":""},null,null,null,null,null,{"$f":"IF('4組'!AF69=\"\",\"\",'4組'!AF69)","v":""},{"$f":"IF('4組'!AG69=\"\",\"\",'4組'!AG69)","v":""},{"$f":"IF('4組'!AH69=\"\",\"\",'4組'!AH69)","v":""},{"$f":"IF('4組'!AI69=\"\",\"\",'4組'!AI69)","v":""},{"$f":"IF('4組'!AJ69=\"\",\"\",'4組'!AJ69)","v":""}]
[null,null,null,null,10447,null,4,47,null,null,"",{"$f":"IF('4組'!L70=\"\",\"\",'4組'!L70)","v":""},{"$f":"IF('4組'!M70=\"\",\"\",'4組'!M70)","v":""},{"$f":"IF('4組'!N70=\"\",\"\",'4組'!N70)","v":""},{"$f":"IF('4組'!O70=\"\",\"\",'4組'!O70)","v":""},{"$f":"IF('4組'!P70=\"\",\"\",'4組'!P70)","v":""},null,null,null,null,null,{"$f":"IF('4組'!V70=\"\",\"\",'4組'!V70)","v":""},{"$f":"IF('4組'!W70=\"\",\"\",'4組'!W70)","v":""},{"$f":"IF('4組'!X70=\"\",\"\",'4組'!X70)","v":""},{"$f":"IF('4組'!Y70=\"\",\"\",'4組'!Y70)","v":""},{"$f":"IF('4組'!Z70=\"\",\"\",'4組'!Z70)","v":""},null,null,null,null,null,{"$f":"IF('4組'!AF70=\"\",\"\",'4組'!AF70)","v":""},{"$f":"IF('4組'!AG70=\"\",\"\",'4組'!AG70)","v":""},{"$f":"IF('4組'!AH70=\"\",\"\",'4組'!AH70)","v":""},{"$f":"IF('4組'!AI70=\"\",\"\",'4組'!AI70)","v":""},{"$f":"IF('4組'!AJ70=\"\",\"\",'4組'!AJ70)","v":""}]
[null,null,null,null,10448,null,4,48,null,null,"",{"$f":"IF('4組'!L71=\"\",\"\",'4組'!L71)","v":""},{"$f":"IF('4組'!M71=\"\",\"\",'4組'!M71)","v":""},{"$f":"IF('4組'!N71=\"\",\"\",'4組'!N71)","v":""},{"$f":"IF('4組'!O71=\"\",\"\",'4組'!O71)","v":""},{"$f":"IF('4組'!P71=\"\",\"\",'4組'!P71)","v":""},null,null,null,null,null,{"$f":"IF('4組'!V71=\"\",\"\",'4組'!V71)","v":""},{"$f":"IF('4組'!W71=\"\",\"\",'4組'!W71)","v":""},{"$f":"IF('4組'!X71=\"\",\"\",'4組'!X71)","v":""},{"$f":"IF('4組'!Y71=\"\",\"\",'4組'!Y71)","v":""},{"$f":"IF('4組'!Z71=\"\",\"\",'4組'!Z71)","v":""},null,null,null,null,null,{"$f":"IF('4組'!AF71=\"\",\"\",'4組'!AF71)","v":""},{"$f":"IF('4組'!AG71=\"\",\"\",'4組'!AG71)","v":""},{"$f":"IF('4組'!AH71=\"\",\"\",'4組'!AH71)","v":""},{"$f":"IF('4組'!AI71=\"\",\"\",'4組'!AI71)","v":""},{"$f":"IF('4組'!AJ71=\"\",\"\",'4組'!AJ71)","v":""}]
[null,null,null,null,10449,null,4,49,null,null,"",{"$f":"IF('4組'!L72=\"\",\"\",'4組'!L72)","v":""},{"$f":"IF('4組'!M72=\"\",\"\",'4組'!M72)","v":""},{"$f":"IF('4組'!N72=\"\",\"\",'4組'!N72)","v":""},{"$f":"IF('4組'!O72=\"\",\"\",'4組'!O72)","v":""},{"$f":"IF('4組'!P72=\"\",\"\",'4組'!P72)","v":""},null,null,null,null,null,{"$f":"IF('4組'!V72=\"\",\"\",'4組'!V72)","v":""},{"$f":"IF('4組'!W72=\"\",\"\",'4組'!W72)","v":""},{"$f":"IF('4組'!X72=\"\",\"\",'4組'!X72)","v":""},{"$f":"IF('4組'!Y72=\"\",\"\",'4組'!Y72)","v":""},{"$f":"IF('4組'!Z72=\"\",\"\",'4組'!Z72)","v":""},null,null,null,null,null,{"$f":"IF('4組'!AF72=\"\",\"\",'4組'!AF72)","v":""},{"$f":"IF('4組'!AG72=\"\",\"\",'4組'!AG72)","v":""},{"$f":"IF('4組'!AH72=\"\",\"\",'4組'!AH72)","v":""},{"$f":"IF('4組'!AI72=\"\",\"\",'4組'!AI72)","v":""},{"$f":"IF('4組'!AJ72=\"\",\"\",'4組'!AJ72)","v":""}]
[null,null,null,null,10450,null,4,50,null,null,"",{"$f":"IF('4組'!L73=\"\",\"\",'4組'!L73)","v":""},{"$f":"IF('4組'!M73=\"\",\"\",'4組'!M73)","v":""},{"$f":"IF('4組'!N73=\"\",\"\",'4組'!N73)","v":""},{"$f":"IF('4組'!O73=\"\",\"\",'4組'!O73)","v":""},{"$f":"IF('4組'!P73=\"\",\"\",'4組'!P73)","v":""},null,null,null,null,null,{"$f":"IF('4組'!V73=\"\",\"\",'4組'!V73)","v":""},{"$f":"IF('4組'!W73=\"\",\"\",'4組'!W73)","v":""},{"$f":"IF('4組'!X73=\"\",\"\",'4組'!X73)","v":""},{"$f":"IF('4組'!Y73=\"\",\"\",'4組'!Y73)","v":""},{"$f":"IF('4組'!Z73=\"\",\"\",'4組'!Z73)","v":""},null,null,null,null,null,{"$f":"IF('4組'!AF73=\"\",\"\",'4組'!AF73)","v":""},{"$f":"IF('4組'!AG73=\"\",\"\",'4組'!AG73)","v":""},{"$f":"IF('4組'!AH73=\"\",\"\",'4組'!AH73)","v":""},{"$f":"IF('4組'!AI73=\"\",\"\",'4組'!AI73)","v":""},{"$f":"IF('4組'!AJ73=\"\",\"\",'4組'!AJ73)","v":""}]
[null,null,null,null,10501,null,5,1,null,null,"",{"$f":"IF('5組'!L24=\"\",\"\",'5組'!L24)","v":""},{"$f":"IF('5組'!M24=\"\",\"\",'5組'!M24)","v":""},{"$f":"IF('5組'!N24=\"\",\"\",'5組'!N24)","v":""},{"$f":"IF('5組'!O24=\"\",\"\",'5組'!O24)","v":""},{"$f":"IF('5組'!P24=\"\",\"\",'5組'!P24)","v":""},null,null,null,null,null,{"$f":"IF('5組'!V24=\"\",\"\",'5組'!V24)","v":""},{"$f":"IF('5組'!W24=\"\",\"\",'5組'!W24)","v":""},{"$f":"IF('5組'!X24=\"\",\"\",'5組'!X24)","v":""},{"$f":"IF('5組'!Y24=\"\",\"\",'5組'!Y24)","v":""},{"$f":"IF('5組'!Z24=\"\",\"\",'5組'!Z24)","v":""},null,null,null,null,null,{"$f":"IF('5組'!AF24=\"\",\"\",'5組'!AF24)","v":""},{"$f":"IF('5組'!AG24=\"\",\"\",'5組'!AG24)","v":""},{"$f":"IF('5組'!AH24=\"\",\"\",'5組'!AH24)","v":""},{"$f":"IF('5組'!AI24=\"\",\"\",'5組'!AI24)","v":""},{"$f":"IF('5組'!AJ24=\"\",\"\",'5組'!AJ24)","v":""}]
[null,null,null,null,10502,null,5,2,null,null,"",{"$f":"IF('5組'!L25=\"\",\"\",'5組'!L25)","v":""},{"$f":"IF('5組'!M25=\"\",\"\",'5組'!M25)","v":""},{"$f":"IF('5組'!N25=\"\",\"\",'5組'!N25)","v":""},{"$f":"IF('5組'!O25=\"\",\"\",'5組'!O25)","v":""},{"$f":"IF('5組'!P25=\"\",\"\",'5組'!P25)","v":""},null,null,null,null,null,{"$f":"IF('5組'!V25=\"\",\"\",'5組'!V25)","v":""},{"$f":"IF('5組'!W25=\"\",\"\",'5組'!W25)","v":""},{"$f":"IF('5組'!X25=\"\",\"\",'5組'!X25)","v":""},{"$f":"IF('5組'!Y25=\"\",\"\",'5組'!Y25)","v":""},{"$f":"IF('5組'!Z25=\"\",\"\",'5組'!Z25)","v":""},null,null,null,null,null,{"$f":"IF('5組'!AF25=\"\",\"\",'5組'!AF25)","v":""},{"$f":"IF('5組'!AG25=\"\",\"\",'5組'!AG25)","v":""},{"$f":"IF('5組'!AH25=\"\",\"\",'5組'!AH25)","v":""},{"$f":"IF('5組'!AI25=\"\",\"\",'5組'!AI25)","v":""},{"$f":"IF('5組'!AJ25=\"\",\"\",'5組'!AJ25)","v":""}]
[null,null,null,null,10503,null,5,3,null,null,"",{"$f":"IF('5組'!L26=\"\",\"\",'5組'!L26)","v":""},{"$f":"IF('5組'!M26=\"\",\"\",'5組'!M26)","v":""},{"$f":"IF('5組'!N26=\"\",\"\",'5組'!N26)","v":""},{"$f":"IF('5組'!O26=\"\",\"\",'5組'!O26)","v":""},{"$f":"IF('5組'!P26=\"\",\"\",'5組'!P26)","v":""},null,null,null,null,null,{"$f":"IF('5組'!V26=\"\",\"\",'5組'!V26)","v":""},{"$f":"IF('5組'!W26=\"\",\"\",'5組'!W26)","v":""},{"$f":"IF('5組'!X26=\"\",\"\",'5組'!X26)","v":""},{"$f":"IF('5組'!Y26=\"\",\"\",'5組'!Y26)","v":""},{"$f":"IF('5組'!Z26=\"\",\"\",'5組'!Z26)","v":""},null,null,null,null,null,{"$f":"IF('5組'!AF26=\"\",\"\",'5組'!AF26)","v":""},{"$f":"IF('5組'!AG26=\"\",\"\",'5組'!AG26)","v":""},{"$f":"IF('5組'!AH26=\"\",\"\",'5組'!AH26)","v":""},{"$f":"IF('5組'!AI26=\"\",\"\",'5組'!AI26)","v":""},{"$f":"IF('5組'!AJ26=\"\",\"\",'5組'!AJ26)","v":""}]
[null,null,null,null,10504,null,5,4,null,null,"",{"$f":"IF('5組'!L27=\"\",\"\",'5組'!L27)","v":""},{"$f":"IF('5組'!M27=\"\",\"\",'5組'!M27)","v":""},{"$f":"IF('5組'!N27=\"\",\"\",'5組'!N27)","v":""},{"$f":"IF('5組'!O27=\"\",\"\",'5組'!O27)","v":""},{"$f":"IF('5組'!P27=\"\",\"\",'5組'!P27)","v":""},null,null,null,null,null,{"$f":"IF('5組'!V27=\"\",\"\",'5組'!V27)","v":""},{"$f":"IF('5組'!W27=\"\",\"\",'5組'!W27)","v":""},{"$f":"IF('5組'!X27=\"\",\"\",'5組'!X27)","v":""},{"$f":"IF('5組'!Y27=\"\",\"\",'5組'!Y27)","v":""},{"$f":"IF('5組'!Z27=\"\",\"\",'5組'!Z27)","v":""},null,null,null,null,null,{"$f":"IF('5組'!AF27=\"\",\"\",'5組'!AF27)","v":""},{"$f":"IF('5組'!AG27=\"\",\"\",'5組'!AG27)","v":""},{"$f":"IF('5組'!AH27=\"\",\"\",'5組'!AH27)","v":""},{"$f":"IF('5組'!AI27=\"\",\"\",'5組'!AI27)","v":""},{"$f":"IF('5組'!AJ27=\"\",\"\",'5組'!AJ27)","v":""}]
[null,null,null,null,10505,null,5,5,null,null,"",{"$f":"IF('5組'!L28=\"\",\"\",'5組'!L28)","v":""},{"$f":"IF('5組'!M28=\"\",\"\",'5組'!M28)","v":""},{"$f":"IF('5組'!N28=\"\",\"\",'5組'!N28)","v":""},{"$f":"IF('5組'!O28=\"\",\"\",'5組'!O28)","v":""},{"$f":"IF('5組'!P28=\"\",\"\",'5組'!P28)","v":""},null,null,null,null,null,{"$f":"IF('5組'!V28=\"\",\"\",'5組'!V28)","v":""},{"$f":"IF('5組'!W28=\"\",\"\",'5組'!W28)","v":""},{"$f":"IF('5組'!X28=\"\",\"\",'5組'!X28)","v":""},{"$f":"IF('5組'!Y28=\"\",\"\",'5組'!Y28)","v":""},{"$f":"IF('5組'!Z28=\"\",\"\",'5組'!Z28)","v":""},null,null,null,null,null,{"$f":"IF('5組'!AF28=\"\",\"\",'5組'!AF28)","v":""},{"$f":"IF('5組'!AG28=\"\",\"\",'5組'!AG28)","v":""},{"$f":"IF('5組'!AH28=\"\",\"\",'5組'!AH28)","v":""},{"$f":"IF('5組'!AI28=\"\",\"\",'5組'!AI28)","v":""},{"$f":"IF('5組'!AJ28=\"\",\"\",'5組'!AJ28)","v":""}]
[null,null,null,null,10506,null,5,6,null,null,"",{"$f":"IF('5組'!L29=\"\",\"\",'5組'!L29)","v":""},{"$f":"IF('5組'!M29=\"\",\"\",'5組'!M29)","v":""},{"$f":"IF('5組'!N29=\"\",\"\",'5組'!N29)","v":""},{"$f":"IF('5組'!O29=\"\",\"\",'5組'!O29)","v":""},{"$f":"IF('5組'!P29=\"\",\"\",'5組'!P29)","v":""},null,null,null,null,null,{"$f":"IF('5組'!V29=\"\",\"\",'5組'!V29)","v":""},{"$f":"IF('5組'!W29=\"\",\"\",'5組'!W29)","v":""},{"$f":"IF('5組'!X29=\"\",\"\",'5組'!X29)","v":""},{"$f":"IF('5組'!Y29=\"\",\"\",'5組'!Y29)","v":""},{"$f":"IF('5組'!Z29=\"\",\"\",'5組'!Z29)","v":""},null,null,null,null,null,{"$f":"IF('5組'!AF29=\"\",\"\",'5組'!AF29)","v":""},{"$f":"IF('5組'!AG29=\"\",\"\",'5組'!AG29)","v":""},{"$f":"IF('5組'!AH29=\"\",\"\",'5組'!AH29)","v":""},{"$f":"IF('5組'!AI29=\"\",\"\",'5組'!AI29)","v":""},{"$f":"IF('5組'!AJ29=\"\",\"\",'5組'!AJ29)","v":""}]
[null,null,null,null,10507,null,5,7,null,null,"",{"$f":"IF('5組'!L30=\"\",\"\",'5組'!L30)","v":""},{"$f":"IF('5組'!M30=\"\",\"\",'5組'!M30)","v":""},{"$f":"IF('5組'!N30=\"\",\"\",'5組'!N30)","v":""},{"$f":"IF('5組'!O30=\"\",\"\",'5組'!O30)","v":""},{"$f":"IF('5組'!P30=\"\",\"\",'5組'!P30)","v":""},null,null,null,null,null,{"$f":"IF('5組'!V30=\"\",\"\",'5組'!V30)","v":""},{"$f":"IF('5組'!W30=\"\",\"\",'5組'!W30)","v":""},{"$f":"IF('5組'!X30=\"\",\"\",'5組'!X30)","v":""},{"$f":"IF('5組'!Y30=\"\",\"\",'5組'!Y30)","v":""},{"$f":"IF('5組'!Z30=\"\",\"\",'5組'!Z30)","v":""},null,null,null,null,null,{"$f":"IF('5組'!AF30=\"\",\"\",'5組'!AF30)","v":""},{"$f":"IF('5組'!AG30=\"\",\"\",'5組'!AG30)","v":""},{"$f":"IF('5組'!AH30=\"\",\"\",'5組'!AH30)","v":""},{"$f":"IF('5組'!AI30=\"\",\"\",'5組'!AI30)","v":""},{"$f":"IF('5組'!AJ30=\"\",\"\",'5組'!AJ30)","v":""}]
[null,null,null,null,10508,null,5,8,null,null,"",{"$f":"IF('5組'!L31=\"\",\"\",'5組'!L31)","v":""},{"$f":"IF('5組'!M31=\"\",\"\",'5組'!M31)","v":""},{"$f":"IF('5組'!N31=\"\",\"\",'5組'!N31)","v":""},{"$f":"IF('5組'!O31=\"\",\"\",'5組'!O31)","v":""},{"$f":"IF('5組'!P31=\"\",\"\",'5組'!P31)","v":""},null,null,null,null,null,{"$f":"IF('5組'!V31=\"\",\"\",'5組'!V31)","v":""},{"$f":"IF('5組'!W31=\"\",\"\",'5組'!W31)","v":""},{"$f":"IF('5組'!X31=\"\",\"\",'5組'!X31)","v":""},{"$f":"IF('5組'!Y31=\"\",\"\",'5組'!Y31)","v":""},{"$f":"IF('5組'!Z31=\"\",\"\",'5組'!Z31)","v":""},null,null,null,null,null,{"$f":"IF('5組'!AF31=\"\",\"\",'5組'!AF31)","v":""},{"$f":"IF('5組'!AG31=\"\",\"\",'5組'!AG31)","v":""},{"$f":"IF('5組'!AH31=\"\",\"\",'5組'!AH31)","v":""},{"$f":"IF('5組'!AI31=\"\",\"\",'5組'!AI31)","v":""},{"$f":"IF('5組'!AJ31=\"\",\"\",'5組'!AJ31)","v":""}]
[null,null,null,null,10509,null,5,9,null,null,"",{"$f":"IF('5組'!L32=\"\",\"\",'5組'!L32)","v":""},{"$f":"IF('5組'!M32=\"\",\"\",'5組'!M32)","v":""},{"$f":"IF('5組'!N32=\"\",\"\",'5組'!N32)","v":""},{"$f":"IF('5組'!O32=\"\",\"\",'5組'!O32)","v":""},{"$f":"IF('5組'!P32=\"\",\"\",'5組'!P32)","v":""},null,null,null,null,null,{"$f":"IF('5組'!V32=\"\",\"\",'5組'!V32)","v":""},{"$f":"IF('5組'!W32=\"\",\"\",'5組'!W32)","v":""},{"$f":"IF('5組'!X32=\"\",\"\",'5組'!X32)","v":""},{"$f":"IF('5組'!Y32=\"\",\"\",'5組'!Y32)","v":""},{"$f":"IF('5組'!Z32=\"\",\"\",'5組'!Z32)","v":""},null,null,null,null,null,{"$f":"IF('5組'!AF32=\"\",\"\",'5組'!AF32)","v":""},{"$f":"IF('5組'!AG32=\"\",\"\",'5組'!AG32)","v":""},{"$f":"IF('5組'!AH32=\"\",\"\",'5組'!AH32)","v":""},{"$f":"IF('5組'!AI32=\"\",\"\",'5組'!AI32)","v":""},{"$f":"IF('5組'!AJ32=\"\",\"\",'5組'!AJ32)","v":""}]
[null,null,null,null,10510,null,5,10,null,null,"",{"$f":"IF('5組'!L33=\"\",\"\",'5組'!L33)","v":""},{"$f":"IF('5組'!M33=\"\",\"\",'5組'!M33)","v":""},{"$f":"IF('5組'!N33=\"\",\"\",'5組'!N33)","v":""},{"$f":"IF('5組'!O33=\"\",\"\",'5組'!O33)","v":""},{"$f":"IF('5組'!P33=\"\",\"\",'5組'!P33)","v":""},null,null,null,null,null,{"$f":"IF('5組'!V33=\"\",\"\",'5組'!V33)","v":""},{"$f":"IF('5組'!W33=\"\",\"\",'5組'!W33)","v":""},{"$f":"IF('5組'!X33=\"\",\"\",'5組'!X33)","v":""},{"$f":"IF('5組'!Y33=\"\",\"\",'5組'!Y33)","v":""},{"$f":"IF('5組'!Z33=\"\",\"\",'5組'!Z33)","v":""},null,null,null,null,null,{"$f":"IF('5組'!AF33=\"\",\"\",'5組'!AF33)","v":""},{"$f":"IF('5組'!AG33=\"\",\"\",'5組'!AG33)","v":""},{"$f":"IF('5組'!AH33=\"\",\"\",'5組'!AH33)","v":""},{"$f":"IF('5組'!AI33=\"\",\"\",'5組'!AI33)","v":""},{"$f":"IF('5組'!AJ33=\"\",\"\",'5組'!AJ33)","v":""}]
[null,null,null,null,10511,null,5,11,null,null,"",{"$f":"IF('5組'!L34=\"\",\"\",'5組'!L34)","v":""},{"$f":"IF('5組'!M34=\"\",\"\",'5組'!M34)","v":""},{"$f":"IF('5組'!N34=\"\",\"\",'5組'!N34)","v":""},{"$f":"IF('5組'!O34=\"\",\"\",'5組'!O34)","v":""},{"$f":"IF('5組'!P34=\"\",\"\",'5組'!P34)","v":""},null,null,null,null,null,{"$f":"IF('5組'!V34=\"\",\"\",'5組'!V34)","v":""},{"$f":"IF('5組'!W34=\"\",\"\",'5組'!W34)","v":""},{"$f":"IF('5組'!X34=\"\",\"\",'5組'!X34)","v":""},{"$f":"IF('5組'!Y34=\"\",\"\",'5組'!Y34)","v":""},{"$f":"IF('5組'!Z34=\"\",\"\",'5組'!Z34)","v":""},null,null,null,null,null,{"$f":"IF('5組'!AF34=\"\",\"\",'5組'!AF34)","v":""},{"$f":"IF('5組'!AG34=\"\",\"\",'5組'!AG34)","v":""},{"$f":"IF('5組'!AH34=\"\",\"\",'5組'!AH34)","v":""},{"$f":"IF('5組'!AI34=\"\",\"\",'5組'!AI34)","v":""},{"$f":"IF('5組'!AJ34=\"\",\"\",'5組'!AJ34)","v":""}]
[null,null,null,null,10512,null,5,12,null,null,"",{"$f":"IF('5組'!L35=\"\",\"\",'5組'!L35)","v":""},{"$f":"IF('5組'!M35=\"\",\"\",'5組'!M35)","v":""},{"$f":"IF('5組'!N35=\"\",\"\",'5組'!N35)","v":""},{"$f":"IF('5組'!O35=\"\",\"\",'5組'!O35)","v":""},{"$f":"IF('5組'!P35=\"\",\"\",'5組'!P35)","v":""},null,null,null,null,null,{"$f":"IF('5組'!V35=\"\",\"\",'5組'!V35)","v":""},{"$f":"IF('5組'!W35=\"\",\"\",'5組'!W35)","v":""},{"$f":"IF('5組'!X35=\"\",\"\",'5組'!X35)","v":""},{"$f":"IF('5組'!Y35=\"\",\"\",'5組'!Y35)","v":""},{"$f":"IF('5組'!Z35=\"\",\"\",'5組'!Z35)","v":""},null,null,null,null,null,{"$f":"IF('5組'!AF35=\"\",\"\",'5組'!AF35)","v":""},{"$f":"IF('5組'!AG35=\"\",\"\",'5組'!AG35)","v":""},{"$f":"IF('5組'!AH35=\"\",\"\",'5組'!AH35)","v":""},{"$f":"IF('5組'!AI35=\"\",\"\",'5組'!AI35)","v":""},{"$f":"IF('5組'!AJ35=\"\",\"\",'5組'!AJ35)","v":""}]
[null,null,null,null,10513,null,5,13,null,null,"",{"$f":"IF('5組'!L36=\"\",\"\",'5組'!L36)","v":""},{"$f":"IF('5組'!M36=\"\",\"\",'5組'!M36)","v":""},{"$f":"IF('5組'!N36=\"\",\"\",'5組'!N36)","v":""},{"$f":"IF('5組'!O36=\"\",\"\",'5組'!O36)","v":""},{"$f":"IF('5組'!P36=\"\",\"\",'5組'!P36)","v":""},null,null,null,null,null,{"$f":"IF('5組'!V36=\"\",\"\",'5組'!V36)","v":""},{"$f":"IF('5組'!W36=\"\",\"\",'5組'!W36)","v":""},{"$f":"IF('5組'!X36=\"\",\"\",'5組'!X36)","v":""},{"$f":"IF('5組'!Y36=\"\",\"\",'5組'!Y36)","v":""},{"$f":"IF('5組'!Z36=\"\",\"\",'5組'!Z36)","v":""},null,null,null,null,null,{"$f":"IF('5組'!AF36=\"\",\"\",'5組'!AF36)","v":""},{"$f":"IF('5組'!AG36=\"\",\"\",'5組'!AG36)","v":""},{"$f":"IF('5組'!AH36=\"\",\"\",'5組'!AH36)","v":""},{"$f":"IF('5組'!AI36=\"\",\"\",'5組'!AI36)","v":""},{"$f":"IF('5組'!AJ36=\"\",\"\",'5組'!AJ36)","v":""}]
[null,null,null,null,10514,null,5,14,null,null,"",{"$f":"IF('5組'!L37=\"\",\"\",'5組'!L37)","v":""},{"$f":"IF('5組'!M37=\"\",\"\",'5組'!M37)","v":""},{"$f":"IF('5組'!N37=\"\",\"\",'5組'!N37)","v":""},{"$f":"IF('5組'!O37=\"\",\"\",'5組'!O37)","v":""},{"$f":"IF('5組'!P37=\"\",\"\",'5組'!P37)","v":""},null,null,null,null,null,{"$f":"IF('5組'!V37=\"\",\"\",'5組'!V37)","v":""},{"$f":"IF('5組'!W37=\"\",\"\",'5組'!W37)","v":""},{"$f":"IF('5組'!X37=\"\",\"\",'5組'!X37)","v":""},{"$f":"IF('5組'!Y37=\"\",\"\",'5組'!Y37)","v":""},{"$f":"IF('5組'!Z37=\"\",\"\",'5組'!Z37)","v":""},null,null,null,null,null,{"$f":"IF('5組'!AF37=\"\",\"\",'5組'!AF37)","v":""},{"$f":"IF('5組'!AG37=\"\",\"\",'5組'!AG37)","v":""},{"$f":"IF('5組'!AH37=\"\",\"\",'5組'!AH37)","v":""},{"$f":"IF('5組'!AI37=\"\",\"\",'5組'!AI37)","v":""},{"$f":"IF('5組'!AJ37=\"\",\"\",'5組'!AJ37)","v":""}]
[null,null,null,null,10515,null,5,15,null,null,"",{"$f":"IF('5組'!L38=\"\",\"\",'5組'!L38)","v":""},{"$f":"IF('5組'!M38=\"\",\"\",'5組'!M38)","v":""},{"$f":"IF('5組'!N38=\"\",\"\",'5組'!N38)","v":""},{"$f":"IF('5組'!O38=\"\",\"\",'5組'!O38)","v":""},{"$f":"IF('5組'!P38=\"\",\"\",'5組'!P38)","v":""},null,null,null,null,null,{"$f":"IF('5組'!V38=\"\",\"\",'5組'!V38)","v":""},{"$f":"IF('5組'!W38=\"\",\"\",'5組'!W38)","v":""},{"$f":"IF('5組'!X38=\"\",\"\",'5組'!X38)","v":""},{"$f":"IF('5組'!Y38=\"\",\"\",'5組'!Y38)","v":""},{"$f":"IF('5組'!Z38=\"\",\"\",'5組'!Z38)","v":""},null,null,null,null,null,{"$f":"IF('5組'!AF38=\"\",\"\",'5組'!AF38)","v":""},{"$f":"IF('5組'!AG38=\"\",\"\",'5組'!AG38)","v":""},{"$f":"IF('5組'!AH38=\"\",\"\",'5組'!AH38)","v":""},{"$f":"IF('5組'!AI38=\"\",\"\",'5組'!AI38)","v":""},{"$f":"IF('5組'!AJ38=\"\",\"\",'5組'!AJ38)","v":""}]
[null,null,null,null,10516,null,5,16,null,null,"",{"$f":"IF('5組'!L39=\"\",\"\",'5組'!L39)","v":""},{"$f":"IF('5組'!M39=\"\",\"\",'5組'!M39)","v":""},{"$f":"IF('5組'!N39=\"\",\"\",'5組'!N39)","v":""},{"$f":"IF('5組'!O39=\"\",\"\",'5組'!O39)","v":""},{"$f":"IF('5組'!P39=\"\",\"\",'5組'!P39)","v":""},null,null,null,null,null,{"$f":"IF('5組'!V39=\"\",\"\",'5組'!V39)","v":""},{"$f":"IF('5組'!W39=\"\",\"\",'5組'!W39)","v":""},{"$f":"IF('5組'!X39=\"\",\"\",'5組'!X39)","v":""},{"$f":"IF('5組'!Y39=\"\",\"\",'5組'!Y39)","v":""},{"$f":"IF('5組'!Z39=\"\",\"\",'5組'!Z39)","v":""},null,null,null,null,null,{"$f":"IF('5組'!AF39=\"\",\"\",'5組'!AF39)","v":""},{"$f":"IF('5組'!AG39=\"\",\"\",'5組'!AG39)","v":""},{"$f":"IF('5組'!AH39=\"\",\"\",'5組'!AH39)","v":""},{"$f":"IF('5組'!AI39=\"\",\"\",'5組'!AI39)","v":""},{"$f":"IF('5組'!AJ39=\"\",\"\",'5組'!AJ39)","v":""}]
[null,null,null,null,10517,null,5,17,null,null,"",{"$f":"IF('5組'!L40=\"\",\"\",'5組'!L40)","v":""},{"$f":"IF('5組'!M40=\"\",\"\",'5組'!M40)","v":""},{"$f":"IF('5組'!N40=\"\",\"\",'5組'!N40)","v":""},{"$f":"IF('5組'!O40=\"\",\"\",'5組'!O40)","v":""},{"$f":"IF('5組'!P40=\"\",\"\",'5組'!P40)","v":""},null,null,null,null,null,{"$f":"IF('5組'!V40=\"\",\"\",'5組'!V40)","v":""},{"$f":"IF('5組'!W40=\"\",\"\",'5組'!W40)","v":""},{"$f":"IF('5組'!X40=\"\",\"\",'5組'!X40)","v":""},{"$f":"IF('5組'!Y40=\"\",\"\",'5組'!Y40)","v":""},{"$f":"IF('5組'!Z40=\"\",\"\",'5組'!Z40)","v":""},null,null,null,null,null,{"$f":"IF('5組'!AF40=\"\",\"\",'5組'!AF40)","v":""},{"$f":"IF('5組'!AG40=\"\",\"\",'5組'!AG40)","v":""},{"$f":"IF('5組'!AH40=\"\",\"\",'5組'!AH40)","v":""},{"$f":"IF('5組'!AI40=\"\",\"\",'5組'!AI40)","v":""},{"$f":"IF('5組'!AJ40=\"\",\"\",'5組'!AJ40)","v":""}]
[null,null,null,null,10518,null,5,18,null,null,"",{"$f":"IF('5組'!L41=\"\",\"\",'5組'!L41)","v":""},{"$f":"IF('5組'!M41=\"\",\"\",'5組'!M41)","v":""},{"$f":"IF('5組'!N41=\"\",\"\",'5組'!N41)","v":""},{"$f":"IF('5組'!O41=\"\",\"\",'5組'!O41)","v":""},{"$f":"IF('5組'!P41=\"\",\"\",'5組'!P41)","v":""},null,null,null,null,null,{"$f":"IF('5組'!V41=\"\",\"\",'5組'!V41)","v":""},{"$f":"IF('5組'!W41=\"\",\"\",'5組'!W41)","v":""},{"$f":"IF('5組'!X41=\"\",\"\",'5組'!X41)","v":""},{"$f":"IF('5組'!Y41=\"\",\"\",'5組'!Y41)","v":""},{"$f":"IF('5組'!Z41=\"\",\"\",'5組'!Z41)","v":""},null,null,null,null,null,{"$f":"IF('5組'!AF41=\"\",\"\",'5組'!AF41)","v":""},{"$f":"IF('5組'!AG41=\"\",\"\",'5組'!AG41)","v":""},{"$f":"IF('5組'!AH41=\"\",\"\",'5組'!AH41)","v":""},{"$f":"IF('5組'!AI41=\"\",\"\",'5組'!AI41)","v":""},{"$f":"IF('5組'!AJ41=\"\",\"\",'5組'!AJ41)","v":""}]
[null,null,null,null,10519,null,5,19,null,null,"",{"$f":"IF('5組'!L42=\"\",\"\",'5組'!L42)","v":""},{"$f":"IF('5組'!M42=\"\",\"\",'5組'!M42)","v":""},{"$f":"IF('5組'!N42=\"\",\"\",'5組'!N42)","v":""},{"$f":"IF('5組'!O42=\"\",\"\",'5組'!O42)","v":""},{"$f":"IF('5組'!P42=\"\",\"\",'5組'!P42)","v":""},null,null,null,null,null,{"$f":"IF('5組'!V42=\"\",\"\",'5組'!V42)","v":""},{"$f":"IF('5組'!W42=\"\",\"\",'5組'!W42)","v":""},{"$f":"IF('5組'!X42=\"\",\"\",'5組'!X42)","v":""},{"$f":"IF('5組'!Y42=\"\",\"\",'5組'!Y42)","v":""},{"$f":"IF('5組'!Z42=\"\",\"\",'5組'!Z42)","v":""},null,null,null,null,null,{"$f":"IF('5組'!AF42=\"\",\"\",'5組'!AF42)","v":""},{"$f":"IF('5組'!AG42=\"\",\"\",'5組'!AG42)","v":""},{"$f":"IF('5組'!AH42=\"\",\"\",'5組'!AH42)","v":""},{"$f":"IF('5組'!AI42=\"\",\"\",'5組'!AI42)","v":""},{"$f":"IF('5組'!AJ42=\"\",\"\",'5組'!AJ42)","v":""}]
[null,null,null,null,10520,null,5,20,null,null,"",{"$f":"IF('5組'!L43=\"\",\"\",'5組'!L43)","v":""},{"$f":"IF('5組'!M43=\"\",\"\",'5組'!M43)","v":""},{"$f":"IF('5組'!N43=\"\",\"\",'5組'!N43)","v":""},{"$f":"IF('5組'!O43=\"\",\"\",'5組'!O43)","v":""},{"$f":"IF('5組'!P43=\"\",\"\",'5組'!P43)","v":""},null,null,null,null,null,{"$f":"IF('5組'!V43=\"\",\"\",'5組'!V43)","v":""},{"$f":"IF('5組'!W43=\"\",\"\",'5組'!W43)","v":""},{"$f":"IF('5組'!X43=\"\",\"\",'5組'!X43)","v":""},{"$f":"IF('5組'!Y43=\"\",\"\",'5組'!Y43)","v":""},{"$f":"IF('5組'!Z43=\"\",\"\",'5組'!Z43)","v":""},null,null,null,null,null,{"$f":"IF('5組'!AF43=\"\",\"\",'5組'!AF43)","v":""},{"$f":"IF('5組'!AG43=\"\",\"\",'5組'!AG43)","v":""},{"$f":"IF('5組'!AH43=\"\",\"\",'5組'!AH43)","v":""},{"$f":"IF('5組'!AI43=\"\",\"\",'5組'!AI43)","v":""},{"$f":"IF('5組'!AJ43=\"\",\"\",'5組'!AJ43)","v":""}]
[null,null,null,null,10521,null,5,21,null,null,"",{"$f":"IF('5組'!L44=\"\",\"\",'5組'!L44)","v":""},{"$f":"IF('5組'!M44=\"\",\"\",'5組'!M44)","v":""},{"$f":"IF('5組'!N44=\"\",\"\",'5組'!N44)","v":""},{"$f":"IF('5組'!O44=\"\",\"\",'5組'!O44)","v":""},{"$f":"IF('5組'!P44=\"\",\"\",'5組'!P44)","v":""},null,null,null,null,null,{"$f":"IF('5組'!V44=\"\",\"\",'5組'!V44)","v":""},{"$f":"IF('5組'!W44=\"\",\"\",'5組'!W44)","v":""},{"$f":"IF('5組'!X44=\"\",\"\",'5組'!X44)","v":""},{"$f":"IF('5組'!Y44=\"\",\"\",'5組'!Y44)","v":""},{"$f":"IF('5組'!Z44=\"\",\"\",'5組'!Z44)","v":""},null,null,null,null,null,{"$f":"IF('5組'!AF44=\"\",\"\",'5組'!AF44)","v":""},{"$f":"IF('5組'!AG44=\"\",\"\",'5組'!AG44)","v":""},{"$f":"IF('5組'!AH44=\"\",\"\",'5組'!AH44)","v":""},{"$f":"IF('5組'!AI44=\"\",\"\",'5組'!AI44)","v":""},{"$f":"IF('5組'!AJ44=\"\",\"\",'5組'!AJ44)","v":""}]
[null,null,null,null,10522,null,5,22,null,null,"",{"$f":"IF('5組'!L45=\"\",\"\",'5組'!L45)","v":""},{"$f":"IF('5組'!M45=\"\",\"\",'5組'!M45)","v":""},{"$f":"IF('5組'!N45=\"\",\"\",'5組'!N45)","v":""},{"$f":"IF('5組'!O45=\"\",\"\",'5組'!O45)","v":""},{"$f":"IF('5組'!P45=\"\",\"\",'5組'!P45)","v":""},null,null,null,null,null,{"$f":"IF('5組'!V45=\"\",\"\",'5組'!V45)","v":""},{"$f":"IF('5組'!W45=\"\",\"\",'5組'!W45)","v":""},{"$f":"IF('5組'!X45=\"\",\"\",'5組'!X45)","v":""},{"$f":"IF('5組'!Y45=\"\",\"\",'5組'!Y45)","v":""},{"$f":"IF('5組'!Z45=\"\",\"\",'5組'!Z45)","v":""},null,null,null,null,null,{"$f":"IF('5組'!AF45=\"\",\"\",'5組'!AF45)","v":""},{"$f":"IF('5組'!AG45=\"\",\"\",'5組'!AG45)","v":""},{"$f":"IF('5組'!AH45=\"\",\"\",'5組'!AH45)","v":""},{"$f":"IF('5組'!AI45=\"\",\"\",'5組'!AI45)","v":""},{"$f":"IF('5組'!AJ45=\"\",\"\",'5組'!AJ45)","v":""}]
[null,null,null,null,10523,null,5,23,null,null,"",{"$f":"IF('5組'!L46=\"\",\"\",'5組'!L46)","v":""},{"$f":"IF('5組'!M46=\"\",\"\",'5組'!M46)","v":""},{"$f":"IF('5組'!N46=\"\",\"\",'5組'!N46)","v":""},{"$f":"IF('5組'!O46=\"\",\"\",'5組'!O46)","v":""},{"$f":"IF('5組'!P46=\"\",\"\",'5組'!P46)","v":""},null,null,null,null,null,{"$f":"IF('5組'!V46=\"\",\"\",'5組'!V46)","v":""},{"$f":"IF('5組'!W46=\"\",\"\",'5組'!W46)","v":""},{"$f":"IF('5組'!X46=\"\",\"\",'5組'!X46)","v":""},{"$f":"IF('5組'!Y46=\"\",\"\",'5組'!Y46)","v":""},{"$f":"IF('5組'!Z46=\"\",\"\",'5組'!Z46)","v":""},null,null,null,null,null,{"$f":"IF('5組'!AF46=\"\",\"\",'5組'!AF46)","v":""},{"$f":"IF('5組'!AG46=\"\",\"\",'5組'!AG46)","v":""},{"$f":"IF('5組'!AH46=\"\",\"\",'5組'!AH46)","v":""},{"$f":"IF('5組'!AI46=\"\",\"\",'5組'!AI46)","v":""},{"$f":"IF('5組'!AJ46=\"\",\"\",'5組'!AJ46)","v":""}]
[null,null,null,null,10524,null,5,24,null,null,"",{"$f":"IF('5組'!L47=\"\",\"\",'5組'!L47)","v":""},{"$f":"IF('5組'!M47=\"\",\"\",'5組'!M47)","v":""},{"$f":"IF('5組'!N47=\"\",\"\",'5組'!N47)","v":""},{"$f":"IF('5組'!O47=\"\",\"\",'5組'!O47)","v":""},{"$f":"IF('5組'!P47=\"\",\"\",'5組'!P47)","v":""},null,null,null,null,null,{"$f":"IF('5組'!V47=\"\",\"\",'5組'!V47)","v":""},{"$f":"IF('5組'!W47=\"\",\"\",'5組'!W47)","v":""},{"$f":"IF('5組'!X47=\"\",\"\",'5組'!X47)","v":""},{"$f":"IF('5組'!Y47=\"\",\"\",'5組'!Y47)","v":""},{"$f":"IF('5組'!Z47=\"\",\"\",'5組'!Z47)","v":""},null,null,null,null,null,{"$f":"IF('5組'!AF47=\"\",\"\",'5組'!AF47)","v":""},{"$f":"IF('5組'!AG47=\"\",\"\",'5組'!AG47)","v":""},{"$f":"IF('5組'!AH47=\"\",\"\",'5組'!AH47)","v":""},{"$f":"IF('5組'!AI47=\"\",\"\",'5組'!AI47)","v":""},{"$f":"IF('5組'!AJ47=\"\",\"\",'5組'!AJ47)","v":""}]
[null,null,null,null,10525,null,5,25,null,null,"",{"$f":"IF('5組'!L48=\"\",\"\",'5組'!L48)","v":""},{"$f":"IF('5組'!M48=\"\",\"\",'5組'!M48)","v":""},{"$f":"IF('5組'!N48=\"\",\"\",'5組'!N48)","v":""},{"$f":"IF('5組'!O48=\"\",\"\",'5組'!O48)","v":""},{"$f":"IF('5組'!P48=\"\",\"\",'5組'!P48)","v":""},null,null,null,null,null,{"$f":"IF('5組'!V48=\"\",\"\",'5組'!V48)","v":""},{"$f":"IF('5組'!W48=\"\",\"\",'5組'!W48)","v":""},{"$f":"IF('5組'!X48=\"\",\"\",'5組'!X48)","v":""},{"$f":"IF('5組'!Y48=\"\",\"\",'5組'!Y48)","v":""},{"$f":"IF('5組'!Z48=\"\",\"\",'5組'!Z48)","v":""},null,null,null,null,null,{"$f":"IF('5組'!AF48=\"\",\"\",'5組'!AF48)","v":""},{"$f":"IF('5組'!AG48=\"\",\"\",'5組'!AG48)","v":""},{"$f":"IF('5組'!AH48=\"\",\"\",'5組'!AH48)","v":""},{"$f":"IF('5組'!AI48=\"\",\"\",'5組'!AI48)","v":""},{"$f":"IF('5組'!AJ48=\"\",\"\",'5組'!AJ48)","v":""}]
[null,null,null,null,10526,null,5,26,null,null,"",{"$f":"IF('5組'!L49=\"\",\"\",'5組'!L49)","v":""},{"$f":"IF('5組'!M49=\"\",\"\",'5組'!M49)","v":""},{"$f":"IF('5組'!N49=\"\",\"\",'5組'!N49)","v":""},{"$f":"IF('5組'!O49=\"\",\"\",'5組'!O49)","v":""},{"$f":"IF('5組'!P49=\"\",\"\",'5組'!P49)","v":""},null,null,null,null,null,{"$f":"IF('5組'!V49=\"\",\"\",'5組'!V49)","v":""},{"$f":"IF('5組'!W49=\"\",\"\",'5組'!W49)","v":""},{"$f":"IF('5組'!X49=\"\",\"\",'5組'!X49)","v":""},{"$f":"IF('5組'!Y49=\"\",\"\",'5組'!Y49)","v":""},{"$f":"IF('5組'!Z49=\"\",\"\",'5組'!Z49)","v":""},null,null,null,null,null,{"$f":"IF('5組'!AF49=\"\",\"\",'5組'!AF49)","v":""},{"$f":"IF('5組'!AG49=\"\",\"\",'5組'!AG49)","v":""},{"$f":"IF('5組'!AH49=\"\",\"\",'5組'!AH49)","v":""},{"$f":"IF('5組'!AI49=\"\",\"\",'5組'!AI49)","v":""},{"$f":"IF('5組'!AJ49=\"\",\"\",'5組'!AJ49)","v":""}]
[null,null,null,null,10527,null,5,27,null,null,"",{"$f":"IF('5組'!L50=\"\",\"\",'5組'!L50)","v":""},{"$f":"IF('5組'!M50=\"\",\"\",'5組'!M50)","v":""},{"$f":"IF('5組'!N50=\"\",\"\",'5組'!N50)","v":""},{"$f":"IF('5組'!O50=\"\",\"\",'5組'!O50)","v":""},{"$f":"IF('5組'!P50=\"\",\"\",'5組'!P50)","v":""},null,null,null,null,null,{"$f":"IF('5組'!V50=\"\",\"\",'5組'!V50)","v":""},{"$f":"IF('5組'!W50=\"\",\"\",'5組'!W50)","v":""},{"$f":"IF('5組'!X50=\"\",\"\",'5組'!X50)","v":""},{"$f":"IF('5組'!Y50=\"\",\"\",'5組'!Y50)","v":""},{"$f":"IF('5組'!Z50=\"\",\"\",'5組'!Z50)","v":""},null,null,null,null,null,{"$f":"IF('5組'!AF50=\"\",\"\",'5組'!AF50)","v":""},{"$f":"IF('5組'!AG50=\"\",\"\",'5組'!AG50)","v":""},{"$f":"IF('5組'!AH50=\"\",\"\",'5組'!AH50)","v":""},{"$f":"IF('5組'!AI50=\"\",\"\",'5組'!AI50)","v":""},{"$f":"IF('5組'!AJ50=\"\",\"\",'5組'!AJ50)","v":""}]
[null,null,null,null,10528,null,5,28,null,null,"",{"$f":"IF('5組'!L51=\"\",\"\",'5組'!L51)","v":""},{"$f":"IF('5組'!M51=\"\",\"\",'5組'!M51)","v":""},{"$f":"IF('5組'!N51=\"\",\"\",'5組'!N51)","v":""},{"$f":"IF('5組'!O51=\"\",\"\",'5組'!O51)","v":""},{"$f":"IF('5組'!P51=\"\",\"\",'5組'!P51)","v":""},null,null,null,null,null,{"$f":"IF('5組'!V51=\"\",\"\",'5組'!V51)","v":""},{"$f":"IF('5組'!W51=\"\",\"\",'5組'!W51)","v":""},{"$f":"IF('5組'!X51=\"\",\"\",'5組'!X51)","v":""},{"$f":"IF('5組'!Y51=\"\",\"\",'5組'!Y51)","v":""},{"$f":"IF('5組'!Z51=\"\",\"\",'5組'!Z51)","v":""},null,null,null,null,null,{"$f":"IF('5組'!AF51=\"\",\"\",'5組'!AF51)","v":""},{"$f":"IF('5組'!AG51=\"\",\"\",'5組'!AG51)","v":""},{"$f":"IF('5組'!AH51=\"\",\"\",'5組'!AH51)","v":""},{"$f":"IF('5組'!AI51=\"\",\"\",'5組'!AI51)","v":""},{"$f":"IF('5組'!AJ51=\"\",\"\",'5組'!AJ51)","v":""}]
[null,null,null,null,10529,null,5,29,null,null,"",{"$f":"IF('5組'!L52=\"\",\"\",'5組'!L52)","v":""},{"$f":"IF('5組'!M52=\"\",\"\",'5組'!M52)","v":""},{"$f":"IF('5組'!N52=\"\",\"\",'5組'!N52)","v":""},{"$f":"IF('5組'!O52=\"\",\"\",'5組'!O52)","v":""},{"$f":"IF('5組'!P52=\"\",\"\",'5組'!P52)","v":""},null,null,null,null,null,{"$f":"IF('5組'!V52=\"\",\"\",'5組'!V52)","v":""},{"$f":"IF('5組'!W52=\"\",\"\",'5組'!W52)","v":""},{"$f":"IF('5組'!X52=\"\",\"\",'5組'!X52)","v":""},{"$f":"IF('5組'!Y52=\"\",\"\",'5組'!Y52)","v":""},{"$f":"IF('5組'!Z52=\"\",\"\",'5組'!Z52)","v":""},null,null,null,null,null,{"$f":"IF('5組'!AF52=\"\",\"\",'5組'!AF52)","v":""},{"$f":"IF('5組'!AG52=\"\",\"\",'5組'!AG52)","v":""},{"$f":"IF('5組'!AH52=\"\",\"\",'5組'!AH52)","v":""},{"$f":"IF('5組'!AI52=\"\",\"\",'5組'!AI52)","v":""},{"$f":"IF('5組'!AJ52=\"\",\"\",'5組'!AJ52)","v":""}]
[null,null,null,null,10530,null,5,30,null,null,"",{"$f":"IF('5組'!L53=\"\",\"\",'5組'!L53)","v":""},{"$f":"IF('5組'!M53=\"\",\"\",'5組'!M53)","v":""},{"$f":"IF('5組'!N53=\"\",\"\",'5組'!N53)","v":""},{"$f":"IF('5組'!O53=\"\",\"\",'5組'!O53)","v":""},{"$f":"IF('5組'!P53=\"\",\"\",'5組'!P53)","v":""},null,null,null,null,null,{"$f":"IF('5組'!V53=\"\",\"\",'5組'!V53)","v":""},{"$f":"IF('5組'!W53=\"\",\"\",'5組'!W53)","v":""},{"$f":"IF('5組'!X53=\"\",\"\",'5組'!X53)","v":""},{"$f":"IF('5組'!Y53=\"\",\"\",'5組'!Y53)","v":""},{"$f":"IF('5組'!Z53=\"\",\"\",'5組'!Z53)","v":""},null,null,null,null,null,{"$f":"IF('5組'!AF53=\"\",\"\",'5組'!AF53)","v":""},{"$f":"IF('5組'!AG53=\"\",\"\",'5組'!AG53)","v":""},{"$f":"IF('5組'!AH53=\"\",\"\",'5組'!AH53)","v":""},{"$f":"IF('5組'!AI53=\"\",\"\",'5組'!AI53)","v":""},{"$f":"IF('5組'!AJ53=\"\",\"\",'5組'!AJ53)","v":""}]
[null,null,null,null,10531,null,5,31,null,null,"",{"$f":"IF('5組'!L54=\"\",\"\",'5組'!L54)","v":""},{"$f":"IF('5組'!M54=\"\",\"\",'5組'!M54)","v":""},{"$f":"IF('5組'!N54=\"\",\"\",'5組'!N54)","v":""},{"$f":"IF('5組'!O54=\"\",\"\",'5組'!O54)","v":""},{"$f":"IF('5組'!P54=\"\",\"\",'5組'!P54)","v":""},null,null,null,null,null,{"$f":"IF('5組'!V54=\"\",\"\",'5組'!V54)","v":""},{"$f":"IF('5組'!W54=\"\",\"\",'5組'!W54)","v":""},{"$f":"IF('5組'!X54=\"\",\"\",'5組'!X54)","v":""},{"$f":"IF('5組'!Y54=\"\",\"\",'5組'!Y54)","v":""},{"$f":"IF('5組'!Z54=\"\",\"\",'5組'!Z54)","v":""},null,null,null,null,null,{"$f":"IF('5組'!AF54=\"\",\"\",'5組'!AF54)","v":""},{"$f":"IF('5組'!AG54=\"\",\"\",'5組'!AG54)","v":""},{"$f":"IF('5組'!AH54=\"\",\"\",'5組'!AH54)","v":""},{"$f":"IF('5組'!AI54=\"\",\"\",'5組'!AI54)","v":""},{"$f":"IF('5組'!AJ54=\"\",\"\",'5組'!AJ54)","v":""}]
[null,null,null,null,10532,null,5,32,null,null,"",{"$f":"IF('5組'!L55=\"\",\"\",'5組'!L55)","v":""},{"$f":"IF('5組'!M55=\"\",\"\",'5組'!M55)","v":""},{"$f":"IF('5組'!N55=\"\",\"\",'5組'!N55)","v":""},{"$f":"IF('5組'!O55=\"\",\"\",'5組'!O55)","v":""},{"$f":"IF('5組'!P55=\"\",\"\",'5組'!P55)","v":""},null,null,null,null,null,{"$f":"IF('5組'!V55=\"\",\"\",'5組'!V55)","v":""},{"$f":"IF('5組'!W55=\"\",\"\",'5組'!W55)","v":""},{"$f":"IF('5組'!X55=\"\",\"\",'5組'!X55)","v":""},{"$f":"IF('5組'!Y55=\"\",\"\",'5組'!Y55)","v":""},{"$f":"IF('5組'!Z55=\"\",\"\",'5組'!Z55)","v":""},null,null,null,null,null,{"$f":"IF('5組'!AF55=\"\",\"\",'5組'!AF55)","v":""},{"$f":"IF('5組'!AG55=\"\",\"\",'5組'!AG55)","v":""},{"$f":"IF('5組'!AH55=\"\",\"\",'5組'!AH55)","v":""},{"$f":"IF('5組'!AI55=\"\",\"\",'5組'!AI55)","v":""},{"$f":"IF('5組'!AJ55=\"\",\"\",'5組'!AJ55)","v":""}]
[null,null,null,null,10533,null,5,33,null,null,"",{"$f":"IF('5組'!L56=\"\",\"\",'5組'!L56)","v":""},{"$f":"IF('5組'!M56=\"\",\"\",'5組'!M56)","v":""},{"$f":"IF('5組'!N56=\"\",\"\",'5組'!N56)","v":""},{"$f":"IF('5組'!O56=\"\",\"\",'5組'!O56)","v":""},{"$f":"IF('5組'!P56=\"\",\"\",'5組'!P56)","v":""},null,null,null,null,null,{"$f":"IF('5組'!V56=\"\",\"\",'5組'!V56)","v":""},{"$f":"IF('5組'!W56=\"\",\"\",'5組'!W56)","v":""},{"$f":"IF('5組'!X56=\"\",\"\",'5組'!X56)","v":""},{"$f":"IF('5組'!Y56=\"\",\"\",'5組'!Y56)","v":""},{"$f":"IF('5組'!Z56=\"\",\"\",'5組'!Z56)","v":""},null,null,null,null,null,{"$f":"IF('5組'!AF56=\"\",\"\",'5組'!AF56)","v":""},{"$f":"IF('5組'!AG56=\"\",\"\",'5組'!AG56)","v":""},{"$f":"IF('5組'!AH56=\"\",\"\",'5組'!AH56)","v":""},{"$f":"IF('5組'!AI56=\"\",\"\",'5組'!AI56)","v":""},{"$f":"IF('5組'!AJ56=\"\",\"\",'5組'!AJ56)","v":""}]
[null,null,null,null,10534,null,5,34,null,null,"",{"$f":"IF('5組'!L57=\"\",\"\",'5組'!L57)","v":""},{"$f":"IF('5組'!M57=\"\",\"\",'5組'!M57)","v":""},{"$f":"IF('5組'!N57=\"\",\"\",'5組'!N57)","v":""},{"$f":"IF('5組'!O57=\"\",\"\",'5組'!O57)","v":""},{"$f":"IF('5組'!P57=\"\",\"\",'5組'!P57)","v":""},null,null,null,null,null,{"$f":"IF('5組'!V57=\"\",\"\",'5組'!V57)","v":""},{"$f":"IF('5組'!W57=\"\",\"\",'5組'!W57)","v":""},{"$f":"IF('5組'!X57=\"\",\"\",'5組'!X57)","v":""},{"$f":"IF('5組'!Y57=\"\",\"\",'5組'!Y57)","v":""},{"$f":"IF('5組'!Z57=\"\",\"\",'5組'!Z57)","v":""},null,null,null,null,null,{"$f":"IF('5組'!AF57=\"\",\"\",'5組'!AF57)","v":""},{"$f":"IF('5組'!AG57=\"\",\"\",'5組'!AG57)","v":""},{"$f":"IF('5組'!AH57=\"\",\"\",'5組'!AH57)","v":""},{"$f":"IF('5組'!AI57=\"\",\"\",'5組'!AI57)","v":""},{"$f":"IF('5組'!AJ57=\"\",\"\",'5組'!AJ57)","v":""}]
[null,null,null,null,10535,null,5,35,null,null,"",{"$f":"IF('5組'!L58=\"\",\"\",'5組'!L58)","v":""},{"$f":"IF('5組'!M58=\"\",\"\",'5組'!M58)","v":""},{"$f":"IF('5組'!N58=\"\",\"\",'5組'!N58)","v":""},{"$f":"IF('5組'!O58=\"\",\"\",'5組'!O58)","v":""},{"$f":"IF('5組'!P58=\"\",\"\",'5組'!P58)","v":""},null,null,null,null,null,{"$f":"IF('5組'!V58=\"\",\"\",'5組'!V58)","v":""},{"$f":"IF('5組'!W58=\"\",\"\",'5組'!W58)","v":""},{"$f":"IF('5組'!X58=\"\",\"\",'5組'!X58)","v":""},{"$f":"IF('5組'!Y58=\"\",\"\",'5組'!Y58)","v":""},{"$f":"IF('5組'!Z58=\"\",\"\",'5組'!Z58)","v":""},null,null,null,null,null,{"$f":"IF('5組'!AF58=\"\",\"\",'5組'!AF58)","v":""},{"$f":"IF('5組'!AG58=\"\",\"\",'5組'!AG58)","v":""},{"$f":"IF('5組'!AH58=\"\",\"\",'5組'!AH58)","v":""},{"$f":"IF('5組'!AI58=\"\",\"\",'5組'!AI58)","v":""},{"$f":"IF('5組'!AJ58=\"\",\"\",'5組'!AJ58)","v":""}]
[null,null,null,null,10536,null,5,36,null,null,"",{"$f":"IF('5組'!L59=\"\",\"\",'5組'!L59)","v":""},{"$f":"IF('5組'!M59=\"\",\"\",'5組'!M59)","v":""},{"$f":"IF('5組'!N59=\"\",\"\",'5組'!N59)","v":""},{"$f":"IF('5組'!O59=\"\",\"\",'5組'!O59)","v":""},{"$f":"IF('5組'!P59=\"\",\"\",'5組'!P59)","v":""},null,null,null,null,null,{"$f":"IF('5組'!V59=\"\",\"\",'5組'!V59)","v":""},{"$f":"IF('5組'!W59=\"\",\"\",'5組'!W59)","v":""},{"$f":"IF('5組'!X59=\"\",\"\",'5組'!X59)","v":""},{"$f":"IF('5組'!Y59=\"\",\"\",'5組'!Y59)","v":""},{"$f":"IF('5組'!Z59=\"\",\"\",'5組'!Z59)","v":""},null,null,null,null,null,{"$f":"IF('5組'!AF59=\"\",\"\",'5組'!AF59)","v":""},{"$f":"IF('5組'!AG59=\"\",\"\",'5組'!AG59)","v":""},{"$f":"IF('5組'!AH59=\"\",\"\",'5組'!AH59)","v":""},{"$f":"IF('5組'!AI59=\"\",\"\",'5組'!AI59)","v":""},{"$f":"IF('5組'!AJ59=\"\",\"\",'5組'!AJ59)","v":""}]
[null,null,null,null,10537,null,5,37,null,null,"",{"$f":"IF('5組'!L60=\"\",\"\",'5組'!L60)","v":""},{"$f":"IF('5組'!M60=\"\",\"\",'5組'!M60)","v":""},{"$f":"IF('5組'!N60=\"\",\"\",'5組'!N60)","v":""},{"$f":"IF('5組'!O60=\"\",\"\",'5組'!O60)","v":""},{"$f":"IF('5組'!P60=\"\",\"\",'5組'!P60)","v":""},null,null,null,null,null,{"$f":"IF('5組'!V60=\"\",\"\",'5組'!V60)","v":""},{"$f":"IF('5組'!W60=\"\",\"\",'5組'!W60)","v":""},{"$f":"IF('5組'!X60=\"\",\"\",'5組'!X60)","v":""},{"$f":"IF('5組'!Y60=\"\",\"\",'5組'!Y60)","v":""},{"$f":"IF('5組'!Z60=\"\",\"\",'5組'!Z60)","v":""},null,null,null,null,null,{"$f":"IF('5組'!AF60=\"\",\"\",'5組'!AF60)","v":""},{"$f":"IF('5組'!AG60=\"\",\"\",'5組'!AG60)","v":""},{"$f":"IF('5組'!AH60=\"\",\"\",'5組'!AH60)","v":""},{"$f":"IF('5組'!AI60=\"\",\"\",'5組'!AI60)","v":""},{"$f":"IF('5組'!AJ60=\"\",\"\",'5組'!AJ60)","v":""}]
[null,null,null,null,10538,null,5,38,null,null,"",{"$f":"IF('5組'!L61=\"\",\"\",'5組'!L61)","v":""},{"$f":"IF('5組'!M61=\"\",\"\",'5組'!M61)","v":""},{"$f":"IF('5組'!N61=\"\",\"\",'5組'!N61)","v":""},{"$f":"IF('5組'!O61=\"\",\"\",'5組'!O61)","v":""},{"$f":"IF('5組'!P61=\"\",\"\",'5組'!P61)","v":""},null,null,null,null,null,{"$f":"IF('5組'!V61=\"\",\"\",'5組'!V61)","v":""},{"$f":"IF('5組'!W61=\"\",\"\",'5組'!W61)","v":""},{"$f":"IF('5組'!X61=\"\",\"\",'5組'!X61)","v":""},{"$f":"IF('5組'!Y61=\"\",\"\",'5組'!Y61)","v":""},{"$f":"IF('5組'!Z61=\"\",\"\",'5組'!Z61)","v":""},null,null,null,null,null,{"$f":"IF('5組'!AF61=\"\",\"\",'5組'!AF61)","v":""},{"$f":"IF('5組'!AG61=\"\",\"\",'5組'!AG61)","v":""},{"$f":"IF('5組'!AH61=\"\",\"\",'5組'!AH61)","v":""},{"$f":"IF('5組'!AI61=\"\",\"\",'5組'!AI61)","v":""},{"$f":"IF('5組'!AJ61=\"\",\"\",'5組'!AJ61)","v":""}]
[null,null,null,null,10539,null,5,39,null,null,"",{"$f":"IF('5組'!L62=\"\",\"\",'5組'!L62)","v":""},{"$f":"IF('5組'!M62=\"\",\"\",'5組'!M62)","v":""},{"$f":"IF('5組'!N62=\"\",\"\",'5組'!N62)","v":""},{"$f":"IF('5組'!O62=\"\",\"\",'5組'!O62)","v":""},{"$f":"IF('5組'!P62=\"\",\"\",'5組'!P62)","v":""},null,null,null,null,null,{"$f":"IF('5組'!V62=\"\",\"\",'5組'!V62)","v":""},{"$f":"IF('5組'!W62=\"\",\"\",'5組'!W62)","v":""},{"$f":"IF('5組'!X62=\"\",\"\",'5組'!X62)","v":""},{"$f":"IF('5組'!Y62=\"\",\"\",'5組'!Y62)","v":""},{"$f":"IF('5組'!Z62=\"\",\"\",'5組'!Z62)","v":""},null,null,null,null,null,{"$f":"IF('5組'!AF62=\"\",\"\",'5組'!AF62)","v":""},{"$f":"IF('5組'!AG62=\"\",\"\",'5組'!AG62)","v":""},{"$f":"IF('5組'!AH62=\"\",\"\",'5組'!AH62)","v":""},{"$f":"IF('5組'!AI62=\"\",\"\",'5組'!AI62)","v":""},{"$f":"IF('5組'!AJ62=\"\",\"\",'5組'!AJ62)","v":""}]
[null,null,null,null,10540,null,5,40,null,null,"",{"$f":"IF('5組'!L63=\"\",\"\",'5組'!L63)","v":""},{"$f":"IF('5組'!M63=\"\",\"\",'5組'!M63)","v":""},{"$f":"IF('5組'!N63=\"\",\"\",'5組'!N63)","v":""},{"$f":"IF('5組'!O63=\"\",\"\",'5組'!O63)","v":""},{"$f":"IF('5組'!P63=\"\",\"\",'5組'!P63)","v":""},null,null,null,null,null,{"$f":"IF('5組'!V63=\"\",\"\",'5組'!V63)","v":""},{"$f":"IF('5組'!W63=\"\",\"\",'5組'!W63)","v":""},{"$f":"IF('5組'!X63=\"\",\"\",'5組'!X63)","v":""},{"$f":"IF('5組'!Y63=\"\",\"\",'5組'!Y63)","v":""},{"$f":"IF('5組'!Z63=\"\",\"\",'5組'!Z63)","v":""},null,null,null,null,null,{"$f":"IF('5組'!AF63=\"\",\"\",'5組'!AF63)","v":""},{"$f":"IF('5組'!AG63=\"\",\"\",'5組'!AG63)","v":""},{"$f":"IF('5組'!AH63=\"\",\"\",'5組'!AH63)","v":""},{"$f":"IF('5組'!AI63=\"\",\"\",'5組'!AI63)","v":""},{"$f":"IF('5組'!AJ63=\"\",\"\",'5組'!AJ63)","v":""}]
[null,null,null,null,10541,null,5,41,null,null,"",{"$f":"IF('5組'!L64=\"\",\"\",'5組'!L64)","v":""},{"$f":"IF('5組'!M64=\"\",\"\",'5組'!M64)","v":""},{"$f":"IF('5組'!N64=\"\",\"\",'5組'!N64)","v":""},{"$f":"IF('5組'!O64=\"\",\"\",'5組'!O64)","v":""},{"$f":"IF('5組'!P64=\"\",\"\",'5組'!P64)","v":""},null,null,null,null,null,{"$f":"IF('5組'!V64=\"\",\"\",'5組'!V64)","v":""},{"$f":"IF('5組'!W64=\"\",\"\",'5組'!W64)","v":""},{"$f":"IF('5組'!X64=\"\",\"\",'5組'!X64)","v":""},{"$f":"IF('5組'!Y64=\"\",\"\",'5組'!Y64)","v":""},{"$f":"IF('5組'!Z64=\"\",\"\",'5組'!Z64)","v":""},null,null,null,null,null,{"$f":"IF('5組'!AF64=\"\",\"\",'5組'!AF64)","v":""},{"$f":"IF('5組'!AG64=\"\",\"\",'5組'!AG64)","v":""},{"$f":"IF('5組'!AH64=\"\",\"\",'5組'!AH64)","v":""},{"$f":"IF('5組'!AI64=\"\",\"\",'5組'!AI64)","v":""},{"$f":"IF('5組'!AJ64=\"\",\"\",'5組'!AJ64)","v":""}]
[null,null,null,null,10542,null,5,42,null,null,"",{"$f":"IF('5組'!L65=\"\",\"\",'5組'!L65)","v":""},{"$f":"IF('5組'!M65=\"\",\"\",'5組'!M65)","v":""},{"$f":"IF('5組'!N65=\"\",\"\",'5組'!N65)","v":""},{"$f":"IF('5組'!O65=\"\",\"\",'5組'!O65)","v":""},{"$f":"IF('5組'!P65=\"\",\"\",'5組'!P65)","v":""},null,null,null,null,null,{"$f":"IF('5組'!V65=\"\",\"\",'5組'!V65)","v":""},{"$f":"IF('5組'!W65=\"\",\"\",'5組'!W65)","v":""},{"$f":"IF('5組'!X65=\"\",\"\",'5組'!X65)","v":""},{"$f":"IF('5組'!Y65=\"\",\"\",'5組'!Y65)","v":""},{"$f":"IF('5組'!Z65=\"\",\"\",'5組'!Z65)","v":""},null,null,null,null,null,{"$f":"IF('5組'!AF65=\"\",\"\",'5組'!AF65)","v":""},{"$f":"IF('5組'!AG65=\"\",\"\",'5組'!AG65)","v":""},{"$f":"IF('5組'!AH65=\"\",\"\",'5組'!AH65)","v":""},{"$f":"IF('5組'!AI65=\"\",\"\",'5組'!AI65)","v":""},{"$f":"IF('5組'!AJ65=\"\",\"\",'5組'!AJ65)","v":""}]
[null,null,null,null,10543,null,5,43,null,null,"",{"$f":"IF('5組'!L66=\"\",\"\",'5組'!L66)","v":""},{"$f":"IF('5組'!M66=\"\",\"\",'5組'!M66)","v":""},{"$f":"IF('5組'!N66=\"\",\"\",'5組'!N66)","v":""},{"$f":"IF('5組'!O66=\"\",\"\",'5組'!O66)","v":""},{"$f":"IF('5組'!P66=\"\",\"\",'5組'!P66)","v":""},null,null,null,null,null,{"$f":"IF('5組'!V66=\"\",\"\",'5組'!V66)","v":""},{"$f":"IF('5組'!W66=\"\",\"\",'5組'!W66)","v":""},{"$f":"IF('5組'!X66=\"\",\"\",'5組'!X66)","v":""},{"$f":"IF('5組'!Y66=\"\",\"\",'5組'!Y66)","v":""},{"$f":"IF('5組'!Z66=\"\",\"\",'5組'!Z66)","v":""},null,null,null,null,null,{"$f":"IF('5組'!AF66=\"\",\"\",'5組'!AF66)","v":""},{"$f":"IF('5組'!AG66=\"\",\"\",'5組'!AG66)","v":""},{"$f":"IF('5組'!AH66=\"\",\"\",'5組'!AH66)","v":""},{"$f":"IF('5組'!AI66=\"\",\"\",'5組'!AI66)","v":""},{"$f":"IF('5組'!AJ66=\"\",\"\",'5組'!AJ66)","v":""}]
[null,null,null,null,10544,null,5,44,null,null,"",{"$f":"IF('5組'!L67=\"\",\"\",'5組'!L67)","v":""},{"$f":"IF('5組'!M67=\"\",\"\",'5組'!M67)","v":""},{"$f":"IF('5組'!N67=\"\",\"\",'5組'!N67)","v":""},{"$f":"IF('5組'!O67=\"\",\"\",'5組'!O67)","v":""},{"$f":"IF('5組'!P67=\"\",\"\",'5組'!P67)","v":""},null,null,null,null,null,{"$f":"IF('5組'!V67=\"\",\"\",'5組'!V67)","v":""},{"$f":"IF('5組'!W67=\"\",\"\",'5組'!W67)","v":""},{"$f":"IF('5組'!X67=\"\",\"\",'5組'!X67)","v":""},{"$f":"IF('5組'!Y67=\"\",\"\",'5組'!Y67)","v":""},{"$f":"IF('5組'!Z67=\"\",\"\",'5組'!Z67)","v":""},null,null,null,null,null,{"$f":"IF('5組'!AF67=\"\",\"\",'5組'!AF67)","v":""},{"$f":"IF('5組'!AG67=\"\",\"\",'5組'!AG67)","v":""},{"$f":"IF('5組'!AH67=\"\",\"\",'5組'!AH67)","v":""},{"$f":"IF('5組'!AI67=\"\",\"\",'5組'!AI67)","v":""},{"$f":"IF('5組'!AJ67=\"\",\"\",'5組'!AJ67)","v":""}]
[null,null,null,null,10545,null,5,45,null,null,"",{"$f":"IF('5組'!L68=\"\",\"\",'5組'!L68)","v":""},{"$f":"IF('5組'!M68=\"\",\"\",'5組'!M68)","v":""},{"$f":"IF('5組'!N68=\"\",\"\",'5組'!N68)","v":""},{"$f":"IF('5組'!O68=\"\",\"\",'5組'!O68)","v":""},{"$f":"IF('5組'!P68=\"\",\"\",'5組'!P68)","v":""},null,null,null,null,null,{"$f":"IF('5組'!V68=\"\",\"\",'5組'!V68)","v":""},{"$f":"IF('5組'!W68=\"\",\"\",'5組'!W68)","v":""},{"$f":"IF('5組'!X68=\"\",\"\",'5組'!X68)","v":""},{"$f":"IF('5組'!Y68=\"\",\"\",'5組'!Y68)","v":""},{"$f":"IF('5組'!Z68=\"\",\"\",'5組'!Z68)","v":""},null,null,null,null,null,{"$f":"IF('5組'!AF68=\"\",\"\",'5組'!AF68)","v":""},{"$f":"IF('5組'!AG68=\"\",\"\",'5組'!AG68)","v":""},{"$f":"IF('5組'!AH68=\"\",\"\",'5組'!AH68)","v":""},{"$f":"IF('5組'!AI68=\"\",\"\",'5組'!AI68)","v":""},{"$f":"IF('5組'!AJ68=\"\",\"\",'5組'!AJ68)","v":""}]
[null,null,null,null,10546,null,5,46,null,null,"",{"$f":"IF('5組'!L69=\"\",\"\",'5組'!L69)","v":""},{"$f":"IF('5組'!M69=\"\",\"\",'5組'!M69)","v":""},{"$f":"IF('5組'!N69=\"\",\"\",'5組'!N69)","v":""},{"$f":"IF('5組'!O69=\"\",\"\",'5組'!O69)","v":""},{"$f":"IF('5組'!P69=\"\",\"\",'5組'!P69)","v":""},null,null,null,null,null,{"$f":"IF('5組'!V69=\"\",\"\",'5組'!V69)","v":""},{"$f":"IF('5組'!W69=\"\",\"\",'5組'!W69)","v":""},{"$f":"IF('5組'!X69=\"\",\"\",'5組'!X69)","v":""},{"$f":"IF('5組'!Y69=\"\",\"\",'5組'!Y69)","v":""},{"$f":"IF('5組'!Z69=\"\",\"\",'5組'!Z69)","v":""},null,null,null,null,null,{"$f":"IF('5組'!AF69=\"\",\"\",'5組'!AF69)","v":""},{"$f":"IF('5組'!AG69=\"\",\"\",'5組'!AG69)","v":""},{"$f":"IF('5組'!AH69=\"\",\"\",'5組'!AH69)","v":""},{"$f":"IF('5組'!AI69=\"\",\"\",'5組'!AI69)","v":""},{"$f":"IF('5組'!AJ69=\"\",\"\",'5組'!AJ69)","v":""}]
[null,null,null,null,10547,null,5,47,null,null,"",{"$f":"IF('5組'!L70=\"\",\"\",'5組'!L70)","v":""},{"$f":"IF('5組'!M70=\"\",\"\",'5組'!M70)","v":""},{"$f":"IF('5組'!N70=\"\",\"\",'5組'!N70)","v":""},{"$f":"IF('5組'!O70=\"\",\"\",'5組'!O70)","v":""},{"$f":"IF('5組'!P70=\"\",\"\",'5組'!P70)","v":""},null,null,null,null,null,{"$f":"IF('5組'!V70=\"\",\"\",'5組'!V70)","v":""},{"$f":"IF('5組'!W70=\"\",\"\",'5組'!W70)","v":""},{"$f":"IF('5組'!X70=\"\",\"\",'5組'!X70)","v":""},{"$f":"IF('5組'!Y70=\"\",\"\",'5組'!Y70)","v":""},{"$f":"IF('5組'!Z70=\"\",\"\",'5組'!Z70)","v":""},null,null,null,null,null,{"$f":"IF('5組'!AF70=\"\",\"\",'5組'!AF70)","v":""},{"$f":"IF('5組'!AG70=\"\",\"\",'5組'!AG70)","v":""},{"$f":"IF('5組'!AH70=\"\",\"\",'5組'!AH70)","v":""},{"$f":"IF('5組'!AI70=\"\",\"\",'5組'!AI70)","v":""},{"$f":"IF('5組'!AJ70=\"\",\"\",'5組'!AJ70)","v":""}]
[null,null,null,null,10548,null,5,48,null,null,"",{"$f":"IF('5組'!L71=\"\",\"\",'5組'!L71)","v":""},{"$f":"IF('5組'!M71=\"\",\"\",'5組'!M71)","v":""},{"$f":"IF('5組'!N71=\"\",\"\",'5組'!N71)","v":""},{"$f":"IF('5組'!O71=\"\",\"\",'5組'!O71)","v":""},{"$f":"IF('5組'!P71=\"\",\"\",'5組'!P71)","v":""},null,null,null,null,null,{"$f":"IF('5組'!V71=\"\",\"\",'5組'!V71)","v":""},{"$f":"IF('5組'!W71=\"\",\"\",'5組'!W71)","v":""},{"$f":"IF('5組'!X71=\"\",\"\",'5組'!X71)","v":""},{"$f":"IF('5組'!Y71=\"\",\"\",'5組'!Y71)","v":""},{"$f":"IF('5組'!Z71=\"\",\"\",'5組'!Z71)","v":""},null,null,null,null,null,{"$f":"IF('5組'!AF71=\"\",\"\",'5組'!AF71)","v":""},{"$f":"IF('5組'!AG71=\"\",\"\",'5組'!AG71)","v":""},{"$f":"IF('5組'!AH71=\"\",\"\",'5組'!AH71)","v":""},{"$f":"IF('5組'!AI71=\"\",\"\",'5組'!AI71)","v":""},{"$f":"IF('5組'!AJ71=\"\",\"\",'5組'!AJ71)","v":""}]
[null,null,null,null,10549,null,5,49,null,null,"",{"$f":"IF('5組'!L72=\"\",\"\",'5組'!L72)","v":""},{"$f":"IF('5組'!M72=\"\",\"\",'5組'!M72)","v":""},{"$f":"IF('5組'!N72=\"\",\"\",'5組'!N72)","v":""},{"$f":"IF('5組'!O72=\"\",\"\",'5組'!O72)","v":""},{"$f":"IF('5組'!P72=\"\",\"\",'5組'!P72)","v":""},null,null,null,null,null,{"$f":"IF('5組'!V72=\"\",\"\",'5組'!V72)","v":""},{"$f":"IF('5組'!W72=\"\",\"\",'5組'!W72)","v":""},{"$f":"IF('5組'!X72=\"\",\"\",'5組'!X72)","v":""},{"$f":"IF('5組'!Y72=\"\",\"\",'5組'!Y72)","v":""},{"$f":"IF('5組'!Z72=\"\",\"\",'5組'!Z72)","v":""},null,null,null,null,null,{"$f":"IF('5組'!AF72=\"\",\"\",'5組'!AF72)","v":""},{"$f":"IF('5組'!AG72=\"\",\"\",'5組'!AG72)","v":""},{"$f":"IF('5組'!AH72=\"\",\"\",'5組'!AH72)","v":""},{"$f":"IF('5組'!AI72=\"\",\"\",'5組'!AI72)","v":""},{"$f":"IF('5組'!AJ72=\"\",\"\",'5組'!AJ72)","v":""}]
[null,null,null,null,10550,null,5,50,null,null,"",{"$f":"IF('5組'!L73=\"\",\"\",'5組'!L73)","v":""},{"$f":"IF('5組'!M73=\"\",\"\",'5組'!M73)","v":""},{"$f":"IF('5組'!N73=\"\",\"\",'5組'!N73)","v":""},{"$f":"IF('5組'!O73=\"\",\"\",'5組'!O73)","v":""},{"$f":"IF('5組'!P73=\"\",\"\",'5組'!P73)","v":""},null,null,null,null,null,{"$f":"IF('5組'!V73=\"\",\"\",'5組'!V73)","v":""},{"$f":"IF('5組'!W73=\"\",\"\",'5組'!W73)","v":""},{"$f":"IF('5組'!X73=\"\",\"\",'5組'!X73)","v":""},{"$f":"IF('5組'!Y73=\"\",\"\",'5組'!Y73)","v":""},{"$f":"IF('5組'!Z73=\"\",\"\",'5組'!Z73)","v":""},null,null,null,null,null,{"$f":"IF('5組'!AF73=\"\",\"\",'5組'!AF73)","v":""},{"$f":"IF('5組'!AG73=\"\",\"\",'5組'!AG73)","v":""},{"$f":"IF('5組'!AH73=\"\",\"\",'5組'!AH73)","v":""},{"$f":"IF('5組'!AI73=\"\",\"\",'5組'!AI73)","v":""},{"$f":"IF('5組'!AJ73=\"\",\"\",'5組'!AJ73)","v":""}]
[null,null,null,null,10601,null,6,1,null,null,"",{"$f":"IF('6組'!L24=\"\",\"\",'6組'!L24)","v":""},{"$f":"IF('6組'!M24=\"\",\"\",'6組'!M24)","v":""},{"$f":"IF('6組'!N24=\"\",\"\",'6組'!N24)","v":""},{"$f":"IF('6組'!O24=\"\",\"\",'6組'!O24)","v":""},{"$f":"IF('6組'!P24=\"\",\"\",'6組'!P24)","v":""},null,null,null,null,null,{"$f":"IF('6組'!V24=\"\",\"\",'6組'!V24)","v":""},{"$f":"IF('6組'!W24=\"\",\"\",'6組'!W24)","v":""},{"$f":"IF('6組'!X24=\"\",\"\",'6組'!X24)","v":""},{"$f":"IF('6組'!Y24=\"\",\"\",'6組'!Y24)","v":""},{"$f":"IF('6組'!Z24=\"\",\"\",'6組'!Z24)","v":""},null,null,null,null,null,{"$f":"IF('6組'!AF24=\"\",\"\",'6組'!AF24)","v":""},{"$f":"IF('6組'!AG24=\"\",\"\",'6組'!AG24)","v":""},{"$f":"IF('6組'!AH24=\"\",\"\",'6組'!AH24)","v":""},{"$f":"IF('6組'!AI24=\"\",\"\",'6組'!AI24)","v":""},{"$f":"IF('6組'!AJ24=\"\",\"\",'6組'!AJ24)","v":""}]
[null,null,null,null,10602,null,6,2,null,null,"",{"$f":"IF('6組'!L25=\"\",\"\",'6組'!L25)","v":""},{"$f":"IF('6組'!M25=\"\",\"\",'6組'!M25)","v":""},{"$f":"IF('6組'!N25=\"\",\"\",'6組'!N25)","v":""},{"$f":"IF('6組'!O25=\"\",\"\",'6組'!O25)","v":""},{"$f":"IF('6組'!P25=\"\",\"\",'6組'!P25)","v":""},null,null,null,null,null,{"$f":"IF('6組'!V25=\"\",\"\",'6組'!V25)","v":""},{"$f":"IF('6組'!W25=\"\",\"\",'6組'!W25)","v":""},{"$f":"IF('6組'!X25=\"\",\"\",'6組'!X25)","v":""},{"$f":"IF('6組'!Y25=\"\",\"\",'6組'!Y25)","v":""},{"$f":"IF('6組'!Z25=\"\",\"\",'6組'!Z25)","v":""},null,null,null,null,null,{"$f":"IF('6組'!AF25=\"\",\"\",'6組'!AF25)","v":""},{"$f":"IF('6組'!AG25=\"\",\"\",'6組'!AG25)","v":""},{"$f":"IF('6組'!AH25=\"\",\"\",'6組'!AH25)","v":""},{"$f":"IF('6組'!AI25=\"\",\"\",'6組'!AI25)","v":""},{"$f":"IF('6組'!AJ25=\"\",\"\",'6組'!AJ25)","v":""}]
[null,null,null,null,10603,null,6,3,null,null,"",{"$f":"IF('6組'!L26=\"\",\"\",'6組'!L26)","v":""},{"$f":"IF('6組'!M26=\"\",\"\",'6組'!M26)","v":""},{"$f":"IF('6組'!N26=\"\",\"\",'6組'!N26)","v":""},{"$f":"IF('6組'!O26=\"\",\"\",'6組'!O26)","v":""},{"$f":"IF('6組'!P26=\"\",\"\",'6組'!P26)","v":""},null,null,null,null,null,{"$f":"IF('6組'!V26=\"\",\"\",'6組'!V26)","v":""},{"$f":"IF('6組'!W26=\"\",\"\",'6組'!W26)","v":""},{"$f":"IF('6組'!X26=\"\",\"\",'6組'!X26)","v":""},{"$f":"IF('6組'!Y26=\"\",\"\",'6組'!Y26)","v":""},{"$f":"IF('6組'!Z26=\"\",\"\",'6組'!Z26)","v":""},null,null,null,null,null,{"$f":"IF('6組'!AF26=\"\",\"\",'6組'!AF26)","v":""},{"$f":"IF('6組'!AG26=\"\",\"\",'6組'!AG26)","v":""},{"$f":"IF('6組'!AH26=\"\",\"\",'6組'!AH26)","v":""},{"$f":"IF('6組'!AI26=\"\",\"\",'6組'!AI26)","v":""},{"$f":"IF('6組'!AJ26=\"\",\"\",'6組'!AJ26)","v":""}]
[null,null,null,null,10604,null,6,4,null,null,"",{"$f":"IF('6組'!L27=\"\",\"\",'6組'!L27)","v":""},{"$f":"IF('6組'!M27=\"\",\"\",'6組'!M27)","v":""},{"$f":"IF('6組'!N27=\"\",\"\",'6組'!N27)","v":""},{"$f":"IF('6組'!O27=\"\",\"\",'6組'!O27)","v":""},{"$f":"IF('6組'!P27=\"\",\"\",'6組'!P27)","v":""},null,null,null,null,null,{"$f":"IF('6組'!V27=\"\",\"\",'6組'!V27)","v":""},{"$f":"IF('6組'!W27=\"\",\"\",'6組'!W27)","v":""},{"$f":"IF('6組'!X27=\"\",\"\",'6組'!X27)","v":""},{"$f":"IF('6組'!Y27=\"\",\"\",'6組'!Y27)","v":""},{"$f":"IF('6組'!Z27=\"\",\"\",'6組'!Z27)","v":""},null,null,null,null,null,{"$f":"IF('6組'!AF27=\"\",\"\",'6組'!AF27)","v":""},{"$f":"IF('6組'!AG27=\"\",\"\",'6組'!AG27)","v":""},{"$f":"IF('6組'!AH27=\"\",\"\",'6組'!AH27)","v":""},{"$f":"IF('6組'!AI27=\"\",\"\",'6組'!AI27)","v":""},{"$f":"IF('6組'!AJ27=\"\",\"\",'6組'!AJ27)","v":""}]
[null,null,null,null,10605,null,6,5,null,null,"",{"$f":"IF('6組'!L28=\"\",\"\",'6組'!L28)","v":""},{"$f":"IF('6組'!M28=\"\",\"\",'6組'!M28)","v":""},{"$f":"IF('6組'!N28=\"\",\"\",'6組'!N28)","v":""},{"$f":"IF('6組'!O28=\"\",\"\",'6組'!O28)","v":""},{"$f":"IF('6組'!P28=\"\",\"\",'6組'!P28)","v":""},null,null,null,null,null,{"$f":"IF('6組'!V28=\"\",\"\",'6組'!V28)","v":""},{"$f":"IF('6組'!W28=\"\",\"\",'6組'!W28)","v":""},{"$f":"IF('6組'!X28=\"\",\"\",'6組'!X28)","v":""},{"$f":"IF('6組'!Y28=\"\",\"\",'6組'!Y28)","v":""},{"$f":"IF('6組'!Z28=\"\",\"\",'6組'!Z28)","v":""},null,null,null,null,null,{"$f":"IF('6組'!AF28=\"\",\"\",'6組'!AF28)","v":""},{"$f":"IF('6組'!AG28=\"\",\"\",'6組'!AG28)","v":""},{"$f":"IF('6組'!AH28=\"\",\"\",'6組'!AH28)","v":""},{"$f":"IF('6組'!AI28=\"\",\"\",'6組'!AI28)","v":""},{"$f":"IF('6組'!AJ28=\"\",\"\",'6組'!AJ28)","v":""}]
[null,null,null,null,10606,null,6,6,null,null,"",{"$f":"IF('6組'!L29=\"\",\"\",'6組'!L29)","v":""},{"$f":"IF('6組'!M29=\"\",\"\",'6組'!M29)","v":""},{"$f":"IF('6組'!N29=\"\",\"\",'6組'!N29)","v":""},{"$f":"IF('6組'!O29=\"\",\"\",'6組'!O29)","v":""},{"$f":"IF('6組'!P29=\"\",\"\",'6組'!P29)","v":""},null,null,null,null,null,{"$f":"IF('6組'!V29=\"\",\"\",'6組'!V29)","v":""},{"$f":"IF('6組'!W29=\"\",\"\",'6組'!W29)","v":""},{"$f":"IF('6組'!X29=\"\",\"\",'6組'!X29)","v":""},{"$f":"IF('6組'!Y29=\"\",\"\",'6組'!Y29)","v":""},{"$f":"IF('6組'!Z29=\"\",\"\",'6組'!Z29)","v":""},null,null,null,null,null,{"$f":"IF('6組'!AF29=\"\",\"\",'6組'!AF29)","v":""},{"$f":"IF('6組'!AG29=\"\",\"\",'6組'!AG29)","v":""},{"$f":"IF('6組'!AH29=\"\",\"\",'6組'!AH29)","v":""},{"$f":"IF('6組'!AI29=\"\",\"\",'6組'!AI29)","v":""},{"$f":"IF('6組'!AJ29=\"\",\"\",'6組'!AJ29)","v":""}]
[null,null,null,null,{"$f":"$H$8*10000+G280*100+H280","v":10607},null,6,7,null,null,"",{"$f":"IF('6組'!L30=\"\",\"\",'6組'!L30)","v":""},{"$f":"IF('6組'!M30=\"\",\"\",'6組'!M30)","v":""},{"$f":"IF('6組'!N30=\"\",\"\",'6組'!N30)","v":""},{"$f":"IF('6組'!O30=\"\",\"\",'6組'!O30)","v":""},{"$f":"IF('6組'!P30=\"\",\"\",'6組'!P30)","v":""},null,null,null,null,null,{"$f":"IF('6組'!V30=\"\",\"\",'6組'!V30)","v":""},{"$f":"IF('6組'!W30=\"\",\"\",'6組'!W30)","v":""},{"$f":"IF('6組'!X30=\"\",\"\",'6組'!X30)","v":""},{"$f":"IF('6組'!Y30=\"\",\"\",'6組'!Y30)","v":""},{"$f":"IF('6組'!Z30=\"\",\"\",'6組'!Z30)","v":""},null,null,null,null,null,{"$f":"IF('6組'!AF30=\"\",\"\",'6組'!AF30)","v":""},{"$f":"IF('6組'!AG30=\"\",\"\",'6組'!AG30)","v":""},{"$f":"IF('6組'!AH30=\"\",\"\",'6組'!AH30)","v":""},{"$f":"IF('6組'!AI30=\"\",\"\",'6組'!AI30)","v":""},{"$f":"IF('6組'!AJ30=\"\",\"\",'6組'!AJ30)","v":""}]
[null,null,null,null,10608,null,6,8,null,null,{"$f":"IF(J281=1,\"男\",IF(J281=2,\"女\",\"\"))","v":""},{"$f":"IF('6組'!L31=\"\",\"\",'6組'!L31)","v":""},{"$f":"IF('6組'!M31=\"\",\"\",'6組'!M31)","v":""},{"$f":"IF('6組'!N31=\"\",\"\",'6組'!N31)","v":""},{"$f":"IF('6組'!O31=\"\",\"\",'6組'!O31)","v":""},{"$f":"IF('6組'!P31=\"\",\"\",'6組'!P31)","v":""},null,null,null,null,null,{"$f":"IF('6組'!V31=\"\",\"\",'6組'!V31)","v":""},{"$f":"IF('6組'!W31=\"\",\"\",'6組'!W31)","v":""},{"$f":"IF('6組'!X31=\"\",\"\",'6組'!X31)","v":""},{"$f":"IF('6組'!Y31=\"\",\"\",'6組'!Y31)","v":""},{"$f":"IF('6組'!Z31=\"\",\"\",'6組'!Z31)","v":""},null,null,null,null,null,{"$f":"IF('6組'!AF31=\"\",\"\",'6組'!AF31)","v":""},{"$f":"IF('6組'!AG31=\"\",\"\",'6組'!AG31)","v":""},{"$f":"IF('6組'!AH31=\"\",\"\",'6組'!AH31)","v":""},{"$f":"IF('6組'!AI31=\"\",\"\",'6組'!AI31)","v":""},{"$f":"IF('6組'!AJ31=\"\",\"\",'6組'!AJ31)","v":""}]
[null,null,null,null,10609,null,{"$f":"IF(H281<50,G281,G281+1)","v":6},{"$f":"IF(G282<>G281,1,H281+1)","v":9},null,null,"",{"$f":"IF('6組'!L32=\"\",\"\",'6組'!L32)","v":""},{"$f":"IF('6組'!M32=\"\",\"\",'6組'!M32)","v":""},{"$f":"IF('6組'!N32=\"\",\"\",'6組'!N32)","v":""},{"$f":"IF('6組'!O32=\"\",\"\",'6組'!O32)","v":""},{"$f":"IF('6組'!P32=\"\",\"\",'6組'!P32)","v":""},null,null,null,null,null,{"$f":"IF('6組'!V32=\"\",\"\",'6組'!V32)","v":""},{"$f":"IF('6組'!W32=\"\",\"\",'6組'!W32)","v":""},{"$f":"IF('6組'!X32=\"\",\"\",'6組'!X32)","v":""},{"$f":"IF('6組'!Y32=\"\",\"\",'6組'!Y32)","v":""},{"$f":"IF('6組'!Z32=\"\",\"\",'6組'!Z32)","v":""},null,null,null,null,null,{"$f":"IF('6組'!AF32=\"\",\"\",'6組'!AF32)","v":""},{"$f":"IF('6組'!AG32=\"\",\"\",'6組'!AG32)","v":""},{"$f":"IF('6組'!AH32=\"\",\"\",'6組'!AH32)","v":""},{"$f":"IF('6組'!AI32=\"\",\"\",'6組'!AI32)","v":""},{"$f":"IF('6組'!AJ32=\"\",\"\",'6組'!AJ32)","v":""}]
[null,null,null,null,10610,null,6,10,null,null,"",{"$f":"IF('6組'!L33=\"\",\"\",'6組'!L33)","v":""},{"$f":"IF('6組'!M33=\"\",\"\",'6組'!M33)","v":""},{"$f":"IF('6組'!N33=\"\",\"\",'6組'!N33)","v":""},{"$f":"IF('6組'!O33=\"\",\"\",'6組'!O33)","v":""},{"$f":"IF('6組'!P33=\"\",\"\",'6組'!P33)","v":""},null,null,null,null,null,{"$f":"IF('6組'!V33=\"\",\"\",'6組'!V33)","v":""},{"$f":"IF('6組'!W33=\"\",\"\",'6組'!W33)","v":""},{"$f":"IF('6組'!X33=\"\",\"\",'6組'!X33)","v":""},{"$f":"IF('6組'!Y33=\"\",\"\",'6組'!Y33)","v":""},{"$f":"IF('6組'!Z33=\"\",\"\",'6組'!Z33)","v":""},null,null,null,null,null,{"$f":"IF('6組'!AF33=\"\",\"\",'6組'!AF33)","v":""},{"$f":"IF('6組'!AG33=\"\",\"\",'6組'!AG33)","v":""},{"$f":"IF('6組'!AH33=\"\",\"\",'6組'!AH33)","v":""},{"$f":"IF('6組'!AI33=\"\",\"\",'6組'!AI33)","v":""},{"$f":"IF('6組'!AJ33=\"\",\"\",'6組'!AJ33)","v":""}]
[null,null,null,null,10611,null,6,11,null,null,"",{"$f":"IF('6組'!L34=\"\",\"\",'6組'!L34)","v":""},{"$f":"IF('6組'!M34=\"\",\"\",'6組'!M34)","v":""},{"$f":"IF('6組'!N34=\"\",\"\",'6組'!N34)","v":""},{"$f":"IF('6組'!O34=\"\",\"\",'6組'!O34)","v":""},{"$f":"IF('6組'!P34=\"\",\"\",'6組'!P34)","v":""},null,null,null,null,null,{"$f":"IF('6組'!V34=\"\",\"\",'6組'!V34)","v":""},{"$f":"IF('6組'!W34=\"\",\"\",'6組'!W34)","v":""},{"$f":"IF('6組'!X34=\"\",\"\",'6組'!X34)","v":""},{"$f":"IF('6組'!Y34=\"\",\"\",'6組'!Y34)","v":""},{"$f":"IF('6組'!Z34=\"\",\"\",'6組'!Z34)","v":""},null,null,null,null,null,{"$f":"IF('6組'!AF34=\"\",\"\",'6組'!AF34)","v":""},{"$f":"IF('6組'!AG34=\"\",\"\",'6組'!AG34)","v":""},{"$f":"IF('6組'!AH34=\"\",\"\",'6組'!AH34)","v":""},{"$f":"IF('6組'!AI34=\"\",\"\",'6組'!AI34)","v":""},{"$f":"IF('6組'!AJ34=\"\",\"\",'6組'!AJ34)","v":""}]
[null,null,null,null,10612,null,6,12,null,null,"",{"$f":"IF('6組'!L35=\"\",\"\",'6組'!L35)","v":""},{"$f":"IF('6組'!M35=\"\",\"\",'6組'!M35)","v":""},{"$f":"IF('6組'!N35=\"\",\"\",'6組'!N35)","v":""},{"$f":"IF('6組'!O35=\"\",\"\",'6組'!O35)","v":""},{"$f":"IF('6組'!P35=\"\",\"\",'6組'!P35)","v":""},null,null,null,null,null,{"$f":"IF('6組'!V35=\"\",\"\",'6組'!V35)","v":""},{"$f":"IF('6組'!W35=\"\",\"\",'6組'!W35)","v":""},{"$f":"IF('6組'!X35=\"\",\"\",'6組'!X35)","v":""},{"$f":"IF('6組'!Y35=\"\",\"\",'6組'!Y35)","v":""},{"$f":"IF('6組'!Z35=\"\",\"\",'6組'!Z35)","v":""},null,null,null,null,null,{"$f":"IF('6組'!AF35=\"\",\"\",'6組'!AF35)","v":""},{"$f":"IF('6組'!AG35=\"\",\"\",'6組'!AG35)","v":""},{"$f":"IF('6組'!AH35=\"\",\"\",'6組'!AH35)","v":""},{"$f":"IF('6組'!AI35=\"\",\"\",'6組'!AI35)","v":""},{"$f":"IF('6組'!AJ35=\"\",\"\",'6組'!AJ35)","v":""}]
[null,null,null,null,10613,null,6,13,null,null,"",{"$f":"IF('6組'!L36=\"\",\"\",'6組'!L36)","v":""},{"$f":"IF('6組'!M36=\"\",\"\",'6組'!M36)","v":""},{"$f":"IF('6組'!N36=\"\",\"\",'6組'!N36)","v":""},{"$f":"IF('6組'!O36=\"\",\"\",'6組'!O36)","v":""},{"$f":"IF('6組'!P36=\"\",\"\",'6組'!P36)","v":""},null,null,null,null,null,{"$f":"IF('6組'!V36=\"\",\"\",'6組'!V36)","v":""},{"$f":"IF('6組'!W36=\"\",\"\",'6組'!W36)","v":""},{"$f":"IF('6組'!X36=\"\",\"\",'6組'!X36)","v":""},{"$f":"IF('6組'!Y36=\"\",\"\",'6組'!Y36)","v":""},{"$f":"IF('6組'!Z36=\"\",\"\",'6組'!Z36)","v":""},null,null,null,null,null,{"$f":"IF('6組'!AF36=\"\",\"\",'6組'!AF36)","v":""},{"$f":"IF('6組'!AG36=\"\",\"\",'6組'!AG36)","v":""},{"$f":"IF('6組'!AH36=\"\",\"\",'6組'!AH36)","v":""},{"$f":"IF('6組'!AI36=\"\",\"\",'6組'!AI36)","v":""},{"$f":"IF('6組'!AJ36=\"\",\"\",'6組'!AJ36)","v":""}]
[null,null,null,null,10614,null,6,14,null,null,"",{"$f":"IF('6組'!L37=\"\",\"\",'6組'!L37)","v":""},{"$f":"IF('6組'!M37=\"\",\"\",'6組'!M37)","v":""},{"$f":"IF('6組'!N37=\"\",\"\",'6組'!N37)","v":""},{"$f":"IF('6組'!O37=\"\",\"\",'6組'!O37)","v":""},{"$f":"IF('6組'!P37=\"\",\"\",'6組'!P37)","v":""},null,null,null,null,null,{"$f":"IF('6組'!V37=\"\",\"\",'6組'!V37)","v":""},{"$f":"IF('6組'!W37=\"\",\"\",'6組'!W37)","v":""},{"$f":"IF('6組'!X37=\"\",\"\",'6組'!X37)","v":""},{"$f":"IF('6組'!Y37=\"\",\"\",'6組'!Y37)","v":""},{"$f":"IF('6組'!Z37=\"\",\"\",'6組'!Z37)","v":""},null,null,null,null,null,{"$f":"IF('6組'!AF37=\"\",\"\",'6組'!AF37)","v":""},{"$f":"IF('6組'!AG37=\"\",\"\",'6組'!AG37)","v":""},{"$f":"IF('6組'!AH37=\"\",\"\",'6組'!AH37)","v":""},{"$f":"IF('6組'!AI37=\"\",\"\",'6組'!AI37)","v":""},{"$f":"IF('6組'!AJ37=\"\",\"\",'6組'!AJ37)","v":""}]
[null,null,null,null,10615,null,6,15,null,null,"",{"$f":"IF('6組'!L38=\"\",\"\",'6組'!L38)","v":""},{"$f":"IF('6組'!M38=\"\",\"\",'6組'!M38)","v":""},{"$f":"IF('6組'!N38=\"\",\"\",'6組'!N38)","v":""},{"$f":"IF('6組'!O38=\"\",\"\",'6組'!O38)","v":""},{"$f":"IF('6組'!P38=\"\",\"\",'6組'!P38)","v":""},null,null,null,null,null,{"$f":"IF('6組'!V38=\"\",\"\",'6組'!V38)","v":""},{"$f":"IF('6組'!W38=\"\",\"\",'6組'!W38)","v":""},{"$f":"IF('6組'!X38=\"\",\"\",'6組'!X38)","v":""},{"$f":"IF('6組'!Y38=\"\",\"\",'6組'!Y38)","v":""},{"$f":"IF('6組'!Z38=\"\",\"\",'6組'!Z38)","v":""},null,null,null,null,null,{"$f":"IF('6組'!AF38=\"\",\"\",'6組'!AF38)","v":""},{"$f":"IF('6組'!AG38=\"\",\"\",'6組'!AG38)","v":""},{"$f":"IF('6組'!AH38=\"\",\"\",'6組'!AH38)","v":""},{"$f":"IF('6組'!AI38=\"\",\"\",'6組'!AI38)","v":""},{"$f":"IF('6組'!AJ38=\"\",\"\",'6組'!AJ38)","v":""}]
[null,null,null,null,10616,null,6,16,null,null,"",{"$f":"IF('6組'!L39=\"\",\"\",'6組'!L39)","v":""},{"$f":"IF('6組'!M39=\"\",\"\",'6組'!M39)","v":""},{"$f":"IF('6組'!N39=\"\",\"\",'6組'!N39)","v":""},{"$f":"IF('6組'!O39=\"\",\"\",'6組'!O39)","v":""},{"$f":"IF('6組'!P39=\"\",\"\",'6組'!P39)","v":""},null,null,null,null,null,{"$f":"IF('6組'!V39=\"\",\"\",'6組'!V39)","v":""},{"$f":"IF('6組'!W39=\"\",\"\",'6組'!W39)","v":""},{"$f":"IF('6組'!X39=\"\",\"\",'6組'!X39)","v":""},{"$f":"IF('6組'!Y39=\"\",\"\",'6組'!Y39)","v":""},{"$f":"IF('6組'!Z39=\"\",\"\",'6組'!Z39)","v":""},null,null,null,null,null,{"$f":"IF('6組'!AF39=\"\",\"\",'6組'!AF39)","v":""},{"$f":"IF('6組'!AG39=\"\",\"\",'6組'!AG39)","v":""},{"$f":"IF('6組'!AH39=\"\",\"\",'6組'!AH39)","v":""},{"$f":"IF('6組'!AI39=\"\",\"\",'6組'!AI39)","v":""},{"$f":"IF('6組'!AJ39=\"\",\"\",'6組'!AJ39)","v":""}]
[null,null,null,null,10617,null,6,17,null,null,"",{"$f":"IF('6組'!L40=\"\",\"\",'6組'!L40)","v":""},{"$f":"IF('6組'!M40=\"\",\"\",'6組'!M40)","v":""},{"$f":"IF('6組'!N40=\"\",\"\",'6組'!N40)","v":""},{"$f":"IF('6組'!O40=\"\",\"\",'6組'!O40)","v":""},{"$f":"IF('6組'!P40=\"\",\"\",'6組'!P40)","v":""},null,null,null,null,null,{"$f":"IF('6組'!V40=\"\",\"\",'6組'!V40)","v":""},{"$f":"IF('6組'!W40=\"\",\"\",'6組'!W40)","v":""},{"$f":"IF('6組'!X40=\"\",\"\",'6組'!X40)","v":""},{"$f":"IF('6組'!Y40=\"\",\"\",'6組'!Y40)","v":""},{"$f":"IF('6組'!Z40=\"\",\"\",'6組'!Z40)","v":""},null,null,null,null,null,{"$f":"IF('6組'!AF40=\"\",\"\",'6組'!AF40)","v":""},{"$f":"IF('6組'!AG40=\"\",\"\",'6組'!AG40)","v":""},{"$f":"IF('6組'!AH40=\"\",\"\",'6組'!AH40)","v":""},{"$f":"IF('6組'!AI40=\"\",\"\",'6組'!AI40)","v":""},{"$f":"IF('6組'!AJ40=\"\",\"\",'6組'!AJ40)","v":""}]
[null,null,null,null,10618,null,6,18,null,null,"",{"$f":"IF('6組'!L41=\"\",\"\",'6組'!L41)","v":""},{"$f":"IF('6組'!M41=\"\",\"\",'6組'!M41)","v":""},{"$f":"IF('6組'!N41=\"\",\"\",'6組'!N41)","v":""},{"$f":"IF('6組'!O41=\"\",\"\",'6組'!O41)","v":""},{"$f":"IF('6組'!P41=\"\",\"\",'6組'!P41)","v":""},null,null,null,null,null,{"$f":"IF('6組'!V41=\"\",\"\",'6組'!V41)","v":""},{"$f":"IF('6組'!W41=\"\",\"\",'6組'!W41)","v":""},{"$f":"IF('6組'!X41=\"\",\"\",'6組'!X41)","v":""},{"$f":"IF('6組'!Y41=\"\",\"\",'6組'!Y41)","v":""},{"$f":"IF('6組'!Z41=\"\",\"\",'6組'!Z41)","v":""},null,null,null,null,null,{"$f":"IF('6組'!AF41=\"\",\"\",'6組'!AF41)","v":""},{"$f":"IF('6組'!AG41=\"\",\"\",'6組'!AG41)","v":""},{"$f":"IF('6組'!AH41=\"\",\"\",'6組'!AH41)","v":""},{"$f":"IF('6組'!AI41=\"\",\"\",'6組'!AI41)","v":""},{"$f":"IF('6組'!AJ41=\"\",\"\",'6組'!AJ41)","v":""}]
[null,null,null,null,10619,null,6,19,null,null,"",{"$f":"IF('6組'!L42=\"\",\"\",'6組'!L42)","v":""},{"$f":"IF('6組'!M42=\"\",\"\",'6組'!M42)","v":""},{"$f":"IF('6組'!N42=\"\",\"\",'6組'!N42)","v":""},{"$f":"IF('6組'!O42=\"\",\"\",'6組'!O42)","v":""},{"$f":"IF('6組'!P42=\"\",\"\",'6組'!P42)","v":""},null,null,null,null,null,{"$f":"IF('6組'!V42=\"\",\"\",'6組'!V42)","v":""},{"$f":"IF('6組'!W42=\"\",\"\",'6組'!W42)","v":""},{"$f":"IF('6組'!X42=\"\",\"\",'6組'!X42)","v":""},{"$f":"IF('6組'!Y42=\"\",\"\",'6組'!Y42)","v":""},{"$f":"IF('6組'!Z42=\"\",\"\",'6組'!Z42)","v":""},null,null,null,null,null,{"$f":"IF('6組'!AF42=\"\",\"\",'6組'!AF42)","v":""},{"$f":"IF('6組'!AG42=\"\",\"\",'6組'!AG42)","v":""},{"$f":"IF('6組'!AH42=\"\",\"\",'6組'!AH42)","v":""},{"$f":"IF('6組'!AI42=\"\",\"\",'6組'!AI42)","v":""},{"$f":"IF('6組'!AJ42=\"\",\"\",'6組'!AJ42)","v":""}]
[null,null,null,null,10620,null,6,20,null,null,"",{"$f":"IF('6組'!L43=\"\",\"\",'6組'!L43)","v":""},{"$f":"IF('6組'!M43=\"\",\"\",'6組'!M43)","v":""},{"$f":"IF('6組'!N43=\"\",\"\",'6組'!N43)","v":""},{"$f":"IF('6組'!O43=\"\",\"\",'6組'!O43)","v":""},{"$f":"IF('6組'!P43=\"\",\"\",'6組'!P43)","v":""},null,null,null,null,null,{"$f":"IF('6組'!V43=\"\",\"\",'6組'!V43)","v":""},{"$f":"IF('6組'!W43=\"\",\"\",'6組'!W43)","v":""},{"$f":"IF('6組'!X43=\"\",\"\",'6組'!X43)","v":""},{"$f":"IF('6組'!Y43=\"\",\"\",'6組'!Y43)","v":""},{"$f":"IF('6組'!Z43=\"\",\"\",'6組'!Z43)","v":""},null,null,null,null,null,{"$f":"IF('6組'!AF43=\"\",\"\",'6組'!AF43)","v":""},{"$f":"IF('6組'!AG43=\"\",\"\",'6組'!AG43)","v":""},{"$f":"IF('6組'!AH43=\"\",\"\",'6組'!AH43)","v":""},{"$f":"IF('6組'!AI43=\"\",\"\",'6組'!AI43)","v":""},{"$f":"IF('6組'!AJ43=\"\",\"\",'6組'!AJ43)","v":""}]
[null,null,null,null,10621,null,6,21,null,null,"",{"$f":"IF('6組'!L44=\"\",\"\",'6組'!L44)","v":""},{"$f":"IF('6組'!M44=\"\",\"\",'6組'!M44)","v":""},{"$f":"IF('6組'!N44=\"\",\"\",'6組'!N44)","v":""},{"$f":"IF('6組'!O44=\"\",\"\",'6組'!O44)","v":""},{"$f":"IF('6組'!P44=\"\",\"\",'6組'!P44)","v":""},null,null,null,null,null,{"$f":"IF('6組'!V44=\"\",\"\",'6組'!V44)","v":""},{"$f":"IF('6組'!W44=\"\",\"\",'6組'!W44)","v":""},{"$f":"IF('6組'!X44=\"\",\"\",'6組'!X44)","v":""},{"$f":"IF('6組'!Y44=\"\",\"\",'6組'!Y44)","v":""},{"$f":"IF('6組'!Z44=\"\",\"\",'6組'!Z44)","v":""},null,null,null,null,null,{"$f":"IF('6組'!AF44=\"\",\"\",'6組'!AF44)","v":""},{"$f":"IF('6組'!AG44=\"\",\"\",'6組'!AG44)","v":""},{"$f":"IF('6組'!AH44=\"\",\"\",'6組'!AH44)","v":""},{"$f":"IF('6組'!AI44=\"\",\"\",'6組'!AI44)","v":""},{"$f":"IF('6組'!AJ44=\"\",\"\",'6組'!AJ44)","v":""}]
[null,null,null,null,10622,null,6,22,null,null,"",{"$f":"IF('6組'!L45=\"\",\"\",'6組'!L45)","v":""},{"$f":"IF('6組'!M45=\"\",\"\",'6組'!M45)","v":""},{"$f":"IF('6組'!N45=\"\",\"\",'6組'!N45)","v":""},{"$f":"IF('6組'!O45=\"\",\"\",'6組'!O45)","v":""},{"$f":"IF('6組'!P45=\"\",\"\",'6組'!P45)","v":""},null,null,null,null,null,{"$f":"IF('6組'!V45=\"\",\"\",'6組'!V45)","v":""},{"$f":"IF('6組'!W45=\"\",\"\",'6組'!W45)","v":""},{"$f":"IF('6組'!X45=\"\",\"\",'6組'!X45)","v":""},{"$f":"IF('6組'!Y45=\"\",\"\",'6組'!Y45)","v":""},{"$f":"IF('6組'!Z45=\"\",\"\",'6組'!Z45)","v":""},null,null,null,null,null,{"$f":"IF('6組'!AF45=\"\",\"\",'6組'!AF45)","v":""},{"$f":"IF('6組'!AG45=\"\",\"\",'6組'!AG45)","v":""},{"$f":"IF('6組'!AH45=\"\",\"\",'6組'!AH45)","v":""},{"$f":"IF('6組'!AI45=\"\",\"\",'6組'!AI45)","v":""},{"$f":"IF('6組'!AJ45=\"\",\"\",'6組'!AJ45)","v":""}]
[null,null,null,null,10623,null,6,23,null,null,"",{"$f":"IF('6組'!L46=\"\",\"\",'6組'!L46)","v":""},{"$f":"IF('6組'!M46=\"\",\"\",'6組'!M46)","v":""},{"$f":"IF('6組'!N46=\"\",\"\",'6組'!N46)","v":""},{"$f":"IF('6組'!O46=\"\",\"\",'6組'!O46)","v":""},{"$f":"IF('6組'!P46=\"\",\"\",'6組'!P46)","v":""},null,null,null,null,null,{"$f":"IF('6組'!V46=\"\",\"\",'6組'!V46)","v":""},{"$f":"IF('6組'!W46=\"\",\"\",'6組'!W46)","v":""},{"$f":"IF('6組'!X46=\"\",\"\",'6組'!X46)","v":""},{"$f":"IF('6組'!Y46=\"\",\"\",'6組'!Y46)","v":""},{"$f":"IF('6組'!Z46=\"\",\"\",'6組'!Z46)","v":""},null,null,null,null,null,{"$f":"IF('6組'!AF46=\"\",\"\",'6組'!AF46)","v":""},{"$f":"IF('6組'!AG46=\"\",\"\",'6組'!AG46)","v":""},{"$f":"IF('6組'!AH46=\"\",\"\",'6組'!AH46)","v":""},{"$f":"IF('6組'!AI46=\"\",\"\",'6組'!AI46)","v":""},{"$f":"IF('6組'!AJ46=\"\",\"\",'6組'!AJ46)","v":""}]
[null,null,null,null,10624,null,6,24,null,null,"",{"$f":"IF('6組'!L47=\"\",\"\",'6組'!L47)","v":""},{"$f":"IF('6組'!M47=\"\",\"\",'6組'!M47)","v":""},{"$f":"IF('6組'!N47=\"\",\"\",'6組'!N47)","v":""},{"$f":"IF('6組'!O47=\"\",\"\",'6組'!O47)","v":""},{"$f":"IF('6組'!P47=\"\",\"\",'6組'!P47)","v":""},null,null,null,null,null,{"$f":"IF('6組'!V47=\"\",\"\",'6組'!V47)","v":""},{"$f":"IF('6組'!W47=\"\",\"\",'6組'!W47)","v":""},{"$f":"IF('6組'!X47=\"\",\"\",'6組'!X47)","v":""},{"$f":"IF('6組'!Y47=\"\",\"\",'6組'!Y47)","v":""},{"$f":"IF('6組'!Z47=\"\",\"\",'6組'!Z47)","v":""},null,null,null,null,null,{"$f":"IF('6組'!AF47=\"\",\"\",'6組'!AF47)","v":""},{"$f":"IF('6組'!AG47=\"\",\"\",'6組'!AG47)","v":""},{"$f":"IF('6組'!AH47=\"\",\"\",'6組'!AH47)","v":""},{"$f":"IF('6組'!AI47=\"\",\"\",'6組'!AI47)","v":""},{"$f":"IF('6組'!AJ47=\"\",\"\",'6組'!AJ47)","v":""}]
[null,null,null,null,10625,null,6,25,null,null,"",{"$f":"IF('6組'!L48=\"\",\"\",'6組'!L48)","v":""},{"$f":"IF('6組'!M48=\"\",\"\",'6組'!M48)","v":""},{"$f":"IF('6組'!N48=\"\",\"\",'6組'!N48)","v":""},{"$f":"IF('6組'!O48=\"\",\"\",'6組'!O48)","v":""},{"$f":"IF('6組'!P48=\"\",\"\",'6組'!P48)","v":""},null,null,null,null,null,{"$f":"IF('6組'!V48=\"\",\"\",'6組'!V48)","v":""},{"$f":"IF('6組'!W48=\"\",\"\",'6組'!W48)","v":""},{"$f":"IF('6組'!X48=\"\",\"\",'6組'!X48)","v":""},{"$f":"IF('6組'!Y48=\"\",\"\",'6組'!Y48)","v":""},{"$f":"IF('6組'!Z48=\"\",\"\",'6組'!Z48)","v":""},null,null,null,null,null,{"$f":"IF('6組'!AF48=\"\",\"\",'6組'!AF48)","v":""},{"$f":"IF('6組'!AG48=\"\",\"\",'6組'!AG48)","v":""},{"$f":"IF('6組'!AH48=\"\",\"\",'6組'!AH48)","v":""},{"$f":"IF('6組'!AI48=\"\",\"\",'6組'!AI48)","v":""},{"$f":"IF('6組'!AJ48=\"\",\"\",'6組'!AJ48)","v":""}]
[null,null,null,null,10626,null,6,26,null,null,"",{"$f":"IF('6組'!L49=\"\",\"\",'6組'!L49)","v":""},{"$f":"IF('6組'!M49=\"\",\"\",'6組'!M49)","v":""},{"$f":"IF('6組'!N49=\"\",\"\",'6組'!N49)","v":""},{"$f":"IF('6組'!O49=\"\",\"\",'6組'!O49)","v":""},{"$f":"IF('6組'!P49=\"\",\"\",'6組'!P49)","v":""},null,null,null,null,null,{"$f":"IF('6組'!V49=\"\",\"\",'6組'!V49)","v":""},{"$f":"IF('6組'!W49=\"\",\"\",'6組'!W49)","v":""},{"$f":"IF('6組'!X49=\"\",\"\",'6組'!X49)","v":""},{"$f":"IF('6組'!Y49=\"\",\"\",'6組'!Y49)","v":""},{"$f":"IF('6組'!Z49=\"\",\"\",'6組'!Z49)","v":""},null,null,null,null,null,{"$f":"IF('6組'!AF49=\"\",\"\",'6組'!AF49)","v":""},{"$f":"IF('6組'!AG49=\"\",\"\",'6組'!AG49)","v":""},{"$f":"IF('6組'!AH49=\"\",\"\",'6組'!AH49)","v":""},{"$f":"IF('6組'!AI49=\"\",\"\",'6組'!AI49)","v":""},{"$f":"IF('6組'!AJ49=\"\",\"\",'6組'!AJ49)","v":""}]
[null,null,null,null,10627,null,6,27,null,null,"",{"$f":"IF('6組'!L50=\"\",\"\",'6組'!L50)","v":""},{"$f":"IF('6組'!M50=\"\",\"\",'6組'!M50)","v":""},{"$f":"IF('6組'!N50=\"\",\"\",'6組'!N50)","v":""},{"$f":"IF('6組'!O50=\"\",\"\",'6組'!O50)","v":""},{"$f":"IF('6組'!P50=\"\",\"\",'6組'!P50)","v":""},null,null,null,null,null,{"$f":"IF('6組'!V50=\"\",\"\",'6組'!V50)","v":""},{"$f":"IF('6組'!W50=\"\",\"\",'6組'!W50)","v":""},{"$f":"IF('6組'!X50=\"\",\"\",'6組'!X50)","v":""},{"$f":"IF('6組'!Y50=\"\",\"\",'6組'!Y50)","v":""},{"$f":"IF('6組'!Z50=\"\",\"\",'6組'!Z50)","v":""},null,null,null,null,null,{"$f":"IF('6組'!AF50=\"\",\"\",'6組'!AF50)","v":""},{"$f":"IF('6組'!AG50=\"\",\"\",'6組'!AG50)","v":""},{"$f":"IF('6組'!AH50=\"\",\"\",'6組'!AH50)","v":""},{"$f":"IF('6組'!AI50=\"\",\"\",'6組'!AI50)","v":""},{"$f":"IF('6組'!AJ50=\"\",\"\",'6組'!AJ50)","v":""}]
[null,null,null,null,10628,null,6,28,null,null,"",{"$f":"IF('6組'!L51=\"\",\"\",'6組'!L51)","v":""},{"$f":"IF('6組'!M51=\"\",\"\",'6組'!M51)","v":""},{"$f":"IF('6組'!N51=\"\",\"\",'6組'!N51)","v":""},{"$f":"IF('6組'!O51=\"\",\"\",'6組'!O51)","v":""},{"$f":"IF('6組'!P51=\"\",\"\",'6組'!P51)","v":""},null,null,null,null,null,{"$f":"IF('6組'!V51=\"\",\"\",'6組'!V51)","v":""},{"$f":"IF('6組'!W51=\"\",\"\",'6組'!W51)","v":""},{"$f":"IF('6組'!X51=\"\",\"\",'6組'!X51)","v":""},{"$f":"IF('6組'!Y51=\"\",\"\",'6組'!Y51)","v":""},{"$f":"IF('6組'!Z51=\"\",\"\",'6組'!Z51)","v":""},null,null,null,null,null,{"$f":"IF('6組'!AF51=\"\",\"\",'6組'!AF51)","v":""},{"$f":"IF('6組'!AG51=\"\",\"\",'6組'!AG51)","v":""},{"$f":"IF('6組'!AH51=\"\",\"\",'6組'!AH51)","v":""},{"$f":"IF('6組'!AI51=\"\",\"\",'6組'!AI51)","v":""},{"$f":"IF('6組'!AJ51=\"\",\"\",'6組'!AJ51)","v":""}]
[null,null,null,null,10629,null,6,29,null,null,"",{"$f":"IF('6組'!L52=\"\",\"\",'6組'!L52)","v":""},{"$f":"IF('6組'!M52=\"\",\"\",'6組'!M52)","v":""},{"$f":"IF('6組'!N52=\"\",\"\",'6組'!N52)","v":""},{"$f":"IF('6組'!O52=\"\",\"\",'6組'!O52)","v":""},{"$f":"IF('6組'!P52=\"\",\"\",'6組'!P52)","v":""},null,null,null,null,null,{"$f":"IF('6組'!V52=\"\",\"\",'6組'!V52)","v":""},{"$f":"IF('6組'!W52=\"\",\"\",'6組'!W52)","v":""},{"$f":"IF('6組'!X52=\"\",\"\",'6組'!X52)","v":""},{"$f":"IF('6組'!Y52=\"\",\"\",'6組'!Y52)","v":""},{"$f":"IF('6組'!Z52=\"\",\"\",'6組'!Z52)","v":""},null,null,null,null,null,{"$f":"IF('6組'!AF52=\"\",\"\",'6組'!AF52)","v":""},{"$f":"IF('6組'!AG52=\"\",\"\",'6組'!AG52)","v":""},{"$f":"IF('6組'!AH52=\"\",\"\",'6組'!AH52)","v":""},{"$f":"IF('6組'!AI52=\"\",\"\",'6組'!AI52)","v":""},{"$f":"IF('6組'!AJ52=\"\",\"\",'6組'!AJ52)","v":""}]
[null,null,null,null,10630,null,6,30,null,null,"",{"$f":"IF('6組'!L53=\"\",\"\",'6組'!L53)","v":""},{"$f":"IF('6組'!M53=\"\",\"\",'6組'!M53)","v":""},{"$f":"IF('6組'!N53=\"\",\"\",'6組'!N53)","v":""},{"$f":"IF('6組'!O53=\"\",\"\",'6組'!O53)","v":""},{"$f":"IF('6組'!P53=\"\",\"\",'6組'!P53)","v":""},null,null,null,null,null,{"$f":"IF('6組'!V53=\"\",\"\",'6組'!V53)","v":""},{"$f":"IF('6組'!W53=\"\",\"\",'6組'!W53)","v":""},{"$f":"IF('6組'!X53=\"\",\"\",'6組'!X53)","v":""},{"$f":"IF('6組'!Y53=\"\",\"\",'6組'!Y53)","v":""},{"$f":"IF('6組'!Z53=\"\",\"\",'6組'!Z53)","v":""},null,null,null,null,null,{"$f":"IF('6組'!AF53=\"\",\"\",'6組'!AF53)","v":""},{"$f":"IF('6組'!AG53=\"\",\"\",'6組'!AG53)","v":""},{"$f":"IF('6組'!AH53=\"\",\"\",'6組'!AH53)","v":""},{"$f":"IF('6組'!AI53=\"\",\"\",'6組'!AI53)","v":""},{"$f":"IF('6組'!AJ53=\"\",\"\",'6組'!AJ53)","v":""}]
[null,null,null,null,10631,null,6,31,null,null,"",{"$f":"IF('6組'!L54=\"\",\"\",'6組'!L54)","v":""},{"$f":"IF('6組'!M54=\"\",\"\",'6組'!M54)","v":""},{"$f":"IF('6組'!N54=\"\",\"\",'6組'!N54)","v":""},{"$f":"IF('6組'!O54=\"\",\"\",'6組'!O54)","v":""},{"$f":"IF('6組'!P54=\"\",\"\",'6組'!P54)","v":""},null,null,null,null,null,{"$f":"IF('6組'!V54=\"\",\"\",'6組'!V54)","v":""},{"$f":"IF('6組'!W54=\"\",\"\",'6組'!W54)","v":""},{"$f":"IF('6組'!X54=\"\",\"\",'6組'!X54)","v":""},{"$f":"IF('6組'!Y54=\"\",\"\",'6組'!Y54)","v":""},{"$f":"IF('6組'!Z54=\"\",\"\",'6組'!Z54)","v":""},null,null,null,null,null,{"$f":"IF('6組'!AF54=\"\",\"\",'6組'!AF54)","v":""},{"$f":"IF('6組'!AG54=\"\",\"\",'6組'!AG54)","v":""},{"$f":"IF('6組'!AH54=\"\",\"\",'6組'!AH54)","v":""},{"$f":"IF('6組'!AI54=\"\",\"\",'6組'!AI54)","v":""},{"$f":"IF('6組'!AJ54=\"\",\"\",'6組'!AJ54)","v":""}]
[null,null,null,null,10632,null,6,32,null,null,"",{"$f":"IF('6組'!L55=\"\",\"\",'6組'!L55)","v":""},{"$f":"IF('6組'!M55=\"\",\"\",'6組'!M55)","v":""},{"$f":"IF('6組'!N55=\"\",\"\",'6組'!N55)","v":""},{"$f":"IF('6組'!O55=\"\",\"\",'6組'!O55)","v":""},{"$f":"IF('6組'!P55=\"\",\"\",'6組'!P55)","v":""},null,null,null,null,null,{"$f":"IF('6組'!V55=\"\",\"\",'6組'!V55)","v":""},{"$f":"IF('6組'!W55=\"\",\"\",'6組'!W55)","v":""},{"$f":"IF('6組'!X55=\"\",\"\",'6組'!X55)","v":""},{"$f":"IF('6組'!Y55=\"\",\"\",'6組'!Y55)","v":""},{"$f":"IF('6組'!Z55=\"\",\"\",'6組'!Z55)","v":""},null,null,null,null,null,{"$f":"IF('6組'!AF55=\"\",\"\",'6組'!AF55)","v":""},{"$f":"IF('6組'!AG55=\"\",\"\",'6組'!AG55)","v":""},{"$f":"IF('6組'!AH55=\"\",\"\",'6組'!AH55)","v":""},{"$f":"IF('6組'!AI55=\"\",\"\",'6組'!AI55)","v":""},{"$f":"IF('6組'!AJ55=\"\",\"\",'6組'!AJ55)","v":""}]
[null,null,null,null,10633,null,6,33,null,null,"",{"$f":"IF('6組'!L56=\"\",\"\",'6組'!L56)","v":""},{"$f":"IF('6組'!M56=\"\",\"\",'6組'!M56)","v":""},{"$f":"IF('6組'!N56=\"\",\"\",'6組'!N56)","v":""},{"$f":"IF('6組'!O56=\"\",\"\",'6組'!O56)","v":""},{"$f":"IF('6組'!P56=\"\",\"\",'6組'!P56)","v":""},null,null,null,null,null,{"$f":"IF('6組'!V56=\"\",\"\",'6組'!V56)","v":""},{"$f":"IF('6組'!W56=\"\",\"\",'6組'!W56)","v":""},{"$f":"IF('6組'!X56=\"\",\"\",'6組'!X56)","v":""},{"$f":"IF('6組'!Y56=\"\",\"\",'6組'!Y56)","v":""},{"$f":"IF('6組'!Z56=\"\",\"\",'6組'!Z56)","v":""},null,null,null,null,null,{"$f":"IF('6組'!AF56=\"\",\"\",'6組'!AF56)","v":""},{"$f":"IF('6組'!AG56=\"\",\"\",'6組'!AG56)","v":""},{"$f":"IF('6組'!AH56=\"\",\"\",'6組'!AH56)","v":""},{"$f":"IF('6組'!AI56=\"\",\"\",'6組'!AI56)","v":""},{"$f":"IF('6組'!AJ56=\"\",\"\",'6組'!AJ56)","v":""}]
[null,null,null,null,10634,null,6,34,null,null,"",{"$f":"IF('6組'!L57=\"\",\"\",'6組'!L57)","v":""},{"$f":"IF('6組'!M57=\"\",\"\",'6組'!M57)","v":""},{"$f":"IF('6組'!N57=\"\",\"\",'6組'!N57)","v":""},{"$f":"IF('6組'!O57=\"\",\"\",'6組'!O57)","v":""},{"$f":"IF('6組'!P57=\"\",\"\",'6組'!P57)","v":""},null,null,null,null,null,{"$f":"IF('6組'!V57=\"\",\"\",'6組'!V57)","v":""},{"$f":"IF('6組'!W57=\"\",\"\",'6組'!W57)","v":""},{"$f":"IF('6組'!X57=\"\",\"\",'6組'!X57)","v":""},{"$f":"IF('6組'!Y57=\"\",\"\",'6組'!Y57)","v":""},{"$f":"IF('6組'!Z57=\"\",\"\",'6組'!Z57)","v":""},null,null,null,null,null,{"$f":"IF('6組'!AF57=\"\",\"\",'6組'!AF57)","v":""},{"$f":"IF('6組'!AG57=\"\",\"\",'6組'!AG57)","v":""},{"$f":"IF('6組'!AH57=\"\",\"\",'6組'!AH57)","v":""},{"$f":"IF('6組'!AI57=\"\",\"\",'6組'!AI57)","v":""},{"$f":"IF('6組'!AJ57=\"\",\"\",'6組'!AJ57)","v":""}]
[null,null,null,null,10635,null,6,35,null,null,"",{"$f":"IF('6組'!L58=\"\",\"\",'6組'!L58)","v":""},{"$f":"IF('6組'!M58=\"\",\"\",'6組'!M58)","v":""},{"$f":"IF('6組'!N58=\"\",\"\",'6組'!N58)","v":""},{"$f":"IF('6組'!O58=\"\",\"\",'6組'!O58)","v":""},{"$f":"IF('6組'!P58=\"\",\"\",'6組'!P58)","v":""},null,null,null,null,null,{"$f":"IF('6組'!V58=\"\",\"\",'6組'!V58)","v":""},{"$f":"IF('6組'!W58=\"\",\"\",'6組'!W58)","v":""},{"$f":"IF('6組'!X58=\"\",\"\",'6組'!X58)","v":""},{"$f":"IF('6組'!Y58=\"\",\"\",'6組'!Y58)","v":""},{"$f":"IF('6組'!Z58=\"\",\"\",'6組'!Z58)","v":""},null,null,null,null,null,{"$f":"IF('6組'!AF58=\"\",\"\",'6組'!AF58)","v":""},{"$f":"IF('6組'!AG58=\"\",\"\",'6組'!AG58)","v":""},{"$f":"IF('6組'!AH58=\"\",\"\",'6組'!AH58)","v":""},{"$f":"IF('6組'!AI58=\"\",\"\",'6組'!AI58)","v":""},{"$f":"IF('6組'!AJ58=\"\",\"\",'6組'!AJ58)","v":""}]
[null,null,null,null,10636,null,6,36,null,null,"",{"$f":"IF('6組'!L59=\"\",\"\",'6組'!L59)","v":""},{"$f":"IF('6組'!M59=\"\",\"\",'6組'!M59)","v":""},{"$f":"IF('6組'!N59=\"\",\"\",'6組'!N59)","v":""},{"$f":"IF('6組'!O59=\"\",\"\",'6組'!O59)","v":""},{"$f":"IF('6組'!P59=\"\",\"\",'6組'!P59)","v":""},null,null,null,null,null,{"$f":"IF('6組'!V59=\"\",\"\",'6組'!V59)","v":""},{"$f":"IF('6組'!W59=\"\",\"\",'6組'!W59)","v":""},{"$f":"IF('6組'!X59=\"\",\"\",'6組'!X59)","v":""},{"$f":"IF('6組'!Y59=\"\",\"\",'6組'!Y59)","v":""},{"$f":"IF('6組'!Z59=\"\",\"\",'6組'!Z59)","v":""},null,null,null,null,null,{"$f":"IF('6組'!AF59=\"\",\"\",'6組'!AF59)","v":""},{"$f":"IF('6組'!AG59=\"\",\"\",'6組'!AG59)","v":""},{"$f":"IF('6組'!AH59=\"\",\"\",'6組'!AH59)","v":""},{"$f":"IF('6組'!AI59=\"\",\"\",'6組'!AI59)","v":""},{"$f":"IF('6組'!AJ59=\"\",\"\",'6組'!AJ59)","v":""}]
[null,null,null,null,10637,null,6,37,null,null,"",{"$f":"IF('6組'!L60=\"\",\"\",'6組'!L60)","v":""},{"$f":"IF('6組'!M60=\"\",\"\",'6組'!M60)","v":""},{"$f":"IF('6組'!N60=\"\",\"\",'6組'!N60)","v":""},{"$f":"IF('6組'!O60=\"\",\"\",'6組'!O60)","v":""},{"$f":"IF('6組'!P60=\"\",\"\",'6組'!P60)","v":""},null,null,null,null,null,{"$f":"IF('6組'!V60=\"\",\"\",'6組'!V60)","v":""},{"$f":"IF('6組'!W60=\"\",\"\",'6組'!W60)","v":""},{"$f":"IF('6組'!X60=\"\",\"\",'6組'!X60)","v":""},{"$f":"IF('6組'!Y60=\"\",\"\",'6組'!Y60)","v":""},{"$f":"IF('6組'!Z60=\"\",\"\",'6組'!Z60)","v":""},null,null,null,null,null,{"$f":"IF('6組'!AF60=\"\",\"\",'6組'!AF60)","v":""},{"$f":"IF('6組'!AG60=\"\",\"\",'6組'!AG60)","v":""},{"$f":"IF('6組'!AH60=\"\",\"\",'6組'!AH60)","v":""},{"$f":"IF('6組'!AI60=\"\",\"\",'6組'!AI60)","v":""},{"$f":"IF('6組'!AJ60=\"\",\"\",'6組'!AJ60)","v":""}]
[null,null,null,null,10638,null,6,38,null,null,"",{"$f":"IF('6組'!L61=\"\",\"\",'6組'!L61)","v":""},{"$f":"IF('6組'!M61=\"\",\"\",'6組'!M61)","v":""},{"$f":"IF('6組'!N61=\"\",\"\",'6組'!N61)","v":""},{"$f":"IF('6組'!O61=\"\",\"\",'6組'!O61)","v":""},{"$f":"IF('6組'!P61=\"\",\"\",'6組'!P61)","v":""},null,null,null,null,null,{"$f":"IF('6組'!V61=\"\",\"\",'6組'!V61)","v":""},{"$f":"IF('6組'!W61=\"\",\"\",'6組'!W61)","v":""},{"$f":"IF('6組'!X61=\"\",\"\",'6組'!X61)","v":""},{"$f":"IF('6組'!Y61=\"\",\"\",'6組'!Y61)","v":""},{"$f":"IF('6組'!Z61=\"\",\"\",'6組'!Z61)","v":""},null,null,null,null,null,{"$f":"IF('6組'!AF61=\"\",\"\",'6組'!AF61)","v":""},{"$f":"IF('6組'!AG61=\"\",\"\",'6組'!AG61)","v":""},{"$f":"IF('6組'!AH61=\"\",\"\",'6組'!AH61)","v":""},{"$f":"IF('6組'!AI61=\"\",\"\",'6組'!AI61)","v":""},{"$f":"IF('6組'!AJ61=\"\",\"\",'6組'!AJ61)","v":""}]
[null,null,null,null,10639,null,6,39,null,null,"",{"$f":"IF('6組'!L62=\"\",\"\",'6組'!L62)","v":""},{"$f":"IF('6組'!M62=\"\",\"\",'6組'!M62)","v":""},{"$f":"IF('6組'!N62=\"\",\"\",'6組'!N62)","v":""},{"$f":"IF('6組'!O62=\"\",\"\",'6組'!O62)","v":""},{"$f":"IF('6組'!P62=\"\",\"\",'6組'!P62)","v":""},null,null,null,null,null,{"$f":"IF('6組'!V62=\"\",\"\",'6組'!V62)","v":""},{"$f":"IF('6組'!W62=\"\",\"\",'6組'!W62)","v":""},{"$f":"IF('6組'!X62=\"\",\"\",'6組'!X62)","v":""},{"$f":"IF('6組'!Y62=\"\",\"\",'6組'!Y62)","v":""},{"$f":"IF('6組'!Z62=\"\",\"\",'6組'!Z62)","v":""},null,null,null,null,null,{"$f":"IF('6組'!AF62=\"\",\"\",'6組'!AF62)","v":""},{"$f":"IF('6組'!AG62=\"\",\"\",'6組'!AG62)","v":""},{"$f":"IF('6組'!AH62=\"\",\"\",'6組'!AH62)","v":""},{"$f":"IF('6組'!AI62=\"\",\"\",'6組'!AI62)","v":""},{"$f":"IF('6組'!AJ62=\"\",\"\",'6組'!AJ62)","v":""}]
[null,null,null,null,10640,null,6,40,null,null,"",{"$f":"IF('6組'!L63=\"\",\"\",'6組'!L63)","v":""},{"$f":"IF('6組'!M63=\"\",\"\",'6組'!M63)","v":""},{"$f":"IF('6組'!N63=\"\",\"\",'6組'!N63)","v":""},{"$f":"IF('6組'!O63=\"\",\"\",'6組'!O63)","v":""},{"$f":"IF('6組'!P63=\"\",\"\",'6組'!P63)","v":""},null,null,null,null,null,{"$f":"IF('6組'!V63=\"\",\"\",'6組'!V63)","v":""},{"$f":"IF('6組'!W63=\"\",\"\",'6組'!W63)","v":""},{"$f":"IF('6組'!X63=\"\",\"\",'6組'!X63)","v":""},{"$f":"IF('6組'!Y63=\"\",\"\",'6組'!Y63)","v":""},{"$f":"IF('6組'!Z63=\"\",\"\",'6組'!Z63)","v":""},null,null,null,null,null,{"$f":"IF('6組'!AF63=\"\",\"\",'6組'!AF63)","v":""},{"$f":"IF('6組'!AG63=\"\",\"\",'6組'!AG63)","v":""},{"$f":"IF('6組'!AH63=\"\",\"\",'6組'!AH63)","v":""},{"$f":"IF('6組'!AI63=\"\",\"\",'6組'!AI63)","v":""},{"$f":"IF('6組'!AJ63=\"\",\"\",'6組'!AJ63)","v":""}]
[null,null,null,null,10641,null,6,41,null,null,"",{"$f":"IF('6組'!L64=\"\",\"\",'6組'!L64)","v":""},{"$f":"IF('6組'!M64=\"\",\"\",'6組'!M64)","v":""},{"$f":"IF('6組'!N64=\"\",\"\",'6組'!N64)","v":""},{"$f":"IF('6組'!O64=\"\",\"\",'6組'!O64)","v":""},{"$f":"IF('6組'!P64=\"\",\"\",'6組'!P64)","v":""},null,null,null,null,null,{"$f":"IF('6組'!V64=\"\",\"\",'6組'!V64)","v":""},{"$f":"IF('6組'!W64=\"\",\"\",'6組'!W64)","v":""},{"$f":"IF('6組'!X64=\"\",\"\",'6組'!X64)","v":""},{"$f":"IF('6組'!Y64=\"\",\"\",'6組'!Y64)","v":""},{"$f":"IF('6組'!Z64=\"\",\"\",'6組'!Z64)","v":""},null,null,null,null,null,{"$f":"IF('6組'!AF64=\"\",\"\",'6組'!AF64)","v":""},{"$f":"IF('6組'!AG64=\"\",\"\",'6組'!AG64)","v":""},{"$f":"IF('6組'!AH64=\"\",\"\",'6組'!AH64)","v":""},{"$f":"IF('6組'!AI64=\"\",\"\",'6組'!AI64)","v":""},{"$f":"IF('6組'!AJ64=\"\",\"\",'6組'!AJ64)","v":""}]
[null,null,null,null,10642,null,6,42,null,null,"",{"$f":"IF('6組'!L65=\"\",\"\",'6組'!L65)","v":""},{"$f":"IF('6組'!M65=\"\",\"\",'6組'!M65)","v":""},{"$f":"IF('6組'!N65=\"\",\"\",'6組'!N65)","v":""},{"$f":"IF('6組'!O65=\"\",\"\",'6組'!O65)","v":""},{"$f":"IF('6組'!P65=\"\",\"\",'6組'!P65)","v":""},null,null,null,null,null,{"$f":"IF('6組'!V65=\"\",\"\",'6組'!V65)","v":""},{"$f":"IF('6組'!W65=\"\",\"\",'6組'!W65)","v":""},{"$f":"IF('6組'!X65=\"\",\"\",'6組'!X65)","v":""},{"$f":"IF('6組'!Y65=\"\",\"\",'6組'!Y65)","v":""},{"$f":"IF('6組'!Z65=\"\",\"\",'6組'!Z65)","v":""},null,null,null,null,null,{"$f":"IF('6組'!AF65=\"\",\"\",'6組'!AF65)","v":""},{"$f":"IF('6組'!AG65=\"\",\"\",'6組'!AG65)","v":""},{"$f":"IF('6組'!AH65=\"\",\"\",'6組'!AH65)","v":""},{"$f":"IF('6組'!AI65=\"\",\"\",'6組'!AI65)","v":""},{"$f":"IF('6組'!AJ65=\"\",\"\",'6組'!AJ65)","v":""}]
[null,null,null,null,10643,null,6,43,null,null,"",{"$f":"IF('6組'!L66=\"\",\"\",'6組'!L66)","v":""},{"$f":"IF('6組'!M66=\"\",\"\",'6組'!M66)","v":""},{"$f":"IF('6組'!N66=\"\",\"\",'6組'!N66)","v":""},{"$f":"IF('6組'!O66=\"\",\"\",'6組'!O66)","v":""},{"$f":"IF('6組'!P66=\"\",\"\",'6組'!P66)","v":""},null,null,null,null,null,{"$f":"IF('6組'!V66=\"\",\"\",'6組'!V66)","v":""},{"$f":"IF('6組'!W66=\"\",\"\",'6組'!W66)","v":""},{"$f":"IF('6組'!X66=\"\",\"\",'6組'!X66)","v":""},{"$f":"IF('6組'!Y66=\"\",\"\",'6組'!Y66)","v":""},{"$f":"IF('6組'!Z66=\"\",\"\",'6組'!Z66)","v":""},null,null,null,null,null,{"$f":"IF('6組'!AF66=\"\",\"\",'6組'!AF66)","v":""},{"$f":"IF('6組'!AG66=\"\",\"\",'6組'!AG66)","v":""},{"$f":"IF('6組'!AH66=\"\",\"\",'6組'!AH66)","v":""},{"$f":"IF('6組'!AI66=\"\",\"\",'6組'!AI66)","v":""},{"$f":"IF('6組'!AJ66=\"\",\"\",'6組'!AJ66)","v":""}]
[null,null,null,null,10644,null,6,44,null,null,"",{"$f":"IF('6組'!L67=\"\",\"\",'6組'!L67)","v":""},{"$f":"IF('6組'!M67=\"\",\"\",'6組'!M67)","v":""},{"$f":"IF('6組'!N67=\"\",\"\",'6組'!N67)","v":""},{"$f":"IF('6組'!O67=\"\",\"\",'6組'!O67)","v":""},{"$f":"IF('6組'!P67=\"\",\"\",'6組'!P67)","v":""},null,null,null,null,null,{"$f":"IF('6組'!V67=\"\",\"\",'6組'!V67)","v":""},{"$f":"IF('6組'!W67=\"\",\"\",'6組'!W67)","v":""},{"$f":"IF('6組'!X67=\"\",\"\",'6組'!X67)","v":""},{"$f":"IF('6組'!Y67=\"\",\"\",'6組'!Y67)","v":""},{"$f":"IF('6組'!Z67=\"\",\"\",'6組'!Z67)","v":""},null,null,null,null,null,{"$f":"IF('6組'!AF67=\"\",\"\",'6組'!AF67)","v":""},{"$f":"IF('6組'!AG67=\"\",\"\",'6組'!AG67)","v":""},{"$f":"IF('6組'!AH67=\"\",\"\",'6組'!AH67)","v":""},{"$f":"IF('6組'!AI67=\"\",\"\",'6組'!AI67)","v":""},{"$f":"IF('6組'!AJ67=\"\",\"\",'6組'!AJ67)","v":""}]
[null,null,null,null,10645,null,6,45,null,null,"",{"$f":"IF('6組'!L68=\"\",\"\",'6組'!L68)","v":""},{"$f":"IF('6組'!M68=\"\",\"\",'6組'!M68)","v":""},{"$f":"IF('6組'!N68=\"\",\"\",'6組'!N68)","v":""},{"$f":"IF('6組'!O68=\"\",\"\",'6組'!O68)","v":""},{"$f":"IF('6組'!P68=\"\",\"\",'6組'!P68)","v":""},null,null,null,null,null,{"$f":"IF('6組'!V68=\"\",\"\",'6組'!V68)","v":""},{"$f":"IF('6組'!W68=\"\",\"\",'6組'!W68)","v":""},{"$f":"IF('6組'!X68=\"\",\"\",'6組'!X68)","v":""},{"$f":"IF('6組'!Y68=\"\",\"\",'6組'!Y68)","v":""},{"$f":"IF('6組'!Z68=\"\",\"\",'6組'!Z68)","v":""},null,null,null,null,null,{"$f":"IF('6組'!AF68=\"\",\"\",'6組'!AF68)","v":""},{"$f":"IF('6組'!AG68=\"\",\"\",'6組'!AG68)","v":""},{"$f":"IF('6組'!AH68=\"\",\"\",'6組'!AH68)","v":""},{"$f":"IF('6組'!AI68=\"\",\"\",'6組'!AI68)","v":""},{"$f":"IF('6組'!AJ68=\"\",\"\",'6組'!AJ68)","v":""}]
[null,null,null,null,10646,null,6,46,null,null,"",{"$f":"IF('6組'!L69=\"\",\"\",'6組'!L69)","v":""},{"$f":"IF('6組'!M69=\"\",\"\",'6組'!M69)","v":""},{"$f":"IF('6組'!N69=\"\",\"\",'6組'!N69)","v":""},{"$f":"IF('6組'!O69=\"\",\"\",'6組'!O69)","v":""},{"$f":"IF('6組'!P69=\"\",\"\",'6組'!P69)","v":""},null,null,null,null,null,{"$f":"IF('6組'!V69=\"\",\"\",'6組'!V69)","v":""},{"$f":"IF('6組'!W69=\"\",\"\",'6組'!W69)","v":""},{"$f":"IF('6組'!X69=\"\",\"\",'6組'!X69)","v":""},{"$f":"IF('6組'!Y69=\"\",\"\",'6組'!Y69)","v":""},{"$f":"IF('6組'!Z69=\"\",\"\",'6組'!Z69)","v":""},null,null,null,null,null,{"$f":"IF('6組'!AF69=\"\",\"\",'6組'!AF69)","v":""},{"$f":"IF('6組'!AG69=\"\",\"\",'6組'!AG69)","v":""},{"$f":"IF('6組'!AH69=\"\",\"\",'6組'!AH69)","v":""},{"$f":"IF('6組'!AI69=\"\",\"\",'6組'!AI69)","v":""},{"$f":"IF('6組'!AJ69=\"\",\"\",'6組'!AJ69)","v":""}]
[null,null,null,null,10647,null,6,47,null,null,"",{"$f":"IF('6組'!L70=\"\",\"\",'6組'!L70)","v":""},{"$f":"IF('6組'!M70=\"\",\"\",'6組'!M70)","v":""},{"$f":"IF('6組'!N70=\"\",\"\",'6組'!N70)","v":""},{"$f":"IF('6組'!O70=\"\",\"\",'6組'!O70)","v":""},{"$f":"IF('6組'!P70=\"\",\"\",'6組'!P70)","v":""},null,null,null,null,null,{"$f":"IF('6組'!V70=\"\",\"\",'6組'!V70)","v":""},{"$f":"IF('6組'!W70=\"\",\"\",'6組'!W70)","v":""},{"$f":"IF('6組'!X70=\"\",\"\",'6組'!X70)","v":""},{"$f":"IF('6組'!Y70=\"\",\"\",'6組'!Y70)","v":""},{"$f":"IF('6組'!Z70=\"\",\"\",'6組'!Z70)","v":""},null,null,null,null,null,{"$f":"IF('6組'!AF70=\"\",\"\",'6組'!AF70)","v":""},{"$f":"IF('6組'!AG70=\"\",\"\",'6組'!AG70)","v":""},{"$f":"IF('6組'!AH70=\"\",\"\",'6組'!AH70)","v":""},{"$f":"IF('6組'!AI70=\"\",\"\",'6組'!AI70)","v":""},{"$f":"IF('6組'!AJ70=\"\",\"\",'6組'!AJ70)","v":""}]
[null,null,null,null,10648,null,6,48,null,null,"",{"$f":"IF('6組'!L71=\"\",\"\",'6組'!L71)","v":""},{"$f":"IF('6組'!M71=\"\",\"\",'6組'!M71)","v":""},{"$f":"IF('6組'!N71=\"\",\"\",'6組'!N71)","v":""},{"$f":"IF('6組'!O71=\"\",\"\",'6組'!O71)","v":""},{"$f":"IF('6組'!P71=\"\",\"\",'6組'!P71)","v":""},null,null,null,null,null,{"$f":"IF('6組'!V71=\"\",\"\",'6組'!V71)","v":""},{"$f":"IF('6組'!W71=\"\",\"\",'6組'!W71)","v":""},{"$f":"IF('6組'!X71=\"\",\"\",'6組'!X71)","v":""},{"$f":"IF('6組'!Y71=\"\",\"\",'6組'!Y71)","v":""},{"$f":"IF('6組'!Z71=\"\",\"\",'6組'!Z71)","v":""},null,null,null,null,null,{"$f":"IF('6組'!AF71=\"\",\"\",'6組'!AF71)","v":""},{"$f":"IF('6組'!AG71=\"\",\"\",'6組'!AG71)","v":""},{"$f":"IF('6組'!AH71=\"\",\"\",'6組'!AH71)","v":""},{"$f":"IF('6組'!AI71=\"\",\"\",'6組'!AI71)","v":""},{"$f":"IF('6組'!AJ71=\"\",\"\",'6組'!AJ71)","v":""}]
[null,null,null,null,10649,null,6,49,null,null,"",{"$f":"IF('6組'!L72=\"\",\"\",'6組'!L72)","v":""},{"$f":"IF('6組'!M72=\"\",\"\",'6組'!M72)","v":""},{"$f":"IF('6組'!N72=\"\",\"\",'6組'!N72)","v":""},{"$f":"IF('6組'!O72=\"\",\"\",'6組'!O72)","v":""},{"$f":"IF('6組'!P72=\"\",\"\",'6組'!P72)","v":""},null,null,null,null,null,{"$f":"IF('6組'!V72=\"\",\"\",'6組'!V72)","v":""},{"$f":"IF('6組'!W72=\"\",\"\",'6組'!W72)","v":""},{"$f":"IF('6組'!X72=\"\",\"\",'6組'!X72)","v":""},{"$f":"IF('6組'!Y72=\"\",\"\",'6組'!Y72)","v":""},{"$f":"IF('6組'!Z72=\"\",\"\",'6組'!Z72)","v":""},null,null,null,null,null,{"$f":"IF('6組'!AF72=\"\",\"\",'6組'!AF72)","v":""},{"$f":"IF('6組'!AG72=\"\",\"\",'6組'!AG72)","v":""},{"$f":"IF('6組'!AH72=\"\",\"\",'6組'!AH72)","v":""},{"$f":"IF('6組'!AI72=\"\",\"\",'6組'!AI72)","v":""},{"$f":"IF('6組'!AJ72=\"\",\"\",'6組'!AJ72)","v":""}]
[null,null,null,null,10650,null,6,50,null,null,"",{"$f":"IF('6組'!L73=\"\",\"\",'6組'!L73)","v":""},{"$f":"IF('6組'!M73=\"\",\"\",'6組'!M73)","v":""},{"$f":"IF('6組'!N73=\"\",\"\",'6組'!N73)","v":""},{"$f":"IF('6組'!O73=\"\",\"\",'6組'!O73)","v":""},{"$f":"IF('6組'!P73=\"\",\"\",'6組'!P73)","v":""},null,null,null,null,null,{"$f":"IF('6組'!V73=\"\",\"\",'6組'!V73)","v":""},{"$f":"IF('6組'!W73=\"\",\"\",'6組'!W73)","v":""},{"$f":"IF('6組'!X73=\"\",\"\",'6組'!X73)","v":""},{"$f":"IF('6組'!Y73=\"\",\"\",'6組'!Y73)","v":""},{"$f":"IF('6組'!Z73=\"\",\"\",'6組'!Z73)","v":""},null,null,null,null,null,{"$f":"IF('6組'!AF73=\"\",\"\",'6組'!AF73)","v":""},{"$f":"IF('6組'!AG73=\"\",\"\",'6組'!AG73)","v":""},{"$f":"IF('6組'!AH73=\"\",\"\",'6組'!AH73)","v":""},{"$f":"IF('6組'!AI73=\"\",\"\",'6組'!AI73)","v":""},{"$f":"IF('6組'!AJ73=\"\",\"\",'6組'!AJ73)","v":""}]
[null,null,null,null,10701,null,7,1,null,null,"",{"$f":"IF('7組'!L24=\"\",\"\",'7組'!L24)","v":""},{"$f":"IF('7組'!M24=\"\",\"\",'7組'!M24)","v":""},{"$f":"IF('7組'!N24=\"\",\"\",'7組'!N24)","v":""},{"$f":"IF('7組'!O24=\"\",\"\",'7組'!O24)","v":""},{"$f":"IF('7組'!P24=\"\",\"\",'7組'!P24)","v":""},null,null,null,null,null,{"$f":"IF('7組'!V24=\"\",\"\",'7組'!V24)","v":""},{"$f":"IF('7組'!W24=\"\",\"\",'7組'!W24)","v":""},{"$f":"IF('7組'!X24=\"\",\"\",'7組'!X24)","v":""},{"$f":"IF('7組'!Y24=\"\",\"\",'7組'!Y24)","v":""},{"$f":"IF('7組'!Z24=\"\",\"\",'7組'!Z24)","v":""},null,null,null,null,null,{"$f":"IF('7組'!AF24=\"\",\"\",'7組'!AF24)","v":""},{"$f":"IF('7組'!AG24=\"\",\"\",'7組'!AG24)","v":""},{"$f":"IF('7組'!AH24=\"\",\"\",'7組'!AH24)","v":""},{"$f":"IF('7組'!AI24=\"\",\"\",'7組'!AI24)","v":""},{"$f":"IF('7組'!AJ24=\"\",\"\",'7組'!AJ24)","v":""}]
[null,null,null,null,10702,null,7,2,null,null,"",{"$f":"IF('7組'!L25=\"\",\"\",'7組'!L25)","v":""},{"$f":"IF('7組'!M25=\"\",\"\",'7組'!M25)","v":""},{"$f":"IF('7組'!N25=\"\",\"\",'7組'!N25)","v":""},{"$f":"IF('7組'!O25=\"\",\"\",'7組'!O25)","v":""},{"$f":"IF('7組'!P25=\"\",\"\",'7組'!P25)","v":""},null,null,null,null,null,{"$f":"IF('7組'!V25=\"\",\"\",'7組'!V25)","v":""},{"$f":"IF('7組'!W25=\"\",\"\",'7組'!W25)","v":""},{"$f":"IF('7組'!X25=\"\",\"\",'7組'!X25)","v":""},{"$f":"IF('7組'!Y25=\"\",\"\",'7組'!Y25)","v":""},{"$f":"IF('7組'!Z25=\"\",\"\",'7組'!Z25)","v":""},null,null,null,null,null,{"$f":"IF('7組'!AF25=\"\",\"\",'7組'!AF25)","v":""},{"$f":"IF('7組'!AG25=\"\",\"\",'7組'!AG25)","v":""},{"$f":"IF('7組'!AH25=\"\",\"\",'7組'!AH25)","v":""},{"$f":"IF('7組'!AI25=\"\",\"\",'7組'!AI25)","v":""},{"$f":"IF('7組'!AJ25=\"\",\"\",'7組'!AJ25)","v":""}]
[null,null,null,null,10703,null,7,3,null,null,"",{"$f":"IF('7組'!L26=\"\",\"\",'7組'!L26)","v":""},{"$f":"IF('7組'!M26=\"\",\"\",'7組'!M26)","v":""},{"$f":"IF('7組'!N26=\"\",\"\",'7組'!N26)","v":""},{"$f":"IF('7組'!O26=\"\",\"\",'7組'!O26)","v":""},{"$f":"IF('7組'!P26=\"\",\"\",'7組'!P26)","v":""},null,null,null,null,null,{"$f":"IF('7組'!V26=\"\",\"\",'7組'!V26)","v":""},{"$f":"IF('7組'!W26=\"\",\"\",'7組'!W26)","v":""},{"$f":"IF('7組'!X26=\"\",\"\",'7組'!X26)","v":""},{"$f":"IF('7組'!Y26=\"\",\"\",'7組'!Y26)","v":""},{"$f":"IF('7組'!Z26=\"\",\"\",'7組'!Z26)","v":""},null,null,null,null,null,{"$f":"IF('7組'!AF26=\"\",\"\",'7組'!AF26)","v":""},{"$f":"IF('7組'!AG26=\"\",\"\",'7組'!AG26)","v":""},{"$f":"IF('7組'!AH26=\"\",\"\",'7組'!AH26)","v":""},{"$f":"IF('7組'!AI26=\"\",\"\",'7組'!AI26)","v":""},{"$f":"IF('7組'!AJ26=\"\",\"\",'7組'!AJ26)","v":""}]
[null,null,null,null,10704,null,7,4,null,null,"",{"$f":"IF('7組'!L27=\"\",\"\",'7組'!L27)","v":""},{"$f":"IF('7組'!M27=\"\",\"\",'7組'!M27)","v":""},{"$f":"IF('7組'!N27=\"\",\"\",'7組'!N27)","v":""},{"$f":"IF('7組'!O27=\"\",\"\",'7組'!O27)","v":""},{"$f":"IF('7組'!P27=\"\",\"\",'7組'!P27)","v":""},null,null,null,null,null,{"$f":"IF('7組'!V27=\"\",\"\",'7組'!V27)","v":""},{"$f":"IF('7組'!W27=\"\",\"\",'7組'!W27)","v":""},{"$f":"IF('7組'!X27=\"\",\"\",'7組'!X27)","v":""},{"$f":"IF('7組'!Y27=\"\",\"\",'7組'!Y27)","v":""},{"$f":"IF('7組'!Z27=\"\",\"\",'7組'!Z27)","v":""},null,null,null,null,null,{"$f":"IF('7組'!AF27=\"\",\"\",'7組'!AF27)","v":""},{"$f":"IF('7組'!AG27=\"\",\"\",'7組'!AG27)","v":""},{"$f":"IF('7組'!AH27=\"\",\"\",'7組'!AH27)","v":""},{"$f":"IF('7組'!AI27=\"\",\"\",'7組'!AI27)","v":""},{"$f":"IF('7組'!AJ27=\"\",\"\",'7組'!AJ27)","v":""}]
[null,null,null,null,10705,null,7,5,null,null,"",{"$f":"IF('7組'!L28=\"\",\"\",'7組'!L28)","v":""},{"$f":"IF('7組'!M28=\"\",\"\",'7組'!M28)","v":""},{"$f":"IF('7組'!N28=\"\",\"\",'7組'!N28)","v":""},{"$f":"IF('7組'!O28=\"\",\"\",'7組'!O28)","v":""},{"$f":"IF('7組'!P28=\"\",\"\",'7組'!P28)","v":""},null,null,null,null,null,{"$f":"IF('7組'!V28=\"\",\"\",'7組'!V28)","v":""},{"$f":"IF('7組'!W28=\"\",\"\",'7組'!W28)","v":""},{"$f":"IF('7組'!X28=\"\",\"\",'7組'!X28)","v":""},{"$f":"IF('7組'!Y28=\"\",\"\",'7組'!Y28)","v":""},{"$f":"IF('7組'!Z28=\"\",\"\",'7組'!Z28)","v":""},null,null,null,null,null,{"$f":"IF('7組'!AF28=\"\",\"\",'7組'!AF28)","v":""},{"$f":"IF('7組'!AG28=\"\",\"\",'7組'!AG28)","v":""},{"$f":"IF('7組'!AH28=\"\",\"\",'7組'!AH28)","v":""},{"$f":"IF('7組'!AI28=\"\",\"\",'7組'!AI28)","v":""},{"$f":"IF('7組'!AJ28=\"\",\"\",'7組'!AJ28)","v":""}]
[null,null,null,null,10706,null,7,6,null,null,"",{"$f":"IF('7組'!L29=\"\",\"\",'7組'!L29)","v":""},{"$f":"IF('7組'!M29=\"\",\"\",'7組'!M29)","v":""},{"$f":"IF('7組'!N29=\"\",\"\",'7組'!N29)","v":""},{"$f":"IF('7組'!O29=\"\",\"\",'7組'!O29)","v":""},{"$f":"IF('7組'!P29=\"\",\"\",'7組'!P29)","v":""},null,null,null,null,null,{"$f":"IF('7組'!V29=\"\",\"\",'7組'!V29)","v":""},{"$f":"IF('7組'!W29=\"\",\"\",'7組'!W29)","v":""},{"$f":"IF('7組'!X29=\"\",\"\",'7組'!X29)","v":""},{"$f":"IF('7組'!Y29=\"\",\"\",'7組'!Y29)","v":""},{"$f":"IF('7組'!Z29=\"\",\"\",'7組'!Z29)","v":""},null,null,null,null,null,{"$f":"IF('7組'!AF29=\"\",\"\",'7組'!AF29)","v":""},{"$f":"IF('7組'!AG29=\"\",\"\",'7組'!AG29)","v":""},{"$f":"IF('7組'!AH29=\"\",\"\",'7組'!AH29)","v":""},{"$f":"IF('7組'!AI29=\"\",\"\",'7組'!AI29)","v":""},{"$f":"IF('7組'!AJ29=\"\",\"\",'7組'!AJ29)","v":""}]
[null,null,null,null,10707,null,7,7,null,null,"",{"$f":"IF('7組'!L30=\"\",\"\",'7組'!L30)","v":""},{"$f":"IF('7組'!M30=\"\",\"\",'7組'!M30)","v":""},{"$f":"IF('7組'!N30=\"\",\"\",'7組'!N30)","v":""},{"$f":"IF('7組'!O30=\"\",\"\",'7組'!O30)","v":""},{"$f":"IF('7組'!P30=\"\",\"\",'7組'!P30)","v":""},null,null,null,null,null,{"$f":"IF('7組'!V30=\"\",\"\",'7組'!V30)","v":""},{"$f":"IF('7組'!W30=\"\",\"\",'7組'!W30)","v":""},{"$f":"IF('7組'!X30=\"\",\"\",'7組'!X30)","v":""},{"$f":"IF('7組'!Y30=\"\",\"\",'7組'!Y30)","v":""},{"$f":"IF('7組'!Z30=\"\",\"\",'7組'!Z30)","v":""},null,null,null,null,null,{"$f":"IF('7組'!AF30=\"\",\"\",'7組'!AF30)","v":""},{"$f":"IF('7組'!AG30=\"\",\"\",'7組'!AG30)","v":""},{"$f":"IF('7組'!AH30=\"\",\"\",'7組'!AH30)","v":""},{"$f":"IF('7組'!AI30=\"\",\"\",'7組'!AI30)","v":""},{"$f":"IF('7組'!AJ30=\"\",\"\",'7組'!AJ30)","v":""}]
[null,null,null,null,10708,null,7,8,null,null,"",{"$f":"IF('7組'!L31=\"\",\"\",'7組'!L31)","v":""},{"$f":"IF('7組'!M31=\"\",\"\",'7組'!M31)","v":""},{"$f":"IF('7組'!N31=\"\",\"\",'7組'!N31)","v":""},{"$f":"IF('7組'!O31=\"\",\"\",'7組'!O31)","v":""},{"$f":"IF('7組'!P31=\"\",\"\",'7組'!P31)","v":""},null,null,null,null,null,{"$f":"IF('7組'!V31=\"\",\"\",'7組'!V31)","v":""},{"$f":"IF('7組'!W31=\"\",\"\",'7組'!W31)","v":""},{"$f":"IF('7組'!X31=\"\",\"\",'7組'!X31)","v":""},{"$f":"IF('7組'!Y31=\"\",\"\",'7組'!Y31)","v":""},{"$f":"IF('7組'!Z31=\"\",\"\",'7組'!Z31)","v":""},null,null,null,null,null,{"$f":"IF('7組'!AF31=\"\",\"\",'7組'!AF31)","v":""},{"$f":"IF('7組'!AG31=\"\",\"\",'7組'!AG31)","v":""},{"$f":"IF('7組'!AH31=\"\",\"\",'7組'!AH31)","v":""},{"$f":"IF('7組'!AI31=\"\",\"\",'7組'!AI31)","v":""},{"$f":"IF('7組'!AJ31=\"\",\"\",'7組'!AJ31)","v":""}]
[null,null,null,null,10709,null,7,9,null,null,"",{"$f":"IF('7組'!L32=\"\",\"\",'7組'!L32)","v":""},{"$f":"IF('7組'!M32=\"\",\"\",'7組'!M32)","v":""},{"$f":"IF('7組'!N32=\"\",\"\",'7組'!N32)","v":""},{"$f":"IF('7組'!O32=\"\",\"\",'7組'!O32)","v":""},{"$f":"IF('7組'!P32=\"\",\"\",'7組'!P32)","v":""},null,null,null,null,null,{"$f":"IF('7組'!V32=\"\",\"\",'7組'!V32)","v":""},{"$f":"IF('7組'!W32=\"\",\"\",'7組'!W32)","v":""},{"$f":"IF('7組'!X32=\"\",\"\",'7組'!X32)","v":""},{"$f":"IF('7組'!Y32=\"\",\"\",'7組'!Y32)","v":""},{"$f":"IF('7組'!Z32=\"\",\"\",'7組'!Z32)","v":""},null,null,null,null,null,{"$f":"IF('7組'!AF32=\"\",\"\",'7組'!AF32)","v":""},{"$f":"IF('7組'!AG32=\"\",\"\",'7組'!AG32)","v":""},{"$f":"IF('7組'!AH32=\"\",\"\",'7組'!AH32)","v":""},{"$f":"IF('7組'!AI32=\"\",\"\",'7組'!AI32)","v":""},{"$f":"IF('7組'!AJ32=\"\",\"\",'7組'!AJ32)","v":""}]
[null,null,null,null,10710,null,7,10,null,null,"",{"$f":"IF('7組'!L33=\"\",\"\",'7組'!L33)","v":""},{"$f":"IF('7組'!M33=\"\",\"\",'7組'!M33)","v":""},{"$f":"IF('7組'!N33=\"\",\"\",'7組'!N33)","v":""},{"$f":"IF('7組'!O33=\"\",\"\",'7組'!O33)","v":""},{"$f":"IF('7組'!P33=\"\",\"\",'7組'!P33)","v":""},null,null,null,null,null,{"$f":"IF('7組'!V33=\"\",\"\",'7組'!V33)","v":""},{"$f":"IF('7組'!W33=\"\",\"\",'7組'!W33)","v":""},{"$f":"IF('7組'!X33=\"\",\"\",'7組'!X33)","v":""},{"$f":"IF('7組'!Y33=\"\",\"\",'7組'!Y33)","v":""},{"$f":"IF('7組'!Z33=\"\",\"\",'7組'!Z33)","v":""},null,null,null,null,null,{"$f":"IF('7組'!AF33=\"\",\"\",'7組'!AF33)","v":""},{"$f":"IF('7組'!AG33=\"\",\"\",'7組'!AG33)","v":""},{"$f":"IF('7組'!AH33=\"\",\"\",'7組'!AH33)","v":""},{"$f":"IF('7組'!AI33=\"\",\"\",'7組'!AI33)","v":""},{"$f":"IF('7組'!AJ33=\"\",\"\",'7組'!AJ33)","v":""}]
[null,null,null,null,10711,null,7,11,null,null,"",{"$f":"IF('7組'!L34=\"\",\"\",'7組'!L34)","v":""},{"$f":"IF('7組'!M34=\"\",\"\",'7組'!M34)","v":""},{"$f":"IF('7組'!N34=\"\",\"\",'7組'!N34)","v":""},{"$f":"IF('7組'!O34=\"\",\"\",'7組'!O34)","v":""},{"$f":"IF('7組'!P34=\"\",\"\",'7組'!P34)","v":""},null,null,null,null,null,{"$f":"IF('7組'!V34=\"\",\"\",'7組'!V34)","v":""},{"$f":"IF('7組'!W34=\"\",\"\",'7組'!W34)","v":""},{"$f":"IF('7組'!X34=\"\",\"\",'7組'!X34)","v":""},{"$f":"IF('7組'!Y34=\"\",\"\",'7組'!Y34)","v":""},{"$f":"IF('7組'!Z34=\"\",\"\",'7組'!Z34)","v":""},null,null,null,null,null,{"$f":"IF('7組'!AF34=\"\",\"\",'7組'!AF34)","v":""},{"$f":"IF('7組'!AG34=\"\",\"\",'7組'!AG34)","v":""},{"$f":"IF('7組'!AH34=\"\",\"\",'7組'!AH34)","v":""},{"$f":"IF('7組'!AI34=\"\",\"\",'7組'!AI34)","v":""},{"$f":"IF('7組'!AJ34=\"\",\"\",'7組'!AJ34)","v":""}]
[null,null,null,null,10712,null,7,12,null,null,"",{"$f":"IF('7組'!L35=\"\",\"\",'7組'!L35)","v":""},{"$f":"IF('7組'!M35=\"\",\"\",'7組'!M35)","v":""},{"$f":"IF('7組'!N35=\"\",\"\",'7組'!N35)","v":""},{"$f":"IF('7組'!O35=\"\",\"\",'7組'!O35)","v":""},{"$f":"IF('7組'!P35=\"\",\"\",'7組'!P35)","v":""},null,null,null,null,null,{"$f":"IF('7組'!V35=\"\",\"\",'7組'!V35)","v":""},{"$f":"IF('7組'!W35=\"\",\"\",'7組'!W35)","v":""},{"$f":"IF('7組'!X35=\"\",\"\",'7組'!X35)","v":""},{"$f":"IF('7組'!Y35=\"\",\"\",'7組'!Y35)","v":""},{"$f":"IF('7組'!Z35=\"\",\"\",'7組'!Z35)","v":""},null,null,null,null,null,{"$f":"IF('7組'!AF35=\"\",\"\",'7組'!AF35)","v":""},{"$f":"IF('7組'!AG35=\"\",\"\",'7組'!AG35)","v":""},{"$f":"IF('7組'!AH35=\"\",\"\",'7組'!AH35)","v":""},{"$f":"IF('7組'!AI35=\"\",\"\",'7組'!AI35)","v":""},{"$f":"IF('7組'!AJ35=\"\",\"\",'7組'!AJ35)","v":""}]
[null,null,null,null,10713,null,7,13,null,null,"",{"$f":"IF('7組'!L36=\"\",\"\",'7組'!L36)","v":""},{"$f":"IF('7組'!M36=\"\",\"\",'7組'!M36)","v":""},{"$f":"IF('7組'!N36=\"\",\"\",'7組'!N36)","v":""},{"$f":"IF('7組'!O36=\"\",\"\",'7組'!O36)","v":""},{"$f":"IF('7組'!P36=\"\",\"\",'7組'!P36)","v":""},null,null,null,null,null,{"$f":"IF('7組'!V36=\"\",\"\",'7組'!V36)","v":""},{"$f":"IF('7組'!W36=\"\",\"\",'7組'!W36)","v":""},{"$f":"IF('7組'!X36=\"\",\"\",'7組'!X36)","v":""},{"$f":"IF('7組'!Y36=\"\",\"\",'7組'!Y36)","v":""},{"$f":"IF('7組'!Z36=\"\",\"\",'7組'!Z36)","v":""},null,null,null,null,null,{"$f":"IF('7組'!AF36=\"\",\"\",'7組'!AF36)","v":""},{"$f":"IF('7組'!AG36=\"\",\"\",'7組'!AG36)","v":""},{"$f":"IF('7組'!AH36=\"\",\"\",'7組'!AH36)","v":""},{"$f":"IF('7組'!AI36=\"\",\"\",'7組'!AI36)","v":""},{"$f":"IF('7組'!AJ36=\"\",\"\",'7組'!AJ36)","v":""}]
[null,null,null,null,10714,null,7,14,null,null,"",{"$f":"IF('7組'!L37=\"\",\"\",'7組'!L37)","v":""},{"$f":"IF('7組'!M37=\"\",\"\",'7組'!M37)","v":""},{"$f":"IF('7組'!N37=\"\",\"\",'7組'!N37)","v":""},{"$f":"IF('7組'!O37=\"\",\"\",'7組'!O37)","v":""},{"$f":"IF('7組'!P37=\"\",\"\",'7組'!P37)","v":""},null,null,null,null,null,{"$f":"IF('7組'!V37=\"\",\"\",'7組'!V37)","v":""},{"$f":"IF('7組'!W37=\"\",\"\",'7組'!W37)","v":""},{"$f":"IF('7組'!X37=\"\",\"\",'7組'!X37)","v":""},{"$f":"IF('7組'!Y37=\"\",\"\",'7組'!Y37)","v":""},{"$f":"IF('7組'!Z37=\"\",\"\",'7組'!Z37)","v":""},null,null,null,null,null,{"$f":"IF('7組'!AF37=\"\",\"\",'7組'!AF37)","v":""},{"$f":"IF('7組'!AG37=\"\",\"\",'7組'!AG37)","v":""},{"$f":"IF('7組'!AH37=\"\",\"\",'7組'!AH37)","v":""},{"$f":"IF('7組'!AI37=\"\",\"\",'7組'!AI37)","v":""},{"$f":"IF('7組'!AJ37=\"\",\"\",'7組'!AJ37)","v":""}]
[null,null,null,null,10715,null,7,15,null,null,"",{"$f":"IF('7組'!L38=\"\",\"\",'7組'!L38)","v":""},{"$f":"IF('7組'!M38=\"\",\"\",'7組'!M38)","v":""},{"$f":"IF('7組'!N38=\"\",\"\",'7組'!N38)","v":""},{"$f":"IF('7組'!O38=\"\",\"\",'7組'!O38)","v":""},{"$f":"IF('7組'!P38=\"\",\"\",'7組'!P38)","v":""},null,null,null,null,null,{"$f":"IF('7組'!V38=\"\",\"\",'7組'!V38)","v":""},{"$f":"IF('7組'!W38=\"\",\"\",'7組'!W38)","v":""},{"$f":"IF('7組'!X38=\"\",\"\",'7組'!X38)","v":""},{"$f":"IF('7組'!Y38=\"\",\"\",'7組'!Y38)","v":""},{"$f":"IF('7組'!Z38=\"\",\"\",'7組'!Z38)","v":""},null,null,null,null,null,{"$f":"IF('7組'!AF38=\"\",\"\",'7組'!AF38)","v":""},{"$f":"IF('7組'!AG38=\"\",\"\",'7組'!AG38)","v":""},{"$f":"IF('7組'!AH38=\"\",\"\",'7組'!AH38)","v":""},{"$f":"IF('7組'!AI38=\"\",\"\",'7組'!AI38)","v":""},{"$f":"IF('7組'!AJ38=\"\",\"\",'7組'!AJ38)","v":""}]
[null,null,null,null,10716,null,7,16,null,null,"",{"$f":"IF('7組'!L39=\"\",\"\",'7組'!L39)","v":""},{"$f":"IF('7組'!M39=\"\",\"\",'7組'!M39)","v":""},{"$f":"IF('7組'!N39=\"\",\"\",'7組'!N39)","v":""},{"$f":"IF('7組'!O39=\"\",\"\",'7組'!O39)","v":""},{"$f":"IF('7組'!P39=\"\",\"\",'7組'!P39)","v":""},null,null,null,null,null,{"$f":"IF('7組'!V39=\"\",\"\",'7組'!V39)","v":""},{"$f":"IF('7組'!W39=\"\",\"\",'7組'!W39)","v":""},{"$f":"IF('7組'!X39=\"\",\"\",'7組'!X39)","v":""},{"$f":"IF('7組'!Y39=\"\",\"\",'7組'!Y39)","v":""},{"$f":"IF('7組'!Z39=\"\",\"\",'7組'!Z39)","v":""},null,null,null,null,null,{"$f":"IF('7組'!AF39=\"\",\"\",'7組'!AF39)","v":""},{"$f":"IF('7組'!AG39=\"\",\"\",'7組'!AG39)","v":""},{"$f":"IF('7組'!AH39=\"\",\"\",'7組'!AH39)","v":""},{"$f":"IF('7組'!AI39=\"\",\"\",'7組'!AI39)","v":""},{"$f":"IF('7組'!AJ39=\"\",\"\",'7組'!AJ39)","v":""}]
[null,null,null,null,10717,null,7,17,null,null,"",{"$f":"IF('7組'!L40=\"\",\"\",'7組'!L40)","v":""},{"$f":"IF('7組'!M40=\"\",\"\",'7組'!M40)","v":""},{"$f":"IF('7組'!N40=\"\",\"\",'7組'!N40)","v":""},{"$f":"IF('7組'!O40=\"\",\"\",'7組'!O40)","v":""},{"$f":"IF('7組'!P40=\"\",\"\",'7組'!P40)","v":""},null,null,null,null,null,{"$f":"IF('7組'!V40=\"\",\"\",'7組'!V40)","v":""},{"$f":"IF('7組'!W40=\"\",\"\",'7組'!W40)","v":""},{"$f":"IF('7組'!X40=\"\",\"\",'7組'!X40)","v":""},{"$f":"IF('7組'!Y40=\"\",\"\",'7組'!Y40)","v":""},{"$f":"IF('7組'!Z40=\"\",\"\",'7組'!Z40)","v":""},null,null,null,null,null,{"$f":"IF('7組'!AF40=\"\",\"\",'7組'!AF40)","v":""},{"$f":"IF('7組'!AG40=\"\",\"\",'7組'!AG40)","v":""},{"$f":"IF('7組'!AH40=\"\",\"\",'7組'!AH40)","v":""},{"$f":"IF('7組'!AI40=\"\",\"\",'7組'!AI40)","v":""},{"$f":"IF('7組'!AJ40=\"\",\"\",'7組'!AJ40)","v":""}]
[null,null,null,null,10718,null,7,18,null,null,"",{"$f":"IF('7組'!L41=\"\",\"\",'7組'!L41)","v":""},{"$f":"IF('7組'!M41=\"\",\"\",'7組'!M41)","v":""},{"$f":"IF('7組'!N41=\"\",\"\",'7組'!N41)","v":""},{"$f":"IF('7組'!O41=\"\",\"\",'7組'!O41)","v":""},{"$f":"IF('7組'!P41=\"\",\"\",'7組'!P41)","v":""},null,null,null,null,null,{"$f":"IF('7組'!V41=\"\",\"\",'7組'!V41)","v":""},{"$f":"IF('7組'!W41=\"\",\"\",'7組'!W41)","v":""},{"$f":"IF('7組'!X41=\"\",\"\",'7組'!X41)","v":""},{"$f":"IF('7組'!Y41=\"\",\"\",'7組'!Y41)","v":""},{"$f":"IF('7組'!Z41=\"\",\"\",'7組'!Z41)","v":""},null,null,null,null,null,{"$f":"IF('7組'!AF41=\"\",\"\",'7組'!AF41)","v":""},{"$f":"IF('7組'!AG41=\"\",\"\",'7組'!AG41)","v":""},{"$f":"IF('7組'!AH41=\"\",\"\",'7組'!AH41)","v":""},{"$f":"IF('7組'!AI41=\"\",\"\",'7組'!AI41)","v":""},{"$f":"IF('7組'!AJ41=\"\",\"\",'7組'!AJ41)","v":""}]
[null,null,null,null,10719,null,7,19,null,null,"",{"$f":"IF('7組'!L42=\"\",\"\",'7組'!L42)","v":""},{"$f":"IF('7組'!M42=\"\",\"\",'7組'!M42)","v":""},{"$f":"IF('7組'!N42=\"\",\"\",'7組'!N42)","v":""},{"$f":"IF('7組'!O42=\"\",\"\",'7組'!O42)","v":""},{"$f":"IF('7組'!P42=\"\",\"\",'7組'!P42)","v":""},null,null,null,null,null,{"$f":"IF('7組'!V42=\"\",\"\",'7組'!V42)","v":""},{"$f":"IF('7組'!W42=\"\",\"\",'7組'!W42)","v":""},{"$f":"IF('7組'!X42=\"\",\"\",'7組'!X42)","v":""},{"$f":"IF('7組'!Y42=\"\",\"\",'7組'!Y42)","v":""},{"$f":"IF('7組'!Z42=\"\",\"\",'7組'!Z42)","v":""},null,null,null,null,null,{"$f":"IF('7組'!AF42=\"\",\"\",'7組'!AF42)","v":""},{"$f":"IF('7組'!AG42=\"\",\"\",'7組'!AG42)","v":""},{"$f":"IF('7組'!AH42=\"\",\"\",'7組'!AH42)","v":""},{"$f":"IF('7組'!AI42=\"\",\"\",'7組'!AI42)","v":""},{"$f":"IF('7組'!AJ42=\"\",\"\",'7組'!AJ42)","v":""}]
[null,null,null,null,10720,null,7,20,null,null,"",{"$f":"IF('7組'!L43=\"\",\"\",'7組'!L43)","v":""},{"$f":"IF('7組'!M43=\"\",\"\",'7組'!M43)","v":""},{"$f":"IF('7組'!N43=\"\",\"\",'7組'!N43)","v":""},{"$f":"IF('7組'!O43=\"\",\"\",'7組'!O43)","v":""},{"$f":"IF('7組'!P43=\"\",\"\",'7組'!P43)","v":""},null,null,null,null,null,{"$f":"IF('7組'!V43=\"\",\"\",'7組'!V43)","v":""},{"$f":"IF('7組'!W43=\"\",\"\",'7組'!W43)","v":""},{"$f":"IF('7組'!X43=\"\",\"\",'7組'!X43)","v":""},{"$f":"IF('7組'!Y43=\"\",\"\",'7組'!Y43)","v":""},{"$f":"IF('7組'!Z43=\"\",\"\",'7組'!Z43)","v":""},null,null,null,null,null,{"$f":"IF('7組'!AF43=\"\",\"\",'7組'!AF43)","v":""},{"$f":"IF('7組'!AG43=\"\",\"\",'7組'!AG43)","v":""},{"$f":"IF('7組'!AH43=\"\",\"\",'7組'!AH43)","v":""},{"$f":"IF('7組'!AI43=\"\",\"\",'7組'!AI43)","v":""},{"$f":"IF('7組'!AJ43=\"\",\"\",'7組'!AJ43)","v":""}]
[null,null,null,null,{"$f":"$H$8*10000+G344*100+H344","v":10721},null,7,21,null,null,"",{"$f":"IF('7組'!L44=\"\",\"\",'7組'!L44)","v":""},{"$f":"IF('7組'!M44=\"\",\"\",'7組'!M44)","v":""},{"$f":"IF('7組'!N44=\"\",\"\",'7組'!N44)","v":""},{"$f":"IF('7組'!O44=\"\",\"\",'7組'!O44)","v":""},{"$f":"IF('7組'!P44=\"\",\"\",'7組'!P44)","v":""},null,null,null,null,null,{"$f":"IF('7組'!V44=\"\",\"\",'7組'!V44)","v":""},{"$f":"IF('7組'!W44=\"\",\"\",'7組'!W44)","v":""},{"$f":"IF('7組'!X44=\"\",\"\",'7組'!X44)","v":""},{"$f":"IF('7組'!Y44=\"\",\"\",'7組'!Y44)","v":""},{"$f":"IF('7組'!Z44=\"\",\"\",'7組'!Z44)","v":""},null,null,null,null,null,{"$f":"IF('7組'!AF44=\"\",\"\",'7組'!AF44)","v":""},{"$f":"IF('7組'!AG44=\"\",\"\",'7組'!AG44)","v":""},{"$f":"IF('7組'!AH44=\"\",\"\",'7組'!AH44)","v":""},{"$f":"IF('7組'!AI44=\"\",\"\",'7組'!AI44)","v":""},{"$f":"IF('7組'!AJ44=\"\",\"\",'7組'!AJ44)","v":""}]
[null,null,null,null,10722,null,7,22,null,null,{"$f":"IF(J345=1,\"男\",IF(J345=2,\"女\",\"\"))","v":""},{"$f":"IF('7組'!L45=\"\",\"\",'7組'!L45)","v":""},{"$f":"IF('7組'!M45=\"\",\"\",'7組'!M45)","v":""},{"$f":"IF('7組'!N45=\"\",\"\",'7組'!N45)","v":""},{"$f":"IF('7組'!O45=\"\",\"\",'7組'!O45)","v":""},{"$f":"IF('7組'!P45=\"\",\"\",'7組'!P45)","v":""},null,null,null,null,null,{"$f":"IF('7組'!V45=\"\",\"\",'7組'!V45)","v":""},{"$f":"IF('7組'!W45=\"\",\"\",'7組'!W45)","v":""},{"$f":"IF('7組'!X45=\"\",\"\",'7組'!X45)","v":""},{"$f":"IF('7組'!Y45=\"\",\"\",'7組'!Y45)","v":""},{"$f":"IF('7組'!Z45=\"\",\"\",'7組'!Z45)","v":""},null,null,null,null,null,{"$f":"IF('7組'!AF45=\"\",\"\",'7組'!AF45)","v":""},{"$f":"IF('7組'!AG45=\"\",\"\",'7組'!AG45)","v":""},{"$f":"IF('7組'!AH45=\"\",\"\",'7組'!AH45)","v":""},{"$f":"IF('7組'!AI45=\"\",\"\",'7組'!AI45)","v":""},{"$f":"IF('7組'!AJ45=\"\",\"\",'7組'!AJ45)","v":""}]
[null,null,null,null,10723,null,{"$f":"IF(H345<50,G345,G345+1)","v":7},{"$f":"IF(G346<>G345,1,H345+1)","v":23},null,null,"",{"$f":"IF('7組'!L46=\"\",\"\",'7組'!L46)","v":""},{"$f":"IF('7組'!M46=\"\",\"\",'7組'!M46)","v":""},{"$f":"IF('7組'!N46=\"\",\"\",'7組'!N46)","v":""},{"$f":"IF('7組'!O46=\"\",\"\",'7組'!O46)","v":""},{"$f":"IF('7組'!P46=\"\",\"\",'7組'!P46)","v":""},null,null,null,null,null,{"$f":"IF('7組'!V46=\"\",\"\",'7組'!V46)","v":""},{"$f":"IF('7組'!W46=\"\",\"\",'7組'!W46)","v":""},{"$f":"IF('7組'!X46=\"\",\"\",'7組'!X46)","v":""},{"$f":"IF('7組'!Y46=\"\",\"\",'7組'!Y46)","v":""},{"$f":"IF('7組'!Z46=\"\",\"\",'7組'!Z46)","v":""},null,null,null,null,null,{"$f":"IF('7組'!AF46=\"\",\"\",'7組'!AF46)","v":""},{"$f":"IF('7組'!AG46=\"\",\"\",'7組'!AG46)","v":""},{"$f":"IF('7組'!AH46=\"\",\"\",'7組'!AH46)","v":""},{"$f":"IF('7組'!AI46=\"\",\"\",'7組'!AI46)","v":""},{"$f":"IF('7組'!AJ46=\"\",\"\",'7組'!AJ46)","v":""}]
[null,null,null,null,10724,null,7,24,null,null,"",{"$f":"IF('7組'!L47=\"\",\"\",'7組'!L47)","v":""},{"$f":"IF('7組'!M47=\"\",\"\",'7組'!M47)","v":""},{"$f":"IF('7組'!N47=\"\",\"\",'7組'!N47)","v":""},{"$f":"IF('7組'!O47=\"\",\"\",'7組'!O47)","v":""},{"$f":"IF('7組'!P47=\"\",\"\",'7組'!P47)","v":""},null,null,null,null,null,{"$f":"IF('7組'!V47=\"\",\"\",'7組'!V47)","v":""},{"$f":"IF('7組'!W47=\"\",\"\",'7組'!W47)","v":""},{"$f":"IF('7組'!X47=\"\",\"\",'7組'!X47)","v":""},{"$f":"IF('7組'!Y47=\"\",\"\",'7組'!Y47)","v":""},{"$f":"IF('7組'!Z47=\"\",\"\",'7組'!Z47)","v":""},null,null,null,null,null,{"$f":"IF('7組'!AF47=\"\",\"\",'7組'!AF47)","v":""},{"$f":"IF('7組'!AG47=\"\",\"\",'7組'!AG47)","v":""},{"$f":"IF('7組'!AH47=\"\",\"\",'7組'!AH47)","v":""},{"$f":"IF('7組'!AI47=\"\",\"\",'7組'!AI47)","v":""},{"$f":"IF('7組'!AJ47=\"\",\"\",'7組'!AJ47)","v":""}]
[null,null,null,null,10725,null,7,25,null,null,"",{"$f":"IF('7組'!L48=\"\",\"\",'7組'!L48)","v":""},{"$f":"IF('7組'!M48=\"\",\"\",'7組'!M48)","v":""},{"$f":"IF('7組'!N48=\"\",\"\",'7組'!N48)","v":""},{"$f":"IF('7組'!O48=\"\",\"\",'7組'!O48)","v":""},{"$f":"IF('7組'!P48=\"\",\"\",'7組'!P48)","v":""},null,null,null,null,null,{"$f":"IF('7組'!V48=\"\",\"\",'7組'!V48)","v":""},{"$f":"IF('7組'!W48=\"\",\"\",'7組'!W48)","v":""},{"$f":"IF('7組'!X48=\"\",\"\",'7組'!X48)","v":""},{"$f":"IF('7組'!Y48=\"\",\"\",'7組'!Y48)","v":""},{"$f":"IF('7組'!Z48=\"\",\"\",'7組'!Z48)","v":""},null,null,null,null,null,{"$f":"IF('7組'!AF48=\"\",\"\",'7組'!AF48)","v":""},{"$f":"IF('7組'!AG48=\"\",\"\",'7組'!AG48)","v":""},{"$f":"IF('7組'!AH48=\"\",\"\",'7組'!AH48)","v":""},{"$f":"IF('7組'!AI48=\"\",\"\",'7組'!AI48)","v":""},{"$f":"IF('7組'!AJ48=\"\",\"\",'7組'!AJ48)","v":""}]
[null,null,null,null,10726,null,7,26,null,null,"",{"$f":"IF('7組'!L49=\"\",\"\",'7組'!L49)","v":""},{"$f":"IF('7組'!M49=\"\",\"\",'7組'!M49)","v":""},{"$f":"IF('7組'!N49=\"\",\"\",'7組'!N49)","v":""},{"$f":"IF('7組'!O49=\"\",\"\",'7組'!O49)","v":""},{"$f":"IF('7組'!P49=\"\",\"\",'7組'!P49)","v":""},null,null,null,null,null,{"$f":"IF('7組'!V49=\"\",\"\",'7組'!V49)","v":""},{"$f":"IF('7組'!W49=\"\",\"\",'7組'!W49)","v":""},{"$f":"IF('7組'!X49=\"\",\"\",'7組'!X49)","v":""},{"$f":"IF('7組'!Y49=\"\",\"\",'7組'!Y49)","v":""},{"$f":"IF('7組'!Z49=\"\",\"\",'7組'!Z49)","v":""},null,null,null,null,null,{"$f":"IF('7組'!AF49=\"\",\"\",'7組'!AF49)","v":""},{"$f":"IF('7組'!AG49=\"\",\"\",'7組'!AG49)","v":""},{"$f":"IF('7組'!AH49=\"\",\"\",'7組'!AH49)","v":""},{"$f":"IF('7組'!AI49=\"\",\"\",'7組'!AI49)","v":""},{"$f":"IF('7組'!AJ49=\"\",\"\",'7組'!AJ49)","v":""}]
[null,null,null,null,10727,null,7,27,null,null,"",{"$f":"IF('7組'!L50=\"\",\"\",'7組'!L50)","v":""},{"$f":"IF('7組'!M50=\"\",\"\",'7組'!M50)","v":""},{"$f":"IF('7組'!N50=\"\",\"\",'7組'!N50)","v":""},{"$f":"IF('7組'!O50=\"\",\"\",'7組'!O50)","v":""},{"$f":"IF('7組'!P50=\"\",\"\",'7組'!P50)","v":""},null,null,null,null,null,{"$f":"IF('7組'!V50=\"\",\"\",'7組'!V50)","v":""},{"$f":"IF('7組'!W50=\"\",\"\",'7組'!W50)","v":""},{"$f":"IF('7組'!X50=\"\",\"\",'7組'!X50)","v":""},{"$f":"IF('7組'!Y50=\"\",\"\",'7組'!Y50)","v":""},{"$f":"IF('7組'!Z50=\"\",\"\",'7組'!Z50)","v":""},null,null,null,null,null,{"$f":"IF('7組'!AF50=\"\",\"\",'7組'!AF50)","v":""},{"$f":"IF('7組'!AG50=\"\",\"\",'7組'!AG50)","v":""},{"$f":"IF('7組'!AH50=\"\",\"\",'7組'!AH50)","v":""},{"$f":"IF('7組'!AI50=\"\",\"\",'7組'!AI50)","v":""},{"$f":"IF('7組'!AJ50=\"\",\"\",'7組'!AJ50)","v":""}]
[null,null,null,null,10728,null,7,28,null,null,"",{"$f":"IF('7組'!L51=\"\",\"\",'7組'!L51)","v":""},{"$f":"IF('7組'!M51=\"\",\"\",'7組'!M51)","v":""},{"$f":"IF('7組'!N51=\"\",\"\",'7組'!N51)","v":""},{"$f":"IF('7組'!O51=\"\",\"\",'7組'!O51)","v":""},{"$f":"IF('7組'!P51=\"\",\"\",'7組'!P51)","v":""},null,null,null,null,null,{"$f":"IF('7組'!V51=\"\",\"\",'7組'!V51)","v":""},{"$f":"IF('7組'!W51=\"\",\"\",'7組'!W51)","v":""},{"$f":"IF('7組'!X51=\"\",\"\",'7組'!X51)","v":""},{"$f":"IF('7組'!Y51=\"\",\"\",'7組'!Y51)","v":""},{"$f":"IF('7組'!Z51=\"\",\"\",'7組'!Z51)","v":""},null,null,null,null,null,{"$f":"IF('7組'!AF51=\"\",\"\",'7組'!AF51)","v":""},{"$f":"IF('7組'!AG51=\"\",\"\",'7組'!AG51)","v":""},{"$f":"IF('7組'!AH51=\"\",\"\",'7組'!AH51)","v":""},{"$f":"IF('7組'!AI51=\"\",\"\",'7組'!AI51)","v":""},{"$f":"IF('7組'!AJ51=\"\",\"\",'7組'!AJ51)","v":""}]
[null,null,null,null,10729,null,7,29,null,null,"",{"$f":"IF('7組'!L52=\"\",\"\",'7組'!L52)","v":""},{"$f":"IF('7組'!M52=\"\",\"\",'7組'!M52)","v":""},{"$f":"IF('7組'!N52=\"\",\"\",'7組'!N52)","v":""},{"$f":"IF('7組'!O52=\"\",\"\",'7組'!O52)","v":""},{"$f":"IF('7組'!P52=\"\",\"\",'7組'!P52)","v":""},null,null,null,null,null,{"$f":"IF('7組'!V52=\"\",\"\",'7組'!V52)","v":""},{"$f":"IF('7組'!W52=\"\",\"\",'7組'!W52)","v":""},{"$f":"IF('7組'!X52=\"\",\"\",'7組'!X52)","v":""},{"$f":"IF('7組'!Y52=\"\",\"\",'7組'!Y52)","v":""},{"$f":"IF('7組'!Z52=\"\",\"\",'7組'!Z52)","v":""},null,null,null,null,null,{"$f":"IF('7組'!AF52=\"\",\"\",'7組'!AF52)","v":""},{"$f":"IF('7組'!AG52=\"\",\"\",'7組'!AG52)","v":""},{"$f":"IF('7組'!AH52=\"\",\"\",'7組'!AH52)","v":""},{"$f":"IF('7組'!AI52=\"\",\"\",'7組'!AI52)","v":""},{"$f":"IF('7組'!AJ52=\"\",\"\",'7組'!AJ52)","v":""}]
[null,null,null,null,10730,null,7,30,null,null,"",{"$f":"IF('7組'!L53=\"\",\"\",'7組'!L53)","v":""},{"$f":"IF('7組'!M53=\"\",\"\",'7組'!M53)","v":""},{"$f":"IF('7組'!N53=\"\",\"\",'7組'!N53)","v":""},{"$f":"IF('7組'!O53=\"\",\"\",'7組'!O53)","v":""},{"$f":"IF('7組'!P53=\"\",\"\",'7組'!P53)","v":""},null,null,null,null,null,{"$f":"IF('7組'!V53=\"\",\"\",'7組'!V53)","v":""},{"$f":"IF('7組'!W53=\"\",\"\",'7組'!W53)","v":""},{"$f":"IF('7組'!X53=\"\",\"\",'7組'!X53)","v":""},{"$f":"IF('7組'!Y53=\"\",\"\",'7組'!Y53)","v":""},{"$f":"IF('7組'!Z53=\"\",\"\",'7組'!Z53)","v":""},null,null,null,null,null,{"$f":"IF('7組'!AF53=\"\",\"\",'7組'!AF53)","v":""},{"$f":"IF('7組'!AG53=\"\",\"\",'7組'!AG53)","v":""},{"$f":"IF('7組'!AH53=\"\",\"\",'7組'!AH53)","v":""},{"$f":"IF('7組'!AI53=\"\",\"\",'7組'!AI53)","v":""},{"$f":"IF('7組'!AJ53=\"\",\"\",'7組'!AJ53)","v":""}]
[null,null,null,null,10731,null,7,31,null,null,"",{"$f":"IF('7組'!L54=\"\",\"\",'7組'!L54)","v":""},{"$f":"IF('7組'!M54=\"\",\"\",'7組'!M54)","v":""},{"$f":"IF('7組'!N54=\"\",\"\",'7組'!N54)","v":""},{"$f":"IF('7組'!O54=\"\",\"\",'7組'!O54)","v":""},{"$f":"IF('7組'!P54=\"\",\"\",'7組'!P54)","v":""},null,null,null,null,null,{"$f":"IF('7組'!V54=\"\",\"\",'7組'!V54)","v":""},{"$f":"IF('7組'!W54=\"\",\"\",'7組'!W54)","v":""},{"$f":"IF('7組'!X54=\"\",\"\",'7組'!X54)","v":""},{"$f":"IF('7組'!Y54=\"\",\"\",'7組'!Y54)","v":""},{"$f":"IF('7組'!Z54=\"\",\"\",'7組'!Z54)","v":""},null,null,null,null,null,{"$f":"IF('7組'!AF54=\"\",\"\",'7組'!AF54)","v":""},{"$f":"IF('7組'!AG54=\"\",\"\",'7組'!AG54)","v":""},{"$f":"IF('7組'!AH54=\"\",\"\",'7組'!AH54)","v":""},{"$f":"IF('7組'!AI54=\"\",\"\",'7組'!AI54)","v":""},{"$f":"IF('7組'!AJ54=\"\",\"\",'7組'!AJ54)","v":""}]
[null,null,null,null,10732,null,7,32,null,null,"",{"$f":"IF('7組'!L55=\"\",\"\",'7組'!L55)","v":""},{"$f":"IF('7組'!M55=\"\",\"\",'7組'!M55)","v":""},{"$f":"IF('7組'!N55=\"\",\"\",'7組'!N55)","v":""},{"$f":"IF('7組'!O55=\"\",\"\",'7組'!O55)","v":""},{"$f":"IF('7組'!P55=\"\",\"\",'7組'!P55)","v":""},null,null,null,null,null,{"$f":"IF('7組'!V55=\"\",\"\",'7組'!V55)","v":""},{"$f":"IF('7組'!W55=\"\",\"\",'7組'!W55)","v":""},{"$f":"IF('7組'!X55=\"\",\"\",'7組'!X55)","v":""},{"$f":"IF('7組'!Y55=\"\",\"\",'7組'!Y55)","v":""},{"$f":"IF('7組'!Z55=\"\",\"\",'7組'!Z55)","v":""},null,null,null,null,null,{"$f":"IF('7組'!AF55=\"\",\"\",'7組'!AF55)","v":""},{"$f":"IF('7組'!AG55=\"\",\"\",'7組'!AG55)","v":""},{"$f":"IF('7組'!AH55=\"\",\"\",'7組'!AH55)","v":""},{"$f":"IF('7組'!AI55=\"\",\"\",'7組'!AI55)","v":""},{"$f":"IF('7組'!AJ55=\"\",\"\",'7組'!AJ55)","v":""}]
[null,null,null,null,10733,null,7,33,null,null,"",{"$f":"IF('7組'!L56=\"\",\"\",'7組'!L56)","v":""},{"$f":"IF('7組'!M56=\"\",\"\",'7組'!M56)","v":""},{"$f":"IF('7組'!N56=\"\",\"\",'7組'!N56)","v":""},{"$f":"IF('7組'!O56=\"\",\"\",'7組'!O56)","v":""},{"$f":"IF('7組'!P56=\"\",\"\",'7組'!P56)","v":""},null,null,null,null,null,{"$f":"IF('7組'!V56=\"\",\"\",'7組'!V56)","v":""},{"$f":"IF('7組'!W56=\"\",\"\",'7組'!W56)","v":""},{"$f":"IF('7組'!X56=\"\",\"\",'7組'!X56)","v":""},{"$f":"IF('7組'!Y56=\"\",\"\",'7組'!Y56)","v":""},{"$f":"IF('7組'!Z56=\"\",\"\",'7組'!Z56)","v":""},null,null,null,null,null,{"$f":"IF('7組'!AF56=\"\",\"\",'7組'!AF56)","v":""},{"$f":"IF('7組'!AG56=\"\",\"\",'7組'!AG56)","v":""},{"$f":"IF('7組'!AH56=\"\",\"\",'7組'!AH56)","v":""},{"$f":"IF('7組'!AI56=\"\",\"\",'7組'!AI56)","v":""},{"$f":"IF('7組'!AJ56=\"\",\"\",'7組'!AJ56)","v":""}]
[null,null,null,null,10734,null,7,34,null,null,"",{"$f":"IF('7組'!L57=\"\",\"\",'7組'!L57)","v":""},{"$f":"IF('7組'!M57=\"\",\"\",'7組'!M57)","v":""},{"$f":"IF('7組'!N57=\"\",\"\",'7組'!N57)","v":""},{"$f":"IF('7組'!O57=\"\",\"\",'7組'!O57)","v":""},{"$f":"IF('7組'!P57=\"\",\"\",'7組'!P57)","v":""},null,null,null,null,null,{"$f":"IF('7組'!V57=\"\",\"\",'7組'!V57)","v":""},{"$f":"IF('7組'!W57=\"\",\"\",'7組'!W57)","v":""},{"$f":"IF('7組'!X57=\"\",\"\",'7組'!X57)","v":""},{"$f":"IF('7組'!Y57=\"\",\"\",'7組'!Y57)","v":""},{"$f":"IF('7組'!Z57=\"\",\"\",'7組'!Z57)","v":""},null,null,null,null,null,{"$f":"IF('7組'!AF57=\"\",\"\",'7組'!AF57)","v":""},{"$f":"IF('7組'!AG57=\"\",\"\",'7組'!AG57)","v":""},{"$f":"IF('7組'!AH57=\"\",\"\",'7組'!AH57)","v":""},{"$f":"IF('7組'!AI57=\"\",\"\",'7組'!AI57)","v":""},{"$f":"IF('7組'!AJ57=\"\",\"\",'7組'!AJ57)","v":""}]
[null,null,null,null,10735,null,7,35,null,null,"",{"$f":"IF('7組'!L58=\"\",\"\",'7組'!L58)","v":""},{"$f":"IF('7組'!M58=\"\",\"\",'7組'!M58)","v":""},{"$f":"IF('7組'!N58=\"\",\"\",'7組'!N58)","v":""},{"$f":"IF('7組'!O58=\"\",\"\",'7組'!O58)","v":""},{"$f":"IF('7組'!P58=\"\",\"\",'7組'!P58)","v":""},null,null,null,null,null,{"$f":"IF('7組'!V58=\"\",\"\",'7組'!V58)","v":""},{"$f":"IF('7組'!W58=\"\",\"\",'7組'!W58)","v":""},{"$f":"IF('7組'!X58=\"\",\"\",'7組'!X58)","v":""},{"$f":"IF('7組'!Y58=\"\",\"\",'7組'!Y58)","v":""},{"$f":"IF('7組'!Z58=\"\",\"\",'7組'!Z58)","v":""},null,null,null,null,null,{"$f":"IF('7組'!AF58=\"\",\"\",'7組'!AF58)","v":""},{"$f":"IF('7組'!AG58=\"\",\"\",'7組'!AG58)","v":""},{"$f":"IF('7組'!AH58=\"\",\"\",'7組'!AH58)","v":""},{"$f":"IF('7組'!AI58=\"\",\"\",'7組'!AI58)","v":""},{"$f":"IF('7組'!AJ58=\"\",\"\",'7組'!AJ58)","v":""}]
[null,null,null,null,10736,null,7,36,null,null,"",{"$f":"IF('7組'!L59=\"\",\"\",'7組'!L59)","v":""},{"$f":"IF('7組'!M59=\"\",\"\",'7組'!M59)","v":""},{"$f":"IF('7組'!N59=\"\",\"\",'7組'!N59)","v":""},{"$f":"IF('7組'!O59=\"\",\"\",'7組'!O59)","v":""},{"$f":"IF('7組'!P59=\"\",\"\",'7組'!P59)","v":""},null,null,null,null,null,{"$f":"IF('7組'!V59=\"\",\"\",'7組'!V59)","v":""},{"$f":"IF('7組'!W59=\"\",\"\",'7組'!W59)","v":""},{"$f":"IF('7組'!X59=\"\",\"\",'7組'!X59)","v":""},{"$f":"IF('7組'!Y59=\"\",\"\",'7組'!Y59)","v":""},{"$f":"IF('7組'!Z59=\"\",\"\",'7組'!Z59)","v":""},null,null,null,null,null,{"$f":"IF('7組'!AF59=\"\",\"\",'7組'!AF59)","v":""},{"$f":"IF('7組'!AG59=\"\",\"\",'7組'!AG59)","v":""},{"$f":"IF('7組'!AH59=\"\",\"\",'7組'!AH59)","v":""},{"$f":"IF('7組'!AI59=\"\",\"\",'7組'!AI59)","v":""},{"$f":"IF('7組'!AJ59=\"\",\"\",'7組'!AJ59)","v":""}]
[null,null,null,null,10737,null,7,37,null,null,"",{"$f":"IF('7組'!L60=\"\",\"\",'7組'!L60)","v":""},{"$f":"IF('7組'!M60=\"\",\"\",'7組'!M60)","v":""},{"$f":"IF('7組'!N60=\"\",\"\",'7組'!N60)","v":""},{"$f":"IF('7組'!O60=\"\",\"\",'7組'!O60)","v":""},{"$f":"IF('7組'!P60=\"\",\"\",'7組'!P60)","v":""},null,null,null,null,null,{"$f":"IF('7組'!V60=\"\",\"\",'7組'!V60)","v":""},{"$f":"IF('7組'!W60=\"\",\"\",'7組'!W60)","v":""},{"$f":"IF('7組'!X60=\"\",\"\",'7組'!X60)","v":""},{"$f":"IF('7組'!Y60=\"\",\"\",'7組'!Y60)","v":""},{"$f":"IF('7組'!Z60=\"\",\"\",'7組'!Z60)","v":""},null,null,null,null,null,{"$f":"IF('7組'!AF60=\"\",\"\",'7組'!AF60)","v":""},{"$f":"IF('7組'!AG60=\"\",\"\",'7組'!AG60)","v":""},{"$f":"IF('7組'!AH60=\"\",\"\",'7組'!AH60)","v":""},{"$f":"IF('7組'!AI60=\"\",\"\",'7組'!AI60)","v":""},{"$f":"IF('7組'!AJ60=\"\",\"\",'7組'!AJ60)","v":""}]
[null,null,null,null,10738,null,7,38,null,null,"",{"$f":"IF('7組'!L61=\"\",\"\",'7組'!L61)","v":""},{"$f":"IF('7組'!M61=\"\",\"\",'7組'!M61)","v":""},{"$f":"IF('7組'!N61=\"\",\"\",'7組'!N61)","v":""},{"$f":"IF('7組'!O61=\"\",\"\",'7組'!O61)","v":""},{"$f":"IF('7組'!P61=\"\",\"\",'7組'!P61)","v":""},null,null,null,null,null,{"$f":"IF('7組'!V61=\"\",\"\",'7組'!V61)","v":""},{"$f":"IF('7組'!W61=\"\",\"\",'7組'!W61)","v":""},{"$f":"IF('7組'!X61=\"\",\"\",'7組'!X61)","v":""},{"$f":"IF('7組'!Y61=\"\",\"\",'7組'!Y61)","v":""},{"$f":"IF('7組'!Z61=\"\",\"\",'7組'!Z61)","v":""},null,null,null,null,null,{"$f":"IF('7組'!AF61=\"\",\"\",'7組'!AF61)","v":""},{"$f":"IF('7組'!AG61=\"\",\"\",'7組'!AG61)","v":""},{"$f":"IF('7組'!AH61=\"\",\"\",'7組'!AH61)","v":""},{"$f":"IF('7組'!AI61=\"\",\"\",'7組'!AI61)","v":""},{"$f":"IF('7組'!AJ61=\"\",\"\",'7組'!AJ61)","v":""}]
[null,null,null,null,10739,null,7,39,null,null,"",{"$f":"IF('7組'!L62=\"\",\"\",'7組'!L62)","v":""},{"$f":"IF('7組'!M62=\"\",\"\",'7組'!M62)","v":""},{"$f":"IF('7組'!N62=\"\",\"\",'7組'!N62)","v":""},{"$f":"IF('7組'!O62=\"\",\"\",'7組'!O62)","v":""},{"$f":"IF('7組'!P62=\"\",\"\",'7組'!P62)","v":""},null,null,null,null,null,{"$f":"IF('7組'!V62=\"\",\"\",'7組'!V62)","v":""},{"$f":"IF('7組'!W62=\"\",\"\",'7組'!W62)","v":""},{"$f":"IF('7組'!X62=\"\",\"\",'7組'!X62)","v":""},{"$f":"IF('7組'!Y62=\"\",\"\",'7組'!Y62)","v":""},{"$f":"IF('7組'!Z62=\"\",\"\",'7組'!Z62)","v":""},null,null,null,null,null,{"$f":"IF('7組'!AF62=\"\",\"\",'7組'!AF62)","v":""},{"$f":"IF('7組'!AG62=\"\",\"\",'7組'!AG62)","v":""},{"$f":"IF('7組'!AH62=\"\",\"\",'7組'!AH62)","v":""},{"$f":"IF('7組'!AI62=\"\",\"\",'7組'!AI62)","v":""},{"$f":"IF('7組'!AJ62=\"\",\"\",'7組'!AJ62)","v":""}]
[null,null,null,null,10740,null,7,40,null,null,"",{"$f":"IF('7組'!L63=\"\",\"\",'7組'!L63)","v":""},{"$f":"IF('7組'!M63=\"\",\"\",'7組'!M63)","v":""},{"$f":"IF('7組'!N63=\"\",\"\",'7組'!N63)","v":""},{"$f":"IF('7組'!O63=\"\",\"\",'7組'!O63)","v":""},{"$f":"IF('7組'!P63=\"\",\"\",'7組'!P63)","v":""},null,null,null,null,null,{"$f":"IF('7組'!V63=\"\",\"\",'7組'!V63)","v":""},{"$f":"IF('7組'!W63=\"\",\"\",'7組'!W63)","v":""},{"$f":"IF('7組'!X63=\"\",\"\",'7組'!X63)","v":""},{"$f":"IF('7組'!Y63=\"\",\"\",'7組'!Y63)","v":""},{"$f":"IF('7組'!Z63=\"\",\"\",'7組'!Z63)","v":""},null,null,null,null,null,{"$f":"IF('7組'!AF63=\"\",\"\",'7組'!AF63)","v":""},{"$f":"IF('7組'!AG63=\"\",\"\",'7組'!AG63)","v":""},{"$f":"IF('7組'!AH63=\"\",\"\",'7組'!AH63)","v":""},{"$f":"IF('7組'!AI63=\"\",\"\",'7組'!AI63)","v":""},{"$f":"IF('7組'!AJ63=\"\",\"\",'7組'!AJ63)","v":""}]
[null,null,null,null,10741,null,7,41,null,null,"",{"$f":"IF('7組'!L64=\"\",\"\",'7組'!L64)","v":""},{"$f":"IF('7組'!M64=\"\",\"\",'7組'!M64)","v":""},{"$f":"IF('7組'!N64=\"\",\"\",'7組'!N64)","v":""},{"$f":"IF('7組'!O64=\"\",\"\",'7組'!O64)","v":""},{"$f":"IF('7組'!P64=\"\",\"\",'7組'!P64)","v":""},null,null,null,null,null,{"$f":"IF('7組'!V64=\"\",\"\",'7組'!V64)","v":""},{"$f":"IF('7組'!W64=\"\",\"\",'7組'!W64)","v":""},{"$f":"IF('7組'!X64=\"\",\"\",'7組'!X64)","v":""},{"$f":"IF('7組'!Y64=\"\",\"\",'7組'!Y64)","v":""},{"$f":"IF('7組'!Z64=\"\",\"\",'7組'!Z64)","v":""},null,null,null,null,null,{"$f":"IF('7組'!AF64=\"\",\"\",'7組'!AF64)","v":""},{"$f":"IF('7組'!AG64=\"\",\"\",'7組'!AG64)","v":""},{"$f":"IF('7組'!AH64=\"\",\"\",'7組'!AH64)","v":""},{"$f":"IF('7組'!AI64=\"\",\"\",'7組'!AI64)","v":""},{"$f":"IF('7組'!AJ64=\"\",\"\",'7組'!AJ64)","v":""}]
[null,null,null,null,10742,null,7,42,null,null,"",{"$f":"IF('7組'!L65=\"\",\"\",'7組'!L65)","v":""},{"$f":"IF('7組'!M65=\"\",\"\",'7組'!M65)","v":""},{"$f":"IF('7組'!N65=\"\",\"\",'7組'!N65)","v":""},{"$f":"IF('7組'!O65=\"\",\"\",'7組'!O65)","v":""},{"$f":"IF('7組'!P65=\"\",\"\",'7組'!P65)","v":""},null,null,null,null,null,{"$f":"IF('7組'!V65=\"\",\"\",'7組'!V65)","v":""},{"$f":"IF('7組'!W65=\"\",\"\",'7組'!W65)","v":""},{"$f":"IF('7組'!X65=\"\",\"\",'7組'!X65)","v":""},{"$f":"IF('7組'!Y65=\"\",\"\",'7組'!Y65)","v":""},{"$f":"IF('7組'!Z65=\"\",\"\",'7組'!Z65)","v":""},null,null,null,null,null,{"$f":"IF('7組'!AF65=\"\",\"\",'7組'!AF65)","v":""},{"$f":"IF('7組'!AG65=\"\",\"\",'7組'!AG65)","v":""},{"$f":"IF('7組'!AH65=\"\",\"\",'7組'!AH65)","v":""},{"$f":"IF('7組'!AI65=\"\",\"\",'7組'!AI65)","v":""},{"$f":"IF('7組'!AJ65=\"\",\"\",'7組'!AJ65)","v":""}]
[null,null,null,null,10743,null,7,43,null,null,"",{"$f":"IF('7組'!L66=\"\",\"\",'7組'!L66)","v":""},{"$f":"IF('7組'!M66=\"\",\"\",'7組'!M66)","v":""},{"$f":"IF('7組'!N66=\"\",\"\",'7組'!N66)","v":""},{"$f":"IF('7組'!O66=\"\",\"\",'7組'!O66)","v":""},{"$f":"IF('7組'!P66=\"\",\"\",'7組'!P66)","v":""},null,null,null,null,null,{"$f":"IF('7組'!V66=\"\",\"\",'7組'!V66)","v":""},{"$f":"IF('7組'!W66=\"\",\"\",'7組'!W66)","v":""},{"$f":"IF('7組'!X66=\"\",\"\",'7組'!X66)","v":""},{"$f":"IF('7組'!Y66=\"\",\"\",'7組'!Y66)","v":""},{"$f":"IF('7組'!Z66=\"\",\"\",'7組'!Z66)","v":""},null,null,null,null,null,{"$f":"IF('7組'!AF66=\"\",\"\",'7組'!AF66)","v":""},{"$f":"IF('7組'!AG66=\"\",\"\",'7組'!AG66)","v":""},{"$f":"IF('7組'!AH66=\"\",\"\",'7組'!AH66)","v":""},{"$f":"IF('7組'!AI66=\"\",\"\",'7組'!AI66)","v":""},{"$f":"IF('7組'!AJ66=\"\",\"\",'7組'!AJ66)","v":""}]
[null,null,null,null,10744,null,7,44,null,null,"",{"$f":"IF('7組'!L67=\"\",\"\",'7組'!L67)","v":""},{"$f":"IF('7組'!M67=\"\",\"\",'7組'!M67)","v":""},{"$f":"IF('7組'!N67=\"\",\"\",'7組'!N67)","v":""},{"$f":"IF('7組'!O67=\"\",\"\",'7組'!O67)","v":""},{"$f":"IF('7組'!P67=\"\",\"\",'7組'!P67)","v":""},null,null,null,null,null,{"$f":"IF('7組'!V67=\"\",\"\",'7組'!V67)","v":""},{"$f":"IF('7組'!W67=\"\",\"\",'7組'!W67)","v":""},{"$f":"IF('7組'!X67=\"\",\"\",'7組'!X67)","v":""},{"$f":"IF('7組'!Y67=\"\",\"\",'7組'!Y67)","v":""},{"$f":"IF('7組'!Z67=\"\",\"\",'7組'!Z67)","v":""},null,null,null,null,null,{"$f":"IF('7組'!AF67=\"\",\"\",'7組'!AF67)","v":""},{"$f":"IF('7組'!AG67=\"\",\"\",'7組'!AG67)","v":""},{"$f":"IF('7組'!AH67=\"\",\"\",'7組'!AH67)","v":""},{"$f":"IF('7組'!AI67=\"\",\"\",'7組'!AI67)","v":""},{"$f":"IF('7組'!AJ67=\"\",\"\",'7組'!AJ67)","v":""}]
[null,null,null,null,10745,null,7,45,null,null,"",{"$f":"IF('7組'!L68=\"\",\"\",'7組'!L68)","v":""},{"$f":"IF('7組'!M68=\"\",\"\",'7組'!M68)","v":""},{"$f":"IF('7組'!N68=\"\",\"\",'7組'!N68)","v":""},{"$f":"IF('7組'!O68=\"\",\"\",'7組'!O68)","v":""},{"$f":"IF('7組'!P68=\"\",\"\",'7組'!P68)","v":""},null,null,null,null,null,{"$f":"IF('7組'!V68=\"\",\"\",'7組'!V68)","v":""},{"$f":"IF('7組'!W68=\"\",\"\",'7組'!W68)","v":""},{"$f":"IF('7組'!X68=\"\",\"\",'7組'!X68)","v":""},{"$f":"IF('7組'!Y68=\"\",\"\",'7組'!Y68)","v":""},{"$f":"IF('7組'!Z68=\"\",\"\",'7組'!Z68)","v":""},null,null,null,null,null,{"$f":"IF('7組'!AF68=\"\",\"\",'7組'!AF68)","v":""},{"$f":"IF('7組'!AG68=\"\",\"\",'7組'!AG68)","v":""},{"$f":"IF('7組'!AH68=\"\",\"\",'7組'!AH68)","v":""},{"$f":"IF('7組'!AI68=\"\",\"\",'7組'!AI68)","v":""},{"$f":"IF('7組'!AJ68=\"\",\"\",'7組'!AJ68)","v":""}]
[null,null,null,null,10746,null,7,46,null,null,"",{"$f":"IF('7組'!L69=\"\",\"\",'7組'!L69)","v":""},{"$f":"IF('7組'!M69=\"\",\"\",'7組'!M69)","v":""},{"$f":"IF('7組'!N69=\"\",\"\",'7組'!N69)","v":""},{"$f":"IF('7組'!O69=\"\",\"\",'7組'!O69)","v":""},{"$f":"IF('7組'!P69=\"\",\"\",'7組'!P69)","v":""},null,null,null,null,null,{"$f":"IF('7組'!V69=\"\",\"\",'7組'!V69)","v":""},{"$f":"IF('7組'!W69=\"\",\"\",'7組'!W69)","v":""},{"$f":"IF('7組'!X69=\"\",\"\",'7組'!X69)","v":""},{"$f":"IF('7組'!Y69=\"\",\"\",'7組'!Y69)","v":""},{"$f":"IF('7組'!Z69=\"\",\"\",'7組'!Z69)","v":""},null,null,null,null,null,{"$f":"IF('7組'!AF69=\"\",\"\",'7組'!AF69)","v":""},{"$f":"IF('7組'!AG69=\"\",\"\",'7組'!AG69)","v":""},{"$f":"IF('7組'!AH69=\"\",\"\",'7組'!AH69)","v":""},{"$f":"IF('7組'!AI69=\"\",\"\",'7組'!AI69)","v":""},{"$f":"IF('7組'!AJ69=\"\",\"\",'7組'!AJ69)","v":""}]
[null,null,null,null,10747,null,7,47,null,null,"",{"$f":"IF('7組'!L70=\"\",\"\",'7組'!L70)","v":""},{"$f":"IF('7組'!M70=\"\",\"\",'7組'!M70)","v":""},{"$f":"IF('7組'!N70=\"\",\"\",'7組'!N70)","v":""},{"$f":"IF('7組'!O70=\"\",\"\",'7組'!O70)","v":""},{"$f":"IF('7組'!P70=\"\",\"\",'7組'!P70)","v":""},null,null,null,null,null,{"$f":"IF('7組'!V70=\"\",\"\",'7組'!V70)","v":""},{"$f":"IF('7組'!W70=\"\",\"\",'7組'!W70)","v":""},{"$f":"IF('7組'!X70=\"\",\"\",'7組'!X70)","v":""},{"$f":"IF('7組'!Y70=\"\",\"\",'7組'!Y70)","v":""},{"$f":"IF('7組'!Z70=\"\",\"\",'7組'!Z70)","v":""},null,null,null,null,null,{"$f":"IF('7組'!AF70=\"\",\"\",'7組'!AF70)","v":""},{"$f":"IF('7組'!AG70=\"\",\"\",'7組'!AG70)","v":""},{"$f":"IF('7組'!AH70=\"\",\"\",'7組'!AH70)","v":""},{"$f":"IF('7組'!AI70=\"\",\"\",'7組'!AI70)","v":""},{"$f":"IF('7組'!AJ70=\"\",\"\",'7組'!AJ70)","v":""}]
[null,null,null,null,10748,null,7,48,null,null,"",{"$f":"IF('7組'!L71=\"\",\"\",'7組'!L71)","v":""},{"$f":"IF('7組'!M71=\"\",\"\",'7組'!M71)","v":""},{"$f":"IF('7組'!N71=\"\",\"\",'7組'!N71)","v":""},{"$f":"IF('7組'!O71=\"\",\"\",'7組'!O71)","v":""},{"$f":"IF('7組'!P71=\"\",\"\",'7組'!P71)","v":""},null,null,null,null,null,{"$f":"IF('7組'!V71=\"\",\"\",'7組'!V71)","v":""},{"$f":"IF('7組'!W71=\"\",\"\",'7組'!W71)","v":""},{"$f":"IF('7組'!X71=\"\",\"\",'7組'!X71)","v":""},{"$f":"IF('7組'!Y71=\"\",\"\",'7組'!Y71)","v":""},{"$f":"IF('7組'!Z71=\"\",\"\",'7組'!Z71)","v":""},null,null,null,null,null,{"$f":"IF('7組'!AF71=\"\",\"\",'7組'!AF71)","v":""},{"$f":"IF('7組'!AG71=\"\",\"\",'7組'!AG71)","v":""},{"$f":"IF('7組'!AH71=\"\",\"\",'7組'!AH71)","v":""},{"$f":"IF('7組'!AI71=\"\",\"\",'7組'!AI71)","v":""},{"$f":"IF('7組'!AJ71=\"\",\"\",'7組'!AJ71)","v":""}]
[null,null,null,null,10749,null,7,49,null,null,"",{"$f":"IF('7組'!L72=\"\",\"\",'7組'!L72)","v":""},{"$f":"IF('7組'!M72=\"\",\"\",'7組'!M72)","v":""},{"$f":"IF('7組'!N72=\"\",\"\",'7組'!N72)","v":""},{"$f":"IF('7組'!O72=\"\",\"\",'7組'!O72)","v":""},{"$f":"IF('7組'!P72=\"\",\"\",'7組'!P72)","v":""},null,null,null,null,null,{"$f":"IF('7組'!V72=\"\",\"\",'7組'!V72)","v":""},{"$f":"IF('7組'!W72=\"\",\"\",'7組'!W72)","v":""},{"$f":"IF('7組'!X72=\"\",\"\",'7組'!X72)","v":""},{"$f":"IF('7組'!Y72=\"\",\"\",'7組'!Y72)","v":""},{"$f":"IF('7組'!Z72=\"\",\"\",'7組'!Z72)","v":""},null,null,null,null,null,{"$f":"IF('7組'!AF72=\"\",\"\",'7組'!AF72)","v":""},{"$f":"IF('7組'!AG72=\"\",\"\",'7組'!AG72)","v":""},{"$f":"IF('7組'!AH72=\"\",\"\",'7組'!AH72)","v":""},{"$f":"IF('7組'!AI72=\"\",\"\",'7組'!AI72)","v":""},{"$f":"IF('7組'!AJ72=\"\",\"\",'7組'!AJ72)","v":""}]
[null,null,null,null,10750,null,7,50,null,null,"",{"$f":"IF('7組'!L73=\"\",\"\",'7組'!L73)","v":""},{"$f":"IF('7組'!M73=\"\",\"\",'7組'!M73)","v":""},{"$f":"IF('7組'!N73=\"\",\"\",'7組'!N73)","v":""},{"$f":"IF('7組'!O73=\"\",\"\",'7組'!O73)","v":""},{"$f":"IF('7組'!P73=\"\",\"\",'7組'!P73)","v":""},null,null,null,null,null,{"$f":"IF('7組'!V73=\"\",\"\",'7組'!V73)","v":""},{"$f":"IF('7組'!W73=\"\",\"\",'7組'!W73)","v":""},{"$f":"IF('7組'!X73=\"\",\"\",'7組'!X73)","v":""},{"$f":"IF('7組'!Y73=\"\",\"\",'7組'!Y73)","v":""},{"$f":"IF('7組'!Z73=\"\",\"\",'7組'!Z73)","v":""},null,null,null,null,null,{"$f":"IF('7組'!AF73=\"\",\"\",'7組'!AF73)","v":""},{"$f":"IF('7組'!AG73=\"\",\"\",'7組'!AG73)","v":""},{"$f":"IF('7組'!AH73=\"\",\"\",'7組'!AH73)","v":""},{"$f":"IF('7組'!AI73=\"\",\"\",'7組'!AI73)","v":""},{"$f":"IF('7組'!AJ73=\"\",\"\",'7組'!AJ73)","v":""}]
[null,null,null,null,10801,null,8,1,null,null,"",{"$f":"IF('8組'!L24=\"\",\"\",'8組'!L24)","v":""},{"$f":"IF('8組'!M24=\"\",\"\",'8組'!M24)","v":""},{"$f":"IF('8組'!N24=\"\",\"\",'8組'!N24)","v":""},{"$f":"IF('8組'!O24=\"\",\"\",'8組'!O24)","v":""},{"$f":"IF('8組'!P24=\"\",\"\",'8組'!P24)","v":""},null,null,null,null,null,{"$f":"IF('8組'!V24=\"\",\"\",'8組'!V24)","v":""},{"$f":"IF('8組'!W24=\"\",\"\",'8組'!W24)","v":""},{"$f":"IF('8組'!X24=\"\",\"\",'8組'!X24)","v":""},{"$f":"IF('8組'!Y24=\"\",\"\",'8組'!Y24)","v":""},{"$f":"IF('8組'!Z24=\"\",\"\",'8組'!Z24)","v":""},null,null,null,null,null,{"$f":"IF('8組'!AF24=\"\",\"\",'8組'!AF24)","v":""},{"$f":"IF('8組'!AG24=\"\",\"\",'8組'!AG24)","v":""},{"$f":"IF('8組'!AH24=\"\",\"\",'8組'!AH24)","v":""},{"$f":"IF('8組'!AI24=\"\",\"\",'8組'!AI24)","v":""},{"$f":"IF('8組'!AJ24=\"\",\"\",'8組'!AJ24)","v":""}]
[null,null,null,null,10802,null,8,2,null,null,"",{"$f":"IF('8組'!L25=\"\",\"\",'8組'!L25)","v":""},{"$f":"IF('8組'!M25=\"\",\"\",'8組'!M25)","v":""},{"$f":"IF('8組'!N25=\"\",\"\",'8組'!N25)","v":""},{"$f":"IF('8組'!O25=\"\",\"\",'8組'!O25)","v":""},{"$f":"IF('8組'!P25=\"\",\"\",'8組'!P25)","v":""},null,null,null,null,null,{"$f":"IF('8組'!V25=\"\",\"\",'8組'!V25)","v":""},{"$f":"IF('8組'!W25=\"\",\"\",'8組'!W25)","v":""},{"$f":"IF('8組'!X25=\"\",\"\",'8組'!X25)","v":""},{"$f":"IF('8組'!Y25=\"\",\"\",'8組'!Y25)","v":""},{"$f":"IF('8組'!Z25=\"\",\"\",'8組'!Z25)","v":""},null,null,null,null,null,{"$f":"IF('8組'!AF25=\"\",\"\",'8組'!AF25)","v":""},{"$f":"IF('8組'!AG25=\"\",\"\",'8組'!AG25)","v":""},{"$f":"IF('8組'!AH25=\"\",\"\",'8組'!AH25)","v":""},{"$f":"IF('8組'!AI25=\"\",\"\",'8組'!AI25)","v":""},{"$f":"IF('8組'!AJ25=\"\",\"\",'8組'!AJ25)","v":""}]
[null,null,null,null,10803,null,8,3,null,null,"",{"$f":"IF('8組'!L26=\"\",\"\",'8組'!L26)","v":""},{"$f":"IF('8組'!M26=\"\",\"\",'8組'!M26)","v":""},{"$f":"IF('8組'!N26=\"\",\"\",'8組'!N26)","v":""},{"$f":"IF('8組'!O26=\"\",\"\",'8組'!O26)","v":""},{"$f":"IF('8組'!P26=\"\",\"\",'8組'!P26)","v":""},null,null,null,null,null,{"$f":"IF('8組'!V26=\"\",\"\",'8組'!V26)","v":""},{"$f":"IF('8組'!W26=\"\",\"\",'8組'!W26)","v":""},{"$f":"IF('8組'!X26=\"\",\"\",'8組'!X26)","v":""},{"$f":"IF('8組'!Y26=\"\",\"\",'8組'!Y26)","v":""},{"$f":"IF('8組'!Z26=\"\",\"\",'8組'!Z26)","v":""},null,null,null,null,null,{"$f":"IF('8組'!AF26=\"\",\"\",'8組'!AF26)","v":""},{"$f":"IF('8組'!AG26=\"\",\"\",'8組'!AG26)","v":""},{"$f":"IF('8組'!AH26=\"\",\"\",'8組'!AH26)","v":""},{"$f":"IF('8組'!AI26=\"\",\"\",'8組'!AI26)","v":""},{"$f":"IF('8組'!AJ26=\"\",\"\",'8組'!AJ26)","v":""}]
[null,null,null,null,10804,null,8,4,null,null,"",{"$f":"IF('8組'!L27=\"\",\"\",'8組'!L27)","v":""},{"$f":"IF('8組'!M27=\"\",\"\",'8組'!M27)","v":""},{"$f":"IF('8組'!N27=\"\",\"\",'8組'!N27)","v":""},{"$f":"IF('8組'!O27=\"\",\"\",'8組'!O27)","v":""},{"$f":"IF('8組'!P27=\"\",\"\",'8組'!P27)","v":""},null,null,null,null,null,{"$f":"IF('8組'!V27=\"\",\"\",'8組'!V27)","v":""},{"$f":"IF('8組'!W27=\"\",\"\",'8組'!W27)","v":""},{"$f":"IF('8組'!X27=\"\",\"\",'8組'!X27)","v":""},{"$f":"IF('8組'!Y27=\"\",\"\",'8組'!Y27)","v":""},{"$f":"IF('8組'!Z27=\"\",\"\",'8組'!Z27)","v":""},null,null,null,null,null,{"$f":"IF('8組'!AF27=\"\",\"\",'8組'!AF27)","v":""},{"$f":"IF('8組'!AG27=\"\",\"\",'8組'!AG27)","v":""},{"$f":"IF('8組'!AH27=\"\",\"\",'8組'!AH27)","v":""},{"$f":"IF('8組'!AI27=\"\",\"\",'8組'!AI27)","v":""},{"$f":"IF('8組'!AJ27=\"\",\"\",'8組'!AJ27)","v":""}]
[null,null,null,null,10805,null,8,5,null,null,"",{"$f":"IF('8組'!L28=\"\",\"\",'8組'!L28)","v":""},{"$f":"IF('8組'!M28=\"\",\"\",'8組'!M28)","v":""},{"$f":"IF('8組'!N28=\"\",\"\",'8組'!N28)","v":""},{"$f":"IF('8組'!O28=\"\",\"\",'8組'!O28)","v":""},{"$f":"IF('8組'!P28=\"\",\"\",'8組'!P28)","v":""},null,null,null,null,null,{"$f":"IF('8組'!V28=\"\",\"\",'8組'!V28)","v":""},{"$f":"IF('8組'!W28=\"\",\"\",'8組'!W28)","v":""},{"$f":"IF('8組'!X28=\"\",\"\",'8組'!X28)","v":""},{"$f":"IF('8組'!Y28=\"\",\"\",'8組'!Y28)","v":""},{"$f":"IF('8組'!Z28=\"\",\"\",'8組'!Z28)","v":""},null,null,null,null,null,{"$f":"IF('8組'!AF28=\"\",\"\",'8組'!AF28)","v":""},{"$f":"IF('8組'!AG28=\"\",\"\",'8組'!AG28)","v":""},{"$f":"IF('8組'!AH28=\"\",\"\",'8組'!AH28)","v":""},{"$f":"IF('8組'!AI28=\"\",\"\",'8組'!AI28)","v":""},{"$f":"IF('8組'!AJ28=\"\",\"\",'8組'!AJ28)","v":""}]
[null,null,null,null,10806,null,8,6,null,null,"",{"$f":"IF('8組'!L29=\"\",\"\",'8組'!L29)","v":""},{"$f":"IF('8組'!M29=\"\",\"\",'8組'!M29)","v":""},{"$f":"IF('8組'!N29=\"\",\"\",'8組'!N29)","v":""},{"$f":"IF('8組'!O29=\"\",\"\",'8組'!O29)","v":""},{"$f":"IF('8組'!P29=\"\",\"\",'8組'!P29)","v":""},null,null,null,null,null,{"$f":"IF('8組'!V29=\"\",\"\",'8組'!V29)","v":""},{"$f":"IF('8組'!W29=\"\",\"\",'8組'!W29)","v":""},{"$f":"IF('8組'!X29=\"\",\"\",'8組'!X29)","v":""},{"$f":"IF('8組'!Y29=\"\",\"\",'8組'!Y29)","v":""},{"$f":"IF('8組'!Z29=\"\",\"\",'8組'!Z29)","v":""},null,null,null,null,null,{"$f":"IF('8組'!AF29=\"\",\"\",'8組'!AF29)","v":""},{"$f":"IF('8組'!AG29=\"\",\"\",'8組'!AG29)","v":""},{"$f":"IF('8組'!AH29=\"\",\"\",'8組'!AH29)","v":""},{"$f":"IF('8組'!AI29=\"\",\"\",'8組'!AI29)","v":""},{"$f":"IF('8組'!AJ29=\"\",\"\",'8組'!AJ29)","v":""}]
[null,null,null,null,10807,null,8,7,null,null,"",{"$f":"IF('8組'!L30=\"\",\"\",'8組'!L30)","v":""},{"$f":"IF('8組'!M30=\"\",\"\",'8組'!M30)","v":""},{"$f":"IF('8組'!N30=\"\",\"\",'8組'!N30)","v":""},{"$f":"IF('8組'!O30=\"\",\"\",'8組'!O30)","v":""},{"$f":"IF('8組'!P30=\"\",\"\",'8組'!P30)","v":""},null,null,null,null,null,{"$f":"IF('8組'!V30=\"\",\"\",'8組'!V30)","v":""},{"$f":"IF('8組'!W30=\"\",\"\",'8組'!W30)","v":""},{"$f":"IF('8組'!X30=\"\",\"\",'8組'!X30)","v":""},{"$f":"IF('8組'!Y30=\"\",\"\",'8組'!Y30)","v":""},{"$f":"IF('8組'!Z30=\"\",\"\",'8組'!Z30)","v":""},null,null,null,null,null,{"$f":"IF('8組'!AF30=\"\",\"\",'8組'!AF30)","v":""},{"$f":"IF('8組'!AG30=\"\",\"\",'8組'!AG30)","v":""},{"$f":"IF('8組'!AH30=\"\",\"\",'8組'!AH30)","v":""},{"$f":"IF('8組'!AI30=\"\",\"\",'8組'!AI30)","v":""},{"$f":"IF('8組'!AJ30=\"\",\"\",'8組'!AJ30)","v":""}]
[null,null,null,null,10808,null,8,8,null,null,"",{"$f":"IF('8組'!L31=\"\",\"\",'8組'!L31)","v":""},{"$f":"IF('8組'!M31=\"\",\"\",'8組'!M31)","v":""},{"$f":"IF('8組'!N31=\"\",\"\",'8組'!N31)","v":""},{"$f":"IF('8組'!O31=\"\",\"\",'8組'!O31)","v":""},{"$f":"IF('8組'!P31=\"\",\"\",'8組'!P31)","v":""},null,null,null,null,null,{"$f":"IF('8組'!V31=\"\",\"\",'8組'!V31)","v":""},{"$f":"IF('8組'!W31=\"\",\"\",'8組'!W31)","v":""},{"$f":"IF('8組'!X31=\"\",\"\",'8組'!X31)","v":""},{"$f":"IF('8組'!Y31=\"\",\"\",'8組'!Y31)","v":""},{"$f":"IF('8組'!Z31=\"\",\"\",'8組'!Z31)","v":""},null,null,null,null,null,{"$f":"IF('8組'!AF31=\"\",\"\",'8組'!AF31)","v":""},{"$f":"IF('8組'!AG31=\"\",\"\",'8組'!AG31)","v":""},{"$f":"IF('8組'!AH31=\"\",\"\",'8組'!AH31)","v":""},{"$f":"IF('8組'!AI31=\"\",\"\",'8組'!AI31)","v":""},{"$f":"IF('8組'!AJ31=\"\",\"\",'8組'!AJ31)","v":""}]
[null,null,null,null,10809,null,8,9,null,null,"",{"$f":"IF('8組'!L32=\"\",\"\",'8組'!L32)","v":""},{"$f":"IF('8組'!M32=\"\",\"\",'8組'!M32)","v":""},{"$f":"IF('8組'!N32=\"\",\"\",'8組'!N32)","v":""},{"$f":"IF('8組'!O32=\"\",\"\",'8組'!O32)","v":""},{"$f":"IF('8組'!P32=\"\",\"\",'8組'!P32)","v":""},null,null,null,null,null,{"$f":"IF('8組'!V32=\"\",\"\",'8組'!V32)","v":""},{"$f":"IF('8組'!W32=\"\",\"\",'8組'!W32)","v":""},{"$f":"IF('8組'!X32=\"\",\"\",'8組'!X32)","v":""},{"$f":"IF('8組'!Y32=\"\",\"\",'8組'!Y32)","v":""},{"$f":"IF('8組'!Z32=\"\",\"\",'8組'!Z32)","v":""},null,null,null,null,null,{"$f":"IF('8組'!AF32=\"\",\"\",'8組'!AF32)","v":""},{"$f":"IF('8組'!AG32=\"\",\"\",'8組'!AG32)","v":""},{"$f":"IF('8組'!AH32=\"\",\"\",'8組'!AH32)","v":""},{"$f":"IF('8組'!AI32=\"\",\"\",'8組'!AI32)","v":""},{"$f":"IF('8組'!AJ32=\"\",\"\",'8組'!AJ32)","v":""}]
[null,null,null,null,10810,null,8,10,null,null,"",{"$f":"IF('8組'!L33=\"\",\"\",'8組'!L33)","v":""},{"$f":"IF('8組'!M33=\"\",\"\",'8組'!M33)","v":""},{"$f":"IF('8組'!N33=\"\",\"\",'8組'!N33)","v":""},{"$f":"IF('8組'!O33=\"\",\"\",'8組'!O33)","v":""},{"$f":"IF('8組'!P33=\"\",\"\",'8組'!P33)","v":""},null,null,null,null,null,{"$f":"IF('8組'!V33=\"\",\"\",'8組'!V33)","v":""},{"$f":"IF('8組'!W33=\"\",\"\",'8組'!W33)","v":""},{"$f":"IF('8組'!X33=\"\",\"\",'8組'!X33)","v":""},{"$f":"IF('8組'!Y33=\"\",\"\",'8組'!Y33)","v":""},{"$f":"IF('8組'!Z33=\"\",\"\",'8組'!Z33)","v":""},null,null,null,null,null,{"$f":"IF('8組'!AF33=\"\",\"\",'8組'!AF33)","v":""},{"$f":"IF('8組'!AG33=\"\",\"\",'8組'!AG33)","v":""},{"$f":"IF('8組'!AH33=\"\",\"\",'8組'!AH33)","v":""},{"$f":"IF('8組'!AI33=\"\",\"\",'8組'!AI33)","v":""},{"$f":"IF('8組'!AJ33=\"\",\"\",'8組'!AJ33)","v":""}]
[null,null,null,null,10811,null,8,11,null,null,"",{"$f":"IF('8組'!L34=\"\",\"\",'8組'!L34)","v":""},{"$f":"IF('8組'!M34=\"\",\"\",'8組'!M34)","v":""},{"$f":"IF('8組'!N34=\"\",\"\",'8組'!N34)","v":""},{"$f":"IF('8組'!O34=\"\",\"\",'8組'!O34)","v":""},{"$f":"IF('8組'!P34=\"\",\"\",'8組'!P34)","v":""},null,null,null,null,null,{"$f":"IF('8組'!V34=\"\",\"\",'8組'!V34)","v":""},{"$f":"IF('8組'!W34=\"\",\"\",'8組'!W34)","v":""},{"$f":"IF('8組'!X34=\"\",\"\",'8組'!X34)","v":""},{"$f":"IF('8組'!Y34=\"\",\"\",'8組'!Y34)","v":""},{"$f":"IF('8組'!Z34=\"\",\"\",'8組'!Z34)","v":""},null,null,null,null,null,{"$f":"IF('8組'!AF34=\"\",\"\",'8組'!AF34)","v":""},{"$f":"IF('8組'!AG34=\"\",\"\",'8組'!AG34)","v":""},{"$f":"IF('8組'!AH34=\"\",\"\",'8組'!AH34)","v":""},{"$f":"IF('8組'!AI34=\"\",\"\",'8組'!AI34)","v":""},{"$f":"IF('8組'!AJ34=\"\",\"\",'8組'!AJ34)","v":""}]
[null,null,null,null,10812,null,8,12,null,null,"",{"$f":"IF('8組'!L35=\"\",\"\",'8組'!L35)","v":""},{"$f":"IF('8組'!M35=\"\",\"\",'8組'!M35)","v":""},{"$f":"IF('8組'!N35=\"\",\"\",'8組'!N35)","v":""},{"$f":"IF('8組'!O35=\"\",\"\",'8組'!O35)","v":""},{"$f":"IF('8組'!P35=\"\",\"\",'8組'!P35)","v":""},null,null,null,null,null,{"$f":"IF('8組'!V35=\"\",\"\",'8組'!V35)","v":""},{"$f":"IF('8組'!W35=\"\",\"\",'8組'!W35)","v":""},{"$f":"IF('8組'!X35=\"\",\"\",'8組'!X35)","v":""},{"$f":"IF('8組'!Y35=\"\",\"\",'8組'!Y35)","v":""},{"$f":"IF('8組'!Z35=\"\",\"\",'8組'!Z35)","v":""},null,null,null,null,null,{"$f":"IF('8組'!AF35=\"\",\"\",'8組'!AF35)","v":""},{"$f":"IF('8組'!AG35=\"\",\"\",'8組'!AG35)","v":""},{"$f":"IF('8組'!AH35=\"\",\"\",'8組'!AH35)","v":""},{"$f":"IF('8組'!AI35=\"\",\"\",'8組'!AI35)","v":""},{"$f":"IF('8組'!AJ35=\"\",\"\",'8組'!AJ35)","v":""}]
[null,null,null,null,10813,null,8,13,null,null,"",{"$f":"IF('8組'!L36=\"\",\"\",'8組'!L36)","v":""},{"$f":"IF('8組'!M36=\"\",\"\",'8組'!M36)","v":""},{"$f":"IF('8組'!N36=\"\",\"\",'8組'!N36)","v":""},{"$f":"IF('8組'!O36=\"\",\"\",'8組'!O36)","v":""},{"$f":"IF('8組'!P36=\"\",\"\",'8組'!P36)","v":""},null,null,null,null,null,{"$f":"IF('8組'!V36=\"\",\"\",'8組'!V36)","v":""},{"$f":"IF('8組'!W36=\"\",\"\",'8組'!W36)","v":""},{"$f":"IF('8組'!X36=\"\",\"\",'8組'!X36)","v":""},{"$f":"IF('8組'!Y36=\"\",\"\",'8組'!Y36)","v":""},{"$f":"IF('8組'!Z36=\"\",\"\",'8組'!Z36)","v":""},null,null,null,null,null,{"$f":"IF('8組'!AF36=\"\",\"\",'8組'!AF36)","v":""},{"$f":"IF('8組'!AG36=\"\",\"\",'8組'!AG36)","v":""},{"$f":"IF('8組'!AH36=\"\",\"\",'8組'!AH36)","v":""},{"$f":"IF('8組'!AI36=\"\",\"\",'8組'!AI36)","v":""},{"$f":"IF('8組'!AJ36=\"\",\"\",'8組'!AJ36)","v":""}]
[null,null,null,null,10814,null,8,14,null,null,"",{"$f":"IF('8組'!L37=\"\",\"\",'8組'!L37)","v":""},{"$f":"IF('8組'!M37=\"\",\"\",'8組'!M37)","v":""},{"$f":"IF('8組'!N37=\"\",\"\",'8組'!N37)","v":""},{"$f":"IF('8組'!O37=\"\",\"\",'8組'!O37)","v":""},{"$f":"IF('8組'!P37=\"\",\"\",'8組'!P37)","v":""},null,null,null,null,null,{"$f":"IF('8組'!V37=\"\",\"\",'8組'!V37)","v":""},{"$f":"IF('8組'!W37=\"\",\"\",'8組'!W37)","v":""},{"$f":"IF('8組'!X37=\"\",\"\",'8組'!X37)","v":""},{"$f":"IF('8組'!Y37=\"\",\"\",'8組'!Y37)","v":""},{"$f":"IF('8組'!Z37=\"\",\"\",'8組'!Z37)","v":""},null,null,null,null,null,{"$f":"IF('8組'!AF37=\"\",\"\",'8組'!AF37)","v":""},{"$f":"IF('8組'!AG37=\"\",\"\",'8組'!AG37)","v":""},{"$f":"IF('8組'!AH37=\"\",\"\",'8組'!AH37)","v":""},{"$f":"IF('8組'!AI37=\"\",\"\",'8組'!AI37)","v":""},{"$f":"IF('8組'!AJ37=\"\",\"\",'8組'!AJ37)","v":""}]
[null,null,null,null,10815,null,8,15,null,null,"",{"$f":"IF('8組'!L38=\"\",\"\",'8組'!L38)","v":""},{"$f":"IF('8組'!M38=\"\",\"\",'8組'!M38)","v":""},{"$f":"IF('8組'!N38=\"\",\"\",'8組'!N38)","v":""},{"$f":"IF('8組'!O38=\"\",\"\",'8組'!O38)","v":""},{"$f":"IF('8組'!P38=\"\",\"\",'8組'!P38)","v":""},null,null,null,null,null,{"$f":"IF('8組'!V38=\"\",\"\",'8組'!V38)","v":""},{"$f":"IF('8組'!W38=\"\",\"\",'8組'!W38)","v":""},{"$f":"IF('8組'!X38=\"\",\"\",'8組'!X38)","v":""},{"$f":"IF('8組'!Y38=\"\",\"\",'8組'!Y38)","v":""},{"$f":"IF('8組'!Z38=\"\",\"\",'8組'!Z38)","v":""},null,null,null,null,null,{"$f":"IF('8組'!AF38=\"\",\"\",'8組'!AF38)","v":""},{"$f":"IF('8組'!AG38=\"\",\"\",'8組'!AG38)","v":""},{"$f":"IF('8組'!AH38=\"\",\"\",'8組'!AH38)","v":""},{"$f":"IF('8組'!AI38=\"\",\"\",'8組'!AI38)","v":""},{"$f":"IF('8組'!AJ38=\"\",\"\",'8組'!AJ38)","v":""}]
[null,null,null,null,10816,null,8,16,null,null,"",{"$f":"IF('8組'!L39=\"\",\"\",'8組'!L39)","v":""},{"$f":"IF('8組'!M39=\"\",\"\",'8組'!M39)","v":""},{"$f":"IF('8組'!N39=\"\",\"\",'8組'!N39)","v":""},{"$f":"IF('8組'!O39=\"\",\"\",'8組'!O39)","v":""},{"$f":"IF('8組'!P39=\"\",\"\",'8組'!P39)","v":""},null,null,null,null,null,{"$f":"IF('8組'!V39=\"\",\"\",'8組'!V39)","v":""},{"$f":"IF('8組'!W39=\"\",\"\",'8組'!W39)","v":""},{"$f":"IF('8組'!X39=\"\",\"\",'8組'!X39)","v":""},{"$f":"IF('8組'!Y39=\"\",\"\",'8組'!Y39)","v":""},{"$f":"IF('8組'!Z39=\"\",\"\",'8組'!Z39)","v":""},null,null,null,null,null,{"$f":"IF('8組'!AF39=\"\",\"\",'8組'!AF39)","v":""},{"$f":"IF('8組'!AG39=\"\",\"\",'8組'!AG39)","v":""},{"$f":"IF('8組'!AH39=\"\",\"\",'8組'!AH39)","v":""},{"$f":"IF('8組'!AI39=\"\",\"\",'8組'!AI39)","v":""},{"$f":"IF('8組'!AJ39=\"\",\"\",'8組'!AJ39)","v":""}]
[null,null,null,null,10817,null,8,17,null,null,"",{"$f":"IF('8組'!L40=\"\",\"\",'8組'!L40)","v":""},{"$f":"IF('8組'!M40=\"\",\"\",'8組'!M40)","v":""},{"$f":"IF('8組'!N40=\"\",\"\",'8組'!N40)","v":""},{"$f":"IF('8組'!O40=\"\",\"\",'8組'!O40)","v":""},{"$f":"IF('8組'!P40=\"\",\"\",'8組'!P40)","v":""},null,null,null,null,null,{"$f":"IF('8組'!V40=\"\",\"\",'8組'!V40)","v":""},{"$f":"IF('8組'!W40=\"\",\"\",'8組'!W40)","v":""},{"$f":"IF('8組'!X40=\"\",\"\",'8組'!X40)","v":""},{"$f":"IF('8組'!Y40=\"\",\"\",'8組'!Y40)","v":""},{"$f":"IF('8組'!Z40=\"\",\"\",'8組'!Z40)","v":""},null,null,null,null,null,{"$f":"IF('8組'!AF40=\"\",\"\",'8組'!AF40)","v":""},{"$f":"IF('8組'!AG40=\"\",\"\",'8組'!AG40)","v":""},{"$f":"IF('8組'!AH40=\"\",\"\",'8組'!AH40)","v":""},{"$f":"IF('8組'!AI40=\"\",\"\",'8組'!AI40)","v":""},{"$f":"IF('8組'!AJ40=\"\",\"\",'8組'!AJ40)","v":""}]
[null,null,null,null,10818,null,8,18,null,null,"",{"$f":"IF('8組'!L41=\"\",\"\",'8組'!L41)","v":""},{"$f":"IF('8組'!M41=\"\",\"\",'8組'!M41)","v":""},{"$f":"IF('8組'!N41=\"\",\"\",'8組'!N41)","v":""},{"$f":"IF('8組'!O41=\"\",\"\",'8組'!O41)","v":""},{"$f":"IF('8組'!P41=\"\",\"\",'8組'!P41)","v":""},null,null,null,null,null,{"$f":"IF('8組'!V41=\"\",\"\",'8組'!V41)","v":""},{"$f":"IF('8組'!W41=\"\",\"\",'8組'!W41)","v":""},{"$f":"IF('8組'!X41=\"\",\"\",'8組'!X41)","v":""},{"$f":"IF('8組'!Y41=\"\",\"\",'8組'!Y41)","v":""},{"$f":"IF('8組'!Z41=\"\",\"\",'8組'!Z41)","v":""},null,null,null,null,null,{"$f":"IF('8組'!AF41=\"\",\"\",'8組'!AF41)","v":""},{"$f":"IF('8組'!AG41=\"\",\"\",'8組'!AG41)","v":""},{"$f":"IF('8組'!AH41=\"\",\"\",'8組'!AH41)","v":""},{"$f":"IF('8組'!AI41=\"\",\"\",'8組'!AI41)","v":""},{"$f":"IF('8組'!AJ41=\"\",\"\",'8組'!AJ41)","v":""}]
[null,null,null,null,10819,null,8,19,null,null,"",{"$f":"IF('8組'!L42=\"\",\"\",'8組'!L42)","v":""},{"$f":"IF('8組'!M42=\"\",\"\",'8組'!M42)","v":""},{"$f":"IF('8組'!N42=\"\",\"\",'8組'!N42)","v":""},{"$f":"IF('8組'!O42=\"\",\"\",'8組'!O42)","v":""},{"$f":"IF('8組'!P42=\"\",\"\",'8組'!P42)","v":""},null,null,null,null,null,{"$f":"IF('8組'!V42=\"\",\"\",'8組'!V42)","v":""},{"$f":"IF('8組'!W42=\"\",\"\",'8組'!W42)","v":""},{"$f":"IF('8組'!X42=\"\",\"\",'8組'!X42)","v":""},{"$f":"IF('8組'!Y42=\"\",\"\",'8組'!Y42)","v":""},{"$f":"IF('8組'!Z42=\"\",\"\",'8組'!Z42)","v":""},null,null,null,null,null,{"$f":"IF('8組'!AF42=\"\",\"\",'8組'!AF42)","v":""},{"$f":"IF('8組'!AG42=\"\",\"\",'8組'!AG42)","v":""},{"$f":"IF('8組'!AH42=\"\",\"\",'8組'!AH42)","v":""},{"$f":"IF('8組'!AI42=\"\",\"\",'8組'!AI42)","v":""},{"$f":"IF('8組'!AJ42=\"\",\"\",'8組'!AJ42)","v":""}]
[null,null,null,null,10820,null,8,20,null,null,"",{"$f":"IF('8組'!L43=\"\",\"\",'8組'!L43)","v":""},{"$f":"IF('8組'!M43=\"\",\"\",'8組'!M43)","v":""},{"$f":"IF('8組'!N43=\"\",\"\",'8組'!N43)","v":""},{"$f":"IF('8組'!O43=\"\",\"\",'8組'!O43)","v":""},{"$f":"IF('8組'!P43=\"\",\"\",'8組'!P43)","v":""},null,null,null,null,null,{"$f":"IF('8組'!V43=\"\",\"\",'8組'!V43)","v":""},{"$f":"IF('8組'!W43=\"\",\"\",'8組'!W43)","v":""},{"$f":"IF('8組'!X43=\"\",\"\",'8組'!X43)","v":""},{"$f":"IF('8組'!Y43=\"\",\"\",'8組'!Y43)","v":""},{"$f":"IF('8組'!Z43=\"\",\"\",'8組'!Z43)","v":""},null,null,null,null,null,{"$f":"IF('8組'!AF43=\"\",\"\",'8組'!AF43)","v":""},{"$f":"IF('8組'!AG43=\"\",\"\",'8組'!AG43)","v":""},{"$f":"IF('8組'!AH43=\"\",\"\",'8組'!AH43)","v":""},{"$f":"IF('8組'!AI43=\"\",\"\",'8組'!AI43)","v":""},{"$f":"IF('8組'!AJ43=\"\",\"\",'8組'!AJ43)","v":""}]
[null,null,null,null,10821,null,8,21,null,null,"",{"$f":"IF('8組'!L44=\"\",\"\",'8組'!L44)","v":""},{"$f":"IF('8組'!M44=\"\",\"\",'8組'!M44)","v":""},{"$f":"IF('8組'!N44=\"\",\"\",'8組'!N44)","v":""},{"$f":"IF('8組'!O44=\"\",\"\",'8組'!O44)","v":""},{"$f":"IF('8組'!P44=\"\",\"\",'8組'!P44)","v":""},null,null,null,null,null,{"$f":"IF('8組'!V44=\"\",\"\",'8組'!V44)","v":""},{"$f":"IF('8組'!W44=\"\",\"\",'8組'!W44)","v":""},{"$f":"IF('8組'!X44=\"\",\"\",'8組'!X44)","v":""},{"$f":"IF('8組'!Y44=\"\",\"\",'8組'!Y44)","v":""},{"$f":"IF('8組'!Z44=\"\",\"\",'8組'!Z44)","v":""},null,null,null,null,null,{"$f":"IF('8組'!AF44=\"\",\"\",'8組'!AF44)","v":""},{"$f":"IF('8組'!AG44=\"\",\"\",'8組'!AG44)","v":""},{"$f":"IF('8組'!AH44=\"\",\"\",'8組'!AH44)","v":""},{"$f":"IF('8組'!AI44=\"\",\"\",'8組'!AI44)","v":""},{"$f":"IF('8組'!AJ44=\"\",\"\",'8組'!AJ44)","v":""}]
[null,null,null,null,10822,null,8,22,null,null,"",{"$f":"IF('8組'!L45=\"\",\"\",'8組'!L45)","v":""},{"$f":"IF('8組'!M45=\"\",\"\",'8組'!M45)","v":""},{"$f":"IF('8組'!N45=\"\",\"\",'8組'!N45)","v":""},{"$f":"IF('8組'!O45=\"\",\"\",'8組'!O45)","v":""},{"$f":"IF('8組'!P45=\"\",\"\",'8組'!P45)","v":""},null,null,null,null,null,{"$f":"IF('8組'!V45=\"\",\"\",'8組'!V45)","v":""},{"$f":"IF('8組'!W45=\"\",\"\",'8組'!W45)","v":""},{"$f":"IF('8組'!X45=\"\",\"\",'8組'!X45)","v":""},{"$f":"IF('8組'!Y45=\"\",\"\",'8組'!Y45)","v":""},{"$f":"IF('8組'!Z45=\"\",\"\",'8組'!Z45)","v":""},null,null,null,null,null,{"$f":"IF('8組'!AF45=\"\",\"\",'8組'!AF45)","v":""},{"$f":"IF('8組'!AG45=\"\",\"\",'8組'!AG45)","v":""},{"$f":"IF('8組'!AH45=\"\",\"\",'8組'!AH45)","v":""},{"$f":"IF('8組'!AI45=\"\",\"\",'8組'!AI45)","v":""},{"$f":"IF('8組'!AJ45=\"\",\"\",'8組'!AJ45)","v":""}]
[null,null,null,null,10823,null,8,23,null,null,"",{"$f":"IF('8組'!L46=\"\",\"\",'8組'!L46)","v":""},{"$f":"IF('8組'!M46=\"\",\"\",'8組'!M46)","v":""},{"$f":"IF('8組'!N46=\"\",\"\",'8組'!N46)","v":""},{"$f":"IF('8組'!O46=\"\",\"\",'8組'!O46)","v":""},{"$f":"IF('8組'!P46=\"\",\"\",'8組'!P46)","v":""},null,null,null,null,null,{"$f":"IF('8組'!V46=\"\",\"\",'8組'!V46)","v":""},{"$f":"IF('8組'!W46=\"\",\"\",'8組'!W46)","v":""},{"$f":"IF('8組'!X46=\"\",\"\",'8組'!X46)","v":""},{"$f":"IF('8組'!Y46=\"\",\"\",'8組'!Y46)","v":""},{"$f":"IF('8組'!Z46=\"\",\"\",'8組'!Z46)","v":""},null,null,null,null,null,{"$f":"IF('8組'!AF46=\"\",\"\",'8組'!AF46)","v":""},{"$f":"IF('8組'!AG46=\"\",\"\",'8組'!AG46)","v":""},{"$f":"IF('8組'!AH46=\"\",\"\",'8組'!AH46)","v":""},{"$f":"IF('8組'!AI46=\"\",\"\",'8組'!AI46)","v":""},{"$f":"IF('8組'!AJ46=\"\",\"\",'8組'!AJ46)","v":""}]
[null,null,null,null,10824,null,8,24,null,null,"",{"$f":"IF('8組'!L47=\"\",\"\",'8組'!L47)","v":""},{"$f":"IF('8組'!M47=\"\",\"\",'8組'!M47)","v":""},{"$f":"IF('8組'!N47=\"\",\"\",'8組'!N47)","v":""},{"$f":"IF('8組'!O47=\"\",\"\",'8組'!O47)","v":""},{"$f":"IF('8組'!P47=\"\",\"\",'8組'!P47)","v":""},null,null,null,null,null,{"$f":"IF('8組'!V47=\"\",\"\",'8組'!V47)","v":""},{"$f":"IF('8組'!W47=\"\",\"\",'8組'!W47)","v":""},{"$f":"IF('8組'!X47=\"\",\"\",'8組'!X47)","v":""},{"$f":"IF('8組'!Y47=\"\",\"\",'8組'!Y47)","v":""},{"$f":"IF('8組'!Z47=\"\",\"\",'8組'!Z47)","v":""},null,null,null,null,null,{"$f":"IF('8組'!AF47=\"\",\"\",'8組'!AF47)","v":""},{"$f":"IF('8組'!AG47=\"\",\"\",'8組'!AG47)","v":""},{"$f":"IF('8組'!AH47=\"\",\"\",'8組'!AH47)","v":""},{"$f":"IF('8組'!AI47=\"\",\"\",'8組'!AI47)","v":""},{"$f":"IF('8組'!AJ47=\"\",\"\",'8組'!AJ47)","v":""}]
[null,null,null,null,10825,null,8,25,null,null,"",{"$f":"IF('8組'!L48=\"\",\"\",'8組'!L48)","v":""},{"$f":"IF('8組'!M48=\"\",\"\",'8組'!M48)","v":""},{"$f":"IF('8組'!N48=\"\",\"\",'8組'!N48)","v":""},{"$f":"IF('8組'!O48=\"\",\"\",'8組'!O48)","v":""},{"$f":"IF('8組'!P48=\"\",\"\",'8組'!P48)","v":""},null,null,null,null,null,{"$f":"IF('8組'!V48=\"\",\"\",'8組'!V48)","v":""},{"$f":"IF('8組'!W48=\"\",\"\",'8組'!W48)","v":""},{"$f":"IF('8組'!X48=\"\",\"\",'8組'!X48)","v":""},{"$f":"IF('8組'!Y48=\"\",\"\",'8組'!Y48)","v":""},{"$f":"IF('8組'!Z48=\"\",\"\",'8組'!Z48)","v":""},null,null,null,null,null,{"$f":"IF('8組'!AF48=\"\",\"\",'8組'!AF48)","v":""},{"$f":"IF('8組'!AG48=\"\",\"\",'8組'!AG48)","v":""},{"$f":"IF('8組'!AH48=\"\",\"\",'8組'!AH48)","v":""},{"$f":"IF('8組'!AI48=\"\",\"\",'8組'!AI48)","v":""},{"$f":"IF('8組'!AJ48=\"\",\"\",'8組'!AJ48)","v":""}]
[null,null,null,null,10826,null,8,26,null,null,"",{"$f":"IF('8組'!L49=\"\",\"\",'8組'!L49)","v":""},{"$f":"IF('8組'!M49=\"\",\"\",'8組'!M49)","v":""},{"$f":"IF('8組'!N49=\"\",\"\",'8組'!N49)","v":""},{"$f":"IF('8組'!O49=\"\",\"\",'8組'!O49)","v":""},{"$f":"IF('8組'!P49=\"\",\"\",'8組'!P49)","v":""},null,null,null,null,null,{"$f":"IF('8組'!V49=\"\",\"\",'8組'!V49)","v":""},{"$f":"IF('8組'!W49=\"\",\"\",'8組'!W49)","v":""},{"$f":"IF('8組'!X49=\"\",\"\",'8組'!X49)","v":""},{"$f":"IF('8組'!Y49=\"\",\"\",'8組'!Y49)","v":""},{"$f":"IF('8組'!Z49=\"\",\"\",'8組'!Z49)","v":""},null,null,null,null,null,{"$f":"IF('8組'!AF49=\"\",\"\",'8組'!AF49)","v":""},{"$f":"IF('8組'!AG49=\"\",\"\",'8組'!AG49)","v":""},{"$f":"IF('8組'!AH49=\"\",\"\",'8組'!AH49)","v":""},{"$f":"IF('8組'!AI49=\"\",\"\",'8組'!AI49)","v":""},{"$f":"IF('8組'!AJ49=\"\",\"\",'8組'!AJ49)","v":""}]
[null,null,null,null,10827,null,8,27,null,null,"",{"$f":"IF('8組'!L50=\"\",\"\",'8組'!L50)","v":""},{"$f":"IF('8組'!M50=\"\",\"\",'8組'!M50)","v":""},{"$f":"IF('8組'!N50=\"\",\"\",'8組'!N50)","v":""},{"$f":"IF('8組'!O50=\"\",\"\",'8組'!O50)","v":""},{"$f":"IF('8組'!P50=\"\",\"\",'8組'!P50)","v":""},null,null,null,null,null,{"$f":"IF('8組'!V50=\"\",\"\",'8組'!V50)","v":""},{"$f":"IF('8組'!W50=\"\",\"\",'8組'!W50)","v":""},{"$f":"IF('8組'!X50=\"\",\"\",'8組'!X50)","v":""},{"$f":"IF('8組'!Y50=\"\",\"\",'8組'!Y50)","v":""},{"$f":"IF('8組'!Z50=\"\",\"\",'8組'!Z50)","v":""},null,null,null,null,null,{"$f":"IF('8組'!AF50=\"\",\"\",'8組'!AF50)","v":""},{"$f":"IF('8組'!AG50=\"\",\"\",'8組'!AG50)","v":""},{"$f":"IF('8組'!AH50=\"\",\"\",'8組'!AH50)","v":""},{"$f":"IF('8組'!AI50=\"\",\"\",'8組'!AI50)","v":""},{"$f":"IF('8組'!AJ50=\"\",\"\",'8組'!AJ50)","v":""}]
[null,null,null,null,10828,null,8,28,null,null,"",{"$f":"IF('8組'!L51=\"\",\"\",'8組'!L51)","v":""},{"$f":"IF('8組'!M51=\"\",\"\",'8組'!M51)","v":""},{"$f":"IF('8組'!N51=\"\",\"\",'8組'!N51)","v":""},{"$f":"IF('8組'!O51=\"\",\"\",'8組'!O51)","v":""},{"$f":"IF('8組'!P51=\"\",\"\",'8組'!P51)","v":""},null,null,null,null,null,{"$f":"IF('8組'!V51=\"\",\"\",'8組'!V51)","v":""},{"$f":"IF('8組'!W51=\"\",\"\",'8組'!W51)","v":""},{"$f":"IF('8組'!X51=\"\",\"\",'8組'!X51)","v":""},{"$f":"IF('8組'!Y51=\"\",\"\",'8組'!Y51)","v":""},{"$f":"IF('8組'!Z51=\"\",\"\",'8組'!Z51)","v":""},null,null,null,null,null,{"$f":"IF('8組'!AF51=\"\",\"\",'8組'!AF51)","v":""},{"$f":"IF('8組'!AG51=\"\",\"\",'8組'!AG51)","v":""},{"$f":"IF('8組'!AH51=\"\",\"\",'8組'!AH51)","v":""},{"$f":"IF('8組'!AI51=\"\",\"\",'8組'!AI51)","v":""},{"$f":"IF('8組'!AJ51=\"\",\"\",'8組'!AJ51)","v":""}]
[null,null,null,null,10829,null,8,29,null,null,"",{"$f":"IF('8組'!L52=\"\",\"\",'8組'!L52)","v":""},{"$f":"IF('8組'!M52=\"\",\"\",'8組'!M52)","v":""},{"$f":"IF('8組'!N52=\"\",\"\",'8組'!N52)","v":""},{"$f":"IF('8組'!O52=\"\",\"\",'8組'!O52)","v":""},{"$f":"IF('8組'!P52=\"\",\"\",'8組'!P52)","v":""},null,null,null,null,null,{"$f":"IF('8組'!V52=\"\",\"\",'8組'!V52)","v":""},{"$f":"IF('8組'!W52=\"\",\"\",'8組'!W52)","v":""},{"$f":"IF('8組'!X52=\"\",\"\",'8組'!X52)","v":""},{"$f":"IF('8組'!Y52=\"\",\"\",'8組'!Y52)","v":""},{"$f":"IF('8組'!Z52=\"\",\"\",'8組'!Z52)","v":""},null,null,null,null,null,{"$f":"IF('8組'!AF52=\"\",\"\",'8組'!AF52)","v":""},{"$f":"IF('8組'!AG52=\"\",\"\",'8組'!AG52)","v":""},{"$f":"IF('8組'!AH52=\"\",\"\",'8組'!AH52)","v":""},{"$f":"IF('8組'!AI52=\"\",\"\",'8組'!AI52)","v":""},{"$f":"IF('8組'!AJ52=\"\",\"\",'8組'!AJ52)","v":""}]
[null,null,null,null,10830,null,8,30,null,null,"",{"$f":"IF('8組'!L53=\"\",\"\",'8組'!L53)","v":""},{"$f":"IF('8組'!M53=\"\",\"\",'8組'!M53)","v":""},{"$f":"IF('8組'!N53=\"\",\"\",'8組'!N53)","v":""},{"$f":"IF('8組'!O53=\"\",\"\",'8組'!O53)","v":""},{"$f":"IF('8組'!P53=\"\",\"\",'8組'!P53)","v":""},null,null,null,null,null,{"$f":"IF('8組'!V53=\"\",\"\",'8組'!V53)","v":""},{"$f":"IF('8組'!W53=\"\",\"\",'8組'!W53)","v":""},{"$f":"IF('8組'!X53=\"\",\"\",'8組'!X53)","v":""},{"$f":"IF('8組'!Y53=\"\",\"\",'8組'!Y53)","v":""},{"$f":"IF('8組'!Z53=\"\",\"\",'8組'!Z53)","v":""},null,null,null,null,null,{"$f":"IF('8組'!AF53=\"\",\"\",'8組'!AF53)","v":""},{"$f":"IF('8組'!AG53=\"\",\"\",'8組'!AG53)","v":""},{"$f":"IF('8組'!AH53=\"\",\"\",'8組'!AH53)","v":""},{"$f":"IF('8組'!AI53=\"\",\"\",'8組'!AI53)","v":""},{"$f":"IF('8組'!AJ53=\"\",\"\",'8組'!AJ53)","v":""}]
[null,null,null,null,10831,null,8,31,null,null,"",{"$f":"IF('8組'!L54=\"\",\"\",'8組'!L54)","v":""},{"$f":"IF('8組'!M54=\"\",\"\",'8組'!M54)","v":""},{"$f":"IF('8組'!N54=\"\",\"\",'8組'!N54)","v":""},{"$f":"IF('8組'!O54=\"\",\"\",'8組'!O54)","v":""},{"$f":"IF('8組'!P54=\"\",\"\",'8組'!P54)","v":""},null,null,null,null,null,{"$f":"IF('8組'!V54=\"\",\"\",'8組'!V54)","v":""},{"$f":"IF('8組'!W54=\"\",\"\",'8組'!W54)","v":""},{"$f":"IF('8組'!X54=\"\",\"\",'8組'!X54)","v":""},{"$f":"IF('8組'!Y54=\"\",\"\",'8組'!Y54)","v":""},{"$f":"IF('8組'!Z54=\"\",\"\",'8組'!Z54)","v":""},null,null,null,null,null,{"$f":"IF('8組'!AF54=\"\",\"\",'8組'!AF54)","v":""},{"$f":"IF('8組'!AG54=\"\",\"\",'8組'!AG54)","v":""},{"$f":"IF('8組'!AH54=\"\",\"\",'8組'!AH54)","v":""},{"$f":"IF('8組'!AI54=\"\",\"\",'8組'!AI54)","v":""},{"$f":"IF('8組'!AJ54=\"\",\"\",'8組'!AJ54)","v":""}]
[null,null,null,null,10832,null,8,32,null,null,"",{"$f":"IF('8組'!L55=\"\",\"\",'8組'!L55)","v":""},{"$f":"IF('8組'!M55=\"\",\"\",'8組'!M55)","v":""},{"$f":"IF('8組'!N55=\"\",\"\",'8組'!N55)","v":""},{"$f":"IF('8組'!O55=\"\",\"\",'8組'!O55)","v":""},{"$f":"IF('8組'!P55=\"\",\"\",'8組'!P55)","v":""},null,null,null,null,null,{"$f":"IF('8組'!V55=\"\",\"\",'8組'!V55)","v":""},{"$f":"IF('8組'!W55=\"\",\"\",'8組'!W55)","v":""},{"$f":"IF('8組'!X55=\"\",\"\",'8組'!X55)","v":""},{"$f":"IF('8組'!Y55=\"\",\"\",'8組'!Y55)","v":""},{"$f":"IF('8組'!Z55=\"\",\"\",'8組'!Z55)","v":""},null,null,null,null,null,{"$f":"IF('8組'!AF55=\"\",\"\",'8組'!AF55)","v":""},{"$f":"IF('8組'!AG55=\"\",\"\",'8組'!AG55)","v":""},{"$f":"IF('8組'!AH55=\"\",\"\",'8組'!AH55)","v":""},{"$f":"IF('8組'!AI55=\"\",\"\",'8組'!AI55)","v":""},{"$f":"IF('8組'!AJ55=\"\",\"\",'8組'!AJ55)","v":""}]
[null,null,null,null,10833,null,8,33,null,null,"",{"$f":"IF('8組'!L56=\"\",\"\",'8組'!L56)","v":""},{"$f":"IF('8組'!M56=\"\",\"\",'8組'!M56)","v":""},{"$f":"IF('8組'!N56=\"\",\"\",'8組'!N56)","v":""},{"$f":"IF('8組'!O56=\"\",\"\",'8組'!O56)","v":""},{"$f":"IF('8組'!P56=\"\",\"\",'8組'!P56)","v":""},null,null,null,null,null,{"$f":"IF('8組'!V56=\"\",\"\",'8組'!V56)","v":""},{"$f":"IF('8組'!W56=\"\",\"\",'8組'!W56)","v":""},{"$f":"IF('8組'!X56=\"\",\"\",'8組'!X56)","v":""},{"$f":"IF('8組'!Y56=\"\",\"\",'8組'!Y56)","v":""},{"$f":"IF('8組'!Z56=\"\",\"\",'8組'!Z56)","v":""},null,null,null,null,null,{"$f":"IF('8組'!AF56=\"\",\"\",'8組'!AF56)","v":""},{"$f":"IF('8組'!AG56=\"\",\"\",'8組'!AG56)","v":""},{"$f":"IF('8組'!AH56=\"\",\"\",'8組'!AH56)","v":""},{"$f":"IF('8組'!AI56=\"\",\"\",'8組'!AI56)","v":""},{"$f":"IF('8組'!AJ56=\"\",\"\",'8組'!AJ56)","v":""}]
[null,null,null,null,10834,null,8,34,null,null,"",{"$f":"IF('8組'!L57=\"\",\"\",'8組'!L57)","v":""},{"$f":"IF('8組'!M57=\"\",\"\",'8組'!M57)","v":""},{"$f":"IF('8組'!N57=\"\",\"\",'8組'!N57)","v":""},{"$f":"IF('8組'!O57=\"\",\"\",'8組'!O57)","v":""},{"$f":"IF('8組'!P57=\"\",\"\",'8組'!P57)","v":""},null,null,null,null,null,{"$f":"IF('8組'!V57=\"\",\"\",'8組'!V57)","v":""},{"$f":"IF('8組'!W57=\"\",\"\",'8組'!W57)","v":""},{"$f":"IF('8組'!X57=\"\",\"\",'8組'!X57)","v":""},{"$f":"IF('8組'!Y57=\"\",\"\",'8組'!Y57)","v":""},{"$f":"IF('8組'!Z57=\"\",\"\",'8組'!Z57)","v":""},null,null,null,null,null,{"$f":"IF('8組'!AF57=\"\",\"\",'8組'!AF57)","v":""},{"$f":"IF('8組'!AG57=\"\",\"\",'8組'!AG57)","v":""},{"$f":"IF('8組'!AH57=\"\",\"\",'8組'!AH57)","v":""},{"$f":"IF('8組'!AI57=\"\",\"\",'8組'!AI57)","v":""},{"$f":"IF('8組'!AJ57=\"\",\"\",'8組'!AJ57)","v":""}]
[null,null,null,null,{"$f":"$H$8*10000+G408*100+H408","v":10835},null,8,35,null,null,"",{"$f":"IF('8組'!L58=\"\",\"\",'8組'!L58)","v":""},{"$f":"IF('8組'!M58=\"\",\"\",'8組'!M58)","v":""},{"$f":"IF('8組'!N58=\"\",\"\",'8組'!N58)","v":""},{"$f":"IF('8組'!O58=\"\",\"\",'8組'!O58)","v":""},{"$f":"IF('8組'!P58=\"\",\"\",'8組'!P58)","v":""},null,null,null,null,null,{"$f":"IF('8組'!V58=\"\",\"\",'8組'!V58)","v":""},{"$f":"IF('8組'!W58=\"\",\"\",'8組'!W58)","v":""},{"$f":"IF('8組'!X58=\"\",\"\",'8組'!X58)","v":""},{"$f":"IF('8組'!Y58=\"\",\"\",'8組'!Y58)","v":""},{"$f":"IF('8組'!Z58=\"\",\"\",'8組'!Z58)","v":""},null,null,null,null,null,{"$f":"IF('8組'!AF58=\"\",\"\",'8組'!AF58)","v":""},{"$f":"IF('8組'!AG58=\"\",\"\",'8組'!AG58)","v":""},{"$f":"IF('8組'!AH58=\"\",\"\",'8組'!AH58)","v":""},{"$f":"IF('8組'!AI58=\"\",\"\",'8組'!AI58)","v":""},{"$f":"IF('8組'!AJ58=\"\",\"\",'8組'!AJ58)","v":""}]
[null,null,null,null,10836,null,8,36,null,null,{"$f":"IF(J409=1,\"男\",IF(J409=2,\"女\",\"\"))","v":""},{"$f":"IF('8組'!L59=\"\",\"\",'8組'!L59)","v":""},{"$f":"IF('8組'!M59=\"\",\"\",'8組'!M59)","v":""},{"$f":"IF('8組'!N59=\"\",\"\",'8組'!N59)","v":""},{"$f":"IF('8組'!O59=\"\",\"\",'8組'!O59)","v":""},{"$f":"IF('8組'!P59=\"\",\"\",'8組'!P59)","v":""},null,null,null,null,null,{"$f":"IF('8組'!V59=\"\",\"\",'8組'!V59)","v":""},{"$f":"IF('8組'!W59=\"\",\"\",'8組'!W59)","v":""},{"$f":"IF('8組'!X59=\"\",\"\",'8組'!X59)","v":""},{"$f":"IF('8組'!Y59=\"\",\"\",'8組'!Y59)","v":""},{"$f":"IF('8組'!Z59=\"\",\"\",'8組'!Z59)","v":""},null,null,null,null,null,{"$f":"IF('8組'!AF59=\"\",\"\",'8組'!AF59)","v":""},{"$f":"IF('8組'!AG59=\"\",\"\",'8組'!AG59)","v":""},{"$f":"IF('8組'!AH59=\"\",\"\",'8組'!AH59)","v":""},{"$f":"IF('8組'!AI59=\"\",\"\",'8組'!AI59)","v":""},{"$f":"IF('8組'!AJ59=\"\",\"\",'8組'!AJ59)","v":""}]
[null,null,null,null,10837,null,{"$f":"IF(H409<50,G409,G409+1)","v":8},{"$f":"IF(G410<>G409,1,H409+1)","v":37},null,null,"",{"$f":"IF('8組'!L60=\"\",\"\",'8組'!L60)","v":""},{"$f":"IF('8組'!M60=\"\",\"\",'8組'!M60)","v":""},{"$f":"IF('8組'!N60=\"\",\"\",'8組'!N60)","v":""},{"$f":"IF('8組'!O60=\"\",\"\",'8組'!O60)","v":""},{"$f":"IF('8組'!P60=\"\",\"\",'8組'!P60)","v":""},null,null,null,null,null,{"$f":"IF('8組'!V60=\"\",\"\",'8組'!V60)","v":""},{"$f":"IF('8組'!W60=\"\",\"\",'8組'!W60)","v":""},{"$f":"IF('8組'!X60=\"\",\"\",'8組'!X60)","v":""},{"$f":"IF('8組'!Y60=\"\",\"\",'8組'!Y60)","v":""},{"$f":"IF('8組'!Z60=\"\",\"\",'8組'!Z60)","v":""},null,null,null,null,null,{"$f":"IF('8組'!AF60=\"\",\"\",'8組'!AF60)","v":""},{"$f":"IF('8組'!AG60=\"\",\"\",'8組'!AG60)","v":""},{"$f":"IF('8組'!AH60=\"\",\"\",'8組'!AH60)","v":""},{"$f":"IF('8組'!AI60=\"\",\"\",'8組'!AI60)","v":""},{"$f":"IF('8組'!AJ60=\"\",\"\",'8組'!AJ60)","v":""}]
[null,null,null,null,10838,null,8,38,null,null,"",{"$f":"IF('8組'!L61=\"\",\"\",'8組'!L61)","v":""},{"$f":"IF('8組'!M61=\"\",\"\",'8組'!M61)","v":""},{"$f":"IF('8組'!N61=\"\",\"\",'8組'!N61)","v":""},{"$f":"IF('8組'!O61=\"\",\"\",'8組'!O61)","v":""},{"$f":"IF('8組'!P61=\"\",\"\",'8組'!P61)","v":""},null,null,null,null,null,{"$f":"IF('8組'!V61=\"\",\"\",'8組'!V61)","v":""},{"$f":"IF('8組'!W61=\"\",\"\",'8組'!W61)","v":""},{"$f":"IF('8組'!X61=\"\",\"\",'8組'!X61)","v":""},{"$f":"IF('8組'!Y61=\"\",\"\",'8組'!Y61)","v":""},{"$f":"IF('8組'!Z61=\"\",\"\",'8組'!Z61)","v":""},null,null,null,null,null,{"$f":"IF('8組'!AF61=\"\",\"\",'8組'!AF61)","v":""},{"$f":"IF('8組'!AG61=\"\",\"\",'8組'!AG61)","v":""},{"$f":"IF('8組'!AH61=\"\",\"\",'8組'!AH61)","v":""},{"$f":"IF('8組'!AI61=\"\",\"\",'8組'!AI61)","v":""},{"$f":"IF('8組'!AJ61=\"\",\"\",'8組'!AJ61)","v":""}]
[null,null,null,null,10839,null,8,39,null,null,"",{"$f":"IF('8組'!L62=\"\",\"\",'8組'!L62)","v":""},{"$f":"IF('8組'!M62=\"\",\"\",'8組'!M62)","v":""},{"$f":"IF('8組'!N62=\"\",\"\",'8組'!N62)","v":""},{"$f":"IF('8組'!O62=\"\",\"\",'8組'!O62)","v":""},{"$f":"IF('8組'!P62=\"\",\"\",'8組'!P62)","v":""},null,null,null,null,null,{"$f":"IF('8組'!V62=\"\",\"\",'8組'!V62)","v":""},{"$f":"IF('8組'!W62=\"\",\"\",'8組'!W62)","v":""},{"$f":"IF('8組'!X62=\"\",\"\",'8組'!X62)","v":""},{"$f":"IF('8組'!Y62=\"\",\"\",'8組'!Y62)","v":""},{"$f":"IF('8組'!Z62=\"\",\"\",'8組'!Z62)","v":""},null,null,null,null,null,{"$f":"IF('8組'!AF62=\"\",\"\",'8組'!AF62)","v":""},{"$f":"IF('8組'!AG62=\"\",\"\",'8組'!AG62)","v":""},{"$f":"IF('8組'!AH62=\"\",\"\",'8組'!AH62)","v":""},{"$f":"IF('8組'!AI62=\"\",\"\",'8組'!AI62)","v":""},{"$f":"IF('8組'!AJ62=\"\",\"\",'8組'!AJ62)","v":""}]
[null,null,null,null,10840,null,8,40,null,null,"",{"$f":"IF('8組'!L63=\"\",\"\",'8組'!L63)","v":""},{"$f":"IF('8組'!M63=\"\",\"\",'8組'!M63)","v":""},{"$f":"IF('8組'!N63=\"\",\"\",'8組'!N63)","v":""},{"$f":"IF('8組'!O63=\"\",\"\",'8組'!O63)","v":""},{"$f":"IF('8組'!P63=\"\",\"\",'8組'!P63)","v":""},null,null,null,null,null,{"$f":"IF('8組'!V63=\"\",\"\",'8組'!V63)","v":""},{"$f":"IF('8組'!W63=\"\",\"\",'8組'!W63)","v":""},{"$f":"IF('8組'!X63=\"\",\"\",'8組'!X63)","v":""},{"$f":"IF('8組'!Y63=\"\",\"\",'8組'!Y63)","v":""},{"$f":"IF('8組'!Z63=\"\",\"\",'8組'!Z63)","v":""},null,null,null,null,null,{"$f":"IF('8組'!AF63=\"\",\"\",'8組'!AF63)","v":""},{"$f":"IF('8組'!AG63=\"\",\"\",'8組'!AG63)","v":""},{"$f":"IF('8組'!AH63=\"\",\"\",'8組'!AH63)","v":""},{"$f":"IF('8組'!AI63=\"\",\"\",'8組'!AI63)","v":""},{"$f":"IF('8組'!AJ63=\"\",\"\",'8組'!AJ63)","v":""}]
[null,null,null,null,10841,null,8,41,null,null,"",{"$f":"IF('8組'!L64=\"\",\"\",'8組'!L64)","v":""},{"$f":"IF('8組'!M64=\"\",\"\",'8組'!M64)","v":""},{"$f":"IF('8組'!N64=\"\",\"\",'8組'!N64)","v":""},{"$f":"IF('8組'!O64=\"\",\"\",'8組'!O64)","v":""},{"$f":"IF('8組'!P64=\"\",\"\",'8組'!P64)","v":""},null,null,null,null,null,{"$f":"IF('8組'!V64=\"\",\"\",'8組'!V64)","v":""},{"$f":"IF('8組'!W64=\"\",\"\",'8組'!W64)","v":""},{"$f":"IF('8組'!X64=\"\",\"\",'8組'!X64)","v":""},{"$f":"IF('8組'!Y64=\"\",\"\",'8組'!Y64)","v":""},{"$f":"IF('8組'!Z64=\"\",\"\",'8組'!Z64)","v":""},null,null,null,null,null,{"$f":"IF('8組'!AF64=\"\",\"\",'8組'!AF64)","v":""},{"$f":"IF('8組'!AG64=\"\",\"\",'8組'!AG64)","v":""},{"$f":"IF('8組'!AH64=\"\",\"\",'8組'!AH64)","v":""},{"$f":"IF('8組'!AI64=\"\",\"\",'8組'!AI64)","v":""},{"$f":"IF('8組'!AJ64=\"\",\"\",'8組'!AJ64)","v":""}]
[null,null,null,null,10842,null,8,42,null,null,"",{"$f":"IF('8組'!L65=\"\",\"\",'8組'!L65)","v":""},{"$f":"IF('8組'!M65=\"\",\"\",'8組'!M65)","v":""},{"$f":"IF('8組'!N65=\"\",\"\",'8組'!N65)","v":""},{"$f":"IF('8組'!O65=\"\",\"\",'8組'!O65)","v":""},{"$f":"IF('8組'!P65=\"\",\"\",'8組'!P65)","v":""},null,null,null,null,null,{"$f":"IF('8組'!V65=\"\",\"\",'8組'!V65)","v":""},{"$f":"IF('8組'!W65=\"\",\"\",'8組'!W65)","v":""},{"$f":"IF('8組'!X65=\"\",\"\",'8組'!X65)","v":""},{"$f":"IF('8組'!Y65=\"\",\"\",'8組'!Y65)","v":""},{"$f":"IF('8組'!Z65=\"\",\"\",'8組'!Z65)","v":""},null,null,null,null,null,{"$f":"IF('8組'!AF65=\"\",\"\",'8組'!AF65)","v":""},{"$f":"IF('8組'!AG65=\"\",\"\",'8組'!AG65)","v":""},{"$f":"IF('8組'!AH65=\"\",\"\",'8組'!AH65)","v":""},{"$f":"IF('8組'!AI65=\"\",\"\",'8組'!AI65)","v":""},{"$f":"IF('8組'!AJ65=\"\",\"\",'8組'!AJ65)","v":""}]
[null,null,null,null,10843,null,8,43,null,null,"",{"$f":"IF('8組'!L66=\"\",\"\",'8組'!L66)","v":""},{"$f":"IF('8組'!M66=\"\",\"\",'8組'!M66)","v":""},{"$f":"IF('8組'!N66=\"\",\"\",'8組'!N66)","v":""},{"$f":"IF('8組'!O66=\"\",\"\",'8組'!O66)","v":""},{"$f":"IF('8組'!P66=\"\",\"\",'8組'!P66)","v":""},null,null,null,null,null,{"$f":"IF('8組'!V66=\"\",\"\",'8組'!V66)","v":""},{"$f":"IF('8組'!W66=\"\",\"\",'8組'!W66)","v":""},{"$f":"IF('8組'!X66=\"\",\"\",'8組'!X66)","v":""},{"$f":"IF('8組'!Y66=\"\",\"\",'8組'!Y66)","v":""},{"$f":"IF('8組'!Z66=\"\",\"\",'8組'!Z66)","v":""},null,null,null,null,null,{"$f":"IF('8組'!AF66=\"\",\"\",'8組'!AF66)","v":""},{"$f":"IF('8組'!AG66=\"\",\"\",'8組'!AG66)","v":""},{"$f":"IF('8組'!AH66=\"\",\"\",'8組'!AH66)","v":""},{"$f":"IF('8組'!AI66=\"\",\"\",'8組'!AI66)","v":""},{"$f":"IF('8組'!AJ66=\"\",\"\",'8組'!AJ66)","v":""}]
[null,null,null,null,10844,null,8,44,null,null,"",{"$f":"IF('8組'!L67=\"\",\"\",'8組'!L67)","v":""},{"$f":"IF('8組'!M67=\"\",\"\",'8組'!M67)","v":""},{"$f":"IF('8組'!N67=\"\",\"\",'8組'!N67)","v":""},{"$f":"IF('8組'!O67=\"\",\"\",'8組'!O67)","v":""},{"$f":"IF('8組'!P67=\"\",\"\",'8組'!P67)","v":""},null,null,null,null,null,{"$f":"IF('8組'!V67=\"\",\"\",'8組'!V67)","v":""},{"$f":"IF('8組'!W67=\"\",\"\",'8組'!W67)","v":""},{"$f":"IF('8組'!X67=\"\",\"\",'8組'!X67)","v":""},{"$f":"IF('8組'!Y67=\"\",\"\",'8組'!Y67)","v":""},{"$f":"IF('8組'!Z67=\"\",\"\",'8組'!Z67)","v":""},null,null,null,null,null,{"$f":"IF('8組'!AF67=\"\",\"\",'8組'!AF67)","v":""},{"$f":"IF('8組'!AG67=\"\",\"\",'8組'!AG67)","v":""},{"$f":"IF('8組'!AH67=\"\",\"\",'8組'!AH67)","v":""},{"$f":"IF('8組'!AI67=\"\",\"\",'8組'!AI67)","v":""},{"$f":"IF('8組'!AJ67=\"\",\"\",'8組'!AJ67)","v":""}]
[null,null,null,null,10845,null,8,45,null,null,"",{"$f":"IF('8組'!L68=\"\",\"\",'8組'!L68)","v":""},{"$f":"IF('8組'!M68=\"\",\"\",'8組'!M68)","v":""},{"$f":"IF('8組'!N68=\"\",\"\",'8組'!N68)","v":""},{"$f":"IF('8組'!O68=\"\",\"\",'8組'!O68)","v":""},{"$f":"IF('8組'!P68=\"\",\"\",'8組'!P68)","v":""},null,null,null,null,null,{"$f":"IF('8組'!V68=\"\",\"\",'8組'!V68)","v":""},{"$f":"IF('8組'!W68=\"\",\"\",'8組'!W68)","v":""},{"$f":"IF('8組'!X68=\"\",\"\",'8組'!X68)","v":""},{"$f":"IF('8組'!Y68=\"\",\"\",'8組'!Y68)","v":""},{"$f":"IF('8組'!Z68=\"\",\"\",'8組'!Z68)","v":""},null,null,null,null,null,{"$f":"IF('8組'!AF68=\"\",\"\",'8組'!AF68)","v":""},{"$f":"IF('8組'!AG68=\"\",\"\",'8組'!AG68)","v":""},{"$f":"IF('8組'!AH68=\"\",\"\",'8組'!AH68)","v":""},{"$f":"IF('8組'!AI68=\"\",\"\",'8組'!AI68)","v":""},{"$f":"IF('8組'!AJ68=\"\",\"\",'8組'!AJ68)","v":""}]
[null,null,null,null,10846,null,8,46,null,null,"",{"$f":"IF('8組'!L69=\"\",\"\",'8組'!L69)","v":""},{"$f":"IF('8組'!M69=\"\",\"\",'8組'!M69)","v":""},{"$f":"IF('8組'!N69=\"\",\"\",'8組'!N69)","v":""},{"$f":"IF('8組'!O69=\"\",\"\",'8組'!O69)","v":""},{"$f":"IF('8組'!P69=\"\",\"\",'8組'!P69)","v":""},null,null,null,null,null,{"$f":"IF('8組'!V69=\"\",\"\",'8組'!V69)","v":""},{"$f":"IF('8組'!W69=\"\",\"\",'8組'!W69)","v":""},{"$f":"IF('8組'!X69=\"\",\"\",'8組'!X69)","v":""},{"$f":"IF('8組'!Y69=\"\",\"\",'8組'!Y69)","v":""},{"$f":"IF('8組'!Z69=\"\",\"\",'8組'!Z69)","v":""},null,null,null,null,null,{"$f":"IF('8組'!AF69=\"\",\"\",'8組'!AF69)","v":""},{"$f":"IF('8組'!AG69=\"\",\"\",'8組'!AG69)","v":""},{"$f":"IF('8組'!AH69=\"\",\"\",'8組'!AH69)","v":""},{"$f":"IF('8組'!AI69=\"\",\"\",'8組'!AI69)","v":""},{"$f":"IF('8組'!AJ69=\"\",\"\",'8組'!AJ69)","v":""}]
[null,null,null,null,10847,null,8,47,null,null,"",{"$f":"IF('8組'!L70=\"\",\"\",'8組'!L70)","v":""},{"$f":"IF('8組'!M70=\"\",\"\",'8組'!M70)","v":""},{"$f":"IF('8組'!N70=\"\",\"\",'8組'!N70)","v":""},{"$f":"IF('8組'!O70=\"\",\"\",'8組'!O70)","v":""},{"$f":"IF('8組'!P70=\"\",\"\",'8組'!P70)","v":""},null,null,null,null,null,{"$f":"IF('8組'!V70=\"\",\"\",'8組'!V70)","v":""},{"$f":"IF('8組'!W70=\"\",\"\",'8組'!W70)","v":""},{"$f":"IF('8組'!X70=\"\",\"\",'8組'!X70)","v":""},{"$f":"IF('8組'!Y70=\"\",\"\",'8組'!Y70)","v":""},{"$f":"IF('8組'!Z70=\"\",\"\",'8組'!Z70)","v":""},null,null,null,null,null,{"$f":"IF('8組'!AF70=\"\",\"\",'8組'!AF70)","v":""},{"$f":"IF('8組'!AG70=\"\",\"\",'8組'!AG70)","v":""},{"$f":"IF('8組'!AH70=\"\",\"\",'8組'!AH70)","v":""},{"$f":"IF('8組'!AI70=\"\",\"\",'8組'!AI70)","v":""},{"$f":"IF('8組'!AJ70=\"\",\"\",'8組'!AJ70)","v":""}]
[null,null,null,null,10848,null,8,48,null,null,"",{"$f":"IF('8組'!L71=\"\",\"\",'8組'!L71)","v":""},{"$f":"IF('8組'!M71=\"\",\"\",'8組'!M71)","v":""},{"$f":"IF('8組'!N71=\"\",\"\",'8組'!N71)","v":""},{"$f":"IF('8組'!O71=\"\",\"\",'8組'!O71)","v":""},{"$f":"IF('8組'!P71=\"\",\"\",'8組'!P71)","v":""},null,null,null,null,null,{"$f":"IF('8組'!V71=\"\",\"\",'8組'!V71)","v":""},{"$f":"IF('8組'!W71=\"\",\"\",'8組'!W71)","v":""},{"$f":"IF('8組'!X71=\"\",\"\",'8組'!X71)","v":""},{"$f":"IF('8組'!Y71=\"\",\"\",'8組'!Y71)","v":""},{"$f":"IF('8組'!Z71=\"\",\"\",'8組'!Z71)","v":""},null,null,null,null,null,{"$f":"IF('8組'!AF71=\"\",\"\",'8組'!AF71)","v":""},{"$f":"IF('8組'!AG71=\"\",\"\",'8組'!AG71)","v":""},{"$f":"IF('8組'!AH71=\"\",\"\",'8組'!AH71)","v":""},{"$f":"IF('8組'!AI71=\"\",\"\",'8組'!AI71)","v":""},{"$f":"IF('8組'!AJ71=\"\",\"\",'8組'!AJ71)","v":""}]
[null,null,null,null,10849,null,8,49,null,null,"",{"$f":"IF('8組'!L72=\"\",\"\",'8組'!L72)","v":""},{"$f":"IF('8組'!M72=\"\",\"\",'8組'!M72)","v":""},{"$f":"IF('8組'!N72=\"\",\"\",'8組'!N72)","v":""},{"$f":"IF('8組'!O72=\"\",\"\",'8組'!O72)","v":""},{"$f":"IF('8組'!P72=\"\",\"\",'8組'!P72)","v":""},null,null,null,null,null,{"$f":"IF('8組'!V72=\"\",\"\",'8組'!V72)","v":""},{"$f":"IF('8組'!W72=\"\",\"\",'8組'!W72)","v":""},{"$f":"IF('8組'!X72=\"\",\"\",'8組'!X72)","v":""},{"$f":"IF('8組'!Y72=\"\",\"\",'8組'!Y72)","v":""},{"$f":"IF('8組'!Z72=\"\",\"\",'8組'!Z72)","v":""},null,null,null,null,null,{"$f":"IF('8組'!AF72=\"\",\"\",'8組'!AF72)","v":""},{"$f":"IF('8組'!AG72=\"\",\"\",'8組'!AG72)","v":""},{"$f":"IF('8組'!AH72=\"\",\"\",'8組'!AH72)","v":""},{"$f":"IF('8組'!AI72=\"\",\"\",'8組'!AI72)","v":""},{"$f":"IF('8組'!AJ72=\"\",\"\",'8組'!AJ72)","v":""}]
[null,null,null,null,10850,null,8,50,null,null,"",{"$f":"IF('8組'!L73=\"\",\"\",'8組'!L73)","v":""},{"$f":"IF('8組'!M73=\"\",\"\",'8組'!M73)","v":""},{"$f":"IF('8組'!N73=\"\",\"\",'8組'!N73)","v":""},{"$f":"IF('8組'!O73=\"\",\"\",'8組'!O73)","v":""},{"$f":"IF('8組'!P73=\"\",\"\",'8組'!P73)","v":""},null,null,null,null,null,{"$f":"IF('8組'!V73=\"\",\"\",'8組'!V73)","v":""},{"$f":"IF('8組'!W73=\"\",\"\",'8組'!W73)","v":""},{"$f":"IF('8組'!X73=\"\",\"\",'8組'!X73)","v":""},{"$f":"IF('8組'!Y73=\"\",\"\",'8組'!Y73)","v":""},{"$f":"IF('8組'!Z73=\"\",\"\",'8組'!Z73)","v":""},null,null,null,null,null,{"$f":"IF('8組'!AF73=\"\",\"\",'8組'!AF73)","v":""},{"$f":"IF('8組'!AG73=\"\",\"\",'8組'!AG73)","v":""},{"$f":"IF('8組'!AH73=\"\",\"\",'8組'!AH73)","v":""},{"$f":"IF('8組'!AI73=\"\",\"\",'8組'!AI73)","v":""},{"$f":"IF('8組'!AJ73=\"\",\"\",'8組'!AJ73)","v":""}]
[null,null,null,null,10901,null,9,1,null,null,"",{"$f":"IF('9組'!L24=\"\",\"\",'9組'!L24)","v":""},{"$f":"IF('9組'!M24=\"\",\"\",'9組'!M24)","v":""},{"$f":"IF('9組'!N24=\"\",\"\",'9組'!N24)","v":""},{"$f":"IF('9組'!O24=\"\",\"\",'9組'!O24)","v":""},{"$f":"IF('9組'!P24=\"\",\"\",'9組'!P24)","v":""},null,null,null,null,null,{"$f":"IF('9組'!V24=\"\",\"\",'9組'!V24)","v":""},{"$f":"IF('9組'!W24=\"\",\"\",'9組'!W24)","v":""},{"$f":"IF('9組'!X24=\"\",\"\",'9組'!X24)","v":""},{"$f":"IF('9組'!Y24=\"\",\"\",'9組'!Y24)","v":""},{"$f":"IF('9組'!Z24=\"\",\"\",'9組'!Z24)","v":""},null,null,null,null,null,{"$f":"IF('9組'!AF24=\"\",\"\",'9組'!AF24)","v":""},{"$f":"IF('9組'!AG24=\"\",\"\",'9組'!AG24)","v":""},{"$f":"IF('9組'!AH24=\"\",\"\",'9組'!AH24)","v":""},{"$f":"IF('9組'!AI24=\"\",\"\",'9組'!AI24)","v":""},{"$f":"IF('9組'!AJ24=\"\",\"\",'9組'!AJ24)","v":""}]
[null,null,null,null,10902,null,9,2,null,null,"",{"$f":"IF('9組'!L25=\"\",\"\",'9組'!L25)","v":""},{"$f":"IF('9組'!M25=\"\",\"\",'9組'!M25)","v":""},{"$f":"IF('9組'!N25=\"\",\"\",'9組'!N25)","v":""},{"$f":"IF('9組'!O25=\"\",\"\",'9組'!O25)","v":""},{"$f":"IF('9組'!P25=\"\",\"\",'9組'!P25)","v":""},null,null,null,null,null,{"$f":"IF('9組'!V25=\"\",\"\",'9組'!V25)","v":""},{"$f":"IF('9組'!W25=\"\",\"\",'9組'!W25)","v":""},{"$f":"IF('9組'!X25=\"\",\"\",'9組'!X25)","v":""},{"$f":"IF('9組'!Y25=\"\",\"\",'9組'!Y25)","v":""},{"$f":"IF('9組'!Z25=\"\",\"\",'9組'!Z25)","v":""},null,null,null,null,null,{"$f":"IF('9組'!AF25=\"\",\"\",'9組'!AF25)","v":""},{"$f":"IF('9組'!AG25=\"\",\"\",'9組'!AG25)","v":""},{"$f":"IF('9組'!AH25=\"\",\"\",'9組'!AH25)","v":""},{"$f":"IF('9組'!AI25=\"\",\"\",'9組'!AI25)","v":""},{"$f":"IF('9組'!AJ25=\"\",\"\",'9組'!AJ25)","v":""}]
[null,null,null,null,10903,null,9,3,null,null,"",{"$f":"IF('9組'!L26=\"\",\"\",'9組'!L26)","v":""},{"$f":"IF('9組'!M26=\"\",\"\",'9組'!M26)","v":""},{"$f":"IF('9組'!N26=\"\",\"\",'9組'!N26)","v":""},{"$f":"IF('9組'!O26=\"\",\"\",'9組'!O26)","v":""},{"$f":"IF('9組'!P26=\"\",\"\",'9組'!P26)","v":""},null,null,null,null,null,{"$f":"IF('9組'!V26=\"\",\"\",'9組'!V26)","v":""},{"$f":"IF('9組'!W26=\"\",\"\",'9組'!W26)","v":""},{"$f":"IF('9組'!X26=\"\",\"\",'9組'!X26)","v":""},{"$f":"IF('9組'!Y26=\"\",\"\",'9組'!Y26)","v":""},{"$f":"IF('9組'!Z26=\"\",\"\",'9組'!Z26)","v":""},null,null,null,null,null,{"$f":"IF('9組'!AF26=\"\",\"\",'9組'!AF26)","v":""},{"$f":"IF('9組'!AG26=\"\",\"\",'9組'!AG26)","v":""},{"$f":"IF('9組'!AH26=\"\",\"\",'9組'!AH26)","v":""},{"$f":"IF('9組'!AI26=\"\",\"\",'9組'!AI26)","v":""},{"$f":"IF('9組'!AJ26=\"\",\"\",'9組'!AJ26)","v":""}]
[null,null,null,null,10904,null,9,4,null,null,"",{"$f":"IF('9組'!L27=\"\",\"\",'9組'!L27)","v":""},{"$f":"IF('9組'!M27=\"\",\"\",'9組'!M27)","v":""},{"$f":"IF('9組'!N27=\"\",\"\",'9組'!N27)","v":""},{"$f":"IF('9組'!O27=\"\",\"\",'9組'!O27)","v":""},{"$f":"IF('9組'!P27=\"\",\"\",'9組'!P27)","v":""},null,null,null,null,null,{"$f":"IF('9組'!V27=\"\",\"\",'9組'!V27)","v":""},{"$f":"IF('9組'!W27=\"\",\"\",'9組'!W27)","v":""},{"$f":"IF('9組'!X27=\"\",\"\",'9組'!X27)","v":""},{"$f":"IF('9組'!Y27=\"\",\"\",'9組'!Y27)","v":""},{"$f":"IF('9組'!Z27=\"\",\"\",'9組'!Z27)","v":""},null,null,null,null,null,{"$f":"IF('9組'!AF27=\"\",\"\",'9組'!AF27)","v":""},{"$f":"IF('9組'!AG27=\"\",\"\",'9組'!AG27)","v":""},{"$f":"IF('9組'!AH27=\"\",\"\",'9組'!AH27)","v":""},{"$f":"IF('9組'!AI27=\"\",\"\",'9組'!AI27)","v":""},{"$f":"IF('9組'!AJ27=\"\",\"\",'9組'!AJ27)","v":""}]
[null,null,null,null,10905,null,9,5,null,null,"",{"$f":"IF('9組'!L28=\"\",\"\",'9組'!L28)","v":""},{"$f":"IF('9組'!M28=\"\",\"\",'9組'!M28)","v":""},{"$f":"IF('9組'!N28=\"\",\"\",'9組'!N28)","v":""},{"$f":"IF('9組'!O28=\"\",\"\",'9組'!O28)","v":""},{"$f":"IF('9組'!P28=\"\",\"\",'9組'!P28)","v":""},null,null,null,null,null,{"$f":"IF('9組'!V28=\"\",\"\",'9組'!V28)","v":""},{"$f":"IF('9組'!W28=\"\",\"\",'9組'!W28)","v":""},{"$f":"IF('9組'!X28=\"\",\"\",'9組'!X28)","v":""},{"$f":"IF('9組'!Y28=\"\",\"\",'9組'!Y28)","v":""},{"$f":"IF('9組'!Z28=\"\",\"\",'9組'!Z28)","v":""},null,null,null,null,null,{"$f":"IF('9組'!AF28=\"\",\"\",'9組'!AF28)","v":""},{"$f":"IF('9組'!AG28=\"\",\"\",'9組'!AG28)","v":""},{"$f":"IF('9組'!AH28=\"\",\"\",'9組'!AH28)","v":""},{"$f":"IF('9組'!AI28=\"\",\"\",'9組'!AI28)","v":""},{"$f":"IF('9組'!AJ28=\"\",\"\",'9組'!AJ28)","v":""}]
[null,null,null,null,10906,null,9,6,null,null,"",{"$f":"IF('9組'!L29=\"\",\"\",'9組'!L29)","v":""},{"$f":"IF('9組'!M29=\"\",\"\",'9組'!M29)","v":""},{"$f":"IF('9組'!N29=\"\",\"\",'9組'!N29)","v":""},{"$f":"IF('9組'!O29=\"\",\"\",'9組'!O29)","v":""},{"$f":"IF('9組'!P29=\"\",\"\",'9組'!P29)","v":""},null,null,null,null,null,{"$f":"IF('9組'!V29=\"\",\"\",'9組'!V29)","v":""},{"$f":"IF('9組'!W29=\"\",\"\",'9組'!W29)","v":""},{"$f":"IF('9組'!X29=\"\",\"\",'9組'!X29)","v":""},{"$f":"IF('9組'!Y29=\"\",\"\",'9組'!Y29)","v":""},{"$f":"IF('9組'!Z29=\"\",\"\",'9組'!Z29)","v":""},null,null,null,null,null,{"$f":"IF('9組'!AF29=\"\",\"\",'9組'!AF29)","v":""},{"$f":"IF('9組'!AG29=\"\",\"\",'9組'!AG29)","v":""},{"$f":"IF('9組'!AH29=\"\",\"\",'9組'!AH29)","v":""},{"$f":"IF('9組'!AI29=\"\",\"\",'9組'!AI29)","v":""},{"$f":"IF('9組'!AJ29=\"\",\"\",'9組'!AJ29)","v":""}]
[null,null,null,null,10907,null,9,7,null,null,"",{"$f":"IF('9組'!L30=\"\",\"\",'9組'!L30)","v":""},{"$f":"IF('9組'!M30=\"\",\"\",'9組'!M30)","v":""},{"$f":"IF('9組'!N30=\"\",\"\",'9組'!N30)","v":""},{"$f":"IF('9組'!O30=\"\",\"\",'9組'!O30)","v":""},{"$f":"IF('9組'!P30=\"\",\"\",'9組'!P30)","v":""},null,null,null,null,null,{"$f":"IF('9組'!V30=\"\",\"\",'9組'!V30)","v":""},{"$f":"IF('9組'!W30=\"\",\"\",'9組'!W30)","v":""},{"$f":"IF('9組'!X30=\"\",\"\",'9組'!X30)","v":""},{"$f":"IF('9組'!Y30=\"\",\"\",'9組'!Y30)","v":""},{"$f":"IF('9組'!Z30=\"\",\"\",'9組'!Z30)","v":""},null,null,null,null,null,{"$f":"IF('9組'!AF30=\"\",\"\",'9組'!AF30)","v":""},{"$f":"IF('9組'!AG30=\"\",\"\",'9組'!AG30)","v":""},{"$f":"IF('9組'!AH30=\"\",\"\",'9組'!AH30)","v":""},{"$f":"IF('9組'!AI30=\"\",\"\",'9組'!AI30)","v":""},{"$f":"IF('9組'!AJ30=\"\",\"\",'9組'!AJ30)","v":""}]
[null,null,null,null,10908,null,9,8,null,null,"",{"$f":"IF('9組'!L31=\"\",\"\",'9組'!L31)","v":""},{"$f":"IF('9組'!M31=\"\",\"\",'9組'!M31)","v":""},{"$f":"IF('9組'!N31=\"\",\"\",'9組'!N31)","v":""},{"$f":"IF('9組'!O31=\"\",\"\",'9組'!O31)","v":""},{"$f":"IF('9組'!P31=\"\",\"\",'9組'!P31)","v":""},null,null,null,null,null,{"$f":"IF('9組'!V31=\"\",\"\",'9組'!V31)","v":""},{"$f":"IF('9組'!W31=\"\",\"\",'9組'!W31)","v":""},{"$f":"IF('9組'!X31=\"\",\"\",'9組'!X31)","v":""},{"$f":"IF('9組'!Y31=\"\",\"\",'9組'!Y31)","v":""},{"$f":"IF('9組'!Z31=\"\",\"\",'9組'!Z31)","v":""},null,null,null,null,null,{"$f":"IF('9組'!AF31=\"\",\"\",'9組'!AF31)","v":""},{"$f":"IF('9組'!AG31=\"\",\"\",'9組'!AG31)","v":""},{"$f":"IF('9組'!AH31=\"\",\"\",'9組'!AH31)","v":""},{"$f":"IF('9組'!AI31=\"\",\"\",'9組'!AI31)","v":""},{"$f":"IF('9組'!AJ31=\"\",\"\",'9組'!AJ31)","v":""}]
[null,null,null,null,10909,null,9,9,null,null,"",{"$f":"IF('9組'!L32=\"\",\"\",'9組'!L32)","v":""},{"$f":"IF('9組'!M32=\"\",\"\",'9組'!M32)","v":""},{"$f":"IF('9組'!N32=\"\",\"\",'9組'!N32)","v":""},{"$f":"IF('9組'!O32=\"\",\"\",'9組'!O32)","v":""},{"$f":"IF('9組'!P32=\"\",\"\",'9組'!P32)","v":""},null,null,null,null,null,{"$f":"IF('9組'!V32=\"\",\"\",'9組'!V32)","v":""},{"$f":"IF('9組'!W32=\"\",\"\",'9組'!W32)","v":""},{"$f":"IF('9組'!X32=\"\",\"\",'9組'!X32)","v":""},{"$f":"IF('9組'!Y32=\"\",\"\",'9組'!Y32)","v":""},{"$f":"IF('9組'!Z32=\"\",\"\",'9組'!Z32)","v":""},null,null,null,null,null,{"$f":"IF('9組'!AF32=\"\",\"\",'9組'!AF32)","v":""},{"$f":"IF('9組'!AG32=\"\",\"\",'9組'!AG32)","v":""},{"$f":"IF('9組'!AH32=\"\",\"\",'9組'!AH32)","v":""},{"$f":"IF('9組'!AI32=\"\",\"\",'9組'!AI32)","v":""},{"$f":"IF('9組'!AJ32=\"\",\"\",'9組'!AJ32)","v":""}]
[null,null,null,null,10910,null,9,10,null,null,"",{"$f":"IF('9組'!L33=\"\",\"\",'9組'!L33)","v":""},{"$f":"IF('9組'!M33=\"\",\"\",'9組'!M33)","v":""},{"$f":"IF('9組'!N33=\"\",\"\",'9組'!N33)","v":""},{"$f":"IF('9組'!O33=\"\",\"\",'9組'!O33)","v":""},{"$f":"IF('9組'!P33=\"\",\"\",'9組'!P33)","v":""},null,null,null,null,null,{"$f":"IF('9組'!V33=\"\",\"\",'9組'!V33)","v":""},{"$f":"IF('9組'!W33=\"\",\"\",'9組'!W33)","v":""},{"$f":"IF('9組'!X33=\"\",\"\",'9組'!X33)","v":""},{"$f":"IF('9組'!Y33=\"\",\"\",'9組'!Y33)","v":""},{"$f":"IF('9組'!Z33=\"\",\"\",'9組'!Z33)","v":""},null,null,null,null,null,{"$f":"IF('9組'!AF33=\"\",\"\",'9組'!AF33)","v":""},{"$f":"IF('9組'!AG33=\"\",\"\",'9組'!AG33)","v":""},{"$f":"IF('9組'!AH33=\"\",\"\",'9組'!AH33)","v":""},{"$f":"IF('9組'!AI33=\"\",\"\",'9組'!AI33)","v":""},{"$f":"IF('9組'!AJ33=\"\",\"\",'9組'!AJ33)","v":""}]
[null,null,null,null,10911,null,9,11,null,null,"",{"$f":"IF('9組'!L34=\"\",\"\",'9組'!L34)","v":""},{"$f":"IF('9組'!M34=\"\",\"\",'9組'!M34)","v":""},{"$f":"IF('9組'!N34=\"\",\"\",'9組'!N34)","v":""},{"$f":"IF('9組'!O34=\"\",\"\",'9組'!O34)","v":""},{"$f":"IF('9組'!P34=\"\",\"\",'9組'!P34)","v":""},null,null,null,null,null,{"$f":"IF('9組'!V34=\"\",\"\",'9組'!V34)","v":""},{"$f":"IF('9組'!W34=\"\",\"\",'9組'!W34)","v":""},{"$f":"IF('9組'!X34=\"\",\"\",'9組'!X34)","v":""},{"$f":"IF('9組'!Y34=\"\",\"\",'9組'!Y34)","v":""},{"$f":"IF('9組'!Z34=\"\",\"\",'9組'!Z34)","v":""},null,null,null,null,null,{"$f":"IF('9組'!AF34=\"\",\"\",'9組'!AF34)","v":""},{"$f":"IF('9組'!AG34=\"\",\"\",'9組'!AG34)","v":""},{"$f":"IF('9組'!AH34=\"\",\"\",'9組'!AH34)","v":""},{"$f":"IF('9組'!AI34=\"\",\"\",'9組'!AI34)","v":""},{"$f":"IF('9組'!AJ34=\"\",\"\",'9組'!AJ34)","v":""}]
[null,null,null,null,10912,null,9,12,null,null,"",{"$f":"IF('9組'!L35=\"\",\"\",'9組'!L35)","v":""},{"$f":"IF('9組'!M35=\"\",\"\",'9組'!M35)","v":""},{"$f":"IF('9組'!N35=\"\",\"\",'9組'!N35)","v":""},{"$f":"IF('9組'!O35=\"\",\"\",'9組'!O35)","v":""},{"$f":"IF('9組'!P35=\"\",\"\",'9組'!P35)","v":""},null,null,null,null,null,{"$f":"IF('9組'!V35=\"\",\"\",'9組'!V35)","v":""},{"$f":"IF('9組'!W35=\"\",\"\",'9組'!W35)","v":""},{"$f":"IF('9組'!X35=\"\",\"\",'9組'!X35)","v":""},{"$f":"IF('9組'!Y35=\"\",\"\",'9組'!Y35)","v":""},{"$f":"IF('9組'!Z35=\"\",\"\",'9組'!Z35)","v":""},null,null,null,null,null,{"$f":"IF('9組'!AF35=\"\",\"\",'9組'!AF35)","v":""},{"$f":"IF('9組'!AG35=\"\",\"\",'9組'!AG35)","v":""},{"$f":"IF('9組'!AH35=\"\",\"\",'9組'!AH35)","v":""},{"$f":"IF('9組'!AI35=\"\",\"\",'9組'!AI35)","v":""},{"$f":"IF('9組'!AJ35=\"\",\"\",'9組'!AJ35)","v":""}]
[null,null,null,null,10913,null,9,13,null,null,"",{"$f":"IF('9組'!L36=\"\",\"\",'9組'!L36)","v":""},{"$f":"IF('9組'!M36=\"\",\"\",'9組'!M36)","v":""},{"$f":"IF('9組'!N36=\"\",\"\",'9組'!N36)","v":""},{"$f":"IF('9組'!O36=\"\",\"\",'9組'!O36)","v":""},{"$f":"IF('9組'!P36=\"\",\"\",'9組'!P36)","v":""},null,null,null,null,null,{"$f":"IF('9組'!V36=\"\",\"\",'9組'!V36)","v":""},{"$f":"IF('9組'!W36=\"\",\"\",'9組'!W36)","v":""},{"$f":"IF('9組'!X36=\"\",\"\",'9組'!X36)","v":""},{"$f":"IF('9組'!Y36=\"\",\"\",'9組'!Y36)","v":""},{"$f":"IF('9組'!Z36=\"\",\"\",'9組'!Z36)","v":""},null,null,null,null,null,{"$f":"IF('9組'!AF36=\"\",\"\",'9組'!AF36)","v":""},{"$f":"IF('9組'!AG36=\"\",\"\",'9組'!AG36)","v":""},{"$f":"IF('9組'!AH36=\"\",\"\",'9組'!AH36)","v":""},{"$f":"IF('9組'!AI36=\"\",\"\",'9組'!AI36)","v":""},{"$f":"IF('9組'!AJ36=\"\",\"\",'9組'!AJ36)","v":""}]
[null,null,null,null,10914,null,9,14,null,null,"",{"$f":"IF('9組'!L37=\"\",\"\",'9組'!L37)","v":""},{"$f":"IF('9組'!M37=\"\",\"\",'9組'!M37)","v":""},{"$f":"IF('9組'!N37=\"\",\"\",'9組'!N37)","v":""},{"$f":"IF('9組'!O37=\"\",\"\",'9組'!O37)","v":""},{"$f":"IF('9組'!P37=\"\",\"\",'9組'!P37)","v":""},null,null,null,null,null,{"$f":"IF('9組'!V37=\"\",\"\",'9組'!V37)","v":""},{"$f":"IF('9組'!W37=\"\",\"\",'9組'!W37)","v":""},{"$f":"IF('9組'!X37=\"\",\"\",'9組'!X37)","v":""},{"$f":"IF('9組'!Y37=\"\",\"\",'9組'!Y37)","v":""},{"$f":"IF('9組'!Z37=\"\",\"\",'9組'!Z37)","v":""},null,null,null,null,null,{"$f":"IF('9組'!AF37=\"\",\"\",'9組'!AF37)","v":""},{"$f":"IF('9組'!AG37=\"\",\"\",'9組'!AG37)","v":""},{"$f":"IF('9組'!AH37=\"\",\"\",'9組'!AH37)","v":""},{"$f":"IF('9組'!AI37=\"\",\"\",'9組'!AI37)","v":""},{"$f":"IF('9組'!AJ37=\"\",\"\",'9組'!AJ37)","v":""}]
[null,null,null,null,10915,null,9,15,null,null,"",{"$f":"IF('9組'!L38=\"\",\"\",'9組'!L38)","v":""},{"$f":"IF('9組'!M38=\"\",\"\",'9組'!M38)","v":""},{"$f":"IF('9組'!N38=\"\",\"\",'9組'!N38)","v":""},{"$f":"IF('9組'!O38=\"\",\"\",'9組'!O38)","v":""},{"$f":"IF('9組'!P38=\"\",\"\",'9組'!P38)","v":""},null,null,null,null,null,{"$f":"IF('9組'!V38=\"\",\"\",'9組'!V38)","v":""},{"$f":"IF('9組'!W38=\"\",\"\",'9組'!W38)","v":""},{"$f":"IF('9組'!X38=\"\",\"\",'9組'!X38)","v":""},{"$f":"IF('9組'!Y38=\"\",\"\",'9組'!Y38)","v":""},{"$f":"IF('9組'!Z38=\"\",\"\",'9組'!Z38)","v":""},null,null,null,null,null,{"$f":"IF('9組'!AF38=\"\",\"\",'9組'!AF38)","v":""},{"$f":"IF('9組'!AG38=\"\",\"\",'9組'!AG38)","v":""},{"$f":"IF('9組'!AH38=\"\",\"\",'9組'!AH38)","v":""},{"$f":"IF('9組'!AI38=\"\",\"\",'9組'!AI38)","v":""},{"$f":"IF('9組'!AJ38=\"\",\"\",'9組'!AJ38)","v":""}]
[null,null,null,null,10916,null,9,16,null,null,"",{"$f":"IF('9組'!L39=\"\",\"\",'9組'!L39)","v":""},{"$f":"IF('9組'!M39=\"\",\"\",'9組'!M39)","v":""},{"$f":"IF('9組'!N39=\"\",\"\",'9組'!N39)","v":""},{"$f":"IF('9組'!O39=\"\",\"\",'9組'!O39)","v":""},{"$f":"IF('9組'!P39=\"\",\"\",'9組'!P39)","v":""},null,null,null,null,null,{"$f":"IF('9組'!V39=\"\",\"\",'9組'!V39)","v":""},{"$f":"IF('9組'!W39=\"\",\"\",'9組'!W39)","v":""},{"$f":"IF('9組'!X39=\"\",\"\",'9組'!X39)","v":""},{"$f":"IF('9組'!Y39=\"\",\"\",'9組'!Y39)","v":""},{"$f":"IF('9組'!Z39=\"\",\"\",'9組'!Z39)","v":""},null,null,null,null,null,{"$f":"IF('9組'!AF39=\"\",\"\",'9組'!AF39)","v":""},{"$f":"IF('9組'!AG39=\"\",\"\",'9組'!AG39)","v":""},{"$f":"IF('9組'!AH39=\"\",\"\",'9組'!AH39)","v":""},{"$f":"IF('9組'!AI39=\"\",\"\",'9組'!AI39)","v":""},{"$f":"IF('9組'!AJ39=\"\",\"\",'9組'!AJ39)","v":""}]
[null,null,null,null,10917,null,9,17,null,null,"",{"$f":"IF('9組'!L40=\"\",\"\",'9組'!L40)","v":""},{"$f":"IF('9組'!M40=\"\",\"\",'9組'!M40)","v":""},{"$f":"IF('9組'!N40=\"\",\"\",'9組'!N40)","v":""},{"$f":"IF('9組'!O40=\"\",\"\",'9組'!O40)","v":""},{"$f":"IF('9組'!P40=\"\",\"\",'9組'!P40)","v":""},null,null,null,null,null,{"$f":"IF('9組'!V40=\"\",\"\",'9組'!V40)","v":""},{"$f":"IF('9組'!W40=\"\",\"\",'9組'!W40)","v":""},{"$f":"IF('9組'!X40=\"\",\"\",'9組'!X40)","v":""},{"$f":"IF('9組'!Y40=\"\",\"\",'9組'!Y40)","v":""},{"$f":"IF('9組'!Z40=\"\",\"\",'9組'!Z40)","v":""},null,null,null,null,null,{"$f":"IF('9組'!AF40=\"\",\"\",'9組'!AF40)","v":""},{"$f":"IF('9組'!AG40=\"\",\"\",'9組'!AG40)","v":""},{"$f":"IF('9組'!AH40=\"\",\"\",'9組'!AH40)","v":""},{"$f":"IF('9組'!AI40=\"\",\"\",'9組'!AI40)","v":""},{"$f":"IF('9組'!AJ40=\"\",\"\",'9組'!AJ40)","v":""}]
[null,null,null,null,10918,null,9,18,null,null,"",{"$f":"IF('9組'!L41=\"\",\"\",'9組'!L41)","v":""},{"$f":"IF('9組'!M41=\"\",\"\",'9組'!M41)","v":""},{"$f":"IF('9組'!N41=\"\",\"\",'9組'!N41)","v":""},{"$f":"IF('9組'!O41=\"\",\"\",'9組'!O41)","v":""},{"$f":"IF('9組'!P41=\"\",\"\",'9組'!P41)","v":""},null,null,null,null,null,{"$f":"IF('9組'!V41=\"\",\"\",'9組'!V41)","v":""},{"$f":"IF('9組'!W41=\"\",\"\",'9組'!W41)","v":""},{"$f":"IF('9組'!X41=\"\",\"\",'9組'!X41)","v":""},{"$f":"IF('9組'!Y41=\"\",\"\",'9組'!Y41)","v":""},{"$f":"IF('9組'!Z41=\"\",\"\",'9組'!Z41)","v":""},null,null,null,null,null,{"$f":"IF('9組'!AF41=\"\",\"\",'9組'!AF41)","v":""},{"$f":"IF('9組'!AG41=\"\",\"\",'9組'!AG41)","v":""},{"$f":"IF('9組'!AH41=\"\",\"\",'9組'!AH41)","v":""},{"$f":"IF('9組'!AI41=\"\",\"\",'9組'!AI41)","v":""},{"$f":"IF('9組'!AJ41=\"\",\"\",'9組'!AJ41)","v":""}]
[null,null,null,null,10919,null,9,19,null,null,"",{"$f":"IF('9組'!L42=\"\",\"\",'9組'!L42)","v":""},{"$f":"IF('9組'!M42=\"\",\"\",'9組'!M42)","v":""},{"$f":"IF('9組'!N42=\"\",\"\",'9組'!N42)","v":""},{"$f":"IF('9組'!O42=\"\",\"\",'9組'!O42)","v":""},{"$f":"IF('9組'!P42=\"\",\"\",'9組'!P42)","v":""},null,null,null,null,null,{"$f":"IF('9組'!V42=\"\",\"\",'9組'!V42)","v":""},{"$f":"IF('9組'!W42=\"\",\"\",'9組'!W42)","v":""},{"$f":"IF('9組'!X42=\"\",\"\",'9組'!X42)","v":""},{"$f":"IF('9組'!Y42=\"\",\"\",'9組'!Y42)","v":""},{"$f":"IF('9組'!Z42=\"\",\"\",'9組'!Z42)","v":""},null,null,null,null,null,{"$f":"IF('9組'!AF42=\"\",\"\",'9組'!AF42)","v":""},{"$f":"IF('9組'!AG42=\"\",\"\",'9組'!AG42)","v":""},{"$f":"IF('9組'!AH42=\"\",\"\",'9組'!AH42)","v":""},{"$f":"IF('9組'!AI42=\"\",\"\",'9組'!AI42)","v":""},{"$f":"IF('9組'!AJ42=\"\",\"\",'9組'!AJ42)","v":""}]
[null,null,null,null,10920,null,9,20,null,null,"",{"$f":"IF('9組'!L43=\"\",\"\",'9組'!L43)","v":""},{"$f":"IF('9組'!M43=\"\",\"\",'9組'!M43)","v":""},{"$f":"IF('9組'!N43=\"\",\"\",'9組'!N43)","v":""},{"$f":"IF('9組'!O43=\"\",\"\",'9組'!O43)","v":""},{"$f":"IF('9組'!P43=\"\",\"\",'9組'!P43)","v":""},null,null,null,null,null,{"$f":"IF('9組'!V43=\"\",\"\",'9組'!V43)","v":""},{"$f":"IF('9組'!W43=\"\",\"\",'9組'!W43)","v":""},{"$f":"IF('9組'!X43=\"\",\"\",'9組'!X43)","v":""},{"$f":"IF('9組'!Y43=\"\",\"\",'9組'!Y43)","v":""},{"$f":"IF('9組'!Z43=\"\",\"\",'9組'!Z43)","v":""},null,null,null,null,null,{"$f":"IF('9組'!AF43=\"\",\"\",'9組'!AF43)","v":""},{"$f":"IF('9組'!AG43=\"\",\"\",'9組'!AG43)","v":""},{"$f":"IF('9組'!AH43=\"\",\"\",'9組'!AH43)","v":""},{"$f":"IF('9組'!AI43=\"\",\"\",'9組'!AI43)","v":""},{"$f":"IF('9組'!AJ43=\"\",\"\",'9組'!AJ43)","v":""}]
[null,null,null,null,10921,null,9,21,null,null,"",{"$f":"IF('9組'!L44=\"\",\"\",'9組'!L44)","v":""},{"$f":"IF('9組'!M44=\"\",\"\",'9組'!M44)","v":""},{"$f":"IF('9組'!N44=\"\",\"\",'9組'!N44)","v":""},{"$f":"IF('9組'!O44=\"\",\"\",'9組'!O44)","v":""},{"$f":"IF('9組'!P44=\"\",\"\",'9組'!P44)","v":""},null,null,null,null,null,{"$f":"IF('9組'!V44=\"\",\"\",'9組'!V44)","v":""},{"$f":"IF('9組'!W44=\"\",\"\",'9組'!W44)","v":""},{"$f":"IF('9組'!X44=\"\",\"\",'9組'!X44)","v":""},{"$f":"IF('9組'!Y44=\"\",\"\",'9組'!Y44)","v":""},{"$f":"IF('9組'!Z44=\"\",\"\",'9組'!Z44)","v":""},null,null,null,null,null,{"$f":"IF('9組'!AF44=\"\",\"\",'9組'!AF44)","v":""},{"$f":"IF('9組'!AG44=\"\",\"\",'9組'!AG44)","v":""},{"$f":"IF('9組'!AH44=\"\",\"\",'9組'!AH44)","v":""},{"$f":"IF('9組'!AI44=\"\",\"\",'9組'!AI44)","v":""},{"$f":"IF('9組'!AJ44=\"\",\"\",'9組'!AJ44)","v":""}]
[null,null,null,null,10922,null,9,22,null,null,"",{"$f":"IF('9組'!L45=\"\",\"\",'9組'!L45)","v":""},{"$f":"IF('9組'!M45=\"\",\"\",'9組'!M45)","v":""},{"$f":"IF('9組'!N45=\"\",\"\",'9組'!N45)","v":""},{"$f":"IF('9組'!O45=\"\",\"\",'9組'!O45)","v":""},{"$f":"IF('9組'!P45=\"\",\"\",'9組'!P45)","v":""},null,null,null,null,null,{"$f":"IF('9組'!V45=\"\",\"\",'9組'!V45)","v":""},{"$f":"IF('9組'!W45=\"\",\"\",'9組'!W45)","v":""},{"$f":"IF('9組'!X45=\"\",\"\",'9組'!X45)","v":""},{"$f":"IF('9組'!Y45=\"\",\"\",'9組'!Y45)","v":""},{"$f":"IF('9組'!Z45=\"\",\"\",'9組'!Z45)","v":""},null,null,null,null,null,{"$f":"IF('9組'!AF45=\"\",\"\",'9組'!AF45)","v":""},{"$f":"IF('9組'!AG45=\"\",\"\",'9組'!AG45)","v":""},{"$f":"IF('9組'!AH45=\"\",\"\",'9組'!AH45)","v":""},{"$f":"IF('9組'!AI45=\"\",\"\",'9組'!AI45)","v":""},{"$f":"IF('9組'!AJ45=\"\",\"\",'9組'!AJ45)","v":""}]
[null,null,null,null,10923,null,9,23,null,null,"",{"$f":"IF('9組'!L46=\"\",\"\",'9組'!L46)","v":""},{"$f":"IF('9組'!M46=\"\",\"\",'9組'!M46)","v":""},{"$f":"IF('9組'!N46=\"\",\"\",'9組'!N46)","v":""},{"$f":"IF('9組'!O46=\"\",\"\",'9組'!O46)","v":""},{"$f":"IF('9組'!P46=\"\",\"\",'9組'!P46)","v":""},null,null,null,null,null,{"$f":"IF('9組'!V46=\"\",\"\",'9組'!V46)","v":""},{"$f":"IF('9組'!W46=\"\",\"\",'9組'!W46)","v":""},{"$f":"IF('9組'!X46=\"\",\"\",'9組'!X46)","v":""},{"$f":"IF('9組'!Y46=\"\",\"\",'9組'!Y46)","v":""},{"$f":"IF('9組'!Z46=\"\",\"\",'9組'!Z46)","v":""},null,null,null,null,null,{"$f":"IF('9組'!AF46=\"\",\"\",'9組'!AF46)","v":""},{"$f":"IF('9組'!AG46=\"\",\"\",'9組'!AG46)","v":""},{"$f":"IF('9組'!AH46=\"\",\"\",'9組'!AH46)","v":""},{"$f":"IF('9組'!AI46=\"\",\"\",'9組'!AI46)","v":""},{"$f":"IF('9組'!AJ46=\"\",\"\",'9組'!AJ46)","v":""}]
[null,null,null,null,10924,null,9,24,null,null,"",{"$f":"IF('9組'!L47=\"\",\"\",'9組'!L47)","v":""},{"$f":"IF('9組'!M47=\"\",\"\",'9組'!M47)","v":""},{"$f":"IF('9組'!N47=\"\",\"\",'9組'!N47)","v":""},{"$f":"IF('9組'!O47=\"\",\"\",'9組'!O47)","v":""},{"$f":"IF('9組'!P47=\"\",\"\",'9組'!P47)","v":""},null,null,null,null,null,{"$f":"IF('9組'!V47=\"\",\"\",'9組'!V47)","v":""},{"$f":"IF('9組'!W47=\"\",\"\",'9組'!W47)","v":""},{"$f":"IF('9組'!X47=\"\",\"\",'9組'!X47)","v":""},{"$f":"IF('9組'!Y47=\"\",\"\",'9組'!Y47)","v":""},{"$f":"IF('9組'!Z47=\"\",\"\",'9組'!Z47)","v":""},null,null,null,null,null,{"$f":"IF('9組'!AF47=\"\",\"\",'9組'!AF47)","v":""},{"$f":"IF('9組'!AG47=\"\",\"\",'9組'!AG47)","v":""},{"$f":"IF('9組'!AH47=\"\",\"\",'9組'!AH47)","v":""},{"$f":"IF('9組'!AI47=\"\",\"\",'9組'!AI47)","v":""},{"$f":"IF('9組'!AJ47=\"\",\"\",'9組'!AJ47)","v":""}]
[null,null,null,null,10925,null,9,25,null,null,"",{"$f":"IF('9組'!L48=\"\",\"\",'9組'!L48)","v":""},{"$f":"IF('9組'!M48=\"\",\"\",'9組'!M48)","v":""},{"$f":"IF('9組'!N48=\"\",\"\",'9組'!N48)","v":""},{"$f":"IF('9組'!O48=\"\",\"\",'9組'!O48)","v":""},{"$f":"IF('9組'!P48=\"\",\"\",'9組'!P48)","v":""},null,null,null,null,null,{"$f":"IF('9組'!V48=\"\",\"\",'9組'!V48)","v":""},{"$f":"IF('9組'!W48=\"\",\"\",'9組'!W48)","v":""},{"$f":"IF('9組'!X48=\"\",\"\",'9組'!X48)","v":""},{"$f":"IF('9組'!Y48=\"\",\"\",'9組'!Y48)","v":""},{"$f":"IF('9組'!Z48=\"\",\"\",'9組'!Z48)","v":""},null,null,null,null,null,{"$f":"IF('9組'!AF48=\"\",\"\",'9組'!AF48)","v":""},{"$f":"IF('9組'!AG48=\"\",\"\",'9組'!AG48)","v":""},{"$f":"IF('9組'!AH48=\"\",\"\",'9組'!AH48)","v":""},{"$f":"IF('9組'!AI48=\"\",\"\",'9組'!AI48)","v":""},{"$f":"IF('9組'!AJ48=\"\",\"\",'9組'!AJ48)","v":""}]
[null,null,null,null,10926,null,9,26,null,null,"",{"$f":"IF('9組'!L49=\"\",\"\",'9組'!L49)","v":""},{"$f":"IF('9組'!M49=\"\",\"\",'9組'!M49)","v":""},{"$f":"IF('9組'!N49=\"\",\"\",'9組'!N49)","v":""},{"$f":"IF('9組'!O49=\"\",\"\",'9組'!O49)","v":""},{"$f":"IF('9組'!P49=\"\",\"\",'9組'!P49)","v":""},null,null,null,null,null,{"$f":"IF('9組'!V49=\"\",\"\",'9組'!V49)","v":""},{"$f":"IF('9組'!W49=\"\",\"\",'9組'!W49)","v":""},{"$f":"IF('9組'!X49=\"\",\"\",'9組'!X49)","v":""},{"$f":"IF('9組'!Y49=\"\",\"\",'9組'!Y49)","v":""},{"$f":"IF('9組'!Z49=\"\",\"\",'9組'!Z49)","v":""},null,null,null,null,null,{"$f":"IF('9組'!AF49=\"\",\"\",'9組'!AF49)","v":""},{"$f":"IF('9組'!AG49=\"\",\"\",'9組'!AG49)","v":""},{"$f":"IF('9組'!AH49=\"\",\"\",'9組'!AH49)","v":""},{"$f":"IF('9組'!AI49=\"\",\"\",'9組'!AI49)","v":""},{"$f":"IF('9組'!AJ49=\"\",\"\",'9組'!AJ49)","v":""}]
[null,null,null,null,10927,null,9,27,null,null,"",{"$f":"IF('9組'!L50=\"\",\"\",'9組'!L50)","v":""},{"$f":"IF('9組'!M50=\"\",\"\",'9組'!M50)","v":""},{"$f":"IF('9組'!N50=\"\",\"\",'9組'!N50)","v":""},{"$f":"IF('9組'!O50=\"\",\"\",'9組'!O50)","v":""},{"$f":"IF('9組'!P50=\"\",\"\",'9組'!P50)","v":""},null,null,null,null,null,{"$f":"IF('9組'!V50=\"\",\"\",'9組'!V50)","v":""},{"$f":"IF('9組'!W50=\"\",\"\",'9組'!W50)","v":""},{"$f":"IF('9組'!X50=\"\",\"\",'9組'!X50)","v":""},{"$f":"IF('9組'!Y50=\"\",\"\",'9組'!Y50)","v":""},{"$f":"IF('9組'!Z50=\"\",\"\",'9組'!Z50)","v":""},null,null,null,null,null,{"$f":"IF('9組'!AF50=\"\",\"\",'9組'!AF50)","v":""},{"$f":"IF('9組'!AG50=\"\",\"\",'9組'!AG50)","v":""},{"$f":"IF('9組'!AH50=\"\",\"\",'9組'!AH50)","v":""},{"$f":"IF('9組'!AI50=\"\",\"\",'9組'!AI50)","v":""},{"$f":"IF('9組'!AJ50=\"\",\"\",'9組'!AJ50)","v":""}]
[null,null,null,null,10928,null,9,28,null,null,"",{"$f":"IF('9組'!L51=\"\",\"\",'9組'!L51)","v":""},{"$f":"IF('9組'!M51=\"\",\"\",'9組'!M51)","v":""},{"$f":"IF('9組'!N51=\"\",\"\",'9組'!N51)","v":""},{"$f":"IF('9組'!O51=\"\",\"\",'9組'!O51)","v":""},{"$f":"IF('9組'!P51=\"\",\"\",'9組'!P51)","v":""},null,null,null,null,null,{"$f":"IF('9組'!V51=\"\",\"\",'9組'!V51)","v":""},{"$f":"IF('9組'!W51=\"\",\"\",'9組'!W51)","v":""},{"$f":"IF('9組'!X51=\"\",\"\",'9組'!X51)","v":""},{"$f":"IF('9組'!Y51=\"\",\"\",'9組'!Y51)","v":""},{"$f":"IF('9組'!Z51=\"\",\"\",'9組'!Z51)","v":""},null,null,null,null,null,{"$f":"IF('9組'!AF51=\"\",\"\",'9組'!AF51)","v":""},{"$f":"IF('9組'!AG51=\"\",\"\",'9組'!AG51)","v":""},{"$f":"IF('9組'!AH51=\"\",\"\",'9組'!AH51)","v":""},{"$f":"IF('9組'!AI51=\"\",\"\",'9組'!AI51)","v":""},{"$f":"IF('9組'!AJ51=\"\",\"\",'9組'!AJ51)","v":""}]
[null,null,null,null,10929,null,9,29,null,null,"",{"$f":"IF('9組'!L52=\"\",\"\",'9組'!L52)","v":""},{"$f":"IF('9組'!M52=\"\",\"\",'9組'!M52)","v":""},{"$f":"IF('9組'!N52=\"\",\"\",'9組'!N52)","v":""},{"$f":"IF('9組'!O52=\"\",\"\",'9組'!O52)","v":""},{"$f":"IF('9組'!P52=\"\",\"\",'9組'!P52)","v":""},null,null,null,null,null,{"$f":"IF('9組'!V52=\"\",\"\",'9組'!V52)","v":""},{"$f":"IF('9組'!W52=\"\",\"\",'9組'!W52)","v":""},{"$f":"IF('9組'!X52=\"\",\"\",'9組'!X52)","v":""},{"$f":"IF('9組'!Y52=\"\",\"\",'9組'!Y52)","v":""},{"$f":"IF('9組'!Z52=\"\",\"\",'9組'!Z52)","v":""},null,null,null,null,null,{"$f":"IF('9組'!AF52=\"\",\"\",'9組'!AF52)","v":""},{"$f":"IF('9組'!AG52=\"\",\"\",'9組'!AG52)","v":""},{"$f":"IF('9組'!AH52=\"\",\"\",'9組'!AH52)","v":""},{"$f":"IF('9組'!AI52=\"\",\"\",'9組'!AI52)","v":""},{"$f":"IF('9組'!AJ52=\"\",\"\",'9組'!AJ52)","v":""}]
[null,null,null,null,10930,null,9,30,null,null,"",{"$f":"IF('9組'!L53=\"\",\"\",'9組'!L53)","v":""},{"$f":"IF('9組'!M53=\"\",\"\",'9組'!M53)","v":""},{"$f":"IF('9組'!N53=\"\",\"\",'9組'!N53)","v":""},{"$f":"IF('9組'!O53=\"\",\"\",'9組'!O53)","v":""},{"$f":"IF('9組'!P53=\"\",\"\",'9組'!P53)","v":""},null,null,null,null,null,{"$f":"IF('9組'!V53=\"\",\"\",'9組'!V53)","v":""},{"$f":"IF('9組'!W53=\"\",\"\",'9組'!W53)","v":""},{"$f":"IF('9組'!X53=\"\",\"\",'9組'!X53)","v":""},{"$f":"IF('9組'!Y53=\"\",\"\",'9組'!Y53)","v":""},{"$f":"IF('9組'!Z53=\"\",\"\",'9組'!Z53)","v":""},null,null,null,null,null,{"$f":"IF('9組'!AF53=\"\",\"\",'9組'!AF53)","v":""},{"$f":"IF('9組'!AG53=\"\",\"\",'9組'!AG53)","v":""},{"$f":"IF('9組'!AH53=\"\",\"\",'9組'!AH53)","v":""},{"$f":"IF('9組'!AI53=\"\",\"\",'9組'!AI53)","v":""},{"$f":"IF('9組'!AJ53=\"\",\"\",'9組'!AJ53)","v":""}]
[null,null,null,null,10931,null,9,31,null,null,"",{"$f":"IF('9組'!L54=\"\",\"\",'9組'!L54)","v":""},{"$f":"IF('9組'!M54=\"\",\"\",'9組'!M54)","v":""},{"$f":"IF('9組'!N54=\"\",\"\",'9組'!N54)","v":""},{"$f":"IF('9組'!O54=\"\",\"\",'9組'!O54)","v":""},{"$f":"IF('9組'!P54=\"\",\"\",'9組'!P54)","v":""},null,null,null,null,null,{"$f":"IF('9組'!V54=\"\",\"\",'9組'!V54)","v":""},{"$f":"IF('9組'!W54=\"\",\"\",'9組'!W54)","v":""},{"$f":"IF('9組'!X54=\"\",\"\",'9組'!X54)","v":""},{"$f":"IF('9組'!Y54=\"\",\"\",'9組'!Y54)","v":""},{"$f":"IF('9組'!Z54=\"\",\"\",'9組'!Z54)","v":""},null,null,null,null,null,{"$f":"IF('9組'!AF54=\"\",\"\",'9組'!AF54)","v":""},{"$f":"IF('9組'!AG54=\"\",\"\",'9組'!AG54)","v":""},{"$f":"IF('9組'!AH54=\"\",\"\",'9組'!AH54)","v":""},{"$f":"IF('9組'!AI54=\"\",\"\",'9組'!AI54)","v":""},{"$f":"IF('9組'!AJ54=\"\",\"\",'9組'!AJ54)","v":""}]
[null,null,null,null,10932,null,9,32,null,null,"",{"$f":"IF('9組'!L55=\"\",\"\",'9組'!L55)","v":""},{"$f":"IF('9組'!M55=\"\",\"\",'9組'!M55)","v":""},{"$f":"IF('9組'!N55=\"\",\"\",'9組'!N55)","v":""},{"$f":"IF('9組'!O55=\"\",\"\",'9組'!O55)","v":""},{"$f":"IF('9組'!P55=\"\",\"\",'9組'!P55)","v":""},null,null,null,null,null,{"$f":"IF('9組'!V55=\"\",\"\",'9組'!V55)","v":""},{"$f":"IF('9組'!W55=\"\",\"\",'9組'!W55)","v":""},{"$f":"IF('9組'!X55=\"\",\"\",'9組'!X55)","v":""},{"$f":"IF('9組'!Y55=\"\",\"\",'9組'!Y55)","v":""},{"$f":"IF('9組'!Z55=\"\",\"\",'9組'!Z55)","v":""},null,null,null,null,null,{"$f":"IF('9組'!AF55=\"\",\"\",'9組'!AF55)","v":""},{"$f":"IF('9組'!AG55=\"\",\"\",'9組'!AG55)","v":""},{"$f":"IF('9組'!AH55=\"\",\"\",'9組'!AH55)","v":""},{"$f":"IF('9組'!AI55=\"\",\"\",'9組'!AI55)","v":""},{"$f":"IF('9組'!AJ55=\"\",\"\",'9組'!AJ55)","v":""}]
[null,null,null,null,10933,null,9,33,null,null,"",{"$f":"IF('9組'!L56=\"\",\"\",'9組'!L56)","v":""},{"$f":"IF('9組'!M56=\"\",\"\",'9組'!M56)","v":""},{"$f":"IF('9組'!N56=\"\",\"\",'9組'!N56)","v":""},{"$f":"IF('9組'!O56=\"\",\"\",'9組'!O56)","v":""},{"$f":"IF('9組'!P56=\"\",\"\",'9組'!P56)","v":""},null,null,null,null,null,{"$f":"IF('9組'!V56=\"\",\"\",'9組'!V56)","v":""},{"$f":"IF('9組'!W56=\"\",\"\",'9組'!W56)","v":""},{"$f":"IF('9組'!X56=\"\",\"\",'9組'!X56)","v":""},{"$f":"IF('9組'!Y56=\"\",\"\",'9組'!Y56)","v":""},{"$f":"IF('9組'!Z56=\"\",\"\",'9組'!Z56)","v":""},null,null,null,null,null,{"$f":"IF('9組'!AF56=\"\",\"\",'9組'!AF56)","v":""},{"$f":"IF('9組'!AG56=\"\",\"\",'9組'!AG56)","v":""},{"$f":"IF('9組'!AH56=\"\",\"\",'9組'!AH56)","v":""},{"$f":"IF('9組'!AI56=\"\",\"\",'9組'!AI56)","v":""},{"$f":"IF('9組'!AJ56=\"\",\"\",'9組'!AJ56)","v":""}]
[null,null,null,null,10934,null,9,34,null,null,"",{"$f":"IF('9組'!L57=\"\",\"\",'9組'!L57)","v":""},{"$f":"IF('9組'!M57=\"\",\"\",'9組'!M57)","v":""},{"$f":"IF('9組'!N57=\"\",\"\",'9組'!N57)","v":""},{"$f":"IF('9組'!O57=\"\",\"\",'9組'!O57)","v":""},{"$f":"IF('9組'!P57=\"\",\"\",'9組'!P57)","v":""},null,null,null,null,null,{"$f":"IF('9組'!V57=\"\",\"\",'9組'!V57)","v":""},{"$f":"IF('9組'!W57=\"\",\"\",'9組'!W57)","v":""},{"$f":"IF('9組'!X57=\"\",\"\",'9組'!X57)","v":""},{"$f":"IF('9組'!Y57=\"\",\"\",'9組'!Y57)","v":""},{"$f":"IF('9組'!Z57=\"\",\"\",'9組'!Z57)","v":""},null,null,null,null,null,{"$f":"IF('9組'!AF57=\"\",\"\",'9組'!AF57)","v":""},{"$f":"IF('9組'!AG57=\"\",\"\",'9組'!AG57)","v":""},{"$f":"IF('9組'!AH57=\"\",\"\",'9組'!AH57)","v":""},{"$f":"IF('9組'!AI57=\"\",\"\",'9組'!AI57)","v":""},{"$f":"IF('9組'!AJ57=\"\",\"\",'9組'!AJ57)","v":""}]
[null,null,null,null,10935,null,9,35,null,null,"",{"$f":"IF('9組'!L58=\"\",\"\",'9組'!L58)","v":""},{"$f":"IF('9組'!M58=\"\",\"\",'9組'!M58)","v":""},{"$f":"IF('9組'!N58=\"\",\"\",'9組'!N58)","v":""},{"$f":"IF('9組'!O58=\"\",\"\",'9組'!O58)","v":""},{"$f":"IF('9組'!P58=\"\",\"\",'9組'!P58)","v":""},null,null,null,null,null,{"$f":"IF('9組'!V58=\"\",\"\",'9組'!V58)","v":""},{"$f":"IF('9組'!W58=\"\",\"\",'9組'!W58)","v":""},{"$f":"IF('9組'!X58=\"\",\"\",'9組'!X58)","v":""},{"$f":"IF('9組'!Y58=\"\",\"\",'9組'!Y58)","v":""},{"$f":"IF('9組'!Z58=\"\",\"\",'9組'!Z58)","v":""},null,null,null,null,null,{"$f":"IF('9組'!AF58=\"\",\"\",'9組'!AF58)","v":""},{"$f":"IF('9組'!AG58=\"\",\"\",'9組'!AG58)","v":""},{"$f":"IF('9組'!AH58=\"\",\"\",'9組'!AH58)","v":""},{"$f":"IF('9組'!AI58=\"\",\"\",'9組'!AI58)","v":""},{"$f":"IF('9組'!AJ58=\"\",\"\",'9組'!AJ58)","v":""}]
[null,null,null,null,10936,null,9,36,null,null,"",{"$f":"IF('9組'!L59=\"\",\"\",'9組'!L59)","v":""},{"$f":"IF('9組'!M59=\"\",\"\",'9組'!M59)","v":""},{"$f":"IF('9組'!N59=\"\",\"\",'9組'!N59)","v":""},{"$f":"IF('9組'!O59=\"\",\"\",'9組'!O59)","v":""},{"$f":"IF('9組'!P59=\"\",\"\",'9組'!P59)","v":""},null,null,null,null,null,{"$f":"IF('9組'!V59=\"\",\"\",'9組'!V59)","v":""},{"$f":"IF('9組'!W59=\"\",\"\",'9組'!W59)","v":""},{"$f":"IF('9組'!X59=\"\",\"\",'9組'!X59)","v":""},{"$f":"IF('9組'!Y59=\"\",\"\",'9組'!Y59)","v":""},{"$f":"IF('9組'!Z59=\"\",\"\",'9組'!Z59)","v":""},null,null,null,null,null,{"$f":"IF('9組'!AF59=\"\",\"\",'9組'!AF59)","v":""},{"$f":"IF('9組'!AG59=\"\",\"\",'9組'!AG59)","v":""},{"$f":"IF('9組'!AH59=\"\",\"\",'9組'!AH59)","v":""},{"$f":"IF('9組'!AI59=\"\",\"\",'9組'!AI59)","v":""},{"$f":"IF('9組'!AJ59=\"\",\"\",'9組'!AJ59)","v":""}]
[null,null,null,null,10937,null,9,37,null,null,"",{"$f":"IF('9組'!L60=\"\",\"\",'9組'!L60)","v":""},{"$f":"IF('9組'!M60=\"\",\"\",'9組'!M60)","v":""},{"$f":"IF('9組'!N60=\"\",\"\",'9組'!N60)","v":""},{"$f":"IF('9組'!O60=\"\",\"\",'9組'!O60)","v":""},{"$f":"IF('9組'!P60=\"\",\"\",'9組'!P60)","v":""},null,null,null,null,null,{"$f":"IF('9組'!V60=\"\",\"\",'9組'!V60)","v":""},{"$f":"IF('9組'!W60=\"\",\"\",'9組'!W60)","v":""},{"$f":"IF('9組'!X60=\"\",\"\",'9組'!X60)","v":""},{"$f":"IF('9組'!Y60=\"\",\"\",'9組'!Y60)","v":""},{"$f":"IF('9組'!Z60=\"\",\"\",'9組'!Z60)","v":""},null,null,null,null,null,{"$f":"IF('9組'!AF60=\"\",\"\",'9組'!AF60)","v":""},{"$f":"IF('9組'!AG60=\"\",\"\",'9組'!AG60)","v":""},{"$f":"IF('9組'!AH60=\"\",\"\",'9組'!AH60)","v":""},{"$f":"IF('9組'!AI60=\"\",\"\",'9組'!AI60)","v":""},{"$f":"IF('9組'!AJ60=\"\",\"\",'9組'!AJ60)","v":""}]
[null,null,null,null,10938,null,9,38,null,null,"",{"$f":"IF('9組'!L61=\"\",\"\",'9組'!L61)","v":""},{"$f":"IF('9組'!M61=\"\",\"\",'9組'!M61)","v":""},{"$f":"IF('9組'!N61=\"\",\"\",'9組'!N61)","v":""},{"$f":"IF('9組'!O61=\"\",\"\",'9組'!O61)","v":""},{"$f":"IF('9組'!P61=\"\",\"\",'9組'!P61)","v":""},null,null,null,null,null,{"$f":"IF('9組'!V61=\"\",\"\",'9組'!V61)","v":""},{"$f":"IF('9組'!W61=\"\",\"\",'9組'!W61)","v":""},{"$f":"IF('9組'!X61=\"\",\"\",'9組'!X61)","v":""},{"$f":"IF('9組'!Y61=\"\",\"\",'9組'!Y61)","v":""},{"$f":"IF('9組'!Z61=\"\",\"\",'9組'!Z61)","v":""},null,null,null,null,null,{"$f":"IF('9組'!AF61=\"\",\"\",'9組'!AF61)","v":""},{"$f":"IF('9組'!AG61=\"\",\"\",'9組'!AG61)","v":""},{"$f":"IF('9組'!AH61=\"\",\"\",'9組'!AH61)","v":""},{"$f":"IF('9組'!AI61=\"\",\"\",'9組'!AI61)","v":""},{"$f":"IF('9組'!AJ61=\"\",\"\",'9組'!AJ61)","v":""}]
[null,null,null,null,10939,null,9,39,null,null,"",{"$f":"IF('9組'!L62=\"\",\"\",'9組'!L62)","v":""},{"$f":"IF('9組'!M62=\"\",\"\",'9組'!M62)","v":""},{"$f":"IF('9組'!N62=\"\",\"\",'9組'!N62)","v":""},{"$f":"IF('9組'!O62=\"\",\"\",'9組'!O62)","v":""},{"$f":"IF('9組'!P62=\"\",\"\",'9組'!P62)","v":""},null,null,null,null,null,{"$f":"IF('9組'!V62=\"\",\"\",'9組'!V62)","v":""},{"$f":"IF('9組'!W62=\"\",\"\",'9組'!W62)","v":""},{"$f":"IF('9組'!X62=\"\",\"\",'9組'!X62)","v":""},{"$f":"IF('9組'!Y62=\"\",\"\",'9組'!Y62)","v":""},{"$f":"IF('9組'!Z62=\"\",\"\",'9組'!Z62)","v":""},null,null,null,null,null,{"$f":"IF('9組'!AF62=\"\",\"\",'9組'!AF62)","v":""},{"$f":"IF('9組'!AG62=\"\",\"\",'9組'!AG62)","v":""},{"$f":"IF('9組'!AH62=\"\",\"\",'9組'!AH62)","v":""},{"$f":"IF('9組'!AI62=\"\",\"\",'9組'!AI62)","v":""},{"$f":"IF('9組'!AJ62=\"\",\"\",'9組'!AJ62)","v":""}]
[null,null,null,null,10940,null,9,40,null,null,"",{"$f":"IF('9組'!L63=\"\",\"\",'9組'!L63)","v":""},{"$f":"IF('9組'!M63=\"\",\"\",'9組'!M63)","v":""},{"$f":"IF('9組'!N63=\"\",\"\",'9組'!N63)","v":""},{"$f":"IF('9組'!O63=\"\",\"\",'9組'!O63)","v":""},{"$f":"IF('9組'!P63=\"\",\"\",'9組'!P63)","v":""},null,null,null,null,null,{"$f":"IF('9組'!V63=\"\",\"\",'9組'!V63)","v":""},{"$f":"IF('9組'!W63=\"\",\"\",'9組'!W63)","v":""},{"$f":"IF('9組'!X63=\"\",\"\",'9組'!X63)","v":""},{"$f":"IF('9組'!Y63=\"\",\"\",'9組'!Y63)","v":""},{"$f":"IF('9組'!Z63=\"\",\"\",'9組'!Z63)","v":""},null,null,null,null,null,{"$f":"IF('9組'!AF63=\"\",\"\",'9組'!AF63)","v":""},{"$f":"IF('9組'!AG63=\"\",\"\",'9組'!AG63)","v":""},{"$f":"IF('9組'!AH63=\"\",\"\",'9組'!AH63)","v":""},{"$f":"IF('9組'!AI63=\"\",\"\",'9組'!AI63)","v":""},{"$f":"IF('9組'!AJ63=\"\",\"\",'9組'!AJ63)","v":""}]
[null,null,null,null,10941,null,9,41,null,null,"",{"$f":"IF('9組'!L64=\"\",\"\",'9組'!L64)","v":""},{"$f":"IF('9組'!M64=\"\",\"\",'9組'!M64)","v":""},{"$f":"IF('9組'!N64=\"\",\"\",'9組'!N64)","v":""},{"$f":"IF('9組'!O64=\"\",\"\",'9組'!O64)","v":""},{"$f":"IF('9組'!P64=\"\",\"\",'9組'!P64)","v":""},null,null,null,null,null,{"$f":"IF('9組'!V64=\"\",\"\",'9組'!V64)","v":""},{"$f":"IF('9組'!W64=\"\",\"\",'9組'!W64)","v":""},{"$f":"IF('9組'!X64=\"\",\"\",'9組'!X64)","v":""},{"$f":"IF('9組'!Y64=\"\",\"\",'9組'!Y64)","v":""},{"$f":"IF('9組'!Z64=\"\",\"\",'9組'!Z64)","v":""},null,null,null,null,null,{"$f":"IF('9組'!AF64=\"\",\"\",'9組'!AF64)","v":""},{"$f":"IF('9組'!AG64=\"\",\"\",'9組'!AG64)","v":""},{"$f":"IF('9組'!AH64=\"\",\"\",'9組'!AH64)","v":""},{"$f":"IF('9組'!AI64=\"\",\"\",'9組'!AI64)","v":""},{"$f":"IF('9組'!AJ64=\"\",\"\",'9組'!AJ64)","v":""}]
[null,null,null,null,10942,null,9,42,null,null,"",{"$f":"IF('9組'!L65=\"\",\"\",'9組'!L65)","v":""},{"$f":"IF('9組'!M65=\"\",\"\",'9組'!M65)","v":""},{"$f":"IF('9組'!N65=\"\",\"\",'9組'!N65)","v":""},{"$f":"IF('9組'!O65=\"\",\"\",'9組'!O65)","v":""},{"$f":"IF('9組'!P65=\"\",\"\",'9組'!P65)","v":""},null,null,null,null,null,{"$f":"IF('9組'!V65=\"\",\"\",'9組'!V65)","v":""},{"$f":"IF('9組'!W65=\"\",\"\",'9組'!W65)","v":""},{"$f":"IF('9組'!X65=\"\",\"\",'9組'!X65)","v":""},{"$f":"IF('9組'!Y65=\"\",\"\",'9組'!Y65)","v":""},{"$f":"IF('9組'!Z65=\"\",\"\",'9組'!Z65)","v":""},null,null,null,null,null,{"$f":"IF('9組'!AF65=\"\",\"\",'9組'!AF65)","v":""},{"$f":"IF('9組'!AG65=\"\",\"\",'9組'!AG65)","v":""},{"$f":"IF('9組'!AH65=\"\",\"\",'9組'!AH65)","v":""},{"$f":"IF('9組'!AI65=\"\",\"\",'9組'!AI65)","v":""},{"$f":"IF('9組'!AJ65=\"\",\"\",'9組'!AJ65)","v":""}]
[null,null,null,null,10943,null,9,43,null,null,"",{"$f":"IF('9組'!L66=\"\",\"\",'9組'!L66)","v":""},{"$f":"IF('9組'!M66=\"\",\"\",'9組'!M66)","v":""},{"$f":"IF('9組'!N66=\"\",\"\",'9組'!N66)","v":""},{"$f":"IF('9組'!O66=\"\",\"\",'9組'!O66)","v":""},{"$f":"IF('9組'!P66=\"\",\"\",'9組'!P66)","v":""},null,null,null,null,null,{"$f":"IF('9組'!V66=\"\",\"\",'9組'!V66)","v":""},{"$f":"IF('9組'!W66=\"\",\"\",'9組'!W66)","v":""},{"$f":"IF('9組'!X66=\"\",\"\",'9組'!X66)","v":""},{"$f":"IF('9組'!Y66=\"\",\"\",'9組'!Y66)","v":""},{"$f":"IF('9組'!Z66=\"\",\"\",'9組'!Z66)","v":""},null,null,null,null,null,{"$f":"IF('9組'!AF66=\"\",\"\",'9組'!AF66)","v":""},{"$f":"IF('9組'!AG66=\"\",\"\",'9組'!AG66)","v":""},{"$f":"IF('9組'!AH66=\"\",\"\",'9組'!AH66)","v":""},{"$f":"IF('9組'!AI66=\"\",\"\",'9組'!AI66)","v":""},{"$f":"IF('9組'!AJ66=\"\",\"\",'9組'!AJ66)","v":""}]
[null,null,null,null,10944,null,9,44,null,null,"",{"$f":"IF('9組'!L67=\"\",\"\",'9組'!L67)","v":""},{"$f":"IF('9組'!M67=\"\",\"\",'9組'!M67)","v":""},{"$f":"IF('9組'!N67=\"\",\"\",'9組'!N67)","v":""},{"$f":"IF('9組'!O67=\"\",\"\",'9組'!O67)","v":""},{"$f":"IF('9組'!P67=\"\",\"\",'9組'!P67)","v":""},null,null,null,null,null,{"$f":"IF('9組'!V67=\"\",\"\",'9組'!V67)","v":""},{"$f":"IF('9組'!W67=\"\",\"\",'9組'!W67)","v":""},{"$f":"IF('9組'!X67=\"\",\"\",'9組'!X67)","v":""},{"$f":"IF('9組'!Y67=\"\",\"\",'9組'!Y67)","v":""},{"$f":"IF('9組'!Z67=\"\",\"\",'9組'!Z67)","v":""},null,null,null,null,null,{"$f":"IF('9組'!AF67=\"\",\"\",'9組'!AF67)","v":""},{"$f":"IF('9組'!AG67=\"\",\"\",'9組'!AG67)","v":""},{"$f":"IF('9組'!AH67=\"\",\"\",'9組'!AH67)","v":""},{"$f":"IF('9組'!AI67=\"\",\"\",'9組'!AI67)","v":""},{"$f":"IF('9組'!AJ67=\"\",\"\",'9組'!AJ67)","v":""}]
[null,null,null,null,10945,null,9,45,null,null,"",{"$f":"IF('9組'!L68=\"\",\"\",'9組'!L68)","v":""},{"$f":"IF('9組'!M68=\"\",\"\",'9組'!M68)","v":""},{"$f":"IF('9組'!N68=\"\",\"\",'9組'!N68)","v":""},{"$f":"IF('9組'!O68=\"\",\"\",'9組'!O68)","v":""},{"$f":"IF('9組'!P68=\"\",\"\",'9組'!P68)","v":""},null,null,null,null,null,{"$f":"IF('9組'!V68=\"\",\"\",'9組'!V68)","v":""},{"$f":"IF('9組'!W68=\"\",\"\",'9組'!W68)","v":""},{"$f":"IF('9組'!X68=\"\",\"\",'9組'!X68)","v":""},{"$f":"IF('9組'!Y68=\"\",\"\",'9組'!Y68)","v":""},{"$f":"IF('9組'!Z68=\"\",\"\",'9組'!Z68)","v":""},null,null,null,null,null,{"$f":"IF('9組'!AF68=\"\",\"\",'9組'!AF68)","v":""},{"$f":"IF('9組'!AG68=\"\",\"\",'9組'!AG68)","v":""},{"$f":"IF('9組'!AH68=\"\",\"\",'9組'!AH68)","v":""},{"$f":"IF('9組'!AI68=\"\",\"\",'9組'!AI68)","v":""},{"$f":"IF('9組'!AJ68=\"\",\"\",'9組'!AJ68)","v":""}]
[null,null,null,null,10946,null,9,46,null,null,"",{"$f":"IF('9組'!L69=\"\",\"\",'9組'!L69)","v":""},{"$f":"IF('9組'!M69=\"\",\"\",'9組'!M69)","v":""},{"$f":"IF('9組'!N69=\"\",\"\",'9組'!N69)","v":""},{"$f":"IF('9組'!O69=\"\",\"\",'9組'!O69)","v":""},{"$f":"IF('9組'!P69=\"\",\"\",'9組'!P69)","v":""},null,null,null,null,null,{"$f":"IF('9組'!V69=\"\",\"\",'9組'!V69)","v":""},{"$f":"IF('9組'!W69=\"\",\"\",'9組'!W69)","v":""},{"$f":"IF('9組'!X69=\"\",\"\",'9組'!X69)","v":""},{"$f":"IF('9組'!Y69=\"\",\"\",'9組'!Y69)","v":""},{"$f":"IF('9組'!Z69=\"\",\"\",'9組'!Z69)","v":""},null,null,null,null,null,{"$f":"IF('9組'!AF69=\"\",\"\",'9組'!AF69)","v":""},{"$f":"IF('9組'!AG69=\"\",\"\",'9組'!AG69)","v":""},{"$f":"IF('9組'!AH69=\"\",\"\",'9組'!AH69)","v":""},{"$f":"IF('9組'!AI69=\"\",\"\",'9組'!AI69)","v":""},{"$f":"IF('9組'!AJ69=\"\",\"\",'9組'!AJ69)","v":""}]
[null,null,null,null,10947,null,9,47,null,null,"",{"$f":"IF('9組'!L70=\"\",\"\",'9組'!L70)","v":""},{"$f":"IF('9組'!M70=\"\",\"\",'9組'!M70)","v":""},{"$f":"IF('9組'!N70=\"\",\"\",'9組'!N70)","v":""},{"$f":"IF('9組'!O70=\"\",\"\",'9組'!O70)","v":""},{"$f":"IF('9組'!P70=\"\",\"\",'9組'!P70)","v":""},null,null,null,null,null,{"$f":"IF('9組'!V70=\"\",\"\",'9組'!V70)","v":""},{"$f":"IF('9組'!W70=\"\",\"\",'9組'!W70)","v":""},{"$f":"IF('9組'!X70=\"\",\"\",'9組'!X70)","v":""},{"$f":"IF('9組'!Y70=\"\",\"\",'9組'!Y70)","v":""},{"$f":"IF('9組'!Z70=\"\",\"\",'9組'!Z70)","v":""},null,null,null,null,null,{"$f":"IF('9組'!AF70=\"\",\"\",'9組'!AF70)","v":""},{"$f":"IF('9組'!AG70=\"\",\"\",'9組'!AG70)","v":""},{"$f":"IF('9組'!AH70=\"\",\"\",'9組'!AH70)","v":""},{"$f":"IF('9組'!AI70=\"\",\"\",'9組'!AI70)","v":""},{"$f":"IF('9組'!AJ70=\"\",\"\",'9組'!AJ70)","v":""}]
[null,null,null,null,10948,null,9,48,null,null,"",{"$f":"IF('9組'!L71=\"\",\"\",'9組'!L71)","v":""},{"$f":"IF('9組'!M71=\"\",\"\",'9組'!M71)","v":""},{"$f":"IF('9組'!N71=\"\",\"\",'9組'!N71)","v":""},{"$f":"IF('9組'!O71=\"\",\"\",'9組'!O71)","v":""},{"$f":"IF('9組'!P71=\"\",\"\",'9組'!P71)","v":""},null,null,null,null,null,{"$f":"IF('9組'!V71=\"\",\"\",'9組'!V71)","v":""},{"$f":"IF('9組'!W71=\"\",\"\",'9組'!W71)","v":""},{"$f":"IF('9組'!X71=\"\",\"\",'9組'!X71)","v":""},{"$f":"IF('9組'!Y71=\"\",\"\",'9組'!Y71)","v":""},{"$f":"IF('9組'!Z71=\"\",\"\",'9組'!Z71)","v":""},null,null,null,null,null,{"$f":"IF('9組'!AF71=\"\",\"\",'9組'!AF71)","v":""},{"$f":"IF('9組'!AG71=\"\",\"\",'9組'!AG71)","v":""},{"$f":"IF('9組'!AH71=\"\",\"\",'9組'!AH71)","v":""},{"$f":"IF('9組'!AI71=\"\",\"\",'9組'!AI71)","v":""},{"$f":"IF('9組'!AJ71=\"\",\"\",'9組'!AJ71)","v":""}]
[null,null,null,null,{"$f":"$H$8*10000+G472*100+H472","v":10949},null,9,49,null,null,"",{"$f":"IF('9組'!L72=\"\",\"\",'9組'!L72)","v":""},{"$f":"IF('9組'!M72=\"\",\"\",'9組'!M72)","v":""},{"$f":"IF('9組'!N72=\"\",\"\",'9組'!N72)","v":""},{"$f":"IF('9組'!O72=\"\",\"\",'9組'!O72)","v":""},{"$f":"IF('9組'!P72=\"\",\"\",'9組'!P72)","v":""},null,null,null,null,null,{"$f":"IF('9組'!V72=\"\",\"\",'9組'!V72)","v":""},{"$f":"IF('9組'!W72=\"\",\"\",'9組'!W72)","v":""},{"$f":"IF('9組'!X72=\"\",\"\",'9組'!X72)","v":""},{"$f":"IF('9組'!Y72=\"\",\"\",'9組'!Y72)","v":""},{"$f":"IF('9組'!Z72=\"\",\"\",'9組'!Z72)","v":""},null,null,null,null,null,{"$f":"IF('9組'!AF72=\"\",\"\",'9組'!AF72)","v":""},{"$f":"IF('9組'!AG72=\"\",\"\",'9組'!AG72)","v":""},{"$f":"IF('9組'!AH72=\"\",\"\",'9組'!AH72)","v":""},{"$f":"IF('9組'!AI72=\"\",\"\",'9組'!AI72)","v":""},{"$f":"IF('9組'!AJ72=\"\",\"\",'9組'!AJ72)","v":""}]
[null,null,null,null,10950,null,9,50,null,null,{"$f":"IF(J473=1,\"男\",IF(J473=2,\"女\",\"\"))","v":""},{"$f":"IF('9組'!L73=\"\",\"\",'9組'!L73)","v":""},{"$f":"IF('9組'!M73=\"\",\"\",'9組'!M73)","v":""},{"$f":"IF('9組'!N73=\"\",\"\",'9組'!N73)","v":""},{"$f":"IF('9組'!O73=\"\",\"\",'9組'!O73)","v":""},{"$f":"IF('9組'!P73=\"\",\"\",'9組'!P73)","v":""},null,null,null,null,null,{"$f":"IF('9組'!V73=\"\",\"\",'9組'!V73)","v":""},{"$f":"IF('9組'!W73=\"\",\"\",'9組'!W73)","v":""},{"$f":"IF('9組'!X73=\"\",\"\",'9組'!X73)","v":""},{"$f":"IF('9組'!Y73=\"\",\"\",'9組'!Y73)","v":""},{"$f":"IF('9組'!Z73=\"\",\"\",'9組'!Z73)","v":""},null,null,null,null,null,{"$f":"IF('9組'!AF73=\"\",\"\",'9組'!AF73)","v":""},{"$f":"IF('9組'!AG73=\"\",\"\",'9組'!AG73)","v":""},{"$f":"IF('9組'!AH73=\"\",\"\",'9組'!AH73)","v":""},{"$f":"IF('9組'!AI73=\"\",\"\",'9組'!AI73)","v":""},{"$f":"IF('9組'!AJ73=\"\",\"\",'9組'!AJ73)","v":""}]
[null,null,null,null,11001,null,{"$f":"IF(H473<50,G473,G473+1)","v":10},{"$f":"IF(G474<>G473,1,H473+1)","v":1},null,null,"",{"$f":"IF('10組'!L24=\"\",\"\",'10組'!L24)","v":""},{"$f":"IF('10組'!M24=\"\",\"\",'10組'!M24)","v":""},{"$f":"IF('10組'!N24=\"\",\"\",'10組'!N24)","v":""},{"$f":"IF('10組'!O24=\"\",\"\",'10組'!O24)","v":""},{"$f":"IF('10組'!P24=\"\",\"\",'10組'!P24)","v":""},null,null,null,null,null,{"$f":"IF('10組'!V24=\"\",\"\",'10組'!V24)","v":""},{"$f":"IF('10組'!W24=\"\",\"\",'10組'!W24)","v":""},{"$f":"IF('10組'!X24=\"\",\"\",'10組'!X24)","v":""},{"$f":"IF('10組'!Y24=\"\",\"\",'10組'!Y24)","v":""},{"$f":"IF('10組'!Z24=\"\",\"\",'10組'!Z24)","v":""},null,null,null,null,null,{"$f":"IF('10組'!AF24=\"\",\"\",'10組'!AF24)","v":""},{"$f":"IF('10組'!AG24=\"\",\"\",'10組'!AG24)","v":""},{"$f":"IF('10組'!AH24=\"\",\"\",'10組'!AH24)","v":""},{"$f":"IF('10組'!AI24=\"\",\"\",'10組'!AI24)","v":""},{"$f":"IF('10組'!AJ24=\"\",\"\",'10組'!AJ24)","v":""}]
[null,null,null,null,11002,null,10,2,null,null,"",{"$f":"IF('10組'!L25=\"\",\"\",'10組'!L25)","v":""},{"$f":"IF('10組'!M25=\"\",\"\",'10組'!M25)","v":""},{"$f":"IF('10組'!N25=\"\",\"\",'10組'!N25)","v":""},{"$f":"IF('10組'!O25=\"\",\"\",'10組'!O25)","v":""},{"$f":"IF('10組'!P25=\"\",\"\",'10組'!P25)","v":""},null,null,null,null,null,{"$f":"IF('10組'!V25=\"\",\"\",'10組'!V25)","v":""},{"$f":"IF('10組'!W25=\"\",\"\",'10組'!W25)","v":""},{"$f":"IF('10組'!X25=\"\",\"\",'10組'!X25)","v":""},{"$f":"IF('10組'!Y25=\"\",\"\",'10組'!Y25)","v":""},{"$f":"IF('10組'!Z25=\"\",\"\",'10組'!Z25)","v":""},null,null,null,null,null,{"$f":"IF('10組'!AF25=\"\",\"\",'10組'!AF25)","v":""},{"$f":"IF('10組'!AG25=\"\",\"\",'10組'!AG25)","v":""},{"$f":"IF('10組'!AH25=\"\",\"\",'10組'!AH25)","v":""},{"$f":"IF('10組'!AI25=\"\",\"\",'10組'!AI25)","v":""},{"$f":"IF('10組'!AJ25=\"\",\"\",'10組'!AJ25)","v":""}]
[null,null,null,null,11003,null,10,3,null,null,"",{"$f":"IF('10組'!L26=\"\",\"\",'10組'!L26)","v":""},{"$f":"IF('10組'!M26=\"\",\"\",'10組'!M26)","v":""},{"$f":"IF('10組'!N26=\"\",\"\",'10組'!N26)","v":""},{"$f":"IF('10組'!O26=\"\",\"\",'10組'!O26)","v":""},{"$f":"IF('10組'!P26=\"\",\"\",'10組'!P26)","v":""},null,null,null,null,null,{"$f":"IF('10組'!V26=\"\",\"\",'10組'!V26)","v":""},{"$f":"IF('10組'!W26=\"\",\"\",'10組'!W26)","v":""},{"$f":"IF('10組'!X26=\"\",\"\",'10組'!X26)","v":""},{"$f":"IF('10組'!Y26=\"\",\"\",'10組'!Y26)","v":""},{"$f":"IF('10組'!Z26=\"\",\"\",'10組'!Z26)","v":""},null,null,null,null,null,{"$f":"IF('10組'!AF26=\"\",\"\",'10組'!AF26)","v":""},{"$f":"IF('10組'!AG26=\"\",\"\",'10組'!AG26)","v":""},{"$f":"IF('10組'!AH26=\"\",\"\",'10組'!AH26)","v":""},{"$f":"IF('10組'!AI26=\"\",\"\",'10組'!AI26)","v":""},{"$f":"IF('10組'!AJ26=\"\",\"\",'10組'!AJ26)","v":""}]
[null,null,null,null,11004,null,10,4,null,null,"",{"$f":"IF('10組'!L27=\"\",\"\",'10組'!L27)","v":""},{"$f":"IF('10組'!M27=\"\",\"\",'10組'!M27)","v":""},{"$f":"IF('10組'!N27=\"\",\"\",'10組'!N27)","v":""},{"$f":"IF('10組'!O27=\"\",\"\",'10組'!O27)","v":""},{"$f":"IF('10組'!P27=\"\",\"\",'10組'!P27)","v":""},null,null,null,null,null,{"$f":"IF('10組'!V27=\"\",\"\",'10組'!V27)","v":""},{"$f":"IF('10組'!W27=\"\",\"\",'10組'!W27)","v":""},{"$f":"IF('10組'!X27=\"\",\"\",'10組'!X27)","v":""},{"$f":"IF('10組'!Y27=\"\",\"\",'10組'!Y27)","v":""},{"$f":"IF('10組'!Z27=\"\",\"\",'10組'!Z27)","v":""},null,null,null,null,null,{"$f":"IF('10組'!AF27=\"\",\"\",'10組'!AF27)","v":""},{"$f":"IF('10組'!AG27=\"\",\"\",'10組'!AG27)","v":""},{"$f":"IF('10組'!AH27=\"\",\"\",'10組'!AH27)","v":""},{"$f":"IF('10組'!AI27=\"\",\"\",'10組'!AI27)","v":""},{"$f":"IF('10組'!AJ27=\"\",\"\",'10組'!AJ27)","v":""}]
[null,null,null,null,11005,null,10,5,null,null,"",{"$f":"IF('10組'!L28=\"\",\"\",'10組'!L28)","v":""},{"$f":"IF('10組'!M28=\"\",\"\",'10組'!M28)","v":""},{"$f":"IF('10組'!N28=\"\",\"\",'10組'!N28)","v":""},{"$f":"IF('10組'!O28=\"\",\"\",'10組'!O28)","v":""},{"$f":"IF('10組'!P28=\"\",\"\",'10組'!P28)","v":""},null,null,null,null,null,{"$f":"IF('10組'!V28=\"\",\"\",'10組'!V28)","v":""},{"$f":"IF('10組'!W28=\"\",\"\",'10組'!W28)","v":""},{"$f":"IF('10組'!X28=\"\",\"\",'10組'!X28)","v":""},{"$f":"IF('10組'!Y28=\"\",\"\",'10組'!Y28)","v":""},{"$f":"IF('10組'!Z28=\"\",\"\",'10組'!Z28)","v":""},null,null,null,null,null,{"$f":"IF('10組'!AF28=\"\",\"\",'10組'!AF28)","v":""},{"$f":"IF('10組'!AG28=\"\",\"\",'10組'!AG28)","v":""},{"$f":"IF('10組'!AH28=\"\",\"\",'10組'!AH28)","v":""},{"$f":"IF('10組'!AI28=\"\",\"\",'10組'!AI28)","v":""},{"$f":"IF('10組'!AJ28=\"\",\"\",'10組'!AJ28)","v":""}]
[null,null,null,null,11006,null,10,6,null,null,"",{"$f":"IF('10組'!L29=\"\",\"\",'10組'!L29)","v":""},{"$f":"IF('10組'!M29=\"\",\"\",'10組'!M29)","v":""},{"$f":"IF('10組'!N29=\"\",\"\",'10組'!N29)","v":""},{"$f":"IF('10組'!O29=\"\",\"\",'10組'!O29)","v":""},{"$f":"IF('10組'!P29=\"\",\"\",'10組'!P29)","v":""},null,null,null,null,null,{"$f":"IF('10組'!V29=\"\",\"\",'10組'!V29)","v":""},{"$f":"IF('10組'!W29=\"\",\"\",'10組'!W29)","v":""},{"$f":"IF('10組'!X29=\"\",\"\",'10組'!X29)","v":""},{"$f":"IF('10組'!Y29=\"\",\"\",'10組'!Y29)","v":""},{"$f":"IF('10組'!Z29=\"\",\"\",'10組'!Z29)","v":""},null,null,null,null,null,{"$f":"IF('10組'!AF29=\"\",\"\",'10組'!AF29)","v":""},{"$f":"IF('10組'!AG29=\"\",\"\",'10組'!AG29)","v":""},{"$f":"IF('10組'!AH29=\"\",\"\",'10組'!AH29)","v":""},{"$f":"IF('10組'!AI29=\"\",\"\",'10組'!AI29)","v":""},{"$f":"IF('10組'!AJ29=\"\",\"\",'10組'!AJ29)","v":""}]
[null,null,null,null,11007,null,10,7,null,null,"",{"$f":"IF('10組'!L30=\"\",\"\",'10組'!L30)","v":""},{"$f":"IF('10組'!M30=\"\",\"\",'10組'!M30)","v":""},{"$f":"IF('10組'!N30=\"\",\"\",'10組'!N30)","v":""},{"$f":"IF('10組'!O30=\"\",\"\",'10組'!O30)","v":""},{"$f":"IF('10組'!P30=\"\",\"\",'10組'!P30)","v":""},null,null,null,null,null,{"$f":"IF('10組'!V30=\"\",\"\",'10組'!V30)","v":""},{"$f":"IF('10組'!W30=\"\",\"\",'10組'!W30)","v":""},{"$f":"IF('10組'!X30=\"\",\"\",'10組'!X30)","v":""},{"$f":"IF('10組'!Y30=\"\",\"\",'10組'!Y30)","v":""},{"$f":"IF('10組'!Z30=\"\",\"\",'10組'!Z30)","v":""},null,null,null,null,null,{"$f":"IF('10組'!AF30=\"\",\"\",'10組'!AF30)","v":""},{"$f":"IF('10組'!AG30=\"\",\"\",'10組'!AG30)","v":""},{"$f":"IF('10組'!AH30=\"\",\"\",'10組'!AH30)","v":""},{"$f":"IF('10組'!AI30=\"\",\"\",'10組'!AI30)","v":""},{"$f":"IF('10組'!AJ30=\"\",\"\",'10組'!AJ30)","v":""}]
[null,null,null,null,11008,null,10,8,null,null,"",{"$f":"IF('10組'!L31=\"\",\"\",'10組'!L31)","v":""},{"$f":"IF('10組'!M31=\"\",\"\",'10組'!M31)","v":""},{"$f":"IF('10組'!N31=\"\",\"\",'10組'!N31)","v":""},{"$f":"IF('10組'!O31=\"\",\"\",'10組'!O31)","v":""},{"$f":"IF('10組'!P31=\"\",\"\",'10組'!P31)","v":""},null,null,null,null,null,{"$f":"IF('10組'!V31=\"\",\"\",'10組'!V31)","v":""},{"$f":"IF('10組'!W31=\"\",\"\",'10組'!W31)","v":""},{"$f":"IF('10組'!X31=\"\",\"\",'10組'!X31)","v":""},{"$f":"IF('10組'!Y31=\"\",\"\",'10組'!Y31)","v":""},{"$f":"IF('10組'!Z31=\"\",\"\",'10組'!Z31)","v":""},null,null,null,null,null,{"$f":"IF('10組'!AF31=\"\",\"\",'10組'!AF31)","v":""},{"$f":"IF('10組'!AG31=\"\",\"\",'10組'!AG31)","v":""},{"$f":"IF('10組'!AH31=\"\",\"\",'10組'!AH31)","v":""},{"$f":"IF('10組'!AI31=\"\",\"\",'10組'!AI31)","v":""},{"$f":"IF('10組'!AJ31=\"\",\"\",'10組'!AJ31)","v":""}]
[null,null,null,null,11009,null,10,9,null,null,"",{"$f":"IF('10組'!L32=\"\",\"\",'10組'!L32)","v":""},{"$f":"IF('10組'!M32=\"\",\"\",'10組'!M32)","v":""},{"$f":"IF('10組'!N32=\"\",\"\",'10組'!N32)","v":""},{"$f":"IF('10組'!O32=\"\",\"\",'10組'!O32)","v":""},{"$f":"IF('10組'!P32=\"\",\"\",'10組'!P32)","v":""},null,null,null,null,null,{"$f":"IF('10組'!V32=\"\",\"\",'10組'!V32)","v":""},{"$f":"IF('10組'!W32=\"\",\"\",'10組'!W32)","v":""},{"$f":"IF('10組'!X32=\"\",\"\",'10組'!X32)","v":""},{"$f":"IF('10組'!Y32=\"\",\"\",'10組'!Y32)","v":""},{"$f":"IF('10組'!Z32=\"\",\"\",'10組'!Z32)","v":""},null,null,null,null,null,{"$f":"IF('10組'!AF32=\"\",\"\",'10組'!AF32)","v":""},{"$f":"IF('10組'!AG32=\"\",\"\",'10組'!AG32)","v":""},{"$f":"IF('10組'!AH32=\"\",\"\",'10組'!AH32)","v":""},{"$f":"IF('10組'!AI32=\"\",\"\",'10組'!AI32)","v":""},{"$f":"IF('10組'!AJ32=\"\",\"\",'10組'!AJ32)","v":""}]
[null,null,null,null,11010,null,10,10,null,null,"",{"$f":"IF('10組'!L33=\"\",\"\",'10組'!L33)","v":""},{"$f":"IF('10組'!M33=\"\",\"\",'10組'!M33)","v":""},{"$f":"IF('10組'!N33=\"\",\"\",'10組'!N33)","v":""},{"$f":"IF('10組'!O33=\"\",\"\",'10組'!O33)","v":""},{"$f":"IF('10組'!P33=\"\",\"\",'10組'!P33)","v":""},null,null,null,null,null,{"$f":"IF('10組'!V33=\"\",\"\",'10組'!V33)","v":""},{"$f":"IF('10組'!W33=\"\",\"\",'10組'!W33)","v":""},{"$f":"IF('10組'!X33=\"\",\"\",'10組'!X33)","v":""},{"$f":"IF('10組'!Y33=\"\",\"\",'10組'!Y33)","v":""},{"$f":"IF('10組'!Z33=\"\",\"\",'10組'!Z33)","v":""},null,null,null,null,null,{"$f":"IF('10組'!AF33=\"\",\"\",'10組'!AF33)","v":""},{"$f":"IF('10組'!AG33=\"\",\"\",'10組'!AG33)","v":""},{"$f":"IF('10組'!AH33=\"\",\"\",'10組'!AH33)","v":""},{"$f":"IF('10組'!AI33=\"\",\"\",'10組'!AI33)","v":""},{"$f":"IF('10組'!AJ33=\"\",\"\",'10組'!AJ33)","v":""}]
[null,null,null,null,11011,null,10,11,null,null,"",{"$f":"IF('10組'!L34=\"\",\"\",'10組'!L34)","v":""},{"$f":"IF('10組'!M34=\"\",\"\",'10組'!M34)","v":""},{"$f":"IF('10組'!N34=\"\",\"\",'10組'!N34)","v":""},{"$f":"IF('10組'!O34=\"\",\"\",'10組'!O34)","v":""},{"$f":"IF('10組'!P34=\"\",\"\",'10組'!P34)","v":""},null,null,null,null,null,{"$f":"IF('10組'!V34=\"\",\"\",'10組'!V34)","v":""},{"$f":"IF('10組'!W34=\"\",\"\",'10組'!W34)","v":""},{"$f":"IF('10組'!X34=\"\",\"\",'10組'!X34)","v":""},{"$f":"IF('10組'!Y34=\"\",\"\",'10組'!Y34)","v":""},{"$f":"IF('10組'!Z34=\"\",\"\",'10組'!Z34)","v":""},null,null,null,null,null,{"$f":"IF('10組'!AF34=\"\",\"\",'10組'!AF34)","v":""},{"$f":"IF('10組'!AG34=\"\",\"\",'10組'!AG34)","v":""},{"$f":"IF('10組'!AH34=\"\",\"\",'10組'!AH34)","v":""},{"$f":"IF('10組'!AI34=\"\",\"\",'10組'!AI34)","v":""},{"$f":"IF('10組'!AJ34=\"\",\"\",'10組'!AJ34)","v":""}]
[null,null,null,null,11012,null,10,12,null,null,"",{"$f":"IF('10組'!L35=\"\",\"\",'10組'!L35)","v":""},{"$f":"IF('10組'!M35=\"\",\"\",'10組'!M35)","v":""},{"$f":"IF('10組'!N35=\"\",\"\",'10組'!N35)","v":""},{"$f":"IF('10組'!O35=\"\",\"\",'10組'!O35)","v":""},{"$f":"IF('10組'!P35=\"\",\"\",'10組'!P35)","v":""},null,null,null,null,null,{"$f":"IF('10組'!V35=\"\",\"\",'10組'!V35)","v":""},{"$f":"IF('10組'!W35=\"\",\"\",'10組'!W35)","v":""},{"$f":"IF('10組'!X35=\"\",\"\",'10組'!X35)","v":""},{"$f":"IF('10組'!Y35=\"\",\"\",'10組'!Y35)","v":""},{"$f":"IF('10組'!Z35=\"\",\"\",'10組'!Z35)","v":""},null,null,null,null,null,{"$f":"IF('10組'!AF35=\"\",\"\",'10組'!AF35)","v":""},{"$f":"IF('10組'!AG35=\"\",\"\",'10組'!AG35)","v":""},{"$f":"IF('10組'!AH35=\"\",\"\",'10組'!AH35)","v":""},{"$f":"IF('10組'!AI35=\"\",\"\",'10組'!AI35)","v":""},{"$f":"IF('10組'!AJ35=\"\",\"\",'10組'!AJ35)","v":""}]
[null,null,null,null,11013,null,10,13,null,null,"",{"$f":"IF('10組'!L36=\"\",\"\",'10組'!L36)","v":""},{"$f":"IF('10組'!M36=\"\",\"\",'10組'!M36)","v":""},{"$f":"IF('10組'!N36=\"\",\"\",'10組'!N36)","v":""},{"$f":"IF('10組'!O36=\"\",\"\",'10組'!O36)","v":""},{"$f":"IF('10組'!P36=\"\",\"\",'10組'!P36)","v":""},null,null,null,null,null,{"$f":"IF('10組'!V36=\"\",\"\",'10組'!V36)","v":""},{"$f":"IF('10組'!W36=\"\",\"\",'10組'!W36)","v":""},{"$f":"IF('10組'!X36=\"\",\"\",'10組'!X36)","v":""},{"$f":"IF('10組'!Y36=\"\",\"\",'10組'!Y36)","v":""},{"$f":"IF('10組'!Z36=\"\",\"\",'10組'!Z36)","v":""},null,null,null,null,null,{"$f":"IF('10組'!AF36=\"\",\"\",'10組'!AF36)","v":""},{"$f":"IF('10組'!AG36=\"\",\"\",'10組'!AG36)","v":""},{"$f":"IF('10組'!AH36=\"\",\"\",'10組'!AH36)","v":""},{"$f":"IF('10組'!AI36=\"\",\"\",'10組'!AI36)","v":""},{"$f":"IF('10組'!AJ36=\"\",\"\",'10組'!AJ36)","v":""}]
[null,null,null,null,11014,null,10,14,null,null,"",{"$f":"IF('10組'!L37=\"\",\"\",'10組'!L37)","v":""},{"$f":"IF('10組'!M37=\"\",\"\",'10組'!M37)","v":""},{"$f":"IF('10組'!N37=\"\",\"\",'10組'!N37)","v":""},{"$f":"IF('10組'!O37=\"\",\"\",'10組'!O37)","v":""},{"$f":"IF('10組'!P37=\"\",\"\",'10組'!P37)","v":""},null,null,null,null,null,{"$f":"IF('10組'!V37=\"\",\"\",'10組'!V37)","v":""},{"$f":"IF('10組'!W37=\"\",\"\",'10組'!W37)","v":""},{"$f":"IF('10組'!X37=\"\",\"\",'10組'!X37)","v":""},{"$f":"IF('10組'!Y37=\"\",\"\",'10組'!Y37)","v":""},{"$f":"IF('10組'!Z37=\"\",\"\",'10組'!Z37)","v":""},null,null,null,null,null,{"$f":"IF('10組'!AF37=\"\",\"\",'10組'!AF37)","v":""},{"$f":"IF('10組'!AG37=\"\",\"\",'10組'!AG37)","v":""},{"$f":"IF('10組'!AH37=\"\",\"\",'10組'!AH37)","v":""},{"$f":"IF('10組'!AI37=\"\",\"\",'10組'!AI37)","v":""},{"$f":"IF('10組'!AJ37=\"\",\"\",'10組'!AJ37)","v":""}]
[null,null,null,null,11015,null,10,15,null,null,"",{"$f":"IF('10組'!L38=\"\",\"\",'10組'!L38)","v":""},{"$f":"IF('10組'!M38=\"\",\"\",'10組'!M38)","v":""},{"$f":"IF('10組'!N38=\"\",\"\",'10組'!N38)","v":""},{"$f":"IF('10組'!O38=\"\",\"\",'10組'!O38)","v":""},{"$f":"IF('10組'!P38=\"\",\"\",'10組'!P38)","v":""},null,null,null,null,null,{"$f":"IF('10組'!V38=\"\",\"\",'10組'!V38)","v":""},{"$f":"IF('10組'!W38=\"\",\"\",'10組'!W38)","v":""},{"$f":"IF('10組'!X38=\"\",\"\",'10組'!X38)","v":""},{"$f":"IF('10組'!Y38=\"\",\"\",'10組'!Y38)","v":""},{"$f":"IF('10組'!Z38=\"\",\"\",'10組'!Z38)","v":""},null,null,null,null,null,{"$f":"IF('10組'!AF38=\"\",\"\",'10組'!AF38)","v":""},{"$f":"IF('10組'!AG38=\"\",\"\",'10組'!AG38)","v":""},{"$f":"IF('10組'!AH38=\"\",\"\",'10組'!AH38)","v":""},{"$f":"IF('10組'!AI38=\"\",\"\",'10組'!AI38)","v":""},{"$f":"IF('10組'!AJ38=\"\",\"\",'10組'!AJ38)","v":""}]
[null,null,null,null,11016,null,10,16,null,null,"",{"$f":"IF('10組'!L39=\"\",\"\",'10組'!L39)","v":""},{"$f":"IF('10組'!M39=\"\",\"\",'10組'!M39)","v":""},{"$f":"IF('10組'!N39=\"\",\"\",'10組'!N39)","v":""},{"$f":"IF('10組'!O39=\"\",\"\",'10組'!O39)","v":""},{"$f":"IF('10組'!P39=\"\",\"\",'10組'!P39)","v":""},null,null,null,null,null,{"$f":"IF('10組'!V39=\"\",\"\",'10組'!V39)","v":""},{"$f":"IF('10組'!W39=\"\",\"\",'10組'!W39)","v":""},{"$f":"IF('10組'!X39=\"\",\"\",'10組'!X39)","v":""},{"$f":"IF('10組'!Y39=\"\",\"\",'10組'!Y39)","v":""},{"$f":"IF('10組'!Z39=\"\",\"\",'10組'!Z39)","v":""},null,null,null,null,null,{"$f":"IF('10組'!AF39=\"\",\"\",'10組'!AF39)","v":""},{"$f":"IF('10組'!AG39=\"\",\"\",'10組'!AG39)","v":""},{"$f":"IF('10組'!AH39=\"\",\"\",'10組'!AH39)","v":""},{"$f":"IF('10組'!AI39=\"\",\"\",'10組'!AI39)","v":""},{"$f":"IF('10組'!AJ39=\"\",\"\",'10組'!AJ39)","v":""}]
[null,null,null,null,11017,null,10,17,null,null,"",{"$f":"IF('10組'!L40=\"\",\"\",'10組'!L40)","v":""},{"$f":"IF('10組'!M40=\"\",\"\",'10組'!M40)","v":""},{"$f":"IF('10組'!N40=\"\",\"\",'10組'!N40)","v":""},{"$f":"IF('10組'!O40=\"\",\"\",'10組'!O40)","v":""},{"$f":"IF('10組'!P40=\"\",\"\",'10組'!P40)","v":""},null,null,null,null,null,{"$f":"IF('10組'!V40=\"\",\"\",'10組'!V40)","v":""},{"$f":"IF('10組'!W40=\"\",\"\",'10組'!W40)","v":""},{"$f":"IF('10組'!X40=\"\",\"\",'10組'!X40)","v":""},{"$f":"IF('10組'!Y40=\"\",\"\",'10組'!Y40)","v":""},{"$f":"IF('10組'!Z40=\"\",\"\",'10組'!Z40)","v":""},null,null,null,null,null,{"$f":"IF('10組'!AF40=\"\",\"\",'10組'!AF40)","v":""},{"$f":"IF('10組'!AG40=\"\",\"\",'10組'!AG40)","v":""},{"$f":"IF('10組'!AH40=\"\",\"\",'10組'!AH40)","v":""},{"$f":"IF('10組'!AI40=\"\",\"\",'10組'!AI40)","v":""},{"$f":"IF('10組'!AJ40=\"\",\"\",'10組'!AJ40)","v":""}]
[null,null,null,null,11018,null,10,18,null,null,"",{"$f":"IF('10組'!L41=\"\",\"\",'10組'!L41)","v":""},{"$f":"IF('10組'!M41=\"\",\"\",'10組'!M41)","v":""},{"$f":"IF('10組'!N41=\"\",\"\",'10組'!N41)","v":""},{"$f":"IF('10組'!O41=\"\",\"\",'10組'!O41)","v":""},{"$f":"IF('10組'!P41=\"\",\"\",'10組'!P41)","v":""},null,null,null,null,null,{"$f":"IF('10組'!V41=\"\",\"\",'10組'!V41)","v":""},{"$f":"IF('10組'!W41=\"\",\"\",'10組'!W41)","v":""},{"$f":"IF('10組'!X41=\"\",\"\",'10組'!X41)","v":""},{"$f":"IF('10組'!Y41=\"\",\"\",'10組'!Y41)","v":""},{"$f":"IF('10組'!Z41=\"\",\"\",'10組'!Z41)","v":""},null,null,null,null,null,{"$f":"IF('10組'!AF41=\"\",\"\",'10組'!AF41)","v":""},{"$f":"IF('10組'!AG41=\"\",\"\",'10組'!AG41)","v":""},{"$f":"IF('10組'!AH41=\"\",\"\",'10組'!AH41)","v":""},{"$f":"IF('10組'!AI41=\"\",\"\",'10組'!AI41)","v":""},{"$f":"IF('10組'!AJ41=\"\",\"\",'10組'!AJ41)","v":""}]
[null,null,null,null,11019,null,10,19,null,null,"",{"$f":"IF('10組'!L42=\"\",\"\",'10組'!L42)","v":""},{"$f":"IF('10組'!M42=\"\",\"\",'10組'!M42)","v":""},{"$f":"IF('10組'!N42=\"\",\"\",'10組'!N42)","v":""},{"$f":"IF('10組'!O42=\"\",\"\",'10組'!O42)","v":""},{"$f":"IF('10組'!P42=\"\",\"\",'10組'!P42)","v":""},null,null,null,null,null,{"$f":"IF('10組'!V42=\"\",\"\",'10組'!V42)","v":""},{"$f":"IF('10組'!W42=\"\",\"\",'10組'!W42)","v":""},{"$f":"IF('10組'!X42=\"\",\"\",'10組'!X42)","v":""},{"$f":"IF('10組'!Y42=\"\",\"\",'10組'!Y42)","v":""},{"$f":"IF('10組'!Z42=\"\",\"\",'10組'!Z42)","v":""},null,null,null,null,null,{"$f":"IF('10組'!AF42=\"\",\"\",'10組'!AF42)","v":""},{"$f":"IF('10組'!AG42=\"\",\"\",'10組'!AG42)","v":""},{"$f":"IF('10組'!AH42=\"\",\"\",'10組'!AH42)","v":""},{"$f":"IF('10組'!AI42=\"\",\"\",'10組'!AI42)","v":""},{"$f":"IF('10組'!AJ42=\"\",\"\",'10組'!AJ42)","v":""}]
[null,null,null,null,11020,null,10,20,null,null,"",{"$f":"IF('10組'!L43=\"\",\"\",'10組'!L43)","v":""},{"$f":"IF('10組'!M43=\"\",\"\",'10組'!M43)","v":""},{"$f":"IF('10組'!N43=\"\",\"\",'10組'!N43)","v":""},{"$f":"IF('10組'!O43=\"\",\"\",'10組'!O43)","v":""},{"$f":"IF('10組'!P43=\"\",\"\",'10組'!P43)","v":""},null,null,null,null,null,{"$f":"IF('10組'!V43=\"\",\"\",'10組'!V43)","v":""},{"$f":"IF('10組'!W43=\"\",\"\",'10組'!W43)","v":""},{"$f":"IF('10組'!X43=\"\",\"\",'10組'!X43)","v":""},{"$f":"IF('10組'!Y43=\"\",\"\",'10組'!Y43)","v":""},{"$f":"IF('10組'!Z43=\"\",\"\",'10組'!Z43)","v":""},null,null,null,null,null,{"$f":"IF('10組'!AF43=\"\",\"\",'10組'!AF43)","v":""},{"$f":"IF('10組'!AG43=\"\",\"\",'10組'!AG43)","v":""},{"$f":"IF('10組'!AH43=\"\",\"\",'10組'!AH43)","v":""},{"$f":"IF('10組'!AI43=\"\",\"\",'10組'!AI43)","v":""},{"$f":"IF('10組'!AJ43=\"\",\"\",'10組'!AJ43)","v":""}]
[null,null,null,null,11021,null,10,21,null,null,"",{"$f":"IF('10組'!L44=\"\",\"\",'10組'!L44)","v":""},{"$f":"IF('10組'!M44=\"\",\"\",'10組'!M44)","v":""},{"$f":"IF('10組'!N44=\"\",\"\",'10組'!N44)","v":""},{"$f":"IF('10組'!O44=\"\",\"\",'10組'!O44)","v":""},{"$f":"IF('10組'!P44=\"\",\"\",'10組'!P44)","v":""},null,null,null,null,null,{"$f":"IF('10組'!V44=\"\",\"\",'10組'!V44)","v":""},{"$f":"IF('10組'!W44=\"\",\"\",'10組'!W44)","v":""},{"$f":"IF('10組'!X44=\"\",\"\",'10組'!X44)","v":""},{"$f":"IF('10組'!Y44=\"\",\"\",'10組'!Y44)","v":""},{"$f":"IF('10組'!Z44=\"\",\"\",'10組'!Z44)","v":""},null,null,null,null,null,{"$f":"IF('10組'!AF44=\"\",\"\",'10組'!AF44)","v":""},{"$f":"IF('10組'!AG44=\"\",\"\",'10組'!AG44)","v":""},{"$f":"IF('10組'!AH44=\"\",\"\",'10組'!AH44)","v":""},{"$f":"IF('10組'!AI44=\"\",\"\",'10組'!AI44)","v":""},{"$f":"IF('10組'!AJ44=\"\",\"\",'10組'!AJ44)","v":""}]
[null,null,null,null,11022,null,10,22,null,null,"",{"$f":"IF('10組'!L45=\"\",\"\",'10組'!L45)","v":""},{"$f":"IF('10組'!M45=\"\",\"\",'10組'!M45)","v":""},{"$f":"IF('10組'!N45=\"\",\"\",'10組'!N45)","v":""},{"$f":"IF('10組'!O45=\"\",\"\",'10組'!O45)","v":""},{"$f":"IF('10組'!P45=\"\",\"\",'10組'!P45)","v":""},null,null,null,null,null,{"$f":"IF('10組'!V45=\"\",\"\",'10組'!V45)","v":""},{"$f":"IF('10組'!W45=\"\",\"\",'10組'!W45)","v":""},{"$f":"IF('10組'!X45=\"\",\"\",'10組'!X45)","v":""},{"$f":"IF('10組'!Y45=\"\",\"\",'10組'!Y45)","v":""},{"$f":"IF('10組'!Z45=\"\",\"\",'10組'!Z45)","v":""},null,null,null,null,null,{"$f":"IF('10組'!AF45=\"\",\"\",'10組'!AF45)","v":""},{"$f":"IF('10組'!AG45=\"\",\"\",'10組'!AG45)","v":""},{"$f":"IF('10組'!AH45=\"\",\"\",'10組'!AH45)","v":""},{"$f":"IF('10組'!AI45=\"\",\"\",'10組'!AI45)","v":""},{"$f":"IF('10組'!AJ45=\"\",\"\",'10組'!AJ45)","v":""}]
[null,null,null,null,11023,null,10,23,null,null,"",{"$f":"IF('10組'!L46=\"\",\"\",'10組'!L46)","v":""},{"$f":"IF('10組'!M46=\"\",\"\",'10組'!M46)","v":""},{"$f":"IF('10組'!N46=\"\",\"\",'10組'!N46)","v":""},{"$f":"IF('10組'!O46=\"\",\"\",'10組'!O46)","v":""},{"$f":"IF('10組'!P46=\"\",\"\",'10組'!P46)","v":""},null,null,null,null,null,{"$f":"IF('10組'!V46=\"\",\"\",'10組'!V46)","v":""},{"$f":"IF('10組'!W46=\"\",\"\",'10組'!W46)","v":""},{"$f":"IF('10組'!X46=\"\",\"\",'10組'!X46)","v":""},{"$f":"IF('10組'!Y46=\"\",\"\",'10組'!Y46)","v":""},{"$f":"IF('10組'!Z46=\"\",\"\",'10組'!Z46)","v":""},null,null,null,null,null,{"$f":"IF('10組'!AF46=\"\",\"\",'10組'!AF46)","v":""},{"$f":"IF('10組'!AG46=\"\",\"\",'10組'!AG46)","v":""},{"$f":"IF('10組'!AH46=\"\",\"\",'10組'!AH46)","v":""},{"$f":"IF('10組'!AI46=\"\",\"\",'10組'!AI46)","v":""},{"$f":"IF('10組'!AJ46=\"\",\"\",'10組'!AJ46)","v":""}]
[null,null,null,null,11024,null,10,24,null,null,"",{"$f":"IF('10組'!L47=\"\",\"\",'10組'!L47)","v":""},{"$f":"IF('10組'!M47=\"\",\"\",'10組'!M47)","v":""},{"$f":"IF('10組'!N47=\"\",\"\",'10組'!N47)","v":""},{"$f":"IF('10組'!O47=\"\",\"\",'10組'!O47)","v":""},{"$f":"IF('10組'!P47=\"\",\"\",'10組'!P47)","v":""},null,null,null,null,null,{"$f":"IF('10組'!V47=\"\",\"\",'10組'!V47)","v":""},{"$f":"IF('10組'!W47=\"\",\"\",'10組'!W47)","v":""},{"$f":"IF('10組'!X47=\"\",\"\",'10組'!X47)","v":""},{"$f":"IF('10組'!Y47=\"\",\"\",'10組'!Y47)","v":""},{"$f":"IF('10組'!Z47=\"\",\"\",'10組'!Z47)","v":""},null,null,null,null,null,{"$f":"IF('10組'!AF47=\"\",\"\",'10組'!AF47)","v":""},{"$f":"IF('10組'!AG47=\"\",\"\",'10組'!AG47)","v":""},{"$f":"IF('10組'!AH47=\"\",\"\",'10組'!AH47)","v":""},{"$f":"IF('10組'!AI47=\"\",\"\",'10組'!AI47)","v":""},{"$f":"IF('10組'!AJ47=\"\",\"\",'10組'!AJ47)","v":""}]
[null,null,null,null,11025,null,10,25,null,null,"",{"$f":"IF('10組'!L48=\"\",\"\",'10組'!L48)","v":""},{"$f":"IF('10組'!M48=\"\",\"\",'10組'!M48)","v":""},{"$f":"IF('10組'!N48=\"\",\"\",'10組'!N48)","v":""},{"$f":"IF('10組'!O48=\"\",\"\",'10組'!O48)","v":""},{"$f":"IF('10組'!P48=\"\",\"\",'10組'!P48)","v":""},null,null,null,null,null,{"$f":"IF('10組'!V48=\"\",\"\",'10組'!V48)","v":""},{"$f":"IF('10組'!W48=\"\",\"\",'10組'!W48)","v":""},{"$f":"IF('10組'!X48=\"\",\"\",'10組'!X48)","v":""},{"$f":"IF('10組'!Y48=\"\",\"\",'10組'!Y48)","v":""},{"$f":"IF('10組'!Z48=\"\",\"\",'10組'!Z48)","v":""},null,null,null,null,null,{"$f":"IF('10組'!AF48=\"\",\"\",'10組'!AF48)","v":""},{"$f":"IF('10組'!AG48=\"\",\"\",'10組'!AG48)","v":""},{"$f":"IF('10組'!AH48=\"\",\"\",'10組'!AH48)","v":""},{"$f":"IF('10組'!AI48=\"\",\"\",'10組'!AI48)","v":""},{"$f":"IF('10組'!AJ48=\"\",\"\",'10組'!AJ48)","v":""}]
[null,null,null,null,11026,null,10,26,null,null,"",{"$f":"IF('10組'!L49=\"\",\"\",'10組'!L49)","v":""},{"$f":"IF('10組'!M49=\"\",\"\",'10組'!M49)","v":""},{"$f":"IF('10組'!N49=\"\",\"\",'10組'!N49)","v":""},{"$f":"IF('10組'!O49=\"\",\"\",'10組'!O49)","v":""},{"$f":"IF('10組'!P49=\"\",\"\",'10組'!P49)","v":""},null,null,null,null,null,{"$f":"IF('10組'!V49=\"\",\"\",'10組'!V49)","v":""},{"$f":"IF('10組'!W49=\"\",\"\",'10組'!W49)","v":""},{"$f":"IF('10組'!X49=\"\",\"\",'10組'!X49)","v":""},{"$f":"IF('10組'!Y49=\"\",\"\",'10組'!Y49)","v":""},{"$f":"IF('10組'!Z49=\"\",\"\",'10組'!Z49)","v":""},null,null,null,null,null,{"$f":"IF('10組'!AF49=\"\",\"\",'10組'!AF49)","v":""},{"$f":"IF('10組'!AG49=\"\",\"\",'10組'!AG49)","v":""},{"$f":"IF('10組'!AH49=\"\",\"\",'10組'!AH49)","v":""},{"$f":"IF('10組'!AI49=\"\",\"\",'10組'!AI49)","v":""},{"$f":"IF('10組'!AJ49=\"\",\"\",'10組'!AJ49)","v":""}]
[null,null,null,null,11027,null,10,27,null,null,"",{"$f":"IF('10組'!L50=\"\",\"\",'10組'!L50)","v":""},{"$f":"IF('10組'!M50=\"\",\"\",'10組'!M50)","v":""},{"$f":"IF('10組'!N50=\"\",\"\",'10組'!N50)","v":""},{"$f":"IF('10組'!O50=\"\",\"\",'10組'!O50)","v":""},{"$f":"IF('10組'!P50=\"\",\"\",'10組'!P50)","v":""},null,null,null,null,null,{"$f":"IF('10組'!V50=\"\",\"\",'10組'!V50)","v":""},{"$f":"IF('10組'!W50=\"\",\"\",'10組'!W50)","v":""},{"$f":"IF('10組'!X50=\"\",\"\",'10組'!X50)","v":""},{"$f":"IF('10組'!Y50=\"\",\"\",'10組'!Y50)","v":""},{"$f":"IF('10組'!Z50=\"\",\"\",'10組'!Z50)","v":""},null,null,null,null,null,{"$f":"IF('10組'!AF50=\"\",\"\",'10組'!AF50)","v":""},{"$f":"IF('10組'!AG50=\"\",\"\",'10組'!AG50)","v":""},{"$f":"IF('10組'!AH50=\"\",\"\",'10組'!AH50)","v":""},{"$f":"IF('10組'!AI50=\"\",\"\",'10組'!AI50)","v":""},{"$f":"IF('10組'!AJ50=\"\",\"\",'10組'!AJ50)","v":""}]
[null,null,null,null,11028,null,10,28,null,null,"",{"$f":"IF('10組'!L51=\"\",\"\",'10組'!L51)","v":""},{"$f":"IF('10組'!M51=\"\",\"\",'10組'!M51)","v":""},{"$f":"IF('10組'!N51=\"\",\"\",'10組'!N51)","v":""},{"$f":"IF('10組'!O51=\"\",\"\",'10組'!O51)","v":""},{"$f":"IF('10組'!P51=\"\",\"\",'10組'!P51)","v":""},null,null,null,null,null,{"$f":"IF('10組'!V51=\"\",\"\",'10組'!V51)","v":""},{"$f":"IF('10組'!W51=\"\",\"\",'10組'!W51)","v":""},{"$f":"IF('10組'!X51=\"\",\"\",'10組'!X51)","v":""},{"$f":"IF('10組'!Y51=\"\",\"\",'10組'!Y51)","v":""},{"$f":"IF('10組'!Z51=\"\",\"\",'10組'!Z51)","v":""},null,null,null,null,null,{"$f":"IF('10組'!AF51=\"\",\"\",'10組'!AF51)","v":""},{"$f":"IF('10組'!AG51=\"\",\"\",'10組'!AG51)","v":""},{"$f":"IF('10組'!AH51=\"\",\"\",'10組'!AH51)","v":""},{"$f":"IF('10組'!AI51=\"\",\"\",'10組'!AI51)","v":""},{"$f":"IF('10組'!AJ51=\"\",\"\",'10組'!AJ51)","v":""}]
[null,null,null,null,11029,null,10,29,null,null,"",{"$f":"IF('10組'!L52=\"\",\"\",'10組'!L52)","v":""},{"$f":"IF('10組'!M52=\"\",\"\",'10組'!M52)","v":""},{"$f":"IF('10組'!N52=\"\",\"\",'10組'!N52)","v":""},{"$f":"IF('10組'!O52=\"\",\"\",'10組'!O52)","v":""},{"$f":"IF('10組'!P52=\"\",\"\",'10組'!P52)","v":""},null,null,null,null,null,{"$f":"IF('10組'!V52=\"\",\"\",'10組'!V52)","v":""},{"$f":"IF('10組'!W52=\"\",\"\",'10組'!W52)","v":""},{"$f":"IF('10組'!X52=\"\",\"\",'10組'!X52)","v":""},{"$f":"IF('10組'!Y52=\"\",\"\",'10組'!Y52)","v":""},{"$f":"IF('10組'!Z52=\"\",\"\",'10組'!Z52)","v":""},null,null,null,null,null,{"$f":"IF('10組'!AF52=\"\",\"\",'10組'!AF52)","v":""},{"$f":"IF('10組'!AG52=\"\",\"\",'10組'!AG52)","v":""},{"$f":"IF('10組'!AH52=\"\",\"\",'10組'!AH52)","v":""},{"$f":"IF('10組'!AI52=\"\",\"\",'10組'!AI52)","v":""},{"$f":"IF('10組'!AJ52=\"\",\"\",'10組'!AJ52)","v":""}]
[null,null,null,null,11030,null,10,30,null,null,"",{"$f":"IF('10組'!L53=\"\",\"\",'10組'!L53)","v":""},{"$f":"IF('10組'!M53=\"\",\"\",'10組'!M53)","v":""},{"$f":"IF('10組'!N53=\"\",\"\",'10組'!N53)","v":""},{"$f":"IF('10組'!O53=\"\",\"\",'10組'!O53)","v":""},{"$f":"IF('10組'!P53=\"\",\"\",'10組'!P53)","v":""},null,null,null,null,null,{"$f":"IF('10組'!V53=\"\",\"\",'10組'!V53)","v":""},{"$f":"IF('10組'!W53=\"\",\"\",'10組'!W53)","v":""},{"$f":"IF('10組'!X53=\"\",\"\",'10組'!X53)","v":""},{"$f":"IF('10組'!Y53=\"\",\"\",'10組'!Y53)","v":""},{"$f":"IF('10組'!Z53=\"\",\"\",'10組'!Z53)","v":""},null,null,null,null,null,{"$f":"IF('10組'!AF53=\"\",\"\",'10組'!AF53)","v":""},{"$f":"IF('10組'!AG53=\"\",\"\",'10組'!AG53)","v":""},{"$f":"IF('10組'!AH53=\"\",\"\",'10組'!AH53)","v":""},{"$f":"IF('10組'!AI53=\"\",\"\",'10組'!AI53)","v":""},{"$f":"IF('10組'!AJ53=\"\",\"\",'10組'!AJ53)","v":""}]
[null,null,null,null,11031,null,10,31,null,null,"",{"$f":"IF('10組'!L54=\"\",\"\",'10組'!L54)","v":""},{"$f":"IF('10組'!M54=\"\",\"\",'10組'!M54)","v":""},{"$f":"IF('10組'!N54=\"\",\"\",'10組'!N54)","v":""},{"$f":"IF('10組'!O54=\"\",\"\",'10組'!O54)","v":""},{"$f":"IF('10組'!P54=\"\",\"\",'10組'!P54)","v":""},null,null,null,null,null,{"$f":"IF('10組'!V54=\"\",\"\",'10組'!V54)","v":""},{"$f":"IF('10組'!W54=\"\",\"\",'10組'!W54)","v":""},{"$f":"IF('10組'!X54=\"\",\"\",'10組'!X54)","v":""},{"$f":"IF('10組'!Y54=\"\",\"\",'10組'!Y54)","v":""},{"$f":"IF('10組'!Z54=\"\",\"\",'10組'!Z54)","v":""},null,null,null,null,null,{"$f":"IF('10組'!AF54=\"\",\"\",'10組'!AF54)","v":""},{"$f":"IF('10組'!AG54=\"\",\"\",'10組'!AG54)","v":""},{"$f":"IF('10組'!AH54=\"\",\"\",'10組'!AH54)","v":""},{"$f":"IF('10組'!AI54=\"\",\"\",'10組'!AI54)","v":""},{"$f":"IF('10組'!AJ54=\"\",\"\",'10組'!AJ54)","v":""}]
[null,null,null,null,11032,null,10,32,null,null,"",{"$f":"IF('10組'!L55=\"\",\"\",'10組'!L55)","v":""},{"$f":"IF('10組'!M55=\"\",\"\",'10組'!M55)","v":""},{"$f":"IF('10組'!N55=\"\",\"\",'10組'!N55)","v":""},{"$f":"IF('10組'!O55=\"\",\"\",'10組'!O55)","v":""},{"$f":"IF('10組'!P55=\"\",\"\",'10組'!P55)","v":""},null,null,null,null,null,{"$f":"IF('10組'!V55=\"\",\"\",'10組'!V55)","v":""},{"$f":"IF('10組'!W55=\"\",\"\",'10組'!W55)","v":""},{"$f":"IF('10組'!X55=\"\",\"\",'10組'!X55)","v":""},{"$f":"IF('10組'!Y55=\"\",\"\",'10組'!Y55)","v":""},{"$f":"IF('10組'!Z55=\"\",\"\",'10組'!Z55)","v":""},null,null,null,null,null,{"$f":"IF('10組'!AF55=\"\",\"\",'10組'!AF55)","v":""},{"$f":"IF('10組'!AG55=\"\",\"\",'10組'!AG55)","v":""},{"$f":"IF('10組'!AH55=\"\",\"\",'10組'!AH55)","v":""},{"$f":"IF('10組'!AI55=\"\",\"\",'10組'!AI55)","v":""},{"$f":"IF('10組'!AJ55=\"\",\"\",'10組'!AJ55)","v":""}]
[null,null,null,null,11033,null,10,33,null,null,"",{"$f":"IF('10組'!L56=\"\",\"\",'10組'!L56)","v":""},{"$f":"IF('10組'!M56=\"\",\"\",'10組'!M56)","v":""},{"$f":"IF('10組'!N56=\"\",\"\",'10組'!N56)","v":""},{"$f":"IF('10組'!O56=\"\",\"\",'10組'!O56)","v":""},{"$f":"IF('10組'!P56=\"\",\"\",'10組'!P56)","v":""},null,null,null,null,null,{"$f":"IF('10組'!V56=\"\",\"\",'10組'!V56)","v":""},{"$f":"IF('10組'!W56=\"\",\"\",'10組'!W56)","v":""},{"$f":"IF('10組'!X56=\"\",\"\",'10組'!X56)","v":""},{"$f":"IF('10組'!Y56=\"\",\"\",'10組'!Y56)","v":""},{"$f":"IF('10組'!Z56=\"\",\"\",'10組'!Z56)","v":""},null,null,null,null,null,{"$f":"IF('10組'!AF56=\"\",\"\",'10組'!AF56)","v":""},{"$f":"IF('10組'!AG56=\"\",\"\",'10組'!AG56)","v":""},{"$f":"IF('10組'!AH56=\"\",\"\",'10組'!AH56)","v":""},{"$f":"IF('10組'!AI56=\"\",\"\",'10組'!AI56)","v":""},{"$f":"IF('10組'!AJ56=\"\",\"\",'10組'!AJ56)","v":""}]
[null,null,null,null,11034,null,10,34,null,null,"",{"$f":"IF('10組'!L57=\"\",\"\",'10組'!L57)","v":""},{"$f":"IF('10組'!M57=\"\",\"\",'10組'!M57)","v":""},{"$f":"IF('10組'!N57=\"\",\"\",'10組'!N57)","v":""},{"$f":"IF('10組'!O57=\"\",\"\",'10組'!O57)","v":""},{"$f":"IF('10組'!P57=\"\",\"\",'10組'!P57)","v":""},null,null,null,null,null,{"$f":"IF('10組'!V57=\"\",\"\",'10組'!V57)","v":""},{"$f":"IF('10組'!W57=\"\",\"\",'10組'!W57)","v":""},{"$f":"IF('10組'!X57=\"\",\"\",'10組'!X57)","v":""},{"$f":"IF('10組'!Y57=\"\",\"\",'10組'!Y57)","v":""},{"$f":"IF('10組'!Z57=\"\",\"\",'10組'!Z57)","v":""},null,null,null,null,null,{"$f":"IF('10組'!AF57=\"\",\"\",'10組'!AF57)","v":""},{"$f":"IF('10組'!AG57=\"\",\"\",'10組'!AG57)","v":""},{"$f":"IF('10組'!AH57=\"\",\"\",'10組'!AH57)","v":""},{"$f":"IF('10組'!AI57=\"\",\"\",'10組'!AI57)","v":""},{"$f":"IF('10組'!AJ57=\"\",\"\",'10組'!AJ57)","v":""}]
[null,null,null,null,11035,null,10,35,null,null,"",{"$f":"IF('10組'!L58=\"\",\"\",'10組'!L58)","v":""},{"$f":"IF('10組'!M58=\"\",\"\",'10組'!M58)","v":""},{"$f":"IF('10組'!N58=\"\",\"\",'10組'!N58)","v":""},{"$f":"IF('10組'!O58=\"\",\"\",'10組'!O58)","v":""},{"$f":"IF('10組'!P58=\"\",\"\",'10組'!P58)","v":""},null,null,null,null,null,{"$f":"IF('10組'!V58=\"\",\"\",'10組'!V58)","v":""},{"$f":"IF('10組'!W58=\"\",\"\",'10組'!W58)","v":""},{"$f":"IF('10組'!X58=\"\",\"\",'10組'!X58)","v":""},{"$f":"IF('10組'!Y58=\"\",\"\",'10組'!Y58)","v":""},{"$f":"IF('10組'!Z58=\"\",\"\",'10組'!Z58)","v":""},null,null,null,null,null,{"$f":"IF('10組'!AF58=\"\",\"\",'10組'!AF58)","v":""},{"$f":"IF('10組'!AG58=\"\",\"\",'10組'!AG58)","v":""},{"$f":"IF('10組'!AH58=\"\",\"\",'10組'!AH58)","v":""},{"$f":"IF('10組'!AI58=\"\",\"\",'10組'!AI58)","v":""},{"$f":"IF('10組'!AJ58=\"\",\"\",'10組'!AJ58)","v":""}]
[null,null,null,null,11036,null,10,36,null,null,"",{"$f":"IF('10組'!L59=\"\",\"\",'10組'!L59)","v":""},{"$f":"IF('10組'!M59=\"\",\"\",'10組'!M59)","v":""},{"$f":"IF('10組'!N59=\"\",\"\",'10組'!N59)","v":""},{"$f":"IF('10組'!O59=\"\",\"\",'10組'!O59)","v":""},{"$f":"IF('10組'!P59=\"\",\"\",'10組'!P59)","v":""},null,null,null,null,null,{"$f":"IF('10組'!V59=\"\",\"\",'10組'!V59)","v":""},{"$f":"IF('10組'!W59=\"\",\"\",'10組'!W59)","v":""},{"$f":"IF('10組'!X59=\"\",\"\",'10組'!X59)","v":""},{"$f":"IF('10組'!Y59=\"\",\"\",'10組'!Y59)","v":""},{"$f":"IF('10組'!Z59=\"\",\"\",'10組'!Z59)","v":""},null,null,null,null,null,{"$f":"IF('10組'!AF59=\"\",\"\",'10組'!AF59)","v":""},{"$f":"IF('10組'!AG59=\"\",\"\",'10組'!AG59)","v":""},{"$f":"IF('10組'!AH59=\"\",\"\",'10組'!AH59)","v":""},{"$f":"IF('10組'!AI59=\"\",\"\",'10組'!AI59)","v":""},{"$f":"IF('10組'!AJ59=\"\",\"\",'10組'!AJ59)","v":""}]
[null,null,null,null,11037,null,10,37,null,null,"",{"$f":"IF('10組'!L60=\"\",\"\",'10組'!L60)","v":""},{"$f":"IF('10組'!M60=\"\",\"\",'10組'!M60)","v":""},{"$f":"IF('10組'!N60=\"\",\"\",'10組'!N60)","v":""},{"$f":"IF('10組'!O60=\"\",\"\",'10組'!O60)","v":""},{"$f":"IF('10組'!P60=\"\",\"\",'10組'!P60)","v":""},null,null,null,null,null,{"$f":"IF('10組'!V60=\"\",\"\",'10組'!V60)","v":""},{"$f":"IF('10組'!W60=\"\",\"\",'10組'!W60)","v":""},{"$f":"IF('10組'!X60=\"\",\"\",'10組'!X60)","v":""},{"$f":"IF('10組'!Y60=\"\",\"\",'10組'!Y60)","v":""},{"$f":"IF('10組'!Z60=\"\",\"\",'10組'!Z60)","v":""},null,null,null,null,null,{"$f":"IF('10組'!AF60=\"\",\"\",'10組'!AF60)","v":""},{"$f":"IF('10組'!AG60=\"\",\"\",'10組'!AG60)","v":""},{"$f":"IF('10組'!AH60=\"\",\"\",'10組'!AH60)","v":""},{"$f":"IF('10組'!AI60=\"\",\"\",'10組'!AI60)","v":""},{"$f":"IF('10組'!AJ60=\"\",\"\",'10組'!AJ60)","v":""}]
[null,null,null,null,11038,null,10,38,null,null,"",{"$f":"IF('10組'!L61=\"\",\"\",'10組'!L61)","v":""},{"$f":"IF('10組'!M61=\"\",\"\",'10組'!M61)","v":""},{"$f":"IF('10組'!N61=\"\",\"\",'10組'!N61)","v":""},{"$f":"IF('10組'!O61=\"\",\"\",'10組'!O61)","v":""},{"$f":"IF('10組'!P61=\"\",\"\",'10組'!P61)","v":""},null,null,null,null,null,{"$f":"IF('10組'!V61=\"\",\"\",'10組'!V61)","v":""},{"$f":"IF('10組'!W61=\"\",\"\",'10組'!W61)","v":""},{"$f":"IF('10組'!X61=\"\",\"\",'10組'!X61)","v":""},{"$f":"IF('10組'!Y61=\"\",\"\",'10組'!Y61)","v":""},{"$f":"IF('10組'!Z61=\"\",\"\",'10組'!Z61)","v":""},null,null,null,null,null,{"$f":"IF('10組'!AF61=\"\",\"\",'10組'!AF61)","v":""},{"$f":"IF('10組'!AG61=\"\",\"\",'10組'!AG61)","v":""},{"$f":"IF('10組'!AH61=\"\",\"\",'10組'!AH61)","v":""},{"$f":"IF('10組'!AI61=\"\",\"\",'10組'!AI61)","v":""},{"$f":"IF('10組'!AJ61=\"\",\"\",'10組'!AJ61)","v":""}]
[null,null,null,null,11039,null,10,39,null,null,"",{"$f":"IF('10組'!L62=\"\",\"\",'10組'!L62)","v":""},{"$f":"IF('10組'!M62=\"\",\"\",'10組'!M62)","v":""},{"$f":"IF('10組'!N62=\"\",\"\",'10組'!N62)","v":""},{"$f":"IF('10組'!O62=\"\",\"\",'10組'!O62)","v":""},{"$f":"IF('10組'!P62=\"\",\"\",'10組'!P62)","v":""},null,null,null,null,null,{"$f":"IF('10組'!V62=\"\",\"\",'10組'!V62)","v":""},{"$f":"IF('10組'!W62=\"\",\"\",'10組'!W62)","v":""},{"$f":"IF('10組'!X62=\"\",\"\",'10組'!X62)","v":""},{"$f":"IF('10組'!Y62=\"\",\"\",'10組'!Y62)","v":""},{"$f":"IF('10組'!Z62=\"\",\"\",'10組'!Z62)","v":""},null,null,null,null,null,{"$f":"IF('10組'!AF62=\"\",\"\",'10組'!AF62)","v":""},{"$f":"IF('10組'!AG62=\"\",\"\",'10組'!AG62)","v":""},{"$f":"IF('10組'!AH62=\"\",\"\",'10組'!AH62)","v":""},{"$f":"IF('10組'!AI62=\"\",\"\",'10組'!AI62)","v":""},{"$f":"IF('10組'!AJ62=\"\",\"\",'10組'!AJ62)","v":""}]
[null,null,null,null,11040,null,10,40,null,null,"",{"$f":"IF('10組'!L63=\"\",\"\",'10組'!L63)","v":""},{"$f":"IF('10組'!M63=\"\",\"\",'10組'!M63)","v":""},{"$f":"IF('10組'!N63=\"\",\"\",'10組'!N63)","v":""},{"$f":"IF('10組'!O63=\"\",\"\",'10組'!O63)","v":""},{"$f":"IF('10組'!P63=\"\",\"\",'10組'!P63)","v":""},null,null,null,null,null,{"$f":"IF('10組'!V63=\"\",\"\",'10組'!V63)","v":""},{"$f":"IF('10組'!W63=\"\",\"\",'10組'!W63)","v":""},{"$f":"IF('10組'!X63=\"\",\"\",'10組'!X63)","v":""},{"$f":"IF('10組'!Y63=\"\",\"\",'10組'!Y63)","v":""},{"$f":"IF('10組'!Z63=\"\",\"\",'10組'!Z63)","v":""},null,null,null,null,null,{"$f":"IF('10組'!AF63=\"\",\"\",'10組'!AF63)","v":""},{"$f":"IF('10組'!AG63=\"\",\"\",'10組'!AG63)","v":""},{"$f":"IF('10組'!AH63=\"\",\"\",'10組'!AH63)","v":""},{"$f":"IF('10組'!AI63=\"\",\"\",'10組'!AI63)","v":""},{"$f":"IF('10組'!AJ63=\"\",\"\",'10組'!AJ63)","v":""}]
[null,null,null,null,11041,null,10,41,null,null,"",{"$f":"IF('10組'!L64=\"\",\"\",'10組'!L64)","v":""},{"$f":"IF('10組'!M64=\"\",\"\",'10組'!M64)","v":""},{"$f":"IF('10組'!N64=\"\",\"\",'10組'!N64)","v":""},{"$f":"IF('10組'!O64=\"\",\"\",'10組'!O64)","v":""},{"$f":"IF('10組'!P64=\"\",\"\",'10組'!P64)","v":""},null,null,null,null,null,{"$f":"IF('10組'!V64=\"\",\"\",'10組'!V64)","v":""},{"$f":"IF('10組'!W64=\"\",\"\",'10組'!W64)","v":""},{"$f":"IF('10組'!X64=\"\",\"\",'10組'!X64)","v":""},{"$f":"IF('10組'!Y64=\"\",\"\",'10組'!Y64)","v":""},{"$f":"IF('10組'!Z64=\"\",\"\",'10組'!Z64)","v":""},null,null,null,null,null,{"$f":"IF('10組'!AF64=\"\",\"\",'10組'!AF64)","v":""},{"$f":"IF('10組'!AG64=\"\",\"\",'10組'!AG64)","v":""},{"$f":"IF('10組'!AH64=\"\",\"\",'10組'!AH64)","v":""},{"$f":"IF('10組'!AI64=\"\",\"\",'10組'!AI64)","v":""},{"$f":"IF('10組'!AJ64=\"\",\"\",'10組'!AJ64)","v":""}]
[null,null,null,null,11042,null,10,42,null,null,"",{"$f":"IF('10組'!L65=\"\",\"\",'10組'!L65)","v":""},{"$f":"IF('10組'!M65=\"\",\"\",'10組'!M65)","v":""},{"$f":"IF('10組'!N65=\"\",\"\",'10組'!N65)","v":""},{"$f":"IF('10組'!O65=\"\",\"\",'10組'!O65)","v":""},{"$f":"IF('10組'!P65=\"\",\"\",'10組'!P65)","v":""},null,null,null,null,null,{"$f":"IF('10組'!V65=\"\",\"\",'10組'!V65)","v":""},{"$f":"IF('10組'!W65=\"\",\"\",'10組'!W65)","v":""},{"$f":"IF('10組'!X65=\"\",\"\",'10組'!X65)","v":""},{"$f":"IF('10組'!Y65=\"\",\"\",'10組'!Y65)","v":""},{"$f":"IF('10組'!Z65=\"\",\"\",'10組'!Z65)","v":""},null,null,null,null,null,{"$f":"IF('10組'!AF65=\"\",\"\",'10組'!AF65)","v":""},{"$f":"IF('10組'!AG65=\"\",\"\",'10組'!AG65)","v":""},{"$f":"IF('10組'!AH65=\"\",\"\",'10組'!AH65)","v":""},{"$f":"IF('10組'!AI65=\"\",\"\",'10組'!AI65)","v":""},{"$f":"IF('10組'!AJ65=\"\",\"\",'10組'!AJ65)","v":""}]
[null,null,null,null,11043,null,10,43,null,null,"",{"$f":"IF('10組'!L66=\"\",\"\",'10組'!L66)","v":""},{"$f":"IF('10組'!M66=\"\",\"\",'10組'!M66)","v":""},{"$f":"IF('10組'!N66=\"\",\"\",'10組'!N66)","v":""},{"$f":"IF('10組'!O66=\"\",\"\",'10組'!O66)","v":""},{"$f":"IF('10組'!P66=\"\",\"\",'10組'!P66)","v":""},null,null,null,null,null,{"$f":"IF('10組'!V66=\"\",\"\",'10組'!V66)","v":""},{"$f":"IF('10組'!W66=\"\",\"\",'10組'!W66)","v":""},{"$f":"IF('10組'!X66=\"\",\"\",'10組'!X66)","v":""},{"$f":"IF('10組'!Y66=\"\",\"\",'10組'!Y66)","v":""},{"$f":"IF('10組'!Z66=\"\",\"\",'10組'!Z66)","v":""},null,null,null,null,null,{"$f":"IF('10組'!AF66=\"\",\"\",'10組'!AF66)","v":""},{"$f":"IF('10組'!AG66=\"\",\"\",'10組'!AG66)","v":""},{"$f":"IF('10組'!AH66=\"\",\"\",'10組'!AH66)","v":""},{"$f":"IF('10組'!AI66=\"\",\"\",'10組'!AI66)","v":""},{"$f":"IF('10組'!AJ66=\"\",\"\",'10組'!AJ66)","v":""}]
[null,null,null,null,11044,null,10,44,null,null,"",{"$f":"IF('10組'!L67=\"\",\"\",'10組'!L67)","v":""},{"$f":"IF('10組'!M67=\"\",\"\",'10組'!M67)","v":""},{"$f":"IF('10組'!N67=\"\",\"\",'10組'!N67)","v":""},{"$f":"IF('10組'!O67=\"\",\"\",'10組'!O67)","v":""},{"$f":"IF('10組'!P67=\"\",\"\",'10組'!P67)","v":""},null,null,null,null,null,{"$f":"IF('10組'!V67=\"\",\"\",'10組'!V67)","v":""},{"$f":"IF('10組'!W67=\"\",\"\",'10組'!W67)","v":""},{"$f":"IF('10組'!X67=\"\",\"\",'10組'!X67)","v":""},{"$f":"IF('10組'!Y67=\"\",\"\",'10組'!Y67)","v":""},{"$f":"IF('10組'!Z67=\"\",\"\",'10組'!Z67)","v":""},null,null,null,null,null,{"$f":"IF('10組'!AF67=\"\",\"\",'10組'!AF67)","v":""},{"$f":"IF('10組'!AG67=\"\",\"\",'10組'!AG67)","v":""},{"$f":"IF('10組'!AH67=\"\",\"\",'10組'!AH67)","v":""},{"$f":"IF('10組'!AI67=\"\",\"\",'10組'!AI67)","v":""},{"$f":"IF('10組'!AJ67=\"\",\"\",'10組'!AJ67)","v":""}]
[null,null,null,null,11045,null,10,45,null,null,"",{"$f":"IF('10組'!L68=\"\",\"\",'10組'!L68)","v":""},{"$f":"IF('10組'!M68=\"\",\"\",'10組'!M68)","v":""},{"$f":"IF('10組'!N68=\"\",\"\",'10組'!N68)","v":""},{"$f":"IF('10組'!O68=\"\",\"\",'10組'!O68)","v":""},{"$f":"IF('10組'!P68=\"\",\"\",'10組'!P68)","v":""},null,null,null,null,null,{"$f":"IF('10組'!V68=\"\",\"\",'10組'!V68)","v":""},{"$f":"IF('10組'!W68=\"\",\"\",'10組'!W68)","v":""},{"$f":"IF('10組'!X68=\"\",\"\",'10組'!X68)","v":""},{"$f":"IF('10組'!Y68=\"\",\"\",'10組'!Y68)","v":""},{"$f":"IF('10組'!Z68=\"\",\"\",'10組'!Z68)","v":""},null,null,null,null,null,{"$f":"IF('10組'!AF68=\"\",\"\",'10組'!AF68)","v":""},{"$f":"IF('10組'!AG68=\"\",\"\",'10組'!AG68)","v":""},{"$f":"IF('10組'!AH68=\"\",\"\",'10組'!AH68)","v":""},{"$f":"IF('10組'!AI68=\"\",\"\",'10組'!AI68)","v":""},{"$f":"IF('10組'!AJ68=\"\",\"\",'10組'!AJ68)","v":""}]
[null,null,null,null,11046,null,10,46,null,null,"",{"$f":"IF('10組'!L69=\"\",\"\",'10組'!L69)","v":""},{"$f":"IF('10組'!M69=\"\",\"\",'10組'!M69)","v":""},{"$f":"IF('10組'!N69=\"\",\"\",'10組'!N69)","v":""},{"$f":"IF('10組'!O69=\"\",\"\",'10組'!O69)","v":""},{"$f":"IF('10組'!P69=\"\",\"\",'10組'!P69)","v":""},null,null,null,null,null,{"$f":"IF('10組'!V69=\"\",\"\",'10組'!V69)","v":""},{"$f":"IF('10組'!W69=\"\",\"\",'10組'!W69)","v":""},{"$f":"IF('10組'!X69=\"\",\"\",'10組'!X69)","v":""},{"$f":"IF('10組'!Y69=\"\",\"\",'10組'!Y69)","v":""},{"$f":"IF('10組'!Z69=\"\",\"\",'10組'!Z69)","v":""},null,null,null,null,null,{"$f":"IF('10組'!AF69=\"\",\"\",'10組'!AF69)","v":""},{"$f":"IF('10組'!AG69=\"\",\"\",'10組'!AG69)","v":""},{"$f":"IF('10組'!AH69=\"\",\"\",'10組'!AH69)","v":""},{"$f":"IF('10組'!AI69=\"\",\"\",'10組'!AI69)","v":""},{"$f":"IF('10組'!AJ69=\"\",\"\",'10組'!AJ69)","v":""}]
[null,null,null,null,11047,null,10,47,null,null,"",{"$f":"IF('10組'!L70=\"\",\"\",'10組'!L70)","v":""},{"$f":"IF('10組'!M70=\"\",\"\",'10組'!M70)","v":""},{"$f":"IF('10組'!N70=\"\",\"\",'10組'!N70)","v":""},{"$f":"IF('10組'!O70=\"\",\"\",'10組'!O70)","v":""},{"$f":"IF('10組'!P70=\"\",\"\",'10組'!P70)","v":""},null,null,null,null,null,{"$f":"IF('10組'!V70=\"\",\"\",'10組'!V70)","v":""},{"$f":"IF('10組'!W70=\"\",\"\",'10組'!W70)","v":""},{"$f":"IF('10組'!X70=\"\",\"\",'10組'!X70)","v":""},{"$f":"IF('10組'!Y70=\"\",\"\",'10組'!Y70)","v":""},{"$f":"IF('10組'!Z70=\"\",\"\",'10組'!Z70)","v":""},null,null,null,null,null,{"$f":"IF('10組'!AF70=\"\",\"\",'10組'!AF70)","v":""},{"$f":"IF('10組'!AG70=\"\",\"\",'10組'!AG70)","v":""},{"$f":"IF('10組'!AH70=\"\",\"\",'10組'!AH70)","v":""},{"$f":"IF('10組'!AI70=\"\",\"\",'10組'!AI70)","v":""},{"$f":"IF('10組'!AJ70=\"\",\"\",'10組'!AJ70)","v":""}]
[null,null,null,null,11048,null,10,48,null,null,"",{"$f":"IF('10組'!L71=\"\",\"\",'10組'!L71)","v":""},{"$f":"IF('10組'!M71=\"\",\"\",'10組'!M71)","v":""},{"$f":"IF('10組'!N71=\"\",\"\",'10組'!N71)","v":""},{"$f":"IF('10組'!O71=\"\",\"\",'10組'!O71)","v":""},{"$f":"IF('10組'!P71=\"\",\"\",'10組'!P71)","v":""},null,null,null,null,null,{"$f":"IF('10組'!V71=\"\",\"\",'10組'!V71)","v":""},{"$f":"IF('10組'!W71=\"\",\"\",'10組'!W71)","v":""},{"$f":"IF('10組'!X71=\"\",\"\",'10組'!X71)","v":""},{"$f":"IF('10組'!Y71=\"\",\"\",'10組'!Y71)","v":""},{"$f":"IF('10組'!Z71=\"\",\"\",'10組'!Z71)","v":""},null,null,null,null,null,{"$f":"IF('10組'!AF71=\"\",\"\",'10組'!AF71)","v":""},{"$f":"IF('10組'!AG71=\"\",\"\",'10組'!AG71)","v":""},{"$f":"IF('10組'!AH71=\"\",\"\",'10組'!AH71)","v":""},{"$f":"IF('10組'!AI71=\"\",\"\",'10組'!AI71)","v":""},{"$f":"IF('10組'!AJ71=\"\",\"\",'10組'!AJ71)","v":""}]
[null,null,null,null,11049,null,10,49,null,null,"",{"$f":"IF('10組'!L72=\"\",\"\",'10組'!L72)","v":""},{"$f":"IF('10組'!M72=\"\",\"\",'10組'!M72)","v":""},{"$f":"IF('10組'!N72=\"\",\"\",'10組'!N72)","v":""},{"$f":"IF('10組'!O72=\"\",\"\",'10組'!O72)","v":""},{"$f":"IF('10組'!P72=\"\",\"\",'10組'!P72)","v":""},null,null,null,null,null,{"$f":"IF('10組'!V72=\"\",\"\",'10組'!V72)","v":""},{"$f":"IF('10組'!W72=\"\",\"\",'10組'!W72)","v":""},{"$f":"IF('10組'!X72=\"\",\"\",'10組'!X72)","v":""},{"$f":"IF('10組'!Y72=\"\",\"\",'10組'!Y72)","v":""},{"$f":"IF('10組'!Z72=\"\",\"\",'10組'!Z72)","v":""},null,null,null,null,null,{"$f":"IF('10組'!AF72=\"\",\"\",'10組'!AF72)","v":""},{"$f":"IF('10組'!AG72=\"\",\"\",'10組'!AG72)","v":""},{"$f":"IF('10組'!AH72=\"\",\"\",'10組'!AH72)","v":""},{"$f":"IF('10組'!AI72=\"\",\"\",'10組'!AI72)","v":""},{"$f":"IF('10組'!AJ72=\"\",\"\",'10組'!AJ72)","v":""}]
[null,null,null,null,11050,null,10,50,null,null,"",{"$f":"IF('10組'!L73=\"\",\"\",'10組'!L73)","v":""},{"$f":"IF('10組'!M73=\"\",\"\",'10組'!M73)","v":""},{"$f":"IF('10組'!N73=\"\",\"\",'10組'!N73)","v":""},{"$f":"IF('10組'!O73=\"\",\"\",'10組'!O73)","v":""},{"$f":"IF('10組'!P73=\"\",\"\",'10組'!P73)","v":""},null,null,null,null,null,{"$f":"IF('10組'!V73=\"\",\"\",'10組'!V73)","v":""},{"$f":"IF('10組'!W73=\"\",\"\",'10組'!W73)","v":""},{"$f":"IF('10組'!X73=\"\",\"\",'10組'!X73)","v":""},{"$f":"IF('10組'!Y73=\"\",\"\",'10組'!Y73)","v":""},{"$f":"IF('10組'!Z73=\"\",\"\",'10組'!Z73)","v":""},null,null,null,null,null,{"$f":"IF('10組'!AF73=\"\",\"\",'10組'!AF73)","v":""},{"$f":"IF('10組'!AG73=\"\",\"\",'10組'!AG73)","v":""},{"$f":"IF('10組'!AH73=\"\",\"\",'10組'!AH73)","v":""},{"$f":"IF('10組'!AI73=\"\",\"\",'10組'!AI73)","v":""},{"$f":"IF('10組'!AJ73=\"\",\"\",'10組'!AJ73)","v":""}]
[null,null,null,null,11101,null,11,1,null,null,"",{"$f":"IF('11組'!L24=\"\",\"\",'11組'!L24)","v":""},{"$f":"IF('11組'!M24=\"\",\"\",'11組'!M24)","v":""},{"$f":"IF('11組'!N24=\"\",\"\",'11組'!N24)","v":""},{"$f":"IF('11組'!O24=\"\",\"\",'11組'!O24)","v":""},{"$f":"IF('11組'!P24=\"\",\"\",'11組'!P24)","v":""},null,null,null,null,null,{"$f":"IF('11組'!V24=\"\",\"\",'11組'!V24)","v":""},{"$f":"IF('11組'!W24=\"\",\"\",'11組'!W24)","v":""},{"$f":"IF('11組'!X24=\"\",\"\",'11組'!X24)","v":""},{"$f":"IF('11組'!Y24=\"\",\"\",'11組'!Y24)","v":""},{"$f":"IF('11組'!Z24=\"\",\"\",'11組'!Z24)","v":""},null,null,null,null,null,{"$f":"IF('11組'!AF24=\"\",\"\",'11組'!AF24)","v":""},{"$f":"IF('11組'!AG24=\"\",\"\",'11組'!AG24)","v":""},{"$f":"IF('11組'!AH24=\"\",\"\",'11組'!AH24)","v":""},{"$f":"IF('11組'!AI24=\"\",\"\",'11組'!AI24)","v":""},{"$f":"IF('11組'!AJ24=\"\",\"\",'11組'!AJ24)","v":""}]
[null,null,null,null,11102,null,11,2,null,null,"",{"$f":"IF('11組'!L25=\"\",\"\",'11組'!L25)","v":""},{"$f":"IF('11組'!M25=\"\",\"\",'11組'!M25)","v":""},{"$f":"IF('11組'!N25=\"\",\"\",'11組'!N25)","v":""},{"$f":"IF('11組'!O25=\"\",\"\",'11組'!O25)","v":""},{"$f":"IF('11組'!P25=\"\",\"\",'11組'!P25)","v":""},null,null,null,null,null,{"$f":"IF('11組'!V25=\"\",\"\",'11組'!V25)","v":""},{"$f":"IF('11組'!W25=\"\",\"\",'11組'!W25)","v":""},{"$f":"IF('11組'!X25=\"\",\"\",'11組'!X25)","v":""},{"$f":"IF('11組'!Y25=\"\",\"\",'11組'!Y25)","v":""},{"$f":"IF('11組'!Z25=\"\",\"\",'11組'!Z25)","v":""},null,null,null,null,null,{"$f":"IF('11組'!AF25=\"\",\"\",'11組'!AF25)","v":""},{"$f":"IF('11組'!AG25=\"\",\"\",'11組'!AG25)","v":""},{"$f":"IF('11組'!AH25=\"\",\"\",'11組'!AH25)","v":""},{"$f":"IF('11組'!AI25=\"\",\"\",'11組'!AI25)","v":""},{"$f":"IF('11組'!AJ25=\"\",\"\",'11組'!AJ25)","v":""}]
[null,null,null,null,11103,null,11,3,null,null,"",{"$f":"IF('11組'!L26=\"\",\"\",'11組'!L26)","v":""},{"$f":"IF('11組'!M26=\"\",\"\",'11組'!M26)","v":""},{"$f":"IF('11組'!N26=\"\",\"\",'11組'!N26)","v":""},{"$f":"IF('11組'!O26=\"\",\"\",'11組'!O26)","v":""},{"$f":"IF('11組'!P26=\"\",\"\",'11組'!P26)","v":""},null,null,null,null,null,{"$f":"IF('11組'!V26=\"\",\"\",'11組'!V26)","v":""},{"$f":"IF('11組'!W26=\"\",\"\",'11組'!W26)","v":""},{"$f":"IF('11組'!X26=\"\",\"\",'11組'!X26)","v":""},{"$f":"IF('11組'!Y26=\"\",\"\",'11組'!Y26)","v":""},{"$f":"IF('11組'!Z26=\"\",\"\",'11組'!Z26)","v":""},null,null,null,null,null,{"$f":"IF('11組'!AF26=\"\",\"\",'11組'!AF26)","v":""},{"$f":"IF('11組'!AG26=\"\",\"\",'11組'!AG26)","v":""},{"$f":"IF('11組'!AH26=\"\",\"\",'11組'!AH26)","v":""},{"$f":"IF('11組'!AI26=\"\",\"\",'11組'!AI26)","v":""},{"$f":"IF('11組'!AJ26=\"\",\"\",'11組'!AJ26)","v":""}]
[null,null,null,null,11104,null,11,4,null,null,"",{"$f":"IF('11組'!L27=\"\",\"\",'11組'!L27)","v":""},{"$f":"IF('11組'!M27=\"\",\"\",'11組'!M27)","v":""},{"$f":"IF('11組'!N27=\"\",\"\",'11組'!N27)","v":""},{"$f":"IF('11組'!O27=\"\",\"\",'11組'!O27)","v":""},{"$f":"IF('11組'!P27=\"\",\"\",'11組'!P27)","v":""},null,null,null,null,null,{"$f":"IF('11組'!V27=\"\",\"\",'11組'!V27)","v":""},{"$f":"IF('11組'!W27=\"\",\"\",'11組'!W27)","v":""},{"$f":"IF('11組'!X27=\"\",\"\",'11組'!X27)","v":""},{"$f":"IF('11組'!Y27=\"\",\"\",'11組'!Y27)","v":""},{"$f":"IF('11組'!Z27=\"\",\"\",'11組'!Z27)","v":""},null,null,null,null,null,{"$f":"IF('11組'!AF27=\"\",\"\",'11組'!AF27)","v":""},{"$f":"IF('11組'!AG27=\"\",\"\",'11組'!AG27)","v":""},{"$f":"IF('11組'!AH27=\"\",\"\",'11組'!AH27)","v":""},{"$f":"IF('11組'!AI27=\"\",\"\",'11組'!AI27)","v":""},{"$f":"IF('11組'!AJ27=\"\",\"\",'11組'!AJ27)","v":""}]
[null,null,null,null,11105,null,11,5,null,null,"",{"$f":"IF('11組'!L28=\"\",\"\",'11組'!L28)","v":""},{"$f":"IF('11組'!M28=\"\",\"\",'11組'!M28)","v":""},{"$f":"IF('11組'!N28=\"\",\"\",'11組'!N28)","v":""},{"$f":"IF('11組'!O28=\"\",\"\",'11組'!O28)","v":""},{"$f":"IF('11組'!P28=\"\",\"\",'11組'!P28)","v":""},null,null,null,null,null,{"$f":"IF('11組'!V28=\"\",\"\",'11組'!V28)","v":""},{"$f":"IF('11組'!W28=\"\",\"\",'11組'!W28)","v":""},{"$f":"IF('11組'!X28=\"\",\"\",'11組'!X28)","v":""},{"$f":"IF('11組'!Y28=\"\",\"\",'11組'!Y28)","v":""},{"$f":"IF('11組'!Z28=\"\",\"\",'11組'!Z28)","v":""},null,null,null,null,null,{"$f":"IF('11組'!AF28=\"\",\"\",'11組'!AF28)","v":""},{"$f":"IF('11組'!AG28=\"\",\"\",'11組'!AG28)","v":""},{"$f":"IF('11組'!AH28=\"\",\"\",'11組'!AH28)","v":""},{"$f":"IF('11組'!AI28=\"\",\"\",'11組'!AI28)","v":""},{"$f":"IF('11組'!AJ28=\"\",\"\",'11組'!AJ28)","v":""}]
[null,null,null,null,11106,null,11,6,null,null,"",{"$f":"IF('11組'!L29=\"\",\"\",'11組'!L29)","v":""},{"$f":"IF('11組'!M29=\"\",\"\",'11組'!M29)","v":""},{"$f":"IF('11組'!N29=\"\",\"\",'11組'!N29)","v":""},{"$f":"IF('11組'!O29=\"\",\"\",'11組'!O29)","v":""},{"$f":"IF('11組'!P29=\"\",\"\",'11組'!P29)","v":""},null,null,null,null,null,{"$f":"IF('11組'!V29=\"\",\"\",'11組'!V29)","v":""},{"$f":"IF('11組'!W29=\"\",\"\",'11組'!W29)","v":""},{"$f":"IF('11組'!X29=\"\",\"\",'11組'!X29)","v":""},{"$f":"IF('11組'!Y29=\"\",\"\",'11組'!Y29)","v":""},{"$f":"IF('11組'!Z29=\"\",\"\",'11組'!Z29)","v":""},null,null,null,null,null,{"$f":"IF('11組'!AF29=\"\",\"\",'11組'!AF29)","v":""},{"$f":"IF('11組'!AG29=\"\",\"\",'11組'!AG29)","v":""},{"$f":"IF('11組'!AH29=\"\",\"\",'11組'!AH29)","v":""},{"$f":"IF('11組'!AI29=\"\",\"\",'11組'!AI29)","v":""},{"$f":"IF('11組'!AJ29=\"\",\"\",'11組'!AJ29)","v":""}]
[null,null,null,null,11107,null,11,7,null,null,"",{"$f":"IF('11組'!L30=\"\",\"\",'11組'!L30)","v":""},{"$f":"IF('11組'!M30=\"\",\"\",'11組'!M30)","v":""},{"$f":"IF('11組'!N30=\"\",\"\",'11組'!N30)","v":""},{"$f":"IF('11組'!O30=\"\",\"\",'11組'!O30)","v":""},{"$f":"IF('11組'!P30=\"\",\"\",'11組'!P30)","v":""},null,null,null,null,null,{"$f":"IF('11組'!V30=\"\",\"\",'11組'!V30)","v":""},{"$f":"IF('11組'!W30=\"\",\"\",'11組'!W30)","v":""},{"$f":"IF('11組'!X30=\"\",\"\",'11組'!X30)","v":""},{"$f":"IF('11組'!Y30=\"\",\"\",'11組'!Y30)","v":""},{"$f":"IF('11組'!Z30=\"\",\"\",'11組'!Z30)","v":""},null,null,null,null,null,{"$f":"IF('11組'!AF30=\"\",\"\",'11組'!AF30)","v":""},{"$f":"IF('11組'!AG30=\"\",\"\",'11組'!AG30)","v":""},{"$f":"IF('11組'!AH30=\"\",\"\",'11組'!AH30)","v":""},{"$f":"IF('11組'!AI30=\"\",\"\",'11組'!AI30)","v":""},{"$f":"IF('11組'!AJ30=\"\",\"\",'11組'!AJ30)","v":""}]
[null,null,null,null,11108,null,11,8,null,null,"",{"$f":"IF('11組'!L31=\"\",\"\",'11組'!L31)","v":""},{"$f":"IF('11組'!M31=\"\",\"\",'11組'!M31)","v":""},{"$f":"IF('11組'!N31=\"\",\"\",'11組'!N31)","v":""},{"$f":"IF('11組'!O31=\"\",\"\",'11組'!O31)","v":""},{"$f":"IF('11組'!P31=\"\",\"\",'11組'!P31)","v":""},null,null,null,null,null,{"$f":"IF('11組'!V31=\"\",\"\",'11組'!V31)","v":""},{"$f":"IF('11組'!W31=\"\",\"\",'11組'!W31)","v":""},{"$f":"IF('11組'!X31=\"\",\"\",'11組'!X31)","v":""},{"$f":"IF('11組'!Y31=\"\",\"\",'11組'!Y31)","v":""},{"$f":"IF('11組'!Z31=\"\",\"\",'11組'!Z31)","v":""},null,null,null,null,null,{"$f":"IF('11組'!AF31=\"\",\"\",'11組'!AF31)","v":""},{"$f":"IF('11組'!AG31=\"\",\"\",'11組'!AG31)","v":""},{"$f":"IF('11組'!AH31=\"\",\"\",'11組'!AH31)","v":""},{"$f":"IF('11組'!AI31=\"\",\"\",'11組'!AI31)","v":""},{"$f":"IF('11組'!AJ31=\"\",\"\",'11組'!AJ31)","v":""}]
[null,null,null,null,11109,null,11,9,null,null,"",{"$f":"IF('11組'!L32=\"\",\"\",'11組'!L32)","v":""},{"$f":"IF('11組'!M32=\"\",\"\",'11組'!M32)","v":""},{"$f":"IF('11組'!N32=\"\",\"\",'11組'!N32)","v":""},{"$f":"IF('11組'!O32=\"\",\"\",'11組'!O32)","v":""},{"$f":"IF('11組'!P32=\"\",\"\",'11組'!P32)","v":""},null,null,null,null,null,{"$f":"IF('11組'!V32=\"\",\"\",'11組'!V32)","v":""},{"$f":"IF('11組'!W32=\"\",\"\",'11組'!W32)","v":""},{"$f":"IF('11組'!X32=\"\",\"\",'11組'!X32)","v":""},{"$f":"IF('11組'!Y32=\"\",\"\",'11組'!Y32)","v":""},{"$f":"IF('11組'!Z32=\"\",\"\",'11組'!Z32)","v":""},null,null,null,null,null,{"$f":"IF('11組'!AF32=\"\",\"\",'11組'!AF32)","v":""},{"$f":"IF('11組'!AG32=\"\",\"\",'11組'!AG32)","v":""},{"$f":"IF('11組'!AH32=\"\",\"\",'11組'!AH32)","v":""},{"$f":"IF('11組'!AI32=\"\",\"\",'11組'!AI32)","v":""},{"$f":"IF('11組'!AJ32=\"\",\"\",'11組'!AJ32)","v":""}]
[null,null,null,null,11110,null,11,10,null,null,"",{"$f":"IF('11組'!L33=\"\",\"\",'11組'!L33)","v":""},{"$f":"IF('11組'!M33=\"\",\"\",'11組'!M33)","v":""},{"$f":"IF('11組'!N33=\"\",\"\",'11組'!N33)","v":""},{"$f":"IF('11組'!O33=\"\",\"\",'11組'!O33)","v":""},{"$f":"IF('11組'!P33=\"\",\"\",'11組'!P33)","v":""},null,null,null,null,null,{"$f":"IF('11組'!V33=\"\",\"\",'11組'!V33)","v":""},{"$f":"IF('11組'!W33=\"\",\"\",'11組'!W33)","v":""},{"$f":"IF('11組'!X33=\"\",\"\",'11組'!X33)","v":""},{"$f":"IF('11組'!Y33=\"\",\"\",'11組'!Y33)","v":""},{"$f":"IF('11組'!Z33=\"\",\"\",'11組'!Z33)","v":""},null,null,null,null,null,{"$f":"IF('11組'!AF33=\"\",\"\",'11組'!AF33)","v":""},{"$f":"IF('11組'!AG33=\"\",\"\",'11組'!AG33)","v":""},{"$f":"IF('11組'!AH33=\"\",\"\",'11組'!AH33)","v":""},{"$f":"IF('11組'!AI33=\"\",\"\",'11組'!AI33)","v":""},{"$f":"IF('11組'!AJ33=\"\",\"\",'11組'!AJ33)","v":""}]
[null,null,null,null,11111,null,11,11,null,null,"",{"$f":"IF('11組'!L34=\"\",\"\",'11組'!L34)","v":""},{"$f":"IF('11組'!M34=\"\",\"\",'11組'!M34)","v":""},{"$f":"IF('11組'!N34=\"\",\"\",'11組'!N34)","v":""},{"$f":"IF('11組'!O34=\"\",\"\",'11組'!O34)","v":""},{"$f":"IF('11組'!P34=\"\",\"\",'11組'!P34)","v":""},null,null,null,null,null,{"$f":"IF('11組'!V34=\"\",\"\",'11組'!V34)","v":""},{"$f":"IF('11組'!W34=\"\",\"\",'11組'!W34)","v":""},{"$f":"IF('11組'!X34=\"\",\"\",'11組'!X34)","v":""},{"$f":"IF('11組'!Y34=\"\",\"\",'11組'!Y34)","v":""},{"$f":"IF('11組'!Z34=\"\",\"\",'11組'!Z34)","v":""},null,null,null,null,null,{"$f":"IF('11組'!AF34=\"\",\"\",'11組'!AF34)","v":""},{"$f":"IF('11組'!AG34=\"\",\"\",'11組'!AG34)","v":""},{"$f":"IF('11組'!AH34=\"\",\"\",'11組'!AH34)","v":""},{"$f":"IF('11組'!AI34=\"\",\"\",'11組'!AI34)","v":""},{"$f":"IF('11組'!AJ34=\"\",\"\",'11組'!AJ34)","v":""}]
[null,null,null,null,11112,null,11,12,null,null,"",{"$f":"IF('11組'!L35=\"\",\"\",'11組'!L35)","v":""},{"$f":"IF('11組'!M35=\"\",\"\",'11組'!M35)","v":""},{"$f":"IF('11組'!N35=\"\",\"\",'11組'!N35)","v":""},{"$f":"IF('11組'!O35=\"\",\"\",'11組'!O35)","v":""},{"$f":"IF('11組'!P35=\"\",\"\",'11組'!P35)","v":""},null,null,null,null,null,{"$f":"IF('11組'!V35=\"\",\"\",'11組'!V35)","v":""},{"$f":"IF('11組'!W35=\"\",\"\",'11組'!W35)","v":""},{"$f":"IF('11組'!X35=\"\",\"\",'11組'!X35)","v":""},{"$f":"IF('11組'!Y35=\"\",\"\",'11組'!Y35)","v":""},{"$f":"IF('11組'!Z35=\"\",\"\",'11組'!Z35)","v":""},null,null,null,null,null,{"$f":"IF('11組'!AF35=\"\",\"\",'11組'!AF35)","v":""},{"$f":"IF('11組'!AG35=\"\",\"\",'11組'!AG35)","v":""},{"$f":"IF('11組'!AH35=\"\",\"\",'11組'!AH35)","v":""},{"$f":"IF('11組'!AI35=\"\",\"\",'11組'!AI35)","v":""},{"$f":"IF('11組'!AJ35=\"\",\"\",'11組'!AJ35)","v":""}]
[null,null,null,null,{"$f":"$H$8*10000+G536*100+H536","v":11113},null,11,13,null,null,"",{"$f":"IF('11組'!L36=\"\",\"\",'11組'!L36)","v":""},{"$f":"IF('11組'!M36=\"\",\"\",'11組'!M36)","v":""},{"$f":"IF('11組'!N36=\"\",\"\",'11組'!N36)","v":""},{"$f":"IF('11組'!O36=\"\",\"\",'11組'!O36)","v":""},{"$f":"IF('11組'!P36=\"\",\"\",'11組'!P36)","v":""},null,null,null,null,null,{"$f":"IF('11組'!V36=\"\",\"\",'11組'!V36)","v":""},{"$f":"IF('11組'!W36=\"\",\"\",'11組'!W36)","v":""},{"$f":"IF('11組'!X36=\"\",\"\",'11組'!X36)","v":""},{"$f":"IF('11組'!Y36=\"\",\"\",'11組'!Y36)","v":""},{"$f":"IF('11組'!Z36=\"\",\"\",'11組'!Z36)","v":""},null,null,null,null,null,{"$f":"IF('11組'!AF36=\"\",\"\",'11組'!AF36)","v":""},{"$f":"IF('11組'!AG36=\"\",\"\",'11組'!AG36)","v":""},{"$f":"IF('11組'!AH36=\"\",\"\",'11組'!AH36)","v":""},{"$f":"IF('11組'!AI36=\"\",\"\",'11組'!AI36)","v":""},{"$f":"IF('11組'!AJ36=\"\",\"\",'11組'!AJ36)","v":""}]
[null,null,null,null,11114,null,{"$f":"IF(H536<50,G536,G536+1)","v":11},{"$f":"IF(G537<>G536,1,H536+1)","v":14},null,null,{"$f":"IF(J537=1,\"男\",IF(J537=2,\"女\",\"\"))","v":""},{"$f":"IF('11組'!L37=\"\",\"\",'11組'!L37)","v":""},{"$f":"IF('11組'!M37=\"\",\"\",'11組'!M37)","v":""},{"$f":"IF('11組'!N37=\"\",\"\",'11組'!N37)","v":""},{"$f":"IF('11組'!O37=\"\",\"\",'11組'!O37)","v":""},{"$f":"IF('11組'!P37=\"\",\"\",'11組'!P37)","v":""},null,null,null,null,null,{"$f":"IF('11組'!V37=\"\",\"\",'11組'!V37)","v":""},{"$f":"IF('11組'!W37=\"\",\"\",'11組'!W37)","v":""},{"$f":"IF('11組'!X37=\"\",\"\",'11組'!X37)","v":""},{"$f":"IF('11組'!Y37=\"\",\"\",'11組'!Y37)","v":""},{"$f":"IF('11組'!Z37=\"\",\"\",'11組'!Z37)","v":""},null,null,null,null,null,{"$f":"IF('11組'!AF37=\"\",\"\",'11組'!AF37)","v":""},{"$f":"IF('11組'!AG37=\"\",\"\",'11組'!AG37)","v":""},{"$f":"IF('11組'!AH37=\"\",\"\",'11組'!AH37)","v":""},{"$f":"IF('11組'!AI37=\"\",\"\",'11組'!AI37)","v":""},{"$f":"IF('11組'!AJ37=\"\",\"\",'11組'!AJ37)","v":""}]
[null,null,null,null,11115,null,11,15,null,null,"",{"$f":"IF('11組'!L38=\"\",\"\",'11組'!L38)","v":""},{"$f":"IF('11組'!M38=\"\",\"\",'11組'!M38)","v":""},{"$f":"IF('11組'!N38=\"\",\"\",'11組'!N38)","v":""},{"$f":"IF('11組'!O38=\"\",\"\",'11組'!O38)","v":""},{"$f":"IF('11組'!P38=\"\",\"\",'11組'!P38)","v":""},null,null,null,null,null,{"$f":"IF('11組'!V38=\"\",\"\",'11組'!V38)","v":""},{"$f":"IF('11組'!W38=\"\",\"\",'11組'!W38)","v":""},{"$f":"IF('11組'!X38=\"\",\"\",'11組'!X38)","v":""},{"$f":"IF('11組'!Y38=\"\",\"\",'11組'!Y38)","v":""},{"$f":"IF('11組'!Z38=\"\",\"\",'11組'!Z38)","v":""},null,null,null,null,null,{"$f":"IF('11組'!AF38=\"\",\"\",'11組'!AF38)","v":""},{"$f":"IF('11組'!AG38=\"\",\"\",'11組'!AG38)","v":""},{"$f":"IF('11組'!AH38=\"\",\"\",'11組'!AH38)","v":""},{"$f":"IF('11組'!AI38=\"\",\"\",'11組'!AI38)","v":""},{"$f":"IF('11組'!AJ38=\"\",\"\",'11組'!AJ38)","v":""}]
[null,null,null,null,11116,null,11,16,null,null,"",{"$f":"IF('11組'!L39=\"\",\"\",'11組'!L39)","v":""},{"$f":"IF('11組'!M39=\"\",\"\",'11組'!M39)","v":""},{"$f":"IF('11組'!N39=\"\",\"\",'11組'!N39)","v":""},{"$f":"IF('11組'!O39=\"\",\"\",'11組'!O39)","v":""},{"$f":"IF('11組'!P39=\"\",\"\",'11組'!P39)","v":""},null,null,null,null,null,{"$f":"IF('11組'!V39=\"\",\"\",'11組'!V39)","v":""},{"$f":"IF('11組'!W39=\"\",\"\",'11組'!W39)","v":""},{"$f":"IF('11組'!X39=\"\",\"\",'11組'!X39)","v":""},{"$f":"IF('11組'!Y39=\"\",\"\",'11組'!Y39)","v":""},{"$f":"IF('11組'!Z39=\"\",\"\",'11組'!Z39)","v":""},null,null,null,null,null,{"$f":"IF('11組'!AF39=\"\",\"\",'11組'!AF39)","v":""},{"$f":"IF('11組'!AG39=\"\",\"\",'11組'!AG39)","v":""},{"$f":"IF('11組'!AH39=\"\",\"\",'11組'!AH39)","v":""},{"$f":"IF('11組'!AI39=\"\",\"\",'11組'!AI39)","v":""},{"$f":"IF('11組'!AJ39=\"\",\"\",'11組'!AJ39)","v":""}]
[null,null,null,null,11117,null,11,17,null,null,"",{"$f":"IF('11組'!L40=\"\",\"\",'11組'!L40)","v":""},{"$f":"IF('11組'!M40=\"\",\"\",'11組'!M40)","v":""},{"$f":"IF('11組'!N40=\"\",\"\",'11組'!N40)","v":""},{"$f":"IF('11組'!O40=\"\",\"\",'11組'!O40)","v":""},{"$f":"IF('11組'!P40=\"\",\"\",'11組'!P40)","v":""},null,null,null,null,null,{"$f":"IF('11組'!V40=\"\",\"\",'11組'!V40)","v":""},{"$f":"IF('11組'!W40=\"\",\"\",'11組'!W40)","v":""},{"$f":"IF('11組'!X40=\"\",\"\",'11組'!X40)","v":""},{"$f":"IF('11組'!Y40=\"\",\"\",'11組'!Y40)","v":""},{"$f":"IF('11組'!Z40=\"\",\"\",'11組'!Z40)","v":""},null,null,null,null,null,{"$f":"IF('11組'!AF40=\"\",\"\",'11組'!AF40)","v":""},{"$f":"IF('11組'!AG40=\"\",\"\",'11組'!AG40)","v":""},{"$f":"IF('11組'!AH40=\"\",\"\",'11組'!AH40)","v":""},{"$f":"IF('11組'!AI40=\"\",\"\",'11組'!AI40)","v":""},{"$f":"IF('11組'!AJ40=\"\",\"\",'11組'!AJ40)","v":""}]
[null,null,null,null,11118,null,11,18,null,null,"",{"$f":"IF('11組'!L41=\"\",\"\",'11組'!L41)","v":""},{"$f":"IF('11組'!M41=\"\",\"\",'11組'!M41)","v":""},{"$f":"IF('11組'!N41=\"\",\"\",'11組'!N41)","v":""},{"$f":"IF('11組'!O41=\"\",\"\",'11組'!O41)","v":""},{"$f":"IF('11組'!P41=\"\",\"\",'11組'!P41)","v":""},null,null,null,null,null,{"$f":"IF('11組'!V41=\"\",\"\",'11組'!V41)","v":""},{"$f":"IF('11組'!W41=\"\",\"\",'11組'!W41)","v":""},{"$f":"IF('11組'!X41=\"\",\"\",'11組'!X41)","v":""},{"$f":"IF('11組'!Y41=\"\",\"\",'11組'!Y41)","v":""},{"$f":"IF('11組'!Z41=\"\",\"\",'11組'!Z41)","v":""},null,null,null,null,null,{"$f":"IF('11組'!AF41=\"\",\"\",'11組'!AF41)","v":""},{"$f":"IF('11組'!AG41=\"\",\"\",'11組'!AG41)","v":""},{"$f":"IF('11組'!AH41=\"\",\"\",'11組'!AH41)","v":""},{"$f":"IF('11組'!AI41=\"\",\"\",'11組'!AI41)","v":""},{"$f":"IF('11組'!AJ41=\"\",\"\",'11組'!AJ41)","v":""}]
[null,null,null,null,11119,null,11,19,null,null,"",{"$f":"IF('11組'!L42=\"\",\"\",'11組'!L42)","v":""},{"$f":"IF('11組'!M42=\"\",\"\",'11組'!M42)","v":""},{"$f":"IF('11組'!N42=\"\",\"\",'11組'!N42)","v":""},{"$f":"IF('11組'!O42=\"\",\"\",'11組'!O42)","v":""},{"$f":"IF('11組'!P42=\"\",\"\",'11組'!P42)","v":""},null,null,null,null,null,{"$f":"IF('11組'!V42=\"\",\"\",'11組'!V42)","v":""},{"$f":"IF('11組'!W42=\"\",\"\",'11組'!W42)","v":""},{"$f":"IF('11組'!X42=\"\",\"\",'11組'!X42)","v":""},{"$f":"IF('11組'!Y42=\"\",\"\",'11組'!Y42)","v":""},{"$f":"IF('11組'!Z42=\"\",\"\",'11組'!Z42)","v":""},null,null,null,null,null,{"$f":"IF('11組'!AF42=\"\",\"\",'11組'!AF42)","v":""},{"$f":"IF('11組'!AG42=\"\",\"\",'11組'!AG42)","v":""},{"$f":"IF('11組'!AH42=\"\",\"\",'11組'!AH42)","v":""},{"$f":"IF('11組'!AI42=\"\",\"\",'11組'!AI42)","v":""},{"$f":"IF('11組'!AJ42=\"\",\"\",'11組'!AJ42)","v":""}]
[null,null,null,null,11120,null,11,20,null,null,"",{"$f":"IF('11組'!L43=\"\",\"\",'11組'!L43)","v":""},{"$f":"IF('11組'!M43=\"\",\"\",'11組'!M43)","v":""},{"$f":"IF('11組'!N43=\"\",\"\",'11組'!N43)","v":""},{"$f":"IF('11組'!O43=\"\",\"\",'11組'!O43)","v":""},{"$f":"IF('11組'!P43=\"\",\"\",'11組'!P43)","v":""},null,null,null,null,null,{"$f":"IF('11組'!V43=\"\",\"\",'11組'!V43)","v":""},{"$f":"IF('11組'!W43=\"\",\"\",'11組'!W43)","v":""},{"$f":"IF('11組'!X43=\"\",\"\",'11組'!X43)","v":""},{"$f":"IF('11組'!Y43=\"\",\"\",'11組'!Y43)","v":""},{"$f":"IF('11組'!Z43=\"\",\"\",'11組'!Z43)","v":""},null,null,null,null,null,{"$f":"IF('11組'!AF43=\"\",\"\",'11組'!AF43)","v":""},{"$f":"IF('11組'!AG43=\"\",\"\",'11組'!AG43)","v":""},{"$f":"IF('11組'!AH43=\"\",\"\",'11組'!AH43)","v":""},{"$f":"IF('11組'!AI43=\"\",\"\",'11組'!AI43)","v":""},{"$f":"IF('11組'!AJ43=\"\",\"\",'11組'!AJ43)","v":""}]
[null,null,null,null,11121,null,11,21,null,null,"",{"$f":"IF('11組'!L44=\"\",\"\",'11組'!L44)","v":""},{"$f":"IF('11組'!M44=\"\",\"\",'11組'!M44)","v":""},{"$f":"IF('11組'!N44=\"\",\"\",'11組'!N44)","v":""},{"$f":"IF('11組'!O44=\"\",\"\",'11組'!O44)","v":""},{"$f":"IF('11組'!P44=\"\",\"\",'11組'!P44)","v":""},null,null,null,null,null,{"$f":"IF('11組'!V44=\"\",\"\",'11組'!V44)","v":""},{"$f":"IF('11組'!W44=\"\",\"\",'11組'!W44)","v":""},{"$f":"IF('11組'!X44=\"\",\"\",'11組'!X44)","v":""},{"$f":"IF('11組'!Y44=\"\",\"\",'11組'!Y44)","v":""},{"$f":"IF('11組'!Z44=\"\",\"\",'11組'!Z44)","v":""},null,null,null,null,null,{"$f":"IF('11組'!AF44=\"\",\"\",'11組'!AF44)","v":""},{"$f":"IF('11組'!AG44=\"\",\"\",'11組'!AG44)","v":""},{"$f":"IF('11組'!AH44=\"\",\"\",'11組'!AH44)","v":""},{"$f":"IF('11組'!AI44=\"\",\"\",'11組'!AI44)","v":""},{"$f":"IF('11組'!AJ44=\"\",\"\",'11組'!AJ44)","v":""}]
[null,null,null,null,11122,null,11,22,null,null,"",{"$f":"IF('11組'!L45=\"\",\"\",'11組'!L45)","v":""},{"$f":"IF('11組'!M45=\"\",\"\",'11組'!M45)","v":""},{"$f":"IF('11組'!N45=\"\",\"\",'11組'!N45)","v":""},{"$f":"IF('11組'!O45=\"\",\"\",'11組'!O45)","v":""},{"$f":"IF('11組'!P45=\"\",\"\",'11組'!P45)","v":""},null,null,null,null,null,{"$f":"IF('11組'!V45=\"\",\"\",'11組'!V45)","v":""},{"$f":"IF('11組'!W45=\"\",\"\",'11組'!W45)","v":""},{"$f":"IF('11組'!X45=\"\",\"\",'11組'!X45)","v":""},{"$f":"IF('11組'!Y45=\"\",\"\",'11組'!Y45)","v":""},{"$f":"IF('11組'!Z45=\"\",\"\",'11組'!Z45)","v":""},null,null,null,null,null,{"$f":"IF('11組'!AF45=\"\",\"\",'11組'!AF45)","v":""},{"$f":"IF('11組'!AG45=\"\",\"\",'11組'!AG45)","v":""},{"$f":"IF('11組'!AH45=\"\",\"\",'11組'!AH45)","v":""},{"$f":"IF('11組'!AI45=\"\",\"\",'11組'!AI45)","v":""},{"$f":"IF('11組'!AJ45=\"\",\"\",'11組'!AJ45)","v":""}]
[null,null,null,null,11123,null,11,23,null,null,"",{"$f":"IF('11組'!L46=\"\",\"\",'11組'!L46)","v":""},{"$f":"IF('11組'!M46=\"\",\"\",'11組'!M46)","v":""},{"$f":"IF('11組'!N46=\"\",\"\",'11組'!N46)","v":""},{"$f":"IF('11組'!O46=\"\",\"\",'11組'!O46)","v":""},{"$f":"IF('11組'!P46=\"\",\"\",'11組'!P46)","v":""},null,null,null,null,null,{"$f":"IF('11組'!V46=\"\",\"\",'11組'!V46)","v":""},{"$f":"IF('11組'!W46=\"\",\"\",'11組'!W46)","v":""},{"$f":"IF('11組'!X46=\"\",\"\",'11組'!X46)","v":""},{"$f":"IF('11組'!Y46=\"\",\"\",'11組'!Y46)","v":""},{"$f":"IF('11組'!Z46=\"\",\"\",'11組'!Z46)","v":""},null,null,null,null,null,{"$f":"IF('11組'!AF46=\"\",\"\",'11組'!AF46)","v":""},{"$f":"IF('11組'!AG46=\"\",\"\",'11組'!AG46)","v":""},{"$f":"IF('11組'!AH46=\"\",\"\",'11組'!AH46)","v":""},{"$f":"IF('11組'!AI46=\"\",\"\",'11組'!AI46)","v":""},{"$f":"IF('11組'!AJ46=\"\",\"\",'11組'!AJ46)","v":""}]
[null,null,null,null,11124,null,11,24,null,null,"",{"$f":"IF('11組'!L47=\"\",\"\",'11組'!L47)","v":""},{"$f":"IF('11組'!M47=\"\",\"\",'11組'!M47)","v":""},{"$f":"IF('11組'!N47=\"\",\"\",'11組'!N47)","v":""},{"$f":"IF('11組'!O47=\"\",\"\",'11組'!O47)","v":""},{"$f":"IF('11組'!P47=\"\",\"\",'11組'!P47)","v":""},null,null,null,null,null,{"$f":"IF('11組'!V47=\"\",\"\",'11組'!V47)","v":""},{"$f":"IF('11組'!W47=\"\",\"\",'11組'!W47)","v":""},{"$f":"IF('11組'!X47=\"\",\"\",'11組'!X47)","v":""},{"$f":"IF('11組'!Y47=\"\",\"\",'11組'!Y47)","v":""},{"$f":"IF('11組'!Z47=\"\",\"\",'11組'!Z47)","v":""},null,null,null,null,null,{"$f":"IF('11組'!AF47=\"\",\"\",'11組'!AF47)","v":""},{"$f":"IF('11組'!AG47=\"\",\"\",'11組'!AG47)","v":""},{"$f":"IF('11組'!AH47=\"\",\"\",'11組'!AH47)","v":""},{"$f":"IF('11組'!AI47=\"\",\"\",'11組'!AI47)","v":""},{"$f":"IF('11組'!AJ47=\"\",\"\",'11組'!AJ47)","v":""}]
[null,null,null,null,11125,null,11,25,null,null,"",{"$f":"IF('11組'!L48=\"\",\"\",'11組'!L48)","v":""},{"$f":"IF('11組'!M48=\"\",\"\",'11組'!M48)","v":""},{"$f":"IF('11組'!N48=\"\",\"\",'11組'!N48)","v":""},{"$f":"IF('11組'!O48=\"\",\"\",'11組'!O48)","v":""},{"$f":"IF('11組'!P48=\"\",\"\",'11組'!P48)","v":""},null,null,null,null,null,{"$f":"IF('11組'!V48=\"\",\"\",'11組'!V48)","v":""},{"$f":"IF('11組'!W48=\"\",\"\",'11組'!W48)","v":""},{"$f":"IF('11組'!X48=\"\",\"\",'11組'!X48)","v":""},{"$f":"IF('11組'!Y48=\"\",\"\",'11組'!Y48)","v":""},{"$f":"IF('11組'!Z48=\"\",\"\",'11組'!Z48)","v":""},null,null,null,null,null,{"$f":"IF('11組'!AF48=\"\",\"\",'11組'!AF48)","v":""},{"$f":"IF('11組'!AG48=\"\",\"\",'11組'!AG48)","v":""},{"$f":"IF('11組'!AH48=\"\",\"\",'11組'!AH48)","v":""},{"$f":"IF('11組'!AI48=\"\",\"\",'11組'!AI48)","v":""},{"$f":"IF('11組'!AJ48=\"\",\"\",'11組'!AJ48)","v":""}]
[null,null,null,null,11126,null,11,26,null,null,"",{"$f":"IF('11組'!L49=\"\",\"\",'11組'!L49)","v":""},{"$f":"IF('11組'!M49=\"\",\"\",'11組'!M49)","v":""},{"$f":"IF('11組'!N49=\"\",\"\",'11組'!N49)","v":""},{"$f":"IF('11組'!O49=\"\",\"\",'11組'!O49)","v":""},{"$f":"IF('11組'!P49=\"\",\"\",'11組'!P49)","v":""},null,null,null,null,null,{"$f":"IF('11組'!V49=\"\",\"\",'11組'!V49)","v":""},{"$f":"IF('11組'!W49=\"\",\"\",'11組'!W49)","v":""},{"$f":"IF('11組'!X49=\"\",\"\",'11組'!X49)","v":""},{"$f":"IF('11組'!Y49=\"\",\"\",'11組'!Y49)","v":""},{"$f":"IF('11組'!Z49=\"\",\"\",'11組'!Z49)","v":""},null,null,null,null,null,{"$f":"IF('11組'!AF49=\"\",\"\",'11組'!AF49)","v":""},{"$f":"IF('11組'!AG49=\"\",\"\",'11組'!AG49)","v":""},{"$f":"IF('11組'!AH49=\"\",\"\",'11組'!AH49)","v":""},{"$f":"IF('11組'!AI49=\"\",\"\",'11組'!AI49)","v":""},{"$f":"IF('11組'!AJ49=\"\",\"\",'11組'!AJ49)","v":""}]
[null,null,null,null,11127,null,11,27,null,null,"",{"$f":"IF('11組'!L50=\"\",\"\",'11組'!L50)","v":""},{"$f":"IF('11組'!M50=\"\",\"\",'11組'!M50)","v":""},{"$f":"IF('11組'!N50=\"\",\"\",'11組'!N50)","v":""},{"$f":"IF('11組'!O50=\"\",\"\",'11組'!O50)","v":""},{"$f":"IF('11組'!P50=\"\",\"\",'11組'!P50)","v":""},null,null,null,null,null,{"$f":"IF('11組'!V50=\"\",\"\",'11組'!V50)","v":""},{"$f":"IF('11組'!W50=\"\",\"\",'11組'!W50)","v":""},{"$f":"IF('11組'!X50=\"\",\"\",'11組'!X50)","v":""},{"$f":"IF('11組'!Y50=\"\",\"\",'11組'!Y50)","v":""},{"$f":"IF('11組'!Z50=\"\",\"\",'11組'!Z50)","v":""},null,null,null,null,null,{"$f":"IF('11組'!AF50=\"\",\"\",'11組'!AF50)","v":""},{"$f":"IF('11組'!AG50=\"\",\"\",'11組'!AG50)","v":""},{"$f":"IF('11組'!AH50=\"\",\"\",'11組'!AH50)","v":""},{"$f":"IF('11組'!AI50=\"\",\"\",'11組'!AI50)","v":""},{"$f":"IF('11組'!AJ50=\"\",\"\",'11組'!AJ50)","v":""}]
[null,null,null,null,11128,null,11,28,null,null,"",{"$f":"IF('11組'!L51=\"\",\"\",'11組'!L51)","v":""},{"$f":"IF('11組'!M51=\"\",\"\",'11組'!M51)","v":""},{"$f":"IF('11組'!N51=\"\",\"\",'11組'!N51)","v":""},{"$f":"IF('11組'!O51=\"\",\"\",'11組'!O51)","v":""},{"$f":"IF('11組'!P51=\"\",\"\",'11組'!P51)","v":""},null,null,null,null,null,{"$f":"IF('11組'!V51=\"\",\"\",'11組'!V51)","v":""},{"$f":"IF('11組'!W51=\"\",\"\",'11組'!W51)","v":""},{"$f":"IF('11組'!X51=\"\",\"\",'11組'!X51)","v":""},{"$f":"IF('11組'!Y51=\"\",\"\",'11組'!Y51)","v":""},{"$f":"IF('11組'!Z51=\"\",\"\",'11組'!Z51)","v":""},null,null,null,null,null,{"$f":"IF('11組'!AF51=\"\",\"\",'11組'!AF51)","v":""},{"$f":"IF('11組'!AG51=\"\",\"\",'11組'!AG51)","v":""},{"$f":"IF('11組'!AH51=\"\",\"\",'11組'!AH51)","v":""},{"$f":"IF('11組'!AI51=\"\",\"\",'11組'!AI51)","v":""},{"$f":"IF('11組'!AJ51=\"\",\"\",'11組'!AJ51)","v":""}]
[null,null,null,null,11129,null,11,29,null,null,"",{"$f":"IF('11組'!L52=\"\",\"\",'11組'!L52)","v":""},{"$f":"IF('11組'!M52=\"\",\"\",'11組'!M52)","v":""},{"$f":"IF('11組'!N52=\"\",\"\",'11組'!N52)","v":""},{"$f":"IF('11組'!O52=\"\",\"\",'11組'!O52)","v":""},{"$f":"IF('11組'!P52=\"\",\"\",'11組'!P52)","v":""},null,null,null,null,null,{"$f":"IF('11組'!V52=\"\",\"\",'11組'!V52)","v":""},{"$f":"IF('11組'!W52=\"\",\"\",'11組'!W52)","v":""},{"$f":"IF('11組'!X52=\"\",\"\",'11組'!X52)","v":""},{"$f":"IF('11組'!Y52=\"\",\"\",'11組'!Y52)","v":""},{"$f":"IF('11組'!Z52=\"\",\"\",'11組'!Z52)","v":""},null,null,null,null,null,{"$f":"IF('11組'!AF52=\"\",\"\",'11組'!AF52)","v":""},{"$f":"IF('11組'!AG52=\"\",\"\",'11組'!AG52)","v":""},{"$f":"IF('11組'!AH52=\"\",\"\",'11組'!AH52)","v":""},{"$f":"IF('11組'!AI52=\"\",\"\",'11組'!AI52)","v":""},{"$f":"IF('11組'!AJ52=\"\",\"\",'11組'!AJ52)","v":""}]
[null,null,null,null,11130,null,11,30,null,null,"",{"$f":"IF('11組'!L53=\"\",\"\",'11組'!L53)","v":""},{"$f":"IF('11組'!M53=\"\",\"\",'11組'!M53)","v":""},{"$f":"IF('11組'!N53=\"\",\"\",'11組'!N53)","v":""},{"$f":"IF('11組'!O53=\"\",\"\",'11組'!O53)","v":""},{"$f":"IF('11組'!P53=\"\",\"\",'11組'!P53)","v":""},null,null,null,null,null,{"$f":"IF('11組'!V53=\"\",\"\",'11組'!V53)","v":""},{"$f":"IF('11組'!W53=\"\",\"\",'11組'!W53)","v":""},{"$f":"IF('11組'!X53=\"\",\"\",'11組'!X53)","v":""},{"$f":"IF('11組'!Y53=\"\",\"\",'11組'!Y53)","v":""},{"$f":"IF('11組'!Z53=\"\",\"\",'11組'!Z53)","v":""},null,null,null,null,null,{"$f":"IF('11組'!AF53=\"\",\"\",'11組'!AF53)","v":""},{"$f":"IF('11組'!AG53=\"\",\"\",'11組'!AG53)","v":""},{"$f":"IF('11組'!AH53=\"\",\"\",'11組'!AH53)","v":""},{"$f":"IF('11組'!AI53=\"\",\"\",'11組'!AI53)","v":""},{"$f":"IF('11組'!AJ53=\"\",\"\",'11組'!AJ53)","v":""}]
[null,null,null,null,11131,null,11,31,null,null,"",{"$f":"IF('11組'!L54=\"\",\"\",'11組'!L54)","v":""},{"$f":"IF('11組'!M54=\"\",\"\",'11組'!M54)","v":""},{"$f":"IF('11組'!N54=\"\",\"\",'11組'!N54)","v":""},{"$f":"IF('11組'!O54=\"\",\"\",'11組'!O54)","v":""},{"$f":"IF('11組'!P54=\"\",\"\",'11組'!P54)","v":""},null,null,null,null,null,{"$f":"IF('11組'!V54=\"\",\"\",'11組'!V54)","v":""},{"$f":"IF('11組'!W54=\"\",\"\",'11組'!W54)","v":""},{"$f":"IF('11組'!X54=\"\",\"\",'11組'!X54)","v":""},{"$f":"IF('11組'!Y54=\"\",\"\",'11組'!Y54)","v":""},{"$f":"IF('11組'!Z54=\"\",\"\",'11組'!Z54)","v":""},null,null,null,null,null,{"$f":"IF('11組'!AF54=\"\",\"\",'11組'!AF54)","v":""},{"$f":"IF('11組'!AG54=\"\",\"\",'11組'!AG54)","v":""},{"$f":"IF('11組'!AH54=\"\",\"\",'11組'!AH54)","v":""},{"$f":"IF('11組'!AI54=\"\",\"\",'11組'!AI54)","v":""},{"$f":"IF('11組'!AJ54=\"\",\"\",'11組'!AJ54)","v":""}]
[null,null,null,null,11132,null,11,32,null,null,"",{"$f":"IF('11組'!L55=\"\",\"\",'11組'!L55)","v":""},{"$f":"IF('11組'!M55=\"\",\"\",'11組'!M55)","v":""},{"$f":"IF('11組'!N55=\"\",\"\",'11組'!N55)","v":""},{"$f":"IF('11組'!O55=\"\",\"\",'11組'!O55)","v":""},{"$f":"IF('11組'!P55=\"\",\"\",'11組'!P55)","v":""},null,null,null,null,null,{"$f":"IF('11組'!V55=\"\",\"\",'11組'!V55)","v":""},{"$f":"IF('11組'!W55=\"\",\"\",'11組'!W55)","v":""},{"$f":"IF('11組'!X55=\"\",\"\",'11組'!X55)","v":""},{"$f":"IF('11組'!Y55=\"\",\"\",'11組'!Y55)","v":""},{"$f":"IF('11組'!Z55=\"\",\"\",'11組'!Z55)","v":""},null,null,null,null,null,{"$f":"IF('11組'!AF55=\"\",\"\",'11組'!AF55)","v":""},{"$f":"IF('11組'!AG55=\"\",\"\",'11組'!AG55)","v":""},{"$f":"IF('11組'!AH55=\"\",\"\",'11組'!AH55)","v":""},{"$f":"IF('11組'!AI55=\"\",\"\",'11組'!AI55)","v":""},{"$f":"IF('11組'!AJ55=\"\",\"\",'11組'!AJ55)","v":""}]
[null,null,null,null,11133,null,11,33,null,null,"",{"$f":"IF('11組'!L56=\"\",\"\",'11組'!L56)","v":""},{"$f":"IF('11組'!M56=\"\",\"\",'11組'!M56)","v":""},{"$f":"IF('11組'!N56=\"\",\"\",'11組'!N56)","v":""},{"$f":"IF('11組'!O56=\"\",\"\",'11組'!O56)","v":""},{"$f":"IF('11組'!P56=\"\",\"\",'11組'!P56)","v":""},null,null,null,null,null,{"$f":"IF('11組'!V56=\"\",\"\",'11組'!V56)","v":""},{"$f":"IF('11組'!W56=\"\",\"\",'11組'!W56)","v":""},{"$f":"IF('11組'!X56=\"\",\"\",'11組'!X56)","v":""},{"$f":"IF('11組'!Y56=\"\",\"\",'11組'!Y56)","v":""},{"$f":"IF('11組'!Z56=\"\",\"\",'11組'!Z56)","v":""},null,null,null,null,null,{"$f":"IF('11組'!AF56=\"\",\"\",'11組'!AF56)","v":""},{"$f":"IF('11組'!AG56=\"\",\"\",'11組'!AG56)","v":""},{"$f":"IF('11組'!AH56=\"\",\"\",'11組'!AH56)","v":""},{"$f":"IF('11組'!AI56=\"\",\"\",'11組'!AI56)","v":""},{"$f":"IF('11組'!AJ56=\"\",\"\",'11組'!AJ56)","v":""}]
[null,null,null,null,11134,null,11,34,null,null,"",{"$f":"IF('11組'!L57=\"\",\"\",'11組'!L57)","v":""},{"$f":"IF('11組'!M57=\"\",\"\",'11組'!M57)","v":""},{"$f":"IF('11組'!N57=\"\",\"\",'11組'!N57)","v":""},{"$f":"IF('11組'!O57=\"\",\"\",'11組'!O57)","v":""},{"$f":"IF('11組'!P57=\"\",\"\",'11組'!P57)","v":""},null,null,null,null,null,{"$f":"IF('11組'!V57=\"\",\"\",'11組'!V57)","v":""},{"$f":"IF('11組'!W57=\"\",\"\",'11組'!W57)","v":""},{"$f":"IF('11組'!X57=\"\",\"\",'11組'!X57)","v":""},{"$f":"IF('11組'!Y57=\"\",\"\",'11組'!Y57)","v":""},{"$f":"IF('11組'!Z57=\"\",\"\",'11組'!Z57)","v":""},null,null,null,null,null,{"$f":"IF('11組'!AF57=\"\",\"\",'11組'!AF57)","v":""},{"$f":"IF('11組'!AG57=\"\",\"\",'11組'!AG57)","v":""},{"$f":"IF('11組'!AH57=\"\",\"\",'11組'!AH57)","v":""},{"$f":"IF('11組'!AI57=\"\",\"\",'11組'!AI57)","v":""},{"$f":"IF('11組'!AJ57=\"\",\"\",'11組'!AJ57)","v":""}]
[null,null,null,null,11135,null,11,35,null,null,"",{"$f":"IF('11組'!L58=\"\",\"\",'11組'!L58)","v":""},{"$f":"IF('11組'!M58=\"\",\"\",'11組'!M58)","v":""},{"$f":"IF('11組'!N58=\"\",\"\",'11組'!N58)","v":""},{"$f":"IF('11組'!O58=\"\",\"\",'11組'!O58)","v":""},{"$f":"IF('11組'!P58=\"\",\"\",'11組'!P58)","v":""},null,null,null,null,null,{"$f":"IF('11組'!V58=\"\",\"\",'11組'!V58)","v":""},{"$f":"IF('11組'!W58=\"\",\"\",'11組'!W58)","v":""},{"$f":"IF('11組'!X58=\"\",\"\",'11組'!X58)","v":""},{"$f":"IF('11組'!Y58=\"\",\"\",'11組'!Y58)","v":""},{"$f":"IF('11組'!Z58=\"\",\"\",'11組'!Z58)","v":""},null,null,null,null,null,{"$f":"IF('11組'!AF58=\"\",\"\",'11組'!AF58)","v":""},{"$f":"IF('11組'!AG58=\"\",\"\",'11組'!AG58)","v":""},{"$f":"IF('11組'!AH58=\"\",\"\",'11組'!AH58)","v":""},{"$f":"IF('11組'!AI58=\"\",\"\",'11組'!AI58)","v":""},{"$f":"IF('11組'!AJ58=\"\",\"\",'11組'!AJ58)","v":""}]
[null,null,null,null,11136,null,11,36,null,null,"",{"$f":"IF('11組'!L59=\"\",\"\",'11組'!L59)","v":""},{"$f":"IF('11組'!M59=\"\",\"\",'11組'!M59)","v":""},{"$f":"IF('11組'!N59=\"\",\"\",'11組'!N59)","v":""},{"$f":"IF('11組'!O59=\"\",\"\",'11組'!O59)","v":""},{"$f":"IF('11組'!P59=\"\",\"\",'11組'!P59)","v":""},null,null,null,null,null,{"$f":"IF('11組'!V59=\"\",\"\",'11組'!V59)","v":""},{"$f":"IF('11組'!W59=\"\",\"\",'11組'!W59)","v":""},{"$f":"IF('11組'!X59=\"\",\"\",'11組'!X59)","v":""},{"$f":"IF('11組'!Y59=\"\",\"\",'11組'!Y59)","v":""},{"$f":"IF('11組'!Z59=\"\",\"\",'11組'!Z59)","v":""},null,null,null,null,null,{"$f":"IF('11組'!AF59=\"\",\"\",'11組'!AF59)","v":""},{"$f":"IF('11組'!AG59=\"\",\"\",'11組'!AG59)","v":""},{"$f":"IF('11組'!AH59=\"\",\"\",'11組'!AH59)","v":""},{"$f":"IF('11組'!AI59=\"\",\"\",'11組'!AI59)","v":""},{"$f":"IF('11組'!AJ59=\"\",\"\",'11組'!AJ59)","v":""}]
[null,null,null,null,11137,null,11,37,null,null,"",{"$f":"IF('11組'!L60=\"\",\"\",'11組'!L60)","v":""},{"$f":"IF('11組'!M60=\"\",\"\",'11組'!M60)","v":""},{"$f":"IF('11組'!N60=\"\",\"\",'11組'!N60)","v":""},{"$f":"IF('11組'!O60=\"\",\"\",'11組'!O60)","v":""},{"$f":"IF('11組'!P60=\"\",\"\",'11組'!P60)","v":""},null,null,null,null,null,{"$f":"IF('11組'!V60=\"\",\"\",'11組'!V60)","v":""},{"$f":"IF('11組'!W60=\"\",\"\",'11組'!W60)","v":""},{"$f":"IF('11組'!X60=\"\",\"\",'11組'!X60)","v":""},{"$f":"IF('11組'!Y60=\"\",\"\",'11組'!Y60)","v":""},{"$f":"IF('11組'!Z60=\"\",\"\",'11組'!Z60)","v":""},null,null,null,null,null,{"$f":"IF('11組'!AF60=\"\",\"\",'11組'!AF60)","v":""},{"$f":"IF('11組'!AG60=\"\",\"\",'11組'!AG60)","v":""},{"$f":"IF('11組'!AH60=\"\",\"\",'11組'!AH60)","v":""},{"$f":"IF('11組'!AI60=\"\",\"\",'11組'!AI60)","v":""},{"$f":"IF('11組'!AJ60=\"\",\"\",'11組'!AJ60)","v":""}]
[null,null,null,null,11138,null,11,38,null,null,"",{"$f":"IF('11組'!L61=\"\",\"\",'11組'!L61)","v":""},{"$f":"IF('11組'!M61=\"\",\"\",'11組'!M61)","v":""},{"$f":"IF('11組'!N61=\"\",\"\",'11組'!N61)","v":""},{"$f":"IF('11組'!O61=\"\",\"\",'11組'!O61)","v":""},{"$f":"IF('11組'!P61=\"\",\"\",'11組'!P61)","v":""},null,null,null,null,null,{"$f":"IF('11組'!V61=\"\",\"\",'11組'!V61)","v":""},{"$f":"IF('11組'!W61=\"\",\"\",'11組'!W61)","v":""},{"$f":"IF('11組'!X61=\"\",\"\",'11組'!X61)","v":""},{"$f":"IF('11組'!Y61=\"\",\"\",'11組'!Y61)","v":""},{"$f":"IF('11組'!Z61=\"\",\"\",'11組'!Z61)","v":""},null,null,null,null,null,{"$f":"IF('11組'!AF61=\"\",\"\",'11組'!AF61)","v":""},{"$f":"IF('11組'!AG61=\"\",\"\",'11組'!AG61)","v":""},{"$f":"IF('11組'!AH61=\"\",\"\",'11組'!AH61)","v":""},{"$f":"IF('11組'!AI61=\"\",\"\",'11組'!AI61)","v":""},{"$f":"IF('11組'!AJ61=\"\",\"\",'11組'!AJ61)","v":""}]
[null,null,null,null,11139,null,11,39,null,null,"",{"$f":"IF('11組'!L62=\"\",\"\",'11組'!L62)","v":""},{"$f":"IF('11組'!M62=\"\",\"\",'11組'!M62)","v":""},{"$f":"IF('11組'!N62=\"\",\"\",'11組'!N62)","v":""},{"$f":"IF('11組'!O62=\"\",\"\",'11組'!O62)","v":""},{"$f":"IF('11組'!P62=\"\",\"\",'11組'!P62)","v":""},null,null,null,null,null,{"$f":"IF('11組'!V62=\"\",\"\",'11組'!V62)","v":""},{"$f":"IF('11組'!W62=\"\",\"\",'11組'!W62)","v":""},{"$f":"IF('11組'!X62=\"\",\"\",'11組'!X62)","v":""},{"$f":"IF('11組'!Y62=\"\",\"\",'11組'!Y62)","v":""},{"$f":"IF('11組'!Z62=\"\",\"\",'11組'!Z62)","v":""},null,null,null,null,null,{"$f":"IF('11組'!AF62=\"\",\"\",'11組'!AF62)","v":""},{"$f":"IF('11組'!AG62=\"\",\"\",'11組'!AG62)","v":""},{"$f":"IF('11組'!AH62=\"\",\"\",'11組'!AH62)","v":""},{"$f":"IF('11組'!AI62=\"\",\"\",'11組'!AI62)","v":""},{"$f":"IF('11組'!AJ62=\"\",\"\",'11組'!AJ62)","v":""}]
[null,null,null,null,11140,null,11,40,null,null,"",{"$f":"IF('11組'!L63=\"\",\"\",'11組'!L63)","v":""},{"$f":"IF('11組'!M63=\"\",\"\",'11組'!M63)","v":""},{"$f":"IF('11組'!N63=\"\",\"\",'11組'!N63)","v":""},{"$f":"IF('11組'!O63=\"\",\"\",'11組'!O63)","v":""},{"$f":"IF('11組'!P63=\"\",\"\",'11組'!P63)","v":""},null,null,null,null,null,{"$f":"IF('11組'!V63=\"\",\"\",'11組'!V63)","v":""},{"$f":"IF('11組'!W63=\"\",\"\",'11組'!W63)","v":""},{"$f":"IF('11組'!X63=\"\",\"\",'11組'!X63)","v":""},{"$f":"IF('11組'!Y63=\"\",\"\",'11組'!Y63)","v":""},{"$f":"IF('11組'!Z63=\"\",\"\",'11組'!Z63)","v":""},null,null,null,null,null,{"$f":"IF('11組'!AF63=\"\",\"\",'11組'!AF63)","v":""},{"$f":"IF('11組'!AG63=\"\",\"\",'11組'!AG63)","v":""},{"$f":"IF('11組'!AH63=\"\",\"\",'11組'!AH63)","v":""},{"$f":"IF('11組'!AI63=\"\",\"\",'11組'!AI63)","v":""},{"$f":"IF('11組'!AJ63=\"\",\"\",'11組'!AJ63)","v":""}]
[null,null,null,null,11141,null,11,41,null,null,"",{"$f":"IF('11組'!L64=\"\",\"\",'11組'!L64)","v":""},{"$f":"IF('11組'!M64=\"\",\"\",'11組'!M64)","v":""},{"$f":"IF('11組'!N64=\"\",\"\",'11組'!N64)","v":""},{"$f":"IF('11組'!O64=\"\",\"\",'11組'!O64)","v":""},{"$f":"IF('11組'!P64=\"\",\"\",'11組'!P64)","v":""},null,null,null,null,null,{"$f":"IF('11組'!V64=\"\",\"\",'11組'!V64)","v":""},{"$f":"IF('11組'!W64=\"\",\"\",'11組'!W64)","v":""},{"$f":"IF('11組'!X64=\"\",\"\",'11組'!X64)","v":""},{"$f":"IF('11組'!Y64=\"\",\"\",'11組'!Y64)","v":""},{"$f":"IF('11組'!Z64=\"\",\"\",'11組'!Z64)","v":""},null,null,null,null,null,{"$f":"IF('11組'!AF64=\"\",\"\",'11組'!AF64)","v":""},{"$f":"IF('11組'!AG64=\"\",\"\",'11組'!AG64)","v":""},{"$f":"IF('11組'!AH64=\"\",\"\",'11組'!AH64)","v":""},{"$f":"IF('11組'!AI64=\"\",\"\",'11組'!AI64)","v":""},{"$f":"IF('11組'!AJ64=\"\",\"\",'11組'!AJ64)","v":""}]
[null,null,null,null,11142,null,11,42,null,null,"",{"$f":"IF('11組'!L65=\"\",\"\",'11組'!L65)","v":""},{"$f":"IF('11組'!M65=\"\",\"\",'11組'!M65)","v":""},{"$f":"IF('11組'!N65=\"\",\"\",'11組'!N65)","v":""},{"$f":"IF('11組'!O65=\"\",\"\",'11組'!O65)","v":""},{"$f":"IF('11組'!P65=\"\",\"\",'11組'!P65)","v":""},null,null,null,null,null,{"$f":"IF('11組'!V65=\"\",\"\",'11組'!V65)","v":""},{"$f":"IF('11組'!W65=\"\",\"\",'11組'!W65)","v":""},{"$f":"IF('11組'!X65=\"\",\"\",'11組'!X65)","v":""},{"$f":"IF('11組'!Y65=\"\",\"\",'11組'!Y65)","v":""},{"$f":"IF('11組'!Z65=\"\",\"\",'11組'!Z65)","v":""},null,null,null,null,null,{"$f":"IF('11組'!AF65=\"\",\"\",'11組'!AF65)","v":""},{"$f":"IF('11組'!AG65=\"\",\"\",'11組'!AG65)","v":""},{"$f":"IF('11組'!AH65=\"\",\"\",'11組'!AH65)","v":""},{"$f":"IF('11組'!AI65=\"\",\"\",'11組'!AI65)","v":""},{"$f":"IF('11組'!AJ65=\"\",\"\",'11組'!AJ65)","v":""}]
[null,null,null,null,11143,null,11,43,null,null,"",{"$f":"IF('11組'!L66=\"\",\"\",'11組'!L66)","v":""},{"$f":"IF('11組'!M66=\"\",\"\",'11組'!M66)","v":""},{"$f":"IF('11組'!N66=\"\",\"\",'11組'!N66)","v":""},{"$f":"IF('11組'!O66=\"\",\"\",'11組'!O66)","v":""},{"$f":"IF('11組'!P66=\"\",\"\",'11組'!P66)","v":""},null,null,null,null,null,{"$f":"IF('11組'!V66=\"\",\"\",'11組'!V66)","v":""},{"$f":"IF('11組'!W66=\"\",\"\",'11組'!W66)","v":""},{"$f":"IF('11組'!X66=\"\",\"\",'11組'!X66)","v":""},{"$f":"IF('11組'!Y66=\"\",\"\",'11組'!Y66)","v":""},{"$f":"IF('11組'!Z66=\"\",\"\",'11組'!Z66)","v":""},null,null,null,null,null,{"$f":"IF('11組'!AF66=\"\",\"\",'11組'!AF66)","v":""},{"$f":"IF('11組'!AG66=\"\",\"\",'11組'!AG66)","v":""},{"$f":"IF('11組'!AH66=\"\",\"\",'11組'!AH66)","v":""},{"$f":"IF('11組'!AI66=\"\",\"\",'11組'!AI66)","v":""},{"$f":"IF('11組'!AJ66=\"\",\"\",'11組'!AJ66)","v":""}]
[null,null,null,null,11144,null,11,44,null,null,"",{"$f":"IF('11組'!L67=\"\",\"\",'11組'!L67)","v":""},{"$f":"IF('11組'!M67=\"\",\"\",'11組'!M67)","v":""},{"$f":"IF('11組'!N67=\"\",\"\",'11組'!N67)","v":""},{"$f":"IF('11組'!O67=\"\",\"\",'11組'!O67)","v":""},{"$f":"IF('11組'!P67=\"\",\"\",'11組'!P67)","v":""},null,null,null,null,null,{"$f":"IF('11組'!V67=\"\",\"\",'11組'!V67)","v":""},{"$f":"IF('11組'!W67=\"\",\"\",'11組'!W67)","v":""},{"$f":"IF('11組'!X67=\"\",\"\",'11組'!X67)","v":""},{"$f":"IF('11組'!Y67=\"\",\"\",'11組'!Y67)","v":""},{"$f":"IF('11組'!Z67=\"\",\"\",'11組'!Z67)","v":""},null,null,null,null,null,{"$f":"IF('11組'!AF67=\"\",\"\",'11組'!AF67)","v":""},{"$f":"IF('11組'!AG67=\"\",\"\",'11組'!AG67)","v":""},{"$f":"IF('11組'!AH67=\"\",\"\",'11組'!AH67)","v":""},{"$f":"IF('11組'!AI67=\"\",\"\",'11組'!AI67)","v":""},{"$f":"IF('11組'!AJ67=\"\",\"\",'11組'!AJ67)","v":""}]
[null,null,null,null,11145,null,11,45,null,null,"",{"$f":"IF('11組'!L68=\"\",\"\",'11組'!L68)","v":""},{"$f":"IF('11組'!M68=\"\",\"\",'11組'!M68)","v":""},{"$f":"IF('11組'!N68=\"\",\"\",'11組'!N68)","v":""},{"$f":"IF('11組'!O68=\"\",\"\",'11組'!O68)","v":""},{"$f":"IF('11組'!P68=\"\",\"\",'11組'!P68)","v":""},null,null,null,null,null,{"$f":"IF('11組'!V68=\"\",\"\",'11組'!V68)","v":""},{"$f":"IF('11組'!W68=\"\",\"\",'11組'!W68)","v":""},{"$f":"IF('11組'!X68=\"\",\"\",'11組'!X68)","v":""},{"$f":"IF('11組'!Y68=\"\",\"\",'11組'!Y68)","v":""},{"$f":"IF('11組'!Z68=\"\",\"\",'11組'!Z68)","v":""},null,null,null,null,null,{"$f":"IF('11組'!AF68=\"\",\"\",'11組'!AF68)","v":""},{"$f":"IF('11組'!AG68=\"\",\"\",'11組'!AG68)","v":""},{"$f":"IF('11組'!AH68=\"\",\"\",'11組'!AH68)","v":""},{"$f":"IF('11組'!AI68=\"\",\"\",'11組'!AI68)","v":""},{"$f":"IF('11組'!AJ68=\"\",\"\",'11組'!AJ68)","v":""}]
[null,null,null,null,11146,null,11,46,null,null,"",{"$f":"IF('11組'!L69=\"\",\"\",'11組'!L69)","v":""},{"$f":"IF('11組'!M69=\"\",\"\",'11組'!M69)","v":""},{"$f":"IF('11組'!N69=\"\",\"\",'11組'!N69)","v":""},{"$f":"IF('11組'!O69=\"\",\"\",'11組'!O69)","v":""},{"$f":"IF('11組'!P69=\"\",\"\",'11組'!P69)","v":""},null,null,null,null,null,{"$f":"IF('11組'!V69=\"\",\"\",'11組'!V69)","v":""},{"$f":"IF('11組'!W69=\"\",\"\",'11組'!W69)","v":""},{"$f":"IF('11組'!X69=\"\",\"\",'11組'!X69)","v":""},{"$f":"IF('11組'!Y69=\"\",\"\",'11組'!Y69)","v":""},{"$f":"IF('11組'!Z69=\"\",\"\",'11組'!Z69)","v":""},null,null,null,null,null,{"$f":"IF('11組'!AF69=\"\",\"\",'11組'!AF69)","v":""},{"$f":"IF('11組'!AG69=\"\",\"\",'11組'!AG69)","v":""},{"$f":"IF('11組'!AH69=\"\",\"\",'11組'!AH69)","v":""},{"$f":"IF('11組'!AI69=\"\",\"\",'11組'!AI69)","v":""},{"$f":"IF('11組'!AJ69=\"\",\"\",'11組'!AJ69)","v":""}]
[null,null,null,null,11147,null,11,47,null,null,"",{"$f":"IF('11組'!L70=\"\",\"\",'11組'!L70)","v":""},{"$f":"IF('11組'!M70=\"\",\"\",'11組'!M70)","v":""},{"$f":"IF('11組'!N70=\"\",\"\",'11組'!N70)","v":""},{"$f":"IF('11組'!O70=\"\",\"\",'11組'!O70)","v":""},{"$f":"IF('11組'!P70=\"\",\"\",'11組'!P70)","v":""},null,null,null,null,null,{"$f":"IF('11組'!V70=\"\",\"\",'11組'!V70)","v":""},{"$f":"IF('11組'!W70=\"\",\"\",'11組'!W70)","v":""},{"$f":"IF('11組'!X70=\"\",\"\",'11組'!X70)","v":""},{"$f":"IF('11組'!Y70=\"\",\"\",'11組'!Y70)","v":""},{"$f":"IF('11組'!Z70=\"\",\"\",'11組'!Z70)","v":""},null,null,null,null,null,{"$f":"IF('11組'!AF70=\"\",\"\",'11組'!AF70)","v":""},{"$f":"IF('11組'!AG70=\"\",\"\",'11組'!AG70)","v":""},{"$f":"IF('11組'!AH70=\"\",\"\",'11組'!AH70)","v":""},{"$f":"IF('11組'!AI70=\"\",\"\",'11組'!AI70)","v":""},{"$f":"IF('11組'!AJ70=\"\",\"\",'11組'!AJ70)","v":""}]
[null,null,null,null,11148,null,11,48,null,null,"",{"$f":"IF('11組'!L71=\"\",\"\",'11組'!L71)","v":""},{"$f":"IF('11組'!M71=\"\",\"\",'11組'!M71)","v":""},{"$f":"IF('11組'!N71=\"\",\"\",'11組'!N71)","v":""},{"$f":"IF('11組'!O71=\"\",\"\",'11組'!O71)","v":""},{"$f":"IF('11組'!P71=\"\",\"\",'11組'!P71)","v":""},null,null,null,null,null,{"$f":"IF('11組'!V71=\"\",\"\",'11組'!V71)","v":""},{"$f":"IF('11組'!W71=\"\",\"\",'11組'!W71)","v":""},{"$f":"IF('11組'!X71=\"\",\"\",'11組'!X71)","v":""},{"$f":"IF('11組'!Y71=\"\",\"\",'11組'!Y71)","v":""},{"$f":"IF('11組'!Z71=\"\",\"\",'11組'!Z71)","v":""},null,null,null,null,null,{"$f":"IF('11組'!AF71=\"\",\"\",'11組'!AF71)","v":""},{"$f":"IF('11組'!AG71=\"\",\"\",'11組'!AG71)","v":""},{"$f":"IF('11組'!AH71=\"\",\"\",'11組'!AH71)","v":""},{"$f":"IF('11組'!AI71=\"\",\"\",'11組'!AI71)","v":""},{"$f":"IF('11組'!AJ71=\"\",\"\",'11組'!AJ71)","v":""}]
[null,null,null,null,11149,null,11,49,null,null,"",{"$f":"IF('11組'!L72=\"\",\"\",'11組'!L72)","v":""},{"$f":"IF('11組'!M72=\"\",\"\",'11組'!M72)","v":""},{"$f":"IF('11組'!N72=\"\",\"\",'11組'!N72)","v":""},{"$f":"IF('11組'!O72=\"\",\"\",'11組'!O72)","v":""},{"$f":"IF('11組'!P72=\"\",\"\",'11組'!P72)","v":""},null,null,null,null,null,{"$f":"IF('11組'!V72=\"\",\"\",'11組'!V72)","v":""},{"$f":"IF('11組'!W72=\"\",\"\",'11組'!W72)","v":""},{"$f":"IF('11組'!X72=\"\",\"\",'11組'!X72)","v":""},{"$f":"IF('11組'!Y72=\"\",\"\",'11組'!Y72)","v":""},{"$f":"IF('11組'!Z72=\"\",\"\",'11組'!Z72)","v":""},null,null,null,null,null,{"$f":"IF('11組'!AF72=\"\",\"\",'11組'!AF72)","v":""},{"$f":"IF('11組'!AG72=\"\",\"\",'11組'!AG72)","v":""},{"$f":"IF('11組'!AH72=\"\",\"\",'11組'!AH72)","v":""},{"$f":"IF('11組'!AI72=\"\",\"\",'11組'!AI72)","v":""},{"$f":"IF('11組'!AJ72=\"\",\"\",'11組'!AJ72)","v":""}]
[null,null,null,null,11150,null,{"$f":"IF(H572<50,G572,G572+1)","v":11},{"$f":"IF(G573<>G572,1,H572+1)","v":50},null,null,"",{"$f":"IF('11組'!L73=\"\",\"\",'11組'!L73)","v":""},{"$f":"IF('11組'!M73=\"\",\"\",'11組'!M73)","v":""},{"$f":"IF('11組'!N73=\"\",\"\",'11組'!N73)","v":""},{"$f":"IF('11組'!O73=\"\",\"\",'11組'!O73)","v":""},{"$f":"IF('11組'!P73=\"\",\"\",'11組'!P73)","v":""},null,null,null,null,null,{"$f":"IF('11組'!V73=\"\",\"\",'11組'!V73)","v":""},{"$f":"IF('11組'!W73=\"\",\"\",'11組'!W73)","v":""},{"$f":"IF('11組'!X73=\"\",\"\",'11組'!X73)","v":""},{"$f":"IF('11組'!Y73=\"\",\"\",'11組'!Y73)","v":""},{"$f":"IF('11組'!Z73=\"\",\"\",'11組'!Z73)","v":""},null,null,null,null,null,{"$f":"IF('11組'!AF73=\"\",\"\",'11組'!AF73)","v":""},{"$f":"IF('11組'!AG73=\"\",\"\",'11組'!AG73)","v":""},{"$f":"IF('11組'!AH73=\"\",\"\",'11組'!AH73)","v":""},{"$f":"IF('11組'!AI73=\"\",\"\",'11組'!AI73)","v":""},{"$f":"IF('11組'!AJ73=\"\",\"\",'11組'!AJ73)","v":""}]

{"sheet":"１組","index":2,"n_rows":73,"n_cols":40,"rows_kept":73,"cut":false,"hidden":false,"merged":[[2,34,2,36],[2,37,2,39],[21,11,21,15],[21,21,21,25],[21,31,21,35],[2,11,2,13],[2,14,2,16],[2,17,2,19],[2,21,2,23],[2,24,2,26],[2,27,2,29],[2,31,2,33]]}
[]
[]
[null,null,null,null,null,null,null,null,null,null,null,"校長",null,null,"教頭",null,null,"教務",null,null,null,"校長",null,null,"教頭",null,null,"教務",null,null,null,"校長",null,null,"教頭",null,null,"教務"]
[]
[]
[]
[]
[null,null,null,null,null,null,null,null,{"$f":"基本情報!E4","v":1},null,null,null,1,2,3,4,5,"-",null,"平均",null,null,1,2,3,4,5,"-",null,"平均",null,null,1,2,3,4,5,"-",null,"平均"]
[null,null,null,null,null,null,null,null,1,null,null,1,{"$f":"学年名簿と評価・評定!M9","v":0},{"$f":"学年名簿と評価・評定!N9","v":0},{"$f":"学年名簿と評価・評定!O9","v":0},{"$f":"学年名簿と評価・評定!P9","v":0},{"$f":"学年名簿と評価・評定!Q9","v":1},{"$f":"学年名簿と評価・評定!R9","v":0},{"$f":"SUM(M9:R9)","v":1},{"$f":"学年名簿と評価・評定!T9","v":5},null,1,{"$f":"学年名簿と評価・評定!W9","v":1},{"$f":"学年名簿と評価・評定!X9","v":0},{"$f":"学年名簿と評価・評定!Y9","v":0},{"$f":"学年名簿と評価・評定!Z9","v":0},{"$f":"学年名簿と評価・評定!AA9","v":0},{"$f":"学年名簿と評価・評定!AB9","v":0},{"$f":"学年名簿と評価・評定!AC9","v":1},{"$f":"学年名簿と評価・評定!AD9","v":1},null,1,{"$f":"学年名簿と評価・評定!AG9","v":0},{"$f":"学年名簿と評価・評定!AH9","v":0},{"$f":"学年名簿と評価・評定!AI9","v":1},{"$f":"学年名簿と評価・評定!AJ9","v":0},{"$f":"学年名簿と評価・評定!AK9","v":0},{"$f":"学年名簿と評価・評定!AL9","v":0},{"$f":"学年名簿と評価・評定!AM9","v":1},{"$f":"学年名簿と評価・評定!AN9","v":3}]
[null,null,null,null,null,null,null,null,null,null,null,2,{"$f":"学年名簿と評価・評定!M10","v":0},{"$f":"学年名簿と評価・評定!N10","v":0},{"$f":"学年名簿と評価・評定!O10","v":0},{"$f":"学年名簿と評価・評定!P10","v":0},{"$f":"学年名簿と評価・評定!Q10","v":0},{"$f":"学年名簿と評価・評定!R10","v":0},{"$f":"SUM(M10:R10)","v":0},{"$f":"学年名簿と評価・評定!T10","v":""},null,2,{"$f":"学年名簿と評価・評定!W10","v":0},{"$f":"学年名簿と評価・評定!X10","v":0},{"$f":"学年名簿と評価・評定!Y10","v":0},{"$f":"学年名簿と評価・評定!Z10","v":0},{"$f":"学年名簿と評価・評定!AA10","v":0},{"$f":"学年名簿と評価・評定!AB10","v":0},{"$f":"学年名簿と評価・評定!AC10","v":0},{"$f":"学年名簿と評価・評定!AD10","v":""},null,2,{"$f":"学年名簿と評価・評定!AG10","v":0},{"$f":"学年名簿と評価・評定!AH10","v":0},{"$f":"学年名簿と評価・評定!AI10","v":0},{"$f":"学年名簿と評価・評定!AJ10","v":0},{"$f":"学年名簿と評価・評定!AK10","v":0},{"$f":"学年名簿と評価・評定!AL10","v":0},{"$f":"学年名簿と評価・評定!AM10","v":0},{"$f":"学年名簿と評価・評定!AN10","v":""}]
[null,null,null,null,null,null,null,null,null,null,null,3,{"$f":"学年名簿と評価・評定!M11","v":0},{"$f":"学年名簿と評価・評定!N11","v":0},{"$f":"学年名簿と評価・評定!O11","v":0},{"$f":"学年名簿と評価・評定!P11","v":0},{"$f":"学年名簿と評価・評定!Q11","v":0},{"$f":"学年名簿と評価・評定!R11","v":0},0,{"$f":"学年名簿と評価・評定!T11","v":""},null,3,{"$f":"学年名簿と評価・評定!W11","v":0},{"$f":"学年名簿と評価・評定!X11","v":0},{"$f":"学年名簿と評価・評定!Y11","v":0},{"$f":"学年名簿と評価・評定!Z11","v":0},{"$f":"学年名簿と評価・評定!AA11","v":0},{"$f":"学年名簿と評価・評定!AB11","v":0},{"$f":"学年名簿と評価・評定!AC11","v":0},{"$f":"学年名簿と評価・評定!AD11","v":""},null,3,{"$f":"学年名簿と評価・評定!AG11","v":0},{"$f":"学年名簿と評価・評定!AH11","v":0},{"$f":"学年名簿と評価・評定!AI11","v":0},{"$f":"学年名簿と評価・評定!AJ11","v":0},{"$f":"学年名簿と評価・評定!AK11","v":0},{"$f":"学年名簿と評価・評定!AL11","v":0},{"$f":"学年名簿と評価・評定!AM11","v":0},{"$f":"学年名簿と評価・評定!AN11","v":""}]
[null,null,null,null,null,null,null,null,null,null,null,4,{"$f":"学年名簿と評価・評定!M12","v":0},{"$f":"学年名簿と評価・評定!N12","v":0},{"$f":"学年名簿と評価・評定!O12","v":0},{"$f":"学年名簿と評価・評定!P12","v":0},{"$f":"学年名簿と評価・評定!Q12","v":0},{"$f":"学年名簿と評価・評定!R12","v":0},0,{"$f":"学年名簿と評価・評定!T12","v":""},null,4,{"$f":"学年名簿と評価・評定!W12","v":0},{"$f":"学年名簿と評価・評定!X12","v":0},{"$f":"学年名簿と評価・評定!Y12","v":0},{"$f":"学年名簿と評価・評定!Z12","v":0},{"$f":"学年名簿と評価・評定!AA12","v":0},{"$f":"学年名簿と評価・評定!AB12","v":0},{"$f":"学年名簿と評価・評定!AC12","v":0},{"$f":"学年名簿と評価・評定!AD12","v":""},null,4,{"$f":"学年名簿と評価・評定!AG12","v":0},{"$f":"学年名簿と評価・評定!AH12","v":0},{"$f":"学年名簿と評価・評定!AI12","v":0},{"$f":"学年名簿と評価・評定!AJ12","v":0},{"$f":"学年名簿と評価・評定!AK12","v":0},{"$f":"学年名簿と評価・評定!AL12","v":0},{"$f":"学年名簿と評価・評定!AM12","v":0},{"$f":"学年名簿と評価・評定!AN12","v":""}]
[null,null,null,null,null,null,null,null,null,null,null,5,{"$f":"学年名簿と評価・評定!M13","v":0},{"$f":"学年名簿と評価・評定!N13","v":0},{"$f":"学年名簿と評価・評定!O13","v":0},{"$f":"学年名簿と評価・評定!P13","v":0},{"$f":"学年名簿と評価・評定!Q13","v":0},{"$f":"学年名簿と評価・評定!R13","v":0},0,{"$f":"学年名簿と評価・評定!T13","v":""},null,5,{"$f":"学年名簿と評価・評定!W13","v":0},{"$f":"学年名簿と評価・評定!X13","v":0},{"$f":"学年名簿と評価・評定!Y13","v":0},{"$f":"学年名簿と評価・評定!Z13","v":0},{"$f":"学年名簿と評価・評定!AA13","v":0},{"$f":"学年名簿と評価・評定!AB13","v":0},{"$f":"学年名簿と評価・評定!AC13","v":0},{"$f":"学年名簿と評価・評定!AD13","v":""},null,5,{"$f":"学年名簿と評価・評定!AG13","v":0},{"$f":"学年名簿と評価・評定!AH13","v":0},{"$f":"学年名簿と評価・評定!AI13","v":0},{"$f":"学年名簿と評価・評定!AJ13","v":0},{"$f":"学年名簿と評価・評定!AK13","v":0},{"$f":"学年名簿と評価・評定!AL13","v":0},{"$f":"学年名簿と評価・評定!AM13","v":0},{"$f":"学年名簿と評価・評定!AN13","v":""}]
[null,null,null,null,null,null,null,null,null,null,null,6,{"$f":"学年名簿と評価・評定!M14","v":0},{"$f":"学年名簿と評価・評定!N14","v":0},{"$f":"学年名簿と評価・評定!O14","v":0},{"$f":"学年名簿と評価・評定!P14","v":0},{"$f":"学年名簿と評価・評定!Q14","v":0},{"$f":"学年名簿と評価・評定!R14","v":0},0,{"$f":"学年名簿と評価・評定!T14","v":""},null,6,{"$f":"学年名簿と評価・評定!W14","v":0},{"$f":"学年名簿と評価・評定!X14","v":0},{"$f":"学年名簿と評価・評定!Y14","v":0},{"$f":"学年名簿と評価・評定!Z14","v":0},{"$f":"学年名簿と評価・評定!AA14","v":0},{"$f":"学年名簿と評価・評定!AB14","v":0},{"$f":"学年名簿と評価・評定!AC14","v":0},{"$f":"学年名簿と評価・評定!AD14","v":""},null,6,{"$f":"学年名簿と評価・評定!AG14","v":0},{"$f":"学年名簿と評価・評定!AH14","v":0},{"$f":"学年名簿と評価・評定!AI14","v":0},{"$f":"学年名簿と評価・評定!AJ14","v":0},{"$f":"学年名簿と評価・評定!AK14","v":0},{"$f":"学年名簿と評価・評定!AL14","v":0},{"$f":"学年名簿と評価・評定!AM14","v":0},{"$f":"学年名簿と評価・評定!AN14","v":""}]
[null,null,null,null,null,null,null,null,null,null,null,7,{"$f":"学年名簿と評価・評定!M15","v":0},{"$f":"学年名簿と評価・評定!N15","v":0},{"$f":"学年名簿と評価・評定!O15","v":0},{"$f":"学年名簿と評価・評定!P15","v":0},{"$f":"学年名簿と評価・評定!Q15","v":0},{"$f":"学年名簿と評価・評定!R15","v":0},{"$f":"SUM(M15:R15)","v":0},{"$f":"学年名簿と評価・評定!T15","v":""},null,7,{"$f":"学年名簿と評価・評定!W15","v":0},{"$f":"学年名簿と評価・評定!X15","v":0},{"$f":"学年名簿と評価・評定!Y15","v":0},{"$f":"学年名簿と評価・評定!Z15","v":0},{"$f":"学年名簿と評価・評定!AA15","v":0},{"$f":"学年名簿と評価・評定!AB15","v":0},{"$f":"学年名簿と評価・評定!AC15","v":0},{"$f":"学年名簿と評価・評定!AD15","v":""},null,7,{"$f":"学年名簿と評価・評定!AG15","v":0},{"$f":"学年名簿と評価・評定!AH15","v":0},{"$f":"学年名簿と評価・評定!AI15","v":0},{"$f":"学年名簿と評価・評定!AJ15","v":0},{"$f":"学年名簿と評価・評定!AK15","v":0},{"$f":"学年名簿と評価・評定!AL15","v":0},{"$f":"学年名簿と評価・評定!AM15","v":0},{"$f":"学年名簿と評価・評定!AN15","v":""}]
[null,null,null,null,null,null,null,null,null,null,null,8,{"$f":"学年名簿と評価・評定!M16","v":0},{"$f":"学年名簿と評価・評定!N16","v":0},{"$f":"学年名簿と評価・評定!O16","v":0},{"$f":"学年名簿と評価・評定!P16","v":0},{"$f":"学年名簿と評価・評定!Q16","v":0},{"$f":"学年名簿と評価・評定!R16","v":0},0,{"$f":"学年名簿と評価・評定!T16","v":""},null,8,{"$f":"学年名簿と評価・評定!W16","v":0},{"$f":"学年名簿と評価・評定!X16","v":0},{"$f":"学年名簿と評価・評定!Y16","v":0},{"$f":"学年名簿と評価・評定!Z16","v":0},{"$f":"学年名簿と評価・評定!AA16","v":0},{"$f":"学年名簿と評価・評定!AB16","v":0},{"$f":"学年名簿と評価・評定!AC16","v":0},{"$f":"学年名簿と評価・評定!AD16","v":""},null,8,{"$f":"学年名簿と評価・評定!AG16","v":0},{"$f":"学年名簿と評価・評定!AH16","v":0},{"$f":"学年名簿と評価・評定!AI16","v":0},{"$f":"学年名簿と評価・評定!AJ16","v":0},{"$f":"学年名簿と評価・評定!AK16","v":0},{"$f":"学年名簿と評価・評定!AL16","v":0},{"$f":"学年名簿と評価・評定!AM16","v":0},{"$f":"学年名簿と評価・評定!AN16","v":""}]
[null,null,null,null,null,null,null,null,null,null,null,9,{"$f":"学年名簿と評価・評定!M17","v":0},{"$f":"学年名簿と評価・評定!N17","v":0},{"$f":"学年名簿と評価・評定!O17","v":0},{"$f":"学年名簿と評価・評定!P17","v":0},{"$f":"学年名簿と評価・評定!Q17","v":0},{"$f":"学年名簿と評価・評定!R17","v":0},0,{"$f":"学年名簿と評価・評定!T17","v":""},null,9,{"$f":"学年名簿と評価・評定!W17","v":0},{"$f":"学年名簿と評価・評定!X17","v":0},{"$f":"学年名簿と評価・評定!Y17","v":0},{"$f":"学年名簿と評価・評定!Z17","v":0},{"$f":"学年名簿と評価・評定!AA17","v":0},{"$f":"学年名簿と評価・評定!AB17","v":0},{"$f":"学年名簿と評価・評定!AC17","v":0},{"$f":"学年名簿と評価・評定!AD17","v":""},null,9,{"$f":"学年名簿と評価・評定!AG17","v":0},{"$f":"学年名簿と評価・評定!AH17","v":0},{"$f":"学年名簿と評価・評定!AI17","v":0},{"$f":"学年名簿と評価・評定!AJ17","v":0},{"$f":"学年名簿と評価・評定!AK17","v":0},{"$f":"学年名簿と評価・評定!AL17","v":0},{"$f":"学年名簿と評価・評定!AM17","v":0},{"$f":"学年名簿と評価・評定!AN17","v":""}]
[null,null,null,null,null,null,null,null,null,null,null,10,{"$f":"学年名簿と評価・評定!M18","v":0},{"$f":"学年名簿と評価・評定!N18","v":0},{"$f":"学年名簿と評価・評定!O18","v":0},{"$f":"学年名簿と評価・評定!P18","v":0},{"$f":"学年名簿と評価・評定!Q18","v":0},{"$f":"学年名簿と評価・評定!R18","v":0},0,{"$f":"学年名簿と評価・評定!T18","v":""},null,10,{"$f":"学年名簿と評価・評定!W18","v":0},{"$f":"学年名簿と評価・評定!X18","v":0},{"$f":"学年名簿と評価・評定!Y18","v":0},{"$f":"学年名簿と評価・評定!Z18","v":0},{"$f":"学年名簿と評価・評定!AA18","v":0},{"$f":"学年名簿と評価・評定!AB18","v":0},{"$f":"学年名簿と評価・評定!AC18","v":0},{"$f":"学年名簿と評価・評定!AD18","v":""},null,10,{"$f":"学年名簿と評価・評定!AG18","v":0},{"$f":"学年名簿と評価・評定!AH18","v":0},{"$f":"学年名簿と評価・評定!AI18","v":0},{"$f":"学年名簿と評価・評定!AJ18","v":0},{"$f":"学年名簿と評価・評定!AK18","v":0},{"$f":"学年名簿と評価・評定!AL18","v":0},{"$f":"学年名簿と評価・評定!AM18","v":0},{"$f":"学年名簿と評価・評定!AN18","v":""}]
[null,null,null,null,null,null,null,null,null,null,null,11,{"$f":"学年名簿と評価・評定!M19","v":0},{"$f":"学年名簿と評価・評定!N19","v":0},{"$f":"学年名簿と評価・評定!O19","v":0},{"$f":"学年名簿と評価・評定!P19","v":0},{"$f":"学年名簿と評価・評定!Q19","v":0},{"$f":"学年名簿と評価・評定!R19","v":0},0,{"$f":"学年名簿と評価・評定!T19","v":""},null,11,{"$f":"学年名簿と評価・評定!W19","v":0},{"$f":"学年名簿と評価・評定!X19","v":0},{"$f":"学年名簿と評価・評定!Y19","v":0},{"$f":"学年名簿と評価・評定!Z19","v":0},{"$f":"学年名簿と評価・評定!AA19","v":0},{"$f":"学年名簿と評価・評定!AB19","v":0},{"$f":"学年名簿と評価・評定!AC19","v":0},{"$f":"学年名簿と評価・評定!AD19","v":""},null,11,{"$f":"学年名簿と評価・評定!AG19","v":0},{"$f":"学年名簿と評価・評定!AH19","v":0},{"$f":"学年名簿と評価・評定!AI19","v":0},{"$f":"学年名簿と評価・評定!AJ19","v":0},{"$f":"学年名簿と評価・評定!AK19","v":0},{"$f":"学年名簿と評価・評定!AL19","v":0},{"$f":"学年名簿と評価・評定!AM19","v":0},{"$f":"学年名簿と評価・評定!AN19","v":""}]
[null,null,null,null,null,null,null,null,{"$f":"基本情報!E6","v":"国語"},null,null,"計",{"$f":"学年名簿と評価・評定!M20","v":0},{"$f":"学年名簿と評価・評定!N20","v":0},{"$f":"学年名簿と評価・評定!O20","v":0},{"$f":"学年名簿と評価・評定!P20","v":0},{"$f":"学年名簿と評価・評定!Q20","v":1},{"$f":"学年名簿と評価・評定!R20","v":0},1,{"$f":"学年名簿と評価・評定!T20","v":5},null,"計",{"$f":"学年名簿と評価・評定!W20","v":1},{"$f":"学年名簿と評価・評定!X20","v":0},{"$f":"学年名簿と評価・評定!Y20","v":0},{"$f":"学年名簿と評価・評定!Z20","v":0},{"$f":"学年名簿と評価・評定!AA20","v":0},{"$f":"学年名簿と評価・評定!AB20","v":0},{"$f":"学年名簿と評価・評定!AC20","v":1},{"$f":"学年名簿と評価・評定!AD20","v":1},null,"計",{"$f":"学年名簿と評価・評定!AG20","v":0},{"$f":"学年名簿と評価・評定!AH20","v":0},{"$f":"学年名簿と評価・評定!AI20","v":1},{"$f":"学年名簿と評価・評定!AJ20","v":0},{"$f":"学年名簿と評価・評定!AK20","v":0},{"$f":"学年名簿と評価・評定!AL20","v":0},{"$f":"学年名簿と評価・評定!AM20","v":1},{"$f":"学年名簿と評価・評定!AN20","v":3}]
[]
[null,null,null,null,null,null,null,null,null,null,null,"前　　期",null,null,null,null,null,null,null,null,null,"後　　期",null,null,null,null,null,null,null,null,null,"学　　年"]
[null,null,null,null,null,null,null,"番","氏　　名","性",null,"評定",{"$f":"基本情報!P14","v":"知技"},{"$f":"基本情報!P15","v":"思判"},{"$f":"基本情報!P16","v":"学び"},"評定","CHECK",null,null,null,null,"評定",{"$f":"M23","v":"知技"},{"$f":"N23","v":"思判"},"学び","評定","CHECK",null,null,null,null,"評定","知技","思判","学び","評定","CHECK"]
[null,null,null,null,{"$f":"$I$8*10000+$I$9*100+$H24","v":10101},null,null,1,{"$f":"IF(VLOOKUP($E24,学年名簿と評価・評定!$E$24:$K$573,5)=\"\",\"\",VLOOKUP($E24,学年名簿と評価・評定!$E$24:$K$573,5))","v":"中野　弘道"},{"$f":"IF(VLOOKUP($E24,学年名簿と評価・評定!$E$24:$K$573,6)=\"\",\"\",VLOOKUP($E24,学年名簿と評価・評定!$E$24:$K$573,7))","v":"男"},null,{"$f":"P24","v":5},"A","A","A",{"$f":"IF(OR($I24=\"\",COUNTA($M24:$O24)=0),\"\",IF(AND(M24=\"-\",N24=\"-\",O24=\"-\"),\"-\",VLOOKUP(COUNTIF($M24:$O24,\"A\")-COUNTIF($M24:$O24,\"C\"),基本情報!$R$4:$S$10,2)))","v":5},4,null,null,null,null,{"$f":"Z24","v":1},"C","C","C",{"$f":"IF(OR($I24=\"\",COUNTA($W24:$Y24)=0),\"\",IF(AND(W24=\"-\",X24=\"-\",Y24=\"-\"),\"-\",VLOOKUP(COUNTIF($W24:$Y24,\"A\")-COUNTIF($W24:$Y24,\"C\"),基本情報!$R$4:$S$10,2)))","v":1},2,null,null,null,null,{"$f":"AJ24","v":3},"B","A","C",{"$f":"IF(OR($I24=\"\",COUNTA($AG24:$AI24)=0),\"\",IF(AND(AG24=\"-\",AH24=\"-\",AI24=\"-\"),\"-\",VLOOKUP(COUNTIF($AG24:$AI24,\"A\")-COUNTIF($AG24:$AI24,\"C\"),基本情報!$R$4:$S$10,2)))","v":3},4]
[null,null,null,null,10102,null,null,2,{"$f":"IF(VLOOKUP($E25,学年名簿と評価・評定!$E$24:$K$573,5)=\"\",\"\",VLOOKUP($E25,学年名簿と評価・評定!$E$24:$K$573,5))","v":""},{"$f":"IF(VLOOKUP($E25,学年名簿と評価・評定!$E$24:$K$573,6)=\"\",\"\",VLOOKUP($E25,学年名簿と評価・評定!$E$24:$K$573,7))","v":"女"},null,{"$f":"P25","v":""},null,null,null,{"$f":"IF(OR($I25=\"\",COUNTA($M25:$O25)=0),\"\",IF(AND(M25=\"-\",N25=\"-\",O25=\"-\"),\"-\",VLOOKUP(COUNTIF($M25:$O25,\"A\")-COUNTIF($M25:$O25,\"C\"),基本情報!$R$4:$S$10,2)))","v":""},null,null,null,null,null,{"$f":"Z25","v":""},null,null,null,{"$f":"IF(OR($I25=\"\",COUNTA($W25:$Y25)=0),\"\",IF(AND(W25=\"-\",X25=\"-\",Y25=\"-\"),\"-\",VLOOKUP(COUNTIF($W25:$Y25,\"A\")-COUNTIF($W25:$Y25,\"C\"),基本情報!$R$4:$S$10,2)))","v":""},null,null,null,null,null,{"$f":"AJ25","v":""},null,null,null,{"$f":"IF(OR($I25=\"\",COUNTA($AG25:$AI25)=0),\"\",IF(AND(AG25=\"-\",AH25=\"-\",AI25=\"-\"),\"-\",VLOOKUP(COUNTIF($AG25:$AI25,\"A\")-COUNTIF($AG25:$AI25,\"C\"),基本情報!$R$4:$S$10,2)))","v":""}]
[null,null,null,null,10103,null,null,3,{"$f":"IF(VLOOKUP($E26,学年名簿と評価・評定!$E$24:$K$573,5)=\"\",\"\",VLOOKUP($E26,学年名簿と評価・評定!$E$24:$K$573,5))","v":""},{"$f":"IF(VLOOKUP($E26,学年名簿と評価・評定!$E$24:$K$573,6)=\"\",\"\",VLOOKUP($E26,学年名簿と評価・評定!$E$24:$K$573,7))","v":"男"},null,"",null,null,null,{"$f":"IF(OR($I26=\"\",COUNTA($M26:$O26)=0),\"\",IF(AND(M26=\"-\",N26=\"-\",O26=\"-\"),\"-\",VLOOKUP(COUNTIF($M26:$O26,\"A\")-COUNTIF($M26:$O26,\"C\"),基本情報!$R$4:$S$10,2)))","v":""},null,null,null,null,null,{"$f":"Z26","v":""},null,null,null,{"$f":"IF(OR($I26=\"\",COUNTA($W26:$Y26)=0),\"\",IF(AND(W26=\"-\",X26=\"-\",Y26=\"-\"),\"-\",VLOOKUP(COUNTIF($W26:$Y26,\"A\")-COUNTIF($W26:$Y26,\"C\"),基本情報!$R$4:$S$10,2)))","v":""},null,null,null,null,null,"",null,null,null,{"$f":"IF(OR($I26=\"\",COUNTA($AG26:$AI26)=0),\"\",IF(AND(AG26=\"-\",AH26=\"-\",AI26=\"-\"),\"-\",VLOOKUP(COUNTIF($AG26:$AI26,\"A\")-COUNTIF($AG26:$AI26,\"C\"),基本情報!$R$4:$S$10,2)))","v":""}]
[null,null,null,null,10104,null,null,4,{"$f":"IF(VLOOKUP($E27,学年名簿と評価・評定!$E$24:$K$573,5)=\"\",\"\",VLOOKUP($E27,学年名簿と評価・評定!$E$24:$K$573,5))","v":""},{"$f":"IF(VLOOKUP($E27,学年名簿と評価・評定!$E$24:$K$573,6)=\"\",\"\",VLOOKUP($E27,学年名簿と評価・評定!$E$24:$K$573,7))","v":"男"},null,"",null,null,null,{"$f":"IF(OR($I27=\"\",COUNTA($M27:$O27)=0),\"\",IF(AND(M27=\"-\",N27=\"-\",O27=\"-\"),\"-\",VLOOKUP(COUNTIF($M27:$O27,\"A\")-COUNTIF($M27:$O27,\"C\"),基本情報!$R$4:$S$10,2)))","v":""},null,null,null,null,null,"",null,null,null,{"$f":"IF(OR($I27=\"\",COUNTA($W27:$Y27)=0),\"\",IF(AND(W27=\"-\",X27=\"-\",Y27=\"-\"),\"-\",VLOOKUP(COUNTIF($W27:$Y27,\"A\")-COUNTIF($W27:$Y27,\"C\"),基本情報!$R$4:$S$10,2)))","v":""},null,null,null,null,null,"",null,null,null,{"$f":"IF(OR($I27=\"\",COUNTA($AG27:$AI27)=0),\"\",IF(AND(AG27=\"-\",AH27=\"-\",AI27=\"-\"),\"-\",VLOOKUP(COUNTIF($AG27:$AI27,\"A\")-COUNTIF($AG27:$AI27,\"C\"),基本情報!$R$4:$S$10,2)))","v":""}]
[null,null,null,null,10105,null,null,5,{"$f":"IF(VLOOKUP($E28,学年名簿と評価・評定!$E$24:$K$573,5)=\"\",\"\",VLOOKUP($E28,学年名簿と評価・評定!$E$24:$K$573,5))","v":""},{"$f":"IF(VLOOKUP($E28,学年名簿と評価・評定!$E$24:$K$573,6)=\"\",\"\",VLOOKUP($E28,学年名簿と評価・評定!$E$24:$K$573,7))","v":"女"},null,"",null,null,null,{"$f":"IF(OR($I28=\"\",COUNTA($M28:$O28)=0),\"\",IF(AND(M28=\"-\",N28=\"-\",O28=\"-\"),\"-\",VLOOKUP(COUNTIF($M28:$O28,\"A\")-COUNTIF($M28:$O28,\"C\"),基本情報!$R$4:$S$10,2)))","v":""},null,null,null,null,null,"",null,null,null,{"$f":"IF(OR($I28=\"\",COUNTA($W28:$Y28)=0),\"\",IF(AND(W28=\"-\",X28=\"-\",Y28=\"-\"),\"-\",VLOOKUP(COUNTIF($W28:$Y28,\"A\")-COUNTIF($W28:$Y28,\"C\"),基本情報!$R$4:$S$10,2)))","v":""},null,null,null,null,null,"",null,null,null,{"$f":"IF(OR($I28=\"\",COUNTA($AG28:$AI28)=0),\"\",IF(AND(AG28=\"-\",AH28=\"-\",AI28=\"-\"),\"-\",VLOOKUP(COUNTIF($AG28:$AI28,\"A\")-COUNTIF($AG28:$AI28,\"C\"),基本情報!$R$4:$S$10,2)))","v":""}]
[null,null,null,null,10106,null,null,6,{"$f":"IF(VLOOKUP($E29,学年名簿と評価・評定!$E$24:$K$573,5)=\"\",\"\",VLOOKUP($E29,学年名簿と評価・評定!$E$24:$K$573,5))","v":""},{"$f":"IF(VLOOKUP($E29,学年名簿と評価・評定!$E$24:$K$573,6)=\"\",\"\",VLOOKUP($E29,学年名簿と評価・評定!$E$24:$K$573,7))","v":"男"},null,"",null,null,null,{"$f":"IF(OR($I29=\"\",COUNTA($M29:$O29)=0),\"\",IF(AND(M29=\"-\",N29=\"-\",O29=\"-\"),\"-\",VLOOKUP(COUNTIF($M29:$O29,\"A\")-COUNTIF($M29:$O29,\"C\"),基本情報!$R$4:$S$10,2)))","v":""},null,null,null,null,null,"",null,null,null,{"$f":"IF(OR($I29=\"\",COUNTA($W29:$Y29)=0),\"\",IF(AND(W29=\"-\",X29=\"-\",Y29=\"-\"),\"-\",VLOOKUP(COUNTIF($W29:$Y29,\"A\")-COUNTIF($W29:$Y29,\"C\"),基本情報!$R$4:$S$10,2)))","v":""},null,null,null,null,null,"",null,null,null,{"$f":"IF(OR($I29=\"\",COUNTA($AG29:$AI29)=0),\"\",IF(AND(AG29=\"-\",AH29=\"-\",AI29=\"-\"),\"-\",VLOOKUP(COUNTIF($AG29:$AI29,\"A\")-COUNTIF($AG29:$AI29,\"C\"),基本情報!$R$4:$S$10,2)))","v":""}]
[null,null,null,null,10107,null,null,7,{"$f":"IF(VLOOKUP($E30,学年名簿と評価・評定!$E$24:$K$573,5)=\"\",\"\",VLOOKUP($E30,学年名簿と評価・評定!$E$24:$K$573,5))","v":""},{"$f":"IF(VLOOKUP($E30,学年名簿と評価・評定!$E$24:$K$573,6)=\"\",\"\",VLOOKUP($E30,学年名簿と評価・評定!$E$24:$K$573,7))","v":"男"},null,"",null,null,null,{"$f":"IF(OR($I30=\"\",COUNTA($M30:$O30)=0),\"\",IF(AND(M30=\"-\",N30=\"-\",O30=\"-\"),\"-\",VLOOKUP(COUNTIF($M30:$O30,\"A\")-COUNTIF($M30:$O30,\"C\"),基本情報!$R$4:$S$10,2)))","v":""},null,null,null,null,null,"",null,null,null,{"$f":"IF(OR($I30=\"\",COUNTA($W30:$Y30)=0),\"\",IF(AND(W30=\"-\",X30=\"-\",Y30=\"-\"),\"-\",VLOOKUP(COUNTIF($W30:$Y30,\"A\")-COUNTIF($W30:$Y30,\"C\"),基本情報!$R$4:$S$10,2)))","v":""},null,null,null,null,null,"",null,null,null,{"$f":"IF(OR($I30=\"\",COUNTA($AG30:$AI30)=0),\"\",IF(AND(AG30=\"-\",AH30=\"-\",AI30=\"-\"),\"-\",VLOOKUP(COUNTIF($AG30:$AI30,\"A\")-COUNTIF($AG30:$AI30,\"C\"),基本情報!$R$4:$S$10,2)))","v":""}]
[null,null,null,null,10108,null,null,8,{"$f":"IF(VLOOKUP($E31,学年名簿と評価・評定!$E$24:$K$573,5)=\"\",\"\",VLOOKUP($E31,学年名簿と評価・評定!$E$24:$K$573,5))","v":""},{"$f":"IF(VLOOKUP($E31,学年名簿と評価・評定!$E$24:$K$573,6)=\"\",\"\",VLOOKUP($E31,学年名簿と評価・評定!$E$24:$K$573,7))","v":"男"},null,"",null,null,null,{"$f":"IF(OR($I31=\"\",COUNTA($M31:$O31)=0),\"\",IF(AND(M31=\"-\",N31=\"-\",O31=\"-\"),\"-\",VLOOKUP(COUNTIF($M31:$O31,\"A\")-COUNTIF($M31:$O31,\"C\"),基本情報!$R$4:$S$10,2)))","v":""},null,null,null,null,null,"",null,null,null,{"$f":"IF(OR($I31=\"\",COUNTA($W31:$Y31)=0),\"\",IF(AND(W31=\"-\",X31=\"-\",Y31=\"-\"),\"-\",VLOOKUP(COUNTIF($W31:$Y31,\"A\")-COUNTIF($W31:$Y31,\"C\"),基本情報!$R$4:$S$10,2)))","v":""},null,null,null,null,null,"",null,null,null,{"$f":"IF(OR($I31=\"\",COUNTA($AG31:$AI31)=0),\"\",IF(AND(AG31=\"-\",AH31=\"-\",AI31=\"-\"),\"-\",VLOOKUP(COUNTIF($AG31:$AI31,\"A\")-COUNTIF($AG31:$AI31,\"C\"),基本情報!$R$4:$S$10,2)))","v":""}]
[null,null,null,null,10109,null,null,9,{"$f":"IF(VLOOKUP($E32,学年名簿と評価・評定!$E$24:$K$573,5)=\"\",\"\",VLOOKUP($E32,学年名簿と評価・評定!$E$24:$K$573,5))","v":""},{"$f":"IF(VLOOKUP($E32,学年名簿と評価・評定!$E$24:$K$573,6)=\"\",\"\",VLOOKUP($E32,学年名簿と評価・評定!$E$24:$K$573,7))","v":"女"},null,"",null,null,null,{"$f":"IF(OR($I32=\"\",COUNTA($M32:$O32)=0),\"\",IF(AND(M32=\"-\",N32=\"-\",O32=\"-\"),\"-\",VLOOKUP(COUNTIF($M32:$O32,\"A\")-COUNTIF($M32:$O32,\"C\"),基本情報!$R$4:$S$10,2)))","v":""},null,null,null,null,null,"",null,null,null,{"$f":"IF(OR($I32=\"\",COUNTA($W32:$Y32)=0),\"\",IF(AND(W32=\"-\",X32=\"-\",Y32=\"-\"),\"-\",VLOOKUP(COUNTIF($W32:$Y32,\"A\")-COUNTIF($W32:$Y32,\"C\"),基本情報!$R$4:$S$10,2)))","v":""},null,null,null,null,null,"",null,null,null,{"$f":"IF(OR($I32=\"\",COUNTA($AG32:$AI32)=0),\"\",IF(AND(AG32=\"-\",AH32=\"-\",AI32=\"-\"),\"-\",VLOOKUP(COUNTIF($AG32:$AI32,\"A\")-COUNTIF($AG32:$AI32,\"C\"),基本情報!$R$4:$S$10,2)))","v":""}]
[null,null,null,null,10110,null,null,10,{"$f":"IF(VLOOKUP($E33,学年名簿と評価・評定!$E$24:$K$573,5)=\"\",\"\",VLOOKUP($E33,学年名簿と評価・評定!$E$24:$K$573,5))","v":""},{"$f":"IF(VLOOKUP($E33,学年名簿と評価・評定!$E$24:$K$573,6)=\"\",\"\",VLOOKUP($E33,学年名簿と評価・評定!$E$24:$K$573,7))","v":"女"},null,"",null,null,null,{"$f":"IF(OR($I33=\"\",COUNTA($M33:$O33)=0),\"\",IF(AND(M33=\"-\",N33=\"-\",O33=\"-\"),\"-\",VLOOKUP(COUNTIF($M33:$O33,\"A\")-COUNTIF($M33:$O33,\"C\"),基本情報!$R$4:$S$10,2)))","v":""},null,null,null,null,null,"",null,null,null,{"$f":"IF(OR($I33=\"\",COUNTA($W33:$Y33)=0),\"\",IF(AND(W33=\"-\",X33=\"-\",Y33=\"-\"),\"-\",VLOOKUP(COUNTIF($W33:$Y33,\"A\")-COUNTIF($W33:$Y33,\"C\"),基本情報!$R$4:$S$10,2)))","v":""},null,null,null,null,null,"",null,null,null,{"$f":"IF(OR($I33=\"\",COUNTA($AG33:$AI33)=0),\"\",IF(AND(AG33=\"-\",AH33=\"-\",AI33=\"-\"),\"-\",VLOOKUP(COUNTIF($AG33:$AI33,\"A\")-COUNTIF($AG33:$AI33,\"C\"),基本情報!$R$4:$S$10,2)))","v":""}]
[null,null,null,null,10111,null,null,11,{"$f":"IF(VLOOKUP($E34,学年名簿と評価・評定!$E$24:$K$573,5)=\"\",\"\",VLOOKUP($E34,学年名簿と評価・評定!$E$24:$K$573,5))","v":""},{"$f":"IF(VLOOKUP($E34,学年名簿と評価・評定!$E$24:$K$573,6)=\"\",\"\",VLOOKUP($E34,学年名簿と評価・評定!$E$24:$K$573,7))","v":"男"},null,"",null,null,null,{"$f":"IF(OR($I34=\"\",COUNTA($M34:$O34)=0),\"\",IF(AND(M34=\"-\",N34=\"-\",O34=\"-\"),\"-\",VLOOKUP(COUNTIF($M34:$O34,\"A\")-COUNTIF($M34:$O34,\"C\"),基本情報!$R$4:$S$10,2)))","v":""},null,null,null,null,null,"",null,null,null,{"$f":"IF(OR($I34=\"\",COUNTA($W34:$Y34)=0),\"\",IF(AND(W34=\"-\",X34=\"-\",Y34=\"-\"),\"-\",VLOOKUP(COUNTIF($W34:$Y34,\"A\")-COUNTIF($W34:$Y34,\"C\"),基本情報!$R$4:$S$10,2)))","v":""},null,null,null,null,null,"",null,null,null,{"$f":"IF(OR($I34=\"\",COUNTA($AG34:$AI34)=0),\"\",IF(AND(AG34=\"-\",AH34=\"-\",AI34=\"-\"),\"-\",VLOOKUP(COUNTIF($AG34:$AI34,\"A\")-COUNTIF($AG34:$AI34,\"C\"),基本情報!$R$4:$S$10,2)))","v":""}]
[null,null,null,null,10112,null,null,12,{"$f":"IF(VLOOKUP($E35,学年名簿と評価・評定!$E$24:$K$573,5)=\"\",\"\",VLOOKUP($E35,学年名簿と評価・評定!$E$24:$K$573,5))","v":""},{"$f":"IF(VLOOKUP($E35,学年名簿と評価・評定!$E$24:$K$573,6)=\"\",\"\",VLOOKUP($E35,学年名簿と評価・評定!$E$24:$K$573,7))","v":"女"},null,"",null,null,null,{"$f":"IF(OR($I35=\"\",COUNTA($M35:$O35)=0),\"\",IF(AND(M35=\"-\",N35=\"-\",O35=\"-\"),\"-\",VLOOKUP(COUNTIF($M35:$O35,\"A\")-COUNTIF($M35:$O35,\"C\"),基本情報!$R$4:$S$10,2)))","v":""},null,null,null,null,null,"",null,null,null,{"$f":"IF(OR($I35=\"\",COUNTA($W35:$Y35)=0),\"\",IF(AND(W35=\"-\",X35=\"-\",Y35=\"-\"),\"-\",VLOOKUP(COUNTIF($W35:$Y35,\"A\")-COUNTIF($W35:$Y35,\"C\"),基本情報!$R$4:$S$10,2)))","v":""},null,null,null,null,null,"",null,null,null,{"$f":"IF(OR($I35=\"\",COUNTA($AG35:$AI35)=0),\"\",IF(AND(AG35=\"-\",AH35=\"-\",AI35=\"-\"),\"-\",VLOOKUP(COUNTIF($AG35:$AI35,\"A\")-COUNTIF($AG35:$AI35,\"C\"),基本情報!$R$4:$S$10,2)))","v":""}]
[null,null,null,null,10113,null,null,13,{"$f":"IF(VLOOKUP($E36,学年名簿と評価・評定!$E$24:$K$573,5)=\"\",\"\",VLOOKUP($E36,学年名簿と評価・評定!$E$24:$K$573,5))","v":""},{"$f":"IF(VLOOKUP($E36,学年名簿と評価・評定!$E$24:$K$573,6)=\"\",\"\",VLOOKUP($E36,学年名簿と評価・評定!$E$24:$K$573,7))","v":"男"},null,"",null,null,null,{"$f":"IF(OR($I36=\"\",COUNTA($M36:$O36)=0),\"\",IF(AND(M36=\"-\",N36=\"-\",O36=\"-\"),\"-\",VLOOKUP(COUNTIF($M36:$O36,\"A\")-COUNTIF($M36:$O36,\"C\"),基本情報!$R$4:$S$10,2)))","v":""},null,null,null,null,null,"",null,null,null,{"$f":"IF(OR($I36=\"\",COUNTA($W36:$Y36)=0),\"\",IF(AND(W36=\"-\",X36=\"-\",Y36=\"-\"),\"-\",VLOOKUP(COUNTIF($W36:$Y36,\"A\")-COUNTIF($W36:$Y36,\"C\"),基本情報!$R$4:$S$10,2)))","v":""},null,null,null,null,null,"",null,null,null,{"$f":"IF(OR($I36=\"\",COUNTA($AG36:$AI36)=0),\"\",IF(AND(AG36=\"-\",AH36=\"-\",AI36=\"-\"),\"-\",VLOOKUP(COUNTIF($AG36:$AI36,\"A\")-COUNTIF($AG36:$AI36,\"C\"),基本情報!$R$4:$S$10,2)))","v":""}]
[null,null,null,null,10114,null,null,14,{"$f":"IF(VLOOKUP($E37,学年名簿と評価・評定!$E$24:$K$573,5)=\"\",\"\",VLOOKUP($E37,学年名簿と評価・評定!$E$24:$K$573,5))","v":""},{"$f":"IF(VLOOKUP($E37,学年名簿と評価・評定!$E$24:$K$573,6)=\"\",\"\",VLOOKUP($E37,学年名簿と評価・評定!$E$24:$K$573,7))","v":"男"},null,"",null,null,null,{"$f":"IF(OR($I37=\"\",COUNTA($M37:$O37)=0),\"\",IF(AND(M37=\"-\",N37=\"-\",O37=\"-\"),\"-\",VLOOKUP(COUNTIF($M37:$O37,\"A\")-COUNTIF($M37:$O37,\"C\"),基本情報!$R$4:$S$10,2)))","v":""},null,null,null,null,null,"",null,null,null,{"$f":"IF(OR($I37=\"\",COUNTA($W37:$Y37)=0),\"\",IF(AND(W37=\"-\",X37=\"-\",Y37=\"-\"),\"-\",VLOOKUP(COUNTIF($W37:$Y37,\"A\")-COUNTIF($W37:$Y37,\"C\"),基本情報!$R$4:$S$10,2)))","v":""},null,null,null,null,null,"",null,null,null,{"$f":"IF(OR($I37=\"\",COUNTA($AG37:$AI37)=0),\"\",IF(AND(AG37=\"-\",AH37=\"-\",AI37=\"-\"),\"-\",VLOOKUP(COUNTIF($AG37:$AI37,\"A\")-COUNTIF($AG37:$AI37,\"C\"),基本情報!$R$4:$S$10,2)))","v":""}]
[null,null,null,null,10115,null,null,15,{"$f":"IF(VLOOKUP($E38,学年名簿と評価・評定!$E$24:$K$573,5)=\"\",\"\",VLOOKUP($E38,学年名簿と評価・評定!$E$24:$K$573,5))","v":""},{"$f":"IF(VLOOKUP($E38,学年名簿と評価・評定!$E$24:$K$573,6)=\"\",\"\",VLOOKUP($E38,学年名簿と評価・評定!$E$24:$K$573,7))","v":"男"},null,"",null,null,null,{"$f":"IF(OR($I38=\"\",COUNTA($M38:$O38)=0),\"\",IF(AND(M38=\"-\",N38=\"-\",O38=\"-\"),\"-\",VLOOKUP(COUNTIF($M38:$O38,\"A\")-COUNTIF($M38:$O38,\"C\"),基本情報!$R$4:$S$10,2)))","v":""},null,null,null,null,null,"",null,null,null,{"$f":"IF(OR($I38=\"\",COUNTA($W38:$Y38)=0),\"\",IF(AND(W38=\"-\",X38=\"-\",Y38=\"-\"),\"-\",VLOOKUP(COUNTIF($W38:$Y38,\"A\")-COUNTIF($W38:$Y38,\"C\"),基本情報!$R$4:$S$10,2)))","v":""},null,null,null,null,null,"",null,null,null,{"$f":"IF(OR($I38=\"\",COUNTA($AG38:$AI38)=0),\"\",IF(AND(AG38=\"-\",AH38=\"-\",AI38=\"-\"),\"-\",VLOOKUP(COUNTIF($AG38:$AI38,\"A\")-COUNTIF($AG38:$AI38,\"C\"),基本情報!$R$4:$S$10,2)))","v":""}]
[null,null,null,null,10116,null,null,16,{"$f":"IF(VLOOKUP($E39,学年名簿と評価・評定!$E$24:$K$573,5)=\"\",\"\",VLOOKUP($E39,学年名簿と評価・評定!$E$24:$K$573,5))","v":""},{"$f":"IF(VLOOKUP($E39,学年名簿と評価・評定!$E$24:$K$573,6)=\"\",\"\",VLOOKUP($E39,学年名簿と評価・評定!$E$24:$K$573,7))","v":"女"},null,"",null,null,null,{"$f":"IF(OR($I39=\"\",COUNTA($M39:$O39)=0),\"\",IF(AND(M39=\"-\",N39=\"-\",O39=\"-\"),\"-\",VLOOKUP(COUNTIF($M39:$O39,\"A\")-COUNTIF($M39:$O39,\"C\"),基本情報!$R$4:$S$10,2)))","v":""},null,null,null,null,null,"",null,null,null,{"$f":"IF(OR($I39=\"\",COUNTA($W39:$Y39)=0),\"\",IF(AND(W39=\"-\",X39=\"-\",Y39=\"-\"),\"-\",VLOOKUP(COUNTIF($W39:$Y39,\"A\")-COUNTIF($W39:$Y39,\"C\"),基本情報!$R$4:$S$10,2)))","v":""},null,null,null,null,null,"",null,null,null,{"$f":"IF(OR($I39=\"\",COUNTA($AG39:$AI39)=0),\"\",IF(AND(AG39=\"-\",AH39=\"-\",AI39=\"-\"),\"-\",VLOOKUP(COUNTIF($AG39:$AI39,\"A\")-COUNTIF($AG39:$AI39,\"C\"),基本情報!$R$4:$S$10,2)))","v":""}]
[null,null,null,null,10117,null,null,17,{"$f":"IF(VLOOKUP($E40,学年名簿と評価・評定!$E$24:$K$573,5)=\"\",\"\",VLOOKUP($E40,学年名簿と評価・評定!$E$24:$K$573,5))","v":""},{"$f":"IF(VLOOKUP($E40,学年名簿と評価・評定!$E$24:$K$573,6)=\"\",\"\",VLOOKUP($E40,学年名簿と評価・評定!$E$24:$K$573,7))","v":"男"},null,"",null,null,null,{"$f":"IF(OR($I40=\"\",COUNTA($M40:$O40)=0),\"\",IF(AND(M40=\"-\",N40=\"-\",O40=\"-\"),\"-\",VLOOKUP(COUNTIF($M40:$O40,\"A\")-COUNTIF($M40:$O40,\"C\"),基本情報!$R$4:$S$10,2)))","v":""},null,null,null,null,null,"",null,null,null,{"$f":"IF(OR($I40=\"\",COUNTA($W40:$Y40)=0),\"\",IF(AND(W40=\"-\",X40=\"-\",Y40=\"-\"),\"-\",VLOOKUP(COUNTIF($W40:$Y40,\"A\")-COUNTIF($W40:$Y40,\"C\"),基本情報!$R$4:$S$10,2)))","v":""},null,null,null,null,null,"",null,null,null,{"$f":"IF(OR($I40=\"\",COUNTA($AG40:$AI40)=0),\"\",IF(AND(AG40=\"-\",AH40=\"-\",AI40=\"-\"),\"-\",VLOOKUP(COUNTIF($AG40:$AI40,\"A\")-COUNTIF($AG40:$AI40,\"C\"),基本情報!$R$4:$S$10,2)))","v":""}]
[null,null,null,null,10118,null,null,18,{"$f":"IF(VLOOKUP($E41,学年名簿と評価・評定!$E$24:$K$573,5)=\"\",\"\",VLOOKUP($E41,学年名簿と評価・評定!$E$24:$K$573,5))","v":""},{"$f":"IF(VLOOKUP($E41,学年名簿と評価・評定!$E$24:$K$573,6)=\"\",\"\",VLOOKUP($E41,学年名簿と評価・評定!$E$24:$K$573,7))","v":"男"},null,"",null,null,null,{"$f":"IF(OR($I41=\"\",COUNTA($M41:$O41)=0),\"\",IF(AND(M41=\"-\",N41=\"-\",O41=\"-\"),\"-\",VLOOKUP(COUNTIF($M41:$O41,\"A\")-COUNTIF($M41:$O41,\"C\"),基本情報!$R$4:$S$10,2)))","v":""},null,null,null,null,null,"",null,null,null,{"$f":"IF(OR($I41=\"\",COUNTA($W41:$Y41)=0),\"\",IF(AND(W41=\"-\",X41=\"-\",Y41=\"-\"),\"-\",VLOOKUP(COUNTIF($W41:$Y41,\"A\")-COUNTIF($W41:$Y41,\"C\"),基本情報!$R$4:$S$10,2)))","v":""},null,null,null,null,null,"",null,null,null,{"$f":"IF(OR($I41=\"\",COUNTA($AG41:$AI41)=0),\"\",IF(AND(AG41=\"-\",AH41=\"-\",AI41=\"-\"),\"-\",VLOOKUP(COUNTIF($AG41:$AI41,\"A\")-COUNTIF($AG41:$AI41,\"C\"),基本情報!$R$4:$S$10,2)))","v":""}]
[null,null,null,null,10119,null,null,19,{"$f":"IF(VLOOKUP($E42,学年名簿と評価・評定!$E$24:$K$573,5)=\"\",\"\",VLOOKUP($E42,学年名簿と評価・評定!$E$24:$K$573,5))","v":""},{"$f":"IF(VLOOKUP($E42,学年名簿と評価・評定!$E$24:$K$573,6)=\"\",\"\",VLOOKUP($E42,学年名簿と評価・評定!$E$24:$K$573,7))","v":"女"},null,"",null,null,null,{"$f":"IF(OR($I42=\"\",COUNTA($M42:$O42)=0),\"\",IF(AND(M42=\"-\",N42=\"-\",O42=\"-\"),\"-\",VLOOKUP(COUNTIF($M42:$O42,\"A\")-COUNTIF($M42:$O42,\"C\"),基本情報!$R$4:$S$10,2)))","v":""},null,null,null,null,null,"",null,null,null,{"$f":"IF(OR($I42=\"\",COUNTA($W42:$Y42)=0),\"\",IF(AND(W42=\"-\",X42=\"-\",Y42=\"-\"),\"-\",VLOOKUP(COUNTIF($W42:$Y42,\"A\")-COUNTIF($W42:$Y42,\"C\"),基本情報!$R$4:$S$10,2)))","v":""},null,null,null,null,null,"",null,null,null,{"$f":"IF(OR($I42=\"\",COUNTA($AG42:$AI42)=0),\"\",IF(AND(AG42=\"-\",AH42=\"-\",AI42=\"-\"),\"-\",VLOOKUP(COUNTIF($AG42:$AI42,\"A\")-COUNTIF($AG42:$AI42,\"C\"),基本情報!$R$4:$S$10,2)))","v":""}]
[null,null,null,null,10120,null,null,20,{"$f":"IF(VLOOKUP($E43,学年名簿と評価・評定!$E$24:$K$573,5)=\"\",\"\",VLOOKUP($E43,学年名簿と評価・評定!$E$24:$K$573,5))","v":""},{"$f":"IF(VLOOKUP($E43,学年名簿と評価・評定!$E$24:$K$573,6)=\"\",\"\",VLOOKUP($E43,学年名簿と評価・評定!$E$24:$K$573,7))","v":"男"},null,"",null,null,null,{"$f":"IF(OR($I43=\"\",COUNTA($M43:$O43)=0),\"\",IF(AND(M43=\"-\",N43=\"-\",O43=\"-\"),\"-\",VLOOKUP(COUNTIF($M43:$O43,\"A\")-COUNTIF($M43:$O43,\"C\"),基本情報!$R$4:$S$10,2)))","v":""},null,null,null,null,null,"",null,null,null,{"$f":"IF(OR($I43=\"\",COUNTA($W43:$Y43)=0),\"\",IF(AND(W43=\"-\",X43=\"-\",Y43=\"-\"),\"-\",VLOOKUP(COUNTIF($W43:$Y43,\"A\")-COUNTIF($W43:$Y43,\"C\"),基本情報!$R$4:$S$10,2)))","v":""},null,null,null,null,null,"",null,null,null,{"$f":"IF(OR($I43=\"\",COUNTA($AG43:$AI43)=0),\"\",IF(AND(AG43=\"-\",AH43=\"-\",AI43=\"-\"),\"-\",VLOOKUP(COUNTIF($AG43:$AI43,\"A\")-COUNTIF($AG43:$AI43,\"C\"),基本情報!$R$4:$S$10,2)))","v":""}]
[null,null,null,null,10121,null,null,21,{"$f":"IF(VLOOKUP($E44,学年名簿と評価・評定!$E$24:$K$573,5)=\"\",\"\",VLOOKUP($E44,学年名簿と評価・評定!$E$24:$K$573,5))","v":""},{"$f":"IF(VLOOKUP($E44,学年名簿と評価・評定!$E$24:$K$573,6)=\"\",\"\",VLOOKUP($E44,学年名簿と評価・評定!$E$24:$K$573,7))","v":"女"},null,"",null,null,null,{"$f":"IF(OR($I44=\"\",COUNTA($M44:$O44)=0),\"\",IF(AND(M44=\"-\",N44=\"-\",O44=\"-\"),\"-\",VLOOKUP(COUNTIF($M44:$O44,\"A\")-COUNTIF($M44:$O44,\"C\"),基本情報!$R$4:$S$10,2)))","v":""},null,null,null,null,null,"",null,null,null,{"$f":"IF(OR($I44=\"\",COUNTA($W44:$Y44)=0),\"\",IF(AND(W44=\"-\",X44=\"-\",Y44=\"-\"),\"-\",VLOOKUP(COUNTIF($W44:$Y44,\"A\")-COUNTIF($W44:$Y44,\"C\"),基本情報!$R$4:$S$10,2)))","v":""},null,null,null,null,null,"",null,null,null,{"$f":"IF(OR($I44=\"\",COUNTA($AG44:$AI44)=0),\"\",IF(AND(AG44=\"-\",AH44=\"-\",AI44=\"-\"),\"-\",VLOOKUP(COUNTIF($AG44:$AI44,\"A\")-COUNTIF($AG44:$AI44,\"C\"),基本情報!$R$4:$S$10,2)))","v":""}]
[null,null,null,null,10122,null,null,22,{"$f":"IF(VLOOKUP($E45,学年名簿と評価・評定!$E$24:$K$573,5)=\"\",\"\",VLOOKUP($E45,学年名簿と評価・評定!$E$24:$K$573,5))","v":""},{"$f":"IF(VLOOKUP($E45,学年名簿と評価・評定!$E$24:$K$573,6)=\"\",\"\",VLOOKUP($E45,学年名簿と評価・評定!$E$24:$K$573,7))","v":"男"},null,"",null,null,null,{"$f":"IF(OR($I45=\"\",COUNTA($M45:$O45)=0),\"\",IF(AND(M45=\"-\",N45=\"-\",O45=\"-\"),\"-\",VLOOKUP(COUNTIF($M45:$O45,\"A\")-COUNTIF($M45:$O45,\"C\"),基本情報!$R$4:$S$10,2)))","v":""},null,null,null,null,null,"",null,null,null,{"$f":"IF(OR($I45=\"\",COUNTA($W45:$Y45)=0),\"\",IF(AND(W45=\"-\",X45=\"-\",Y45=\"-\"),\"-\",VLOOKUP(COUNTIF($W45:$Y45,\"A\")-COUNTIF($W45:$Y45,\"C\"),基本情報!$R$4:$S$10,2)))","v":""},null,null,null,null,null,"",null,null,null,{"$f":"IF(OR($I45=\"\",COUNTA($AG45:$AI45)=0),\"\",IF(AND(AG45=\"-\",AH45=\"-\",AI45=\"-\"),\"-\",VLOOKUP(COUNTIF($AG45:$AI45,\"A\")-COUNTIF($AG45:$AI45,\"C\"),基本情報!$R$4:$S$10,2)))","v":""}]
[null,null,null,null,10123,null,null,23,{"$f":"IF(VLOOKUP($E46,学年名簿と評価・評定!$E$24:$K$573,5)=\"\",\"\",VLOOKUP($E46,学年名簿と評価・評定!$E$24:$K$573,5))","v":""},{"$f":"IF(VLOOKUP($E46,学年名簿と評価・評定!$E$24:$K$573,6)=\"\",\"\",VLOOKUP($E46,学年名簿と評価・評定!$E$24:$K$573,7))","v":"女"},null,"",null,null,null,{"$f":"IF(OR($I46=\"\",COUNTA($M46:$O46)=0),\"\",IF(AND(M46=\"-\",N46=\"-\",O46=\"-\"),\"-\",VLOOKUP(COUNTIF($M46:$O46,\"A\")-COUNTIF($M46:$O46,\"C\"),基本情報!$R$4:$S$10,2)))","v":""},null,null,null,null,null,"",null,null,null,{"$f":"IF(OR($I46=\"\",COUNTA($W46:$Y46)=0),\"\",IF(AND(W46=\"-\",X46=\"-\",Y46=\"-\"),\"-\",VLOOKUP(COUNTIF($W46:$Y46,\"A\")-COUNTIF($W46:$Y46,\"C\"),基本情報!$R$4:$S$10,2)))","v":""},null,null,null,null,null,"",null,null,null,{"$f":"IF(OR($I46=\"\",COUNTA($AG46:$AI46)=0),\"\",IF(AND(AG46=\"-\",AH46=\"-\",AI46=\"-\"),\"-\",VLOOKUP(COUNTIF($AG46:$AI46,\"A\")-COUNTIF($AG46:$AI46,\"C\"),基本情報!$R$4:$S$10,2)))","v":""}]
[null,null,null,null,10124,null,null,24,{"$f":"IF(VLOOKUP($E47,学年名簿と評価・評定!$E$24:$K$573,5)=\"\",\"\",VLOOKUP($E47,学年名簿と評価・評定!$E$24:$K$573,5))","v":""},{"$f":"IF(VLOOKUP($E47,学年名簿と評価・評定!$E$24:$K$573,6)=\"\",\"\",VLOOKUP($E47,学年名簿と評価・評定!$E$24:$K$573,7))","v":""},null,"",null,null,null,{"$f":"IF(OR($I47=\"\",COUNTA($M47:$O47)=0),\"\",IF(AND(M47=\"-\",N47=\"-\",O47=\"-\"),\"-\",VLOOKUP(COUNTIF($M47:$O47,\"A\")-COUNTIF($M47:$O47,\"C\"),基本情報!$R$4:$S$10,2)))","v":""},null,null,null,null,null,"",null,null,null,{"$f":"IF(OR($I47=\"\",COUNTA($W47:$Y47)=0),\"\",IF(AND(W47=\"-\",X47=\"-\",Y47=\"-\"),\"-\",VLOOKUP(COUNTIF($W47:$Y47,\"A\")-COUNTIF($W47:$Y47,\"C\"),基本情報!$R$4:$S$10,2)))","v":""},null,null,null,null,null,"",null,null,null,{"$f":"IF(OR($I47=\"\",COUNTA($AG47:$AI47)=0),\"\",IF(AND(AG47=\"-\",AH47=\"-\",AI47=\"-\"),\"-\",VLOOKUP(COUNTIF($AG47:$AI47,\"A\")-COUNTIF($AG47:$AI47,\"C\"),基本情報!$R$4:$S$10,2)))","v":""}]
[null,null,null,null,10125,null,null,25,{"$f":"IF(VLOOKUP($E48,学年名簿と評価・評定!$E$24:$K$573,5)=\"\",\"\",VLOOKUP($E48,学年名簿と評価・評定!$E$24:$K$573,5))","v":""},{"$f":"IF(VLOOKUP($E48,学年名簿と評価・評定!$E$24:$K$573,6)=\"\",\"\",VLOOKUP($E48,学年名簿と評価・評定!$E$24:$K$573,7))","v":""},null,"",null,null,null,{"$f":"IF(OR($I48=\"\",COUNTA($M48:$O48)=0),\"\",IF(AND(M48=\"-\",N48=\"-\",O48=\"-\"),\"-\",VLOOKUP(COUNTIF($M48:$O48,\"A\")-COUNTIF($M48:$O48,\"C\"),基本情報!$R$4:$S$10,2)))","v":""},null,null,null,null,null,"",null,null,null,{"$f":"IF(OR($I48=\"\",COUNTA($W48:$Y48)=0),\"\",IF(AND(W48=\"-\",X48=\"-\",Y48=\"-\"),\"-\",VLOOKUP(COUNTIF($W48:$Y48,\"A\")-COUNTIF($W48:$Y48,\"C\"),基本情報!$R$4:$S$10,2)))","v":""},null,null,null,null,null,"",null,null,null,{"$f":"IF(OR($I48=\"\",COUNTA($AG48:$AI48)=0),\"\",IF(AND(AG48=\"-\",AH48=\"-\",AI48=\"-\"),\"-\",VLOOKUP(COUNTIF($AG48:$AI48,\"A\")-COUNTIF($AG48:$AI48,\"C\"),基本情報!$R$4:$S$10,2)))","v":""}]
[null,null,null,null,10126,null,null,26,{"$f":"IF(VLOOKUP($E49,学年名簿と評価・評定!$E$24:$K$573,5)=\"\",\"\",VLOOKUP($E49,学年名簿と評価・評定!$E$24:$K$573,5))","v":""},{"$f":"IF(VLOOKUP($E49,学年名簿と評価・評定!$E$24:$K$573,6)=\"\",\"\",VLOOKUP($E49,学年名簿と評価・評定!$E$24:$K$573,7))","v":""},null,"",null,null,null,{"$f":"IF(OR($I49=\"\",COUNTA($M49:$O49)=0),\"\",IF(AND(M49=\"-\",N49=\"-\",O49=\"-\"),\"-\",VLOOKUP(COUNTIF($M49:$O49,\"A\")-COUNTIF($M49:$O49,\"C\"),基本情報!$R$4:$S$10,2)))","v":""},null,null,null,null,null,"",null,null,null,{"$f":"IF(OR($I49=\"\",COUNTA($W49:$Y49)=0),\"\",IF(AND(W49=\"-\",X49=\"-\",Y49=\"-\"),\"-\",VLOOKUP(COUNTIF($W49:$Y49,\"A\")-COUNTIF($W49:$Y49,\"C\"),基本情報!$R$4:$S$10,2)))","v":""},null,null,null,null,null,"",null,null,null,{"$f":"IF(OR($I49=\"\",COUNTA($AG49:$AI49)=0),\"\",IF(AND(AG49=\"-\",AH49=\"-\",AI49=\"-\"),\"-\",VLOOKUP(COUNTIF($AG49:$AI49,\"A\")-COUNTIF($AG49:$AI49,\"C\"),基本情報!$R$4:$S$10,2)))","v":""}]
[null,null,null,null,10127,null,null,27,{"$f":"IF(VLOOKUP($E50,学年名簿と評価・評定!$E$24:$K$573,5)=\"\",\"\",VLOOKUP($E50,学年名簿と評価・評定!$E$24:$K$573,5))","v":""},{"$f":"IF(VLOOKUP($E50,学年名簿と評価・評定!$E$24:$K$573,6)=\"\",\"\",VLOOKUP($E50,学年名簿と評価・評定!$E$24:$K$573,7))","v":""},null,"",null,null,null,{"$f":"IF(OR($I50=\"\",COUNTA($M50:$O50)=0),\"\",IF(AND(M50=\"-\",N50=\"-\",O50=\"-\"),\"-\",VLOOKUP(COUNTIF($M50:$O50,\"A\")-COUNTIF($M50:$O50,\"C\"),基本情報!$R$4:$S$10,2)))","v":""},null,null,null,null,null,"",null,null,null,{"$f":"IF(OR($I50=\"\",COUNTA($W50:$Y50)=0),\"\",IF(AND(W50=\"-\",X50=\"-\",Y50=\"-\"),\"-\",VLOOKUP(COUNTIF($W50:$Y50,\"A\")-COUNTIF($W50:$Y50,\"C\"),基本情報!$R$4:$S$10,2)))","v":""},null,null,null,null,null,"",null,null,null,{"$f":"IF(OR($I50=\"\",COUNTA($AG50:$AI50)=0),\"\",IF(AND(AG50=\"-\",AH50=\"-\",AI50=\"-\"),\"-\",VLOOKUP(COUNTIF($AG50:$AI50,\"A\")-COUNTIF($AG50:$AI50,\"C\"),基本情報!$R$4:$S$10,2)))","v":""}]
[null,null,null,null,10128,null,null,28,{"$f":"IF(VLOOKUP($E51,学年名簿と評価・評定!$E$24:$K$573,5)=\"\",\"\",VLOOKUP($E51,学年名簿と評価・評定!$E$24:$K$573,5))","v":""},{"$f":"IF(VLOOKUP($E51,学年名簿と評価・評定!$E$24:$K$573,6)=\"\",\"\",VLOOKUP($E51,学年名簿と評価・評定!$E$24:$K$573,7))","v":""},null,"",null,null,null,{"$f":"IF(OR($I51=\"\",COUNTA($M51:$O51)=0),\"\",IF(AND(M51=\"-\",N51=\"-\",O51=\"-\"),\"-\",VLOOKUP(COUNTIF($M51:$O51,\"A\")-COUNTIF($M51:$O51,\"C\"),基本情報!$R$4:$S$10,2)))","v":""},null,null,null,null,null,"",null,null,null,{"$f":"IF(OR($I51=\"\",COUNTA($W51:$Y51)=0),\"\",IF(AND(W51=\"-\",X51=\"-\",Y51=\"-\"),\"-\",VLOOKUP(COUNTIF($W51:$Y51,\"A\")-COUNTIF($W51:$Y51,\"C\"),基本情報!$R$4:$S$10,2)))","v":""},null,null,null,null,null,"",null,null,null,{"$f":"IF(OR($I51=\"\",COUNTA($AG51:$AI51)=0),\"\",IF(AND(AG51=\"-\",AH51=\"-\",AI51=\"-\"),\"-\",VLOOKUP(COUNTIF($AG51:$AI51,\"A\")-COUNTIF($AG51:$AI51,\"C\"),基本情報!$R$4:$S$10,2)))","v":""}]
[null,null,null,null,10129,null,null,29,{"$f":"IF(VLOOKUP($E52,学年名簿と評価・評定!$E$24:$K$573,5)=\"\",\"\",VLOOKUP($E52,学年名簿と評価・評定!$E$24:$K$573,5))","v":""},{"$f":"IF(VLOOKUP($E52,学年名簿と評価・評定!$E$24:$K$573,6)=\"\",\"\",VLOOKUP($E52,学年名簿と評価・評定!$E$24:$K$573,7))","v":""},null,"",null,null,null,{"$f":"IF(OR($I52=\"\",COUNTA($M52:$O52)=0),\"\",IF(AND(M52=\"-\",N52=\"-\",O52=\"-\"),\"-\",VLOOKUP(COUNTIF($M52:$O52,\"A\")-COUNTIF($M52:$O52,\"C\"),基本情報!$R$4:$S$10,2)))","v":""},null,null,null,null,null,"",null,null,null,{"$f":"IF(OR($I52=\"\",COUNTA($W52:$Y52)=0),\"\",IF(AND(W52=\"-\",X52=\"-\",Y52=\"-\"),\"-\",VLOOKUP(COUNTIF($W52:$Y52,\"A\")-COUNTIF($W52:$Y52,\"C\"),基本情報!$R$4:$S$10,2)))","v":""},null,null,null,null,null,"",null,null,null,{"$f":"IF(OR($I52=\"\",COUNTA($AG52:$AI52)=0),\"\",IF(AND(AG52=\"-\",AH52=\"-\",AI52=\"-\"),\"-\",VLOOKUP(COUNTIF($AG52:$AI52,\"A\")-COUNTIF($AG52:$AI52,\"C\"),基本情報!$R$4:$S$10,2)))","v":""}]
[null,null,null,null,10130,null,null,30,{"$f":"IF(VLOOKUP($E53,学年名簿と評価・評定!$E$24:$K$573,5)=\"\",\"\",VLOOKUP($E53,学年名簿と評価・評定!$E$24:$K$573,5))","v":""},{"$f":"IF(VLOOKUP($E53,学年名簿と評価・評定!$E$24:$K$573,6)=\"\",\"\",VLOOKUP($E53,学年名簿と評価・評定!$E$24:$K$573,7))","v":""},null,"",null,null,null,{"$f":"IF(OR($I53=\"\",COUNTA($M53:$O53)=0),\"\",IF(AND(M53=\"-\",N53=\"-\",O53=\"-\"),\"-\",VLOOKUP(COUNTIF($M53:$O53,\"A\")-COUNTIF($M53:$O53,\"C\"),基本情報!$R$4:$S$10,2)))","v":""},null,null,null,null,null,"",null,null,null,{"$f":"IF(OR($I53=\"\",COUNTA($W53:$Y53)=0),\"\",IF(AND(W53=\"-\",X53=\"-\",Y53=\"-\"),\"-\",VLOOKUP(COUNTIF($W53:$Y53,\"A\")-COUNTIF($W53:$Y53,\"C\"),基本情報!$R$4:$S$10,2)))","v":""},null,null,null,null,null,"",null,null,null,{"$f":"IF(OR($I53=\"\",COUNTA($AG53:$AI53)=0),\"\",IF(AND(AG53=\"-\",AH53=\"-\",AI53=\"-\"),\"-\",VLOOKUP(COUNTIF($AG53:$AI53,\"A\")-COUNTIF($AG53:$AI53,\"C\"),基本情報!$R$4:$S$10,2)))","v":""}]
[null,null,null,null,10131,null,null,31,{"$f":"IF(VLOOKUP($E54,学年名簿と評価・評定!$E$24:$K$573,5)=\"\",\"\",VLOOKUP($E54,学年名簿と評価・評定!$E$24:$K$573,5))","v":""},{"$f":"IF(VLOOKUP($E54,学年名簿と評価・評定!$E$24:$K$573,6)=\"\",\"\",VLOOKUP($E54,学年名簿と評価・評定!$E$24:$K$573,7))","v":""},null,"",null,null,null,{"$f":"IF(OR($I54=\"\",COUNTA($M54:$O54)=0),\"\",IF(AND(M54=\"-\",N54=\"-\",O54=\"-\"),\"-\",VLOOKUP(COUNTIF($M54:$O54,\"A\")-COUNTIF($M54:$O54,\"C\"),基本情報!$R$4:$S$10,2)))","v":""},null,null,null,null,null,"",null,null,null,{"$f":"IF(OR($I54=\"\",COUNTA($W54:$Y54)=0),\"\",IF(AND(W54=\"-\",X54=\"-\",Y54=\"-\"),\"-\",VLOOKUP(COUNTIF($W54:$Y54,\"A\")-COUNTIF($W54:$Y54,\"C\"),基本情報!$R$4:$S$10,2)))","v":""},null,null,null,null,null,"",null,null,null,{"$f":"IF(OR($I54=\"\",COUNTA($AG54:$AI54)=0),\"\",IF(AND(AG54=\"-\",AH54=\"-\",AI54=\"-\"),\"-\",VLOOKUP(COUNTIF($AG54:$AI54,\"A\")-COUNTIF($AG54:$AI54,\"C\"),基本情報!$R$4:$S$10,2)))","v":""}]
[null,null,null,null,10132,null,null,32,{"$f":"IF(VLOOKUP($E55,学年名簿と評価・評定!$E$24:$K$573,5)=\"\",\"\",VLOOKUP($E55,学年名簿と評価・評定!$E$24:$K$573,5))","v":""},{"$f":"IF(VLOOKUP($E55,学年名簿と評価・評定!$E$24:$K$573,6)=\"\",\"\",VLOOKUP($E55,学年名簿と評価・評定!$E$24:$K$573,7))","v":""},null,"",null,null,null,{"$f":"IF(OR($I55=\"\",COUNTA($M55:$O55)=0),\"\",IF(AND(M55=\"-\",N55=\"-\",O55=\"-\"),\"-\",VLOOKUP(COUNTIF($M55:$O55,\"A\")-COUNTIF($M55:$O55,\"C\"),基本情報!$R$4:$S$10,2)))","v":""},null,null,null,null,null,"",null,null,null,{"$f":"IF(OR($I55=\"\",COUNTA($W55:$Y55)=0),\"\",IF(AND(W55=\"-\",X55=\"-\",Y55=\"-\"),\"-\",VLOOKUP(COUNTIF($W55:$Y55,\"A\")-COUNTIF($W55:$Y55,\"C\"),基本情報!$R$4:$S$10,2)))","v":""},null,null,null,null,null,"",null,null,null,{"$f":"IF(OR($I55=\"\",COUNTA($AG55:$AI55)=0),\"\",IF(AND(AG55=\"-\",AH55=\"-\",AI55=\"-\"),\"-\",VLOOKUP(COUNTIF($AG55:$AI55,\"A\")-COUNTIF($AG55:$AI55,\"C\"),基本情報!$R$4:$S$10,2)))","v":""}]
[null,null,null,null,{"$f":"$I$8*10000+$I$9*100+$H56","v":10133},null,null,33,{"$f":"IF(VLOOKUP($E56,学年名簿と評価・評定!$E$24:$K$573,5)=\"\",\"\",VLOOKUP($E56,学年名簿と評価・評定!$E$24:$K$573,5))","v":""},{"$f":"IF(VLOOKUP($E56,学年名簿と評価・評定!$E$24:$K$573,6)=\"\",\"\",VLOOKUP($E56,学年名簿と評価・評定!$E$24:$K$573,7))","v":""},null,"",null,null,null,{"$f":"IF(OR($I56=\"\",COUNTA($M56:$O56)=0),\"\",IF(AND(M56=\"-\",N56=\"-\",O56=\"-\"),\"-\",VLOOKUP(COUNTIF($M56:$O56,\"A\")-COUNTIF($M56:$O56,\"C\"),基本情報!$R$4:$S$10,2)))","v":""},null,null,null,null,null,"",null,null,null,{"$f":"IF(OR($I56=\"\",COUNTA($W56:$Y56)=0),\"\",IF(AND(W56=\"-\",X56=\"-\",Y56=\"-\"),\"-\",VLOOKUP(COUNTIF($W56:$Y56,\"A\")-COUNTIF($W56:$Y56,\"C\"),基本情報!$R$4:$S$10,2)))","v":""},null,null,null,null,null,"",null,null,null,{"$f":"IF(OR($I56=\"\",COUNTA($AG56:$AI56)=0),\"\",IF(AND(AG56=\"-\",AH56=\"-\",AI56=\"-\"),\"-\",VLOOKUP(COUNTIF($AG56:$AI56,\"A\")-COUNTIF($AG56:$AI56,\"C\"),基本情報!$R$4:$S$10,2)))","v":""}]
[null,null,null,null,10134,null,null,34,{"$f":"IF(VLOOKUP($E57,学年名簿と評価・評定!$E$24:$K$573,5)=\"\",\"\",VLOOKUP($E57,学年名簿と評価・評定!$E$24:$K$573,5))","v":""},{"$f":"IF(VLOOKUP($E57,学年名簿と評価・評定!$E$24:$K$573,6)=\"\",\"\",VLOOKUP($E57,学年名簿と評価・評定!$E$24:$K$573,7))","v":""},null,"",null,null,null,{"$f":"IF(OR($I57=\"\",COUNTA($M57:$O57)=0),\"\",IF(AND(M57=\"-\",N57=\"-\",O57=\"-\"),\"-\",VLOOKUP(COUNTIF($M57:$O57,\"A\")-COUNTIF($M57:$O57,\"C\"),基本情報!$R$4:$S$10,2)))","v":""},null,null,null,null,null,"",null,null,null,{"$f":"IF(OR($I57=\"\",COUNTA($W57:$Y57)=0),\"\",IF(AND(W57=\"-\",X57=\"-\",Y57=\"-\"),\"-\",VLOOKUP(COUNTIF($W57:$Y57,\"A\")-COUNTIF($W57:$Y57,\"C\"),基本情報!$R$4:$S$10,2)))","v":""},null,null,null,null,null,"",null,null,null,{"$f":"IF(OR($I57=\"\",COUNTA($AG57:$AI57)=0),\"\",IF(AND(AG57=\"-\",AH57=\"-\",AI57=\"-\"),\"-\",VLOOKUP(COUNTIF($AG57:$AI57,\"A\")-COUNTIF($AG57:$AI57,\"C\"),基本情報!$R$4:$S$10,2)))","v":""}]
[null,null,null,null,10135,null,null,35,{"$f":"IF(VLOOKUP($E58,学年名簿と評価・評定!$E$24:$K$573,5)=\"\",\"\",VLOOKUP($E58,学年名簿と評価・評定!$E$24:$K$573,5))","v":""},{"$f":"IF(VLOOKUP($E58,学年名簿と評価・評定!$E$24:$K$573,6)=\"\",\"\",VLOOKUP($E58,学年名簿と評価・評定!$E$24:$K$573,7))","v":""},null,"",null,null,null,{"$f":"IF(OR($I58=\"\",COUNTA($M58:$O58)=0),\"\",IF(AND(M58=\"-\",N58=\"-\",O58=\"-\"),\"-\",VLOOKUP(COUNTIF($M58:$O58,\"A\")-COUNTIF($M58:$O58,\"C\"),基本情報!$R$4:$S$10,2)))","v":""},null,null,null,null,null,"",null,null,null,{"$f":"IF(OR($I58=\"\",COUNTA($W58:$Y58)=0),\"\",IF(AND(W58=\"-\",X58=\"-\",Y58=\"-\"),\"-\",VLOOKUP(COUNTIF($W58:$Y58,\"A\")-COUNTIF($W58:$Y58,\"C\"),基本情報!$R$4:$S$10,2)))","v":""},null,null,null,null,null,"",null,null,null,{"$f":"IF(OR($I58=\"\",COUNTA($AG58:$AI58)=0),\"\",IF(AND(AG58=\"-\",AH58=\"-\",AI58=\"-\"),\"-\",VLOOKUP(COUNTIF($AG58:$AI58,\"A\")-COUNTIF($AG58:$AI58,\"C\"),基本情報!$R$4:$S$10,2)))","v":""}]
[null,null,null,null,10136,null,null,36,{"$f":"IF(VLOOKUP($E59,学年名簿と評価・評定!$E$24:$K$573,5)=\"\",\"\",VLOOKUP($E59,学年名簿と評価・評定!$E$24:$K$573,5))","v":""},{"$f":"IF(VLOOKUP($E59,学年名簿と評価・評定!$E$24:$K$573,6)=\"\",\"\",VLOOKUP($E59,学年名簿と評価・評定!$E$24:$K$573,7))","v":""},null,"",null,null,null,{"$f":"IF(OR($I59=\"\",COUNTA($M59:$O59)=0),\"\",IF(AND(M59=\"-\",N59=\"-\",O59=\"-\"),\"-\",VLOOKUP(COUNTIF($M59:$O59,\"A\")-COUNTIF($M59:$O59,\"C\"),基本情報!$R$4:$S$10,2)))","v":""},null,null,null,null,null,"",null,null,null,{"$f":"IF(OR($I59=\"\",COUNTA($W59:$Y59)=0),\"\",IF(AND(W59=\"-\",X59=\"-\",Y59=\"-\"),\"-\",VLOOKUP(COUNTIF($W59:$Y59,\"A\")-COUNTIF($W59:$Y59,\"C\"),基本情報!$R$4:$S$10,2)))","v":""},null,null,null,null,null,"",null,null,null,{"$f":"IF(OR($I59=\"\",COUNTA($AG59:$AI59)=0),\"\",IF(AND(AG59=\"-\",AH59=\"-\",AI59=\"-\"),\"-\",VLOOKUP(COUNTIF($AG59:$AI59,\"A\")-COUNTIF($AG59:$AI59,\"C\"),基本情報!$R$4:$S$10,2)))","v":""}]
[null,null,null,null,10137,null,null,37,{"$f":"IF(VLOOKUP($E60,学年名簿と評価・評定!$E$24:$K$573,5)=\"\",\"\",VLOOKUP($E60,学年名簿と評価・評定!$E$24:$K$573,5))","v":""},{"$f":"IF(VLOOKUP($E60,学年名簿と評価・評定!$E$24:$K$573,6)=\"\",\"\",VLOOKUP($E60,学年名簿と評価・評定!$E$24:$K$573,7))","v":""},null,"",null,null,null,{"$f":"IF(OR($I60=\"\",COUNTA($M60:$O60)=0),\"\",IF(AND(M60=\"-\",N60=\"-\",O60=\"-\"),\"-\",VLOOKUP(COUNTIF($M60:$O60,\"A\")-COUNTIF($M60:$O60,\"C\"),基本情報!$R$4:$S$10,2)))","v":""},null,null,null,null,null,"",null,null,null,{"$f":"IF(OR($I60=\"\",COUNTA($W60:$Y60)=0),\"\",IF(AND(W60=\"-\",X60=\"-\",Y60=\"-\"),\"-\",VLOOKUP(COUNTIF($W60:$Y60,\"A\")-COUNTIF($W60:$Y60,\"C\"),基本情報!$R$4:$S$10,2)))","v":""},null,null,null,null,null,"",null,null,null,{"$f":"IF(OR($I60=\"\",COUNTA($AG60:$AI60)=0),\"\",IF(AND(AG60=\"-\",AH60=\"-\",AI60=\"-\"),\"-\",VLOOKUP(COUNTIF($AG60:$AI60,\"A\")-COUNTIF($AG60:$AI60,\"C\"),基本情報!$R$4:$S$10,2)))","v":""}]
[null,null,null,null,10138,null,null,38,{"$f":"IF(VLOOKUP($E61,学年名簿と評価・評定!$E$24:$K$573,5)=\"\",\"\",VLOOKUP($E61,学年名簿と評価・評定!$E$24:$K$573,5))","v":""},{"$f":"IF(VLOOKUP($E61,学年名簿と評価・評定!$E$24:$K$573,6)=\"\",\"\",VLOOKUP($E61,学年名簿と評価・評定!$E$24:$K$573,7))","v":""},null,"",null,null,null,{"$f":"IF(OR($I61=\"\",COUNTA($M61:$O61)=0),\"\",IF(AND(M61=\"-\",N61=\"-\",O61=\"-\"),\"-\",VLOOKUP(COUNTIF($M61:$O61,\"A\")-COUNTIF($M61:$O61,\"C\"),基本情報!$R$4:$S$10,2)))","v":""},null,null,null,null,null,"",null,null,null,{"$f":"IF(OR($I61=\"\",COUNTA($W61:$Y61)=0),\"\",IF(AND(W61=\"-\",X61=\"-\",Y61=\"-\"),\"-\",VLOOKUP(COUNTIF($W61:$Y61,\"A\")-COUNTIF($W61:$Y61,\"C\"),基本情報!$R$4:$S$10,2)))","v":""},null,null,null,null,null,"",null,null,null,{"$f":"IF(OR($I61=\"\",COUNTA($AG61:$AI61)=0),\"\",IF(AND(AG61=\"-\",AH61=\"-\",AI61=\"-\"),\"-\",VLOOKUP(COUNTIF($AG61:$AI61,\"A\")-COUNTIF($AG61:$AI61,\"C\"),基本情報!$R$4:$S$10,2)))","v":""}]
[null,null,null,null,10139,null,null,39,{"$f":"IF(VLOOKUP($E62,学年名簿と評価・評定!$E$24:$K$573,5)=\"\",\"\",VLOOKUP($E62,学年名簿と評価・評定!$E$24:$K$573,5))","v":""},{"$f":"IF(VLOOKUP($E62,学年名簿と評価・評定!$E$24:$K$573,6)=\"\",\"\",VLOOKUP($E62,学年名簿と評価・評定!$E$24:$K$573,7))","v":""},null,"",null,null,null,{"$f":"IF(OR($I62=\"\",COUNTA($M62:$O62)=0),\"\",IF(AND(M62=\"-\",N62=\"-\",O62=\"-\"),\"-\",VLOOKUP(COUNTIF($M62:$O62,\"A\")-COUNTIF($M62:$O62,\"C\"),基本情報!$R$4:$S$10,2)))","v":""},null,null,null,null,null,"",null,null,null,{"$f":"IF(OR($I62=\"\",COUNTA($W62:$Y62)=0),\"\",IF(AND(W62=\"-\",X62=\"-\",Y62=\"-\"),\"-\",VLOOKUP(COUNTIF($W62:$Y62,\"A\")-COUNTIF($W62:$Y62,\"C\"),基本情報!$R$4:$S$10,2)))","v":""},null,null,null,null,null,"",null,null,null,{"$f":"IF(OR($I62=\"\",COUNTA($AG62:$AI62)=0),\"\",IF(AND(AG62=\"-\",AH62=\"-\",AI62=\"-\"),\"-\",VLOOKUP(COUNTIF($AG62:$AI62,\"A\")-COUNTIF($AG62:$AI62,\"C\"),基本情報!$R$4:$S$10,2)))","v":""}]
[null,null,null,null,10140,null,null,40,{"$f":"IF(VLOOKUP($E63,学年名簿と評価・評定!$E$24:$K$573,5)=\"\",\"\",VLOOKUP($E63,学年名簿と評価・評定!$E$24:$K$573,5))","v":""},{"$f":"IF(VLOOKUP($E63,学年名簿と評価・評定!$E$24:$K$573,6)=\"\",\"\",VLOOKUP($E63,学年名簿と評価・評定!$E$24:$K$573,7))","v":""},null,"",null,null,null,{"$f":"IF(OR($I63=\"\",COUNTA($M63:$O63)=0),\"\",IF(AND(M63=\"-\",N63=\"-\",O63=\"-\"),\"-\",VLOOKUP(COUNTIF($M63:$O63,\"A\")-COUNTIF($M63:$O63,\"C\"),基本情報!$R$4:$S$10,2)))","v":""},null,null,null,null,null,"",null,null,null,{"$f":"IF(OR($I63=\"\",COUNTA($W63:$Y63)=0),\"\",IF(AND(W63=\"-\",X63=\"-\",Y63=\"-\"),\"-\",VLOOKUP(COUNTIF($W63:$Y63,\"A\")-COUNTIF($W63:$Y63,\"C\"),基本情報!$R$4:$S$10,2)))","v":""},null,null,null,null,null,"",null,null,null,{"$f":"IF(OR($I63=\"\",COUNTA($AG63:$AI63)=0),\"\",IF(AND(AG63=\"-\",AH63=\"-\",AI63=\"-\"),\"-\",VLOOKUP(COUNTIF($AG63:$AI63,\"A\")-COUNTIF($AG63:$AI63,\"C\"),基本情報!$R$4:$S$10,2)))","v":""}]
[null,null,null,null,10141,null,null,41,{"$f":"IF(VLOOKUP($E64,学年名簿と評価・評定!$E$24:$K$573,5)=\"\",\"\",VLOOKUP($E64,学年名簿と評価・評定!$E$24:$K$573,5))","v":""},{"$f":"IF(VLOOKUP($E64,学年名簿と評価・評定!$E$24:$K$573,6)=\"\",\"\",VLOOKUP($E64,学年名簿と評価・評定!$E$24:$K$573,7))","v":""},null,"",null,null,null,{"$f":"IF(OR($I64=\"\",COUNTA($M64:$O64)=0),\"\",IF(AND(M64=\"-\",N64=\"-\",O64=\"-\"),\"-\",VLOOKUP(COUNTIF($M64:$O64,\"A\")-COUNTIF($M64:$O64,\"C\"),基本情報!$R$4:$S$10,2)))","v":""},null,null,null,null,null,"",null,null,null,{"$f":"IF(OR($I64=\"\",COUNTA($W64:$Y64)=0),\"\",IF(AND(W64=\"-\",X64=\"-\",Y64=\"-\"),\"-\",VLOOKUP(COUNTIF($W64:$Y64,\"A\")-COUNTIF($W64:$Y64,\"C\"),基本情報!$R$4:$S$10,2)))","v":""},null,null,null,null,null,"",null,null,null,{"$f":"IF(OR($I64=\"\",COUNTA($AG64:$AI64)=0),\"\",IF(AND(AG64=\"-\",AH64=\"-\",AI64=\"-\"),\"-\",VLOOKUP(COUNTIF($AG64:$AI64,\"A\")-COUNTIF($AG64:$AI64,\"C\"),基本情報!$R$4:$S$10,2)))","v":""}]
[null,null,null,null,10142,null,null,42,{"$f":"IF(VLOOKUP($E65,学年名簿と評価・評定!$E$24:$K$573,5)=\"\",\"\",VLOOKUP($E65,学年名簿と評価・評定!$E$24:$K$573,5))","v":""},{"$f":"IF(VLOOKUP($E65,学年名簿と評価・評定!$E$24:$K$573,6)=\"\",\"\",VLOOKUP($E65,学年名簿と評価・評定!$E$24:$K$573,7))","v":""},null,"",null,null,null,{"$f":"IF(OR($I65=\"\",COUNTA($M65:$O65)=0),\"\",IF(AND(M65=\"-\",N65=\"-\",O65=\"-\"),\"-\",VLOOKUP(COUNTIF($M65:$O65,\"A\")-COUNTIF($M65:$O65,\"C\"),基本情報!$R$4:$S$10,2)))","v":""},null,null,null,null,null,"",null,null,null,{"$f":"IF(OR($I65=\"\",COUNTA($W65:$Y65)=0),\"\",IF(AND(W65=\"-\",X65=\"-\",Y65=\"-\"),\"-\",VLOOKUP(COUNTIF($W65:$Y65,\"A\")-COUNTIF($W65:$Y65,\"C\"),基本情報!$R$4:$S$10,2)))","v":""},null,null,null,null,null,"",null,null,null,{"$f":"IF(OR($I65=\"\",COUNTA($AG65:$AI65)=0),\"\",IF(AND(AG65=\"-\",AH65=\"-\",AI65=\"-\"),\"-\",VLOOKUP(COUNTIF($AG65:$AI65,\"A\")-COUNTIF($AG65:$AI65,\"C\"),基本情報!$R$4:$S$10,2)))","v":""}]
[null,null,null,null,10143,null,null,43,{"$f":"IF(VLOOKUP($E66,学年名簿と評価・評定!$E$24:$K$573,5)=\"\",\"\",VLOOKUP($E66,学年名簿と評価・評定!$E$24:$K$573,5))","v":""},{"$f":"IF(VLOOKUP($E66,学年名簿と評価・評定!$E$24:$K$573,6)=\"\",\"\",VLOOKUP($E66,学年名簿と評価・評定!$E$24:$K$573,7))","v":""},null,"",null,null,null,{"$f":"IF(OR($I66=\"\",COUNTA($M66:$O66)=0),\"\",IF(AND(M66=\"-\",N66=\"-\",O66=\"-\"),\"-\",VLOOKUP(COUNTIF($M66:$O66,\"A\")-COUNTIF($M66:$O66,\"C\"),基本情報!$R$4:$S$10,2)))","v":""},null,null,null,null,null,"",null,null,null,{"$f":"IF(OR($I66=\"\",COUNTA($W66:$Y66)=0),\"\",IF(AND(W66=\"-\",X66=\"-\",Y66=\"-\"),\"-\",VLOOKUP(COUNTIF($W66:$Y66,\"A\")-COUNTIF($W66:$Y66,\"C\"),基本情報!$R$4:$S$10,2)))","v":""},null,null,null,null,null,"",null,null,null,{"$f":"IF(OR($I66=\"\",COUNTA($AG66:$AI66)=0),\"\",IF(AND(AG66=\"-\",AH66=\"-\",AI66=\"-\"),\"-\",VLOOKUP(COUNTIF($AG66:$AI66,\"A\")-COUNTIF($AG66:$AI66,\"C\"),基本情報!$R$4:$S$10,2)))","v":""}]
[null,null,null,null,10144,null,null,44,{"$f":"IF(VLOOKUP($E67,学年名簿と評価・評定!$E$24:$K$573,5)=\"\",\"\",VLOOKUP($E67,学年名簿と評価・評定!$E$24:$K$573,5))","v":""},{"$f":"IF(VLOOKUP($E67,学年名簿と評価・評定!$E$24:$K$573,6)=\"\",\"\",VLOOKUP($E67,学年名簿と評価・評定!$E$24:$K$573,7))","v":""},null,"",null,null,null,{"$f":"IF(OR($I67=\"\",COUNTA($M67:$O67)=0),\"\",IF(AND(M67=\"-\",N67=\"-\",O67=\"-\"),\"-\",VLOOKUP(COUNTIF($M67:$O67,\"A\")-COUNTIF($M67:$O67,\"C\"),基本情報!$R$4:$S$10,2)))","v":""},null,null,null,null,null,"",null,null,null,{"$f":"IF(OR($I67=\"\",COUNTA($W67:$Y67)=0),\"\",IF(AND(W67=\"-\",X67=\"-\",Y67=\"-\"),\"-\",VLOOKUP(COUNTIF($W67:$Y67,\"A\")-COUNTIF($W67:$Y67,\"C\"),基本情報!$R$4:$S$10,2)))","v":""},null,null,null,null,null,"",null,null,null,{"$f":"IF(OR($I67=\"\",COUNTA($AG67:$AI67)=0),\"\",IF(AND(AG67=\"-\",AH67=\"-\",AI67=\"-\"),\"-\",VLOOKUP(COUNTIF($AG67:$AI67,\"A\")-COUNTIF($AG67:$AI67,\"C\"),基本情報!$R$4:$S$10,2)))","v":""}]
[null,null,null,null,10145,null,null,45,{"$f":"IF(VLOOKUP($E68,学年名簿と評価・評定!$E$24:$K$573,5)=\"\",\"\",VLOOKUP($E68,学年名簿と評価・評定!$E$24:$K$573,5))","v":""},{"$f":"IF(VLOOKUP($E68,学年名簿と評価・評定!$E$24:$K$573,6)=\"\",\"\",VLOOKUP($E68,学年名簿と評価・評定!$E$24:$K$573,7))","v":""},null,"",null,null,null,{"$f":"IF(OR($I68=\"\",COUNTA($M68:$O68)=0),\"\",IF(AND(M68=\"-\",N68=\"-\",O68=\"-\"),\"-\",VLOOKUP(COUNTIF($M68:$O68,\"A\")-COUNTIF($M68:$O68,\"C\"),基本情報!$R$4:$S$10,2)))","v":""},null,null,null,null,null,"",null,null,null,{"$f":"IF(OR($I68=\"\",COUNTA($W68:$Y68)=0),\"\",IF(AND(W68=\"-\",X68=\"-\",Y68=\"-\"),\"-\",VLOOKUP(COUNTIF($W68:$Y68,\"A\")-COUNTIF($W68:$Y68,\"C\"),基本情報!$R$4:$S$10,2)))","v":""},null,null,null,null,null,"",null,null,null,{"$f":"IF(OR($I68=\"\",COUNTA($AG68:$AI68)=0),\"\",IF(AND(AG68=\"-\",AH68=\"-\",AI68=\"-\"),\"-\",VLOOKUP(COUNTIF($AG68:$AI68,\"A\")-COUNTIF($AG68:$AI68,\"C\"),基本情報!$R$4:$S$10,2)))","v":""}]
[null,null,null,null,10146,null,null,46,{"$f":"IF(VLOOKUP($E69,学年名簿と評価・評定!$E$24:$K$573,5)=\"\",\"\",VLOOKUP($E69,学年名簿と評価・評定!$E$24:$K$573,5))","v":""},{"$f":"IF(VLOOKUP($E69,学年名簿と評価・評定!$E$24:$K$573,6)=\"\",\"\",VLOOKUP($E69,学年名簿と評価・評定!$E$24:$K$573,7))","v":""},null,"",null,null,null,{"$f":"IF(OR($I69=\"\",COUNTA($M69:$O69)=0),\"\",IF(AND(M69=\"-\",N69=\"-\",O69=\"-\"),\"-\",VLOOKUP(COUNTIF($M69:$O69,\"A\")-COUNTIF($M69:$O69,\"C\"),基本情報!$R$4:$S$10,2)))","v":""},null,null,null,null,null,"",null,null,null,{"$f":"IF(OR($I69=\"\",COUNTA($W69:$Y69)=0),\"\",IF(AND(W69=\"-\",X69=\"-\",Y69=\"-\"),\"-\",VLOOKUP(COUNTIF($W69:$Y69,\"A\")-COUNTIF($W69:$Y69,\"C\"),基本情報!$R$4:$S$10,2)))","v":""},null,null,null,null,null,"",null,null,null,{"$f":"IF(OR($I69=\"\",COUNTA($AG69:$AI69)=0),\"\",IF(AND(AG69=\"-\",AH69=\"-\",AI69=\"-\"),\"-\",VLOOKUP(COUNTIF($AG69:$AI69,\"A\")-COUNTIF($AG69:$AI69,\"C\"),基本情報!$R$4:$S$10,2)))","v":""}]
[null,null,null,null,10147,null,null,47,{"$f":"IF(VLOOKUP($E70,学年名簿と評価・評定!$E$24:$K$573,5)=\"\",\"\",VLOOKUP($E70,学年名簿と評価・評定!$E$24:$K$573,5))","v":""},{"$f":"IF(VLOOKUP($E70,学年名簿と評価・評定!$E$24:$K$573,6)=\"\",\"\",VLOOKUP($E70,学年名簿と評価・評定!$E$24:$K$573,7))","v":""},null,"",null,null,null,{"$f":"IF(OR($I70=\"\",COUNTA($M70:$O70)=0),\"\",IF(AND(M70=\"-\",N70=\"-\",O70=\"-\"),\"-\",VLOOKUP(COUNTIF($M70:$O70,\"A\")-COUNTIF($M70:$O70,\"C\"),基本情報!$R$4:$S$10,2)))","v":""},null,null,null,null,null,"",null,null,null,{"$f":"IF(OR($I70=\"\",COUNTA($W70:$Y70)=0),\"\",IF(AND(W70=\"-\",X70=\"-\",Y70=\"-\"),\"-\",VLOOKUP(COUNTIF($W70:$Y70,\"A\")-COUNTIF($W70:$Y70,\"C\"),基本情報!$R$4:$S$10,2)))","v":""},null,null,null,null,null,"",null,null,null,{"$f":"IF(OR($I70=\"\",COUNTA($AG70:$AI70)=0),\"\",IF(AND(AG70=\"-\",AH70=\"-\",AI70=\"-\"),\"-\",VLOOKUP(COUNTIF($AG70:$AI70,\"A\")-COUNTIF($AG70:$AI70,\"C\"),基本情報!$R$4:$S$10,2)))","v":""}]
[null,null,null,null,10148,null,null,48,{"$f":"IF(VLOOKUP($E71,学年名簿と評価・評定!$E$24:$K$573,5)=\"\",\"\",VLOOKUP($E71,学年名簿と評価・評定!$E$24:$K$573,5))","v":""},{"$f":"IF(VLOOKUP($E71,学年名簿と評価・評定!$E$24:$K$573,6)=\"\",\"\",VLOOKUP($E71,学年名簿と評価・評定!$E$24:$K$573,7))","v":""},null,"",null,null,null,{"$f":"IF(OR($I71=\"\",COUNTA($M71:$O71)=0),\"\",IF(AND(M71=\"-\",N71=\"-\",O71=\"-\"),\"-\",VLOOKUP(COUNTIF($M71:$O71,\"A\")-COUNTIF($M71:$O71,\"C\"),基本情報!$R$4:$S$10,2)))","v":""},null,null,null,null,null,"",null,null,null,{"$f":"IF(OR($I71=\"\",COUNTA($W71:$Y71)=0),\"\",IF(AND(W71=\"-\",X71=\"-\",Y71=\"-\"),\"-\",VLOOKUP(COUNTIF($W71:$Y71,\"A\")-COUNTIF($W71:$Y71,\"C\"),基本情報!$R$4:$S$10,2)))","v":""},null,null,null,null,null,"",null,null,null,{"$f":"IF(OR($I71=\"\",COUNTA($AG71:$AI71)=0),\"\",IF(AND(AG71=\"-\",AH71=\"-\",AI71=\"-\"),\"-\",VLOOKUP(COUNTIF($AG71:$AI71,\"A\")-COUNTIF($AG71:$AI71,\"C\"),基本情報!$R$4:$S$10,2)))","v":""}]
[null,null,null,null,10149,null,null,49,{"$f":"IF(VLOOKUP($E72,学年名簿と評価・評定!$E$24:$K$573,5)=\"\",\"\",VLOOKUP($E72,学年名簿と評価・評定!$E$24:$K$573,5))","v":""},{"$f":"IF(VLOOKUP($E72,学年名簿と評価・評定!$E$24:$K$573,6)=\"\",\"\",VLOOKUP($E72,学年名簿と評価・評定!$E$24:$K$573,7))","v":""},null,"",null,null,null,{"$f":"IF(OR($I72=\"\",COUNTA($M72:$O72)=0),\"\",IF(AND(M72=\"-\",N72=\"-\",O72=\"-\"),\"-\",VLOOKUP(COUNTIF($M72:$O72,\"A\")-COUNTIF($M72:$O72,\"C\"),基本情報!$R$4:$S$10,2)))","v":""},null,null,null,null,null,"",null,null,null,{"$f":"IF(OR($I72=\"\",COUNTA($W72:$Y72)=0),\"\",IF(AND(W72=\"-\",X72=\"-\",Y72=\"-\"),\"-\",VLOOKUP(COUNTIF($W72:$Y72,\"A\")-COUNTIF($W72:$Y72,\"C\"),基本情報!$R$4:$S$10,2)))","v":""},null,null,null,null,null,"",null,null,null,{"$f":"IF(OR($I72=\"\",COUNTA($AG72:$AI72)=0),\"\",IF(AND(AG72=\"-\",AH72=\"-\",AI72=\"-\"),\"-\",VLOOKUP(COUNTIF($AG72:$AI72,\"A\")-COUNTIF($AG72:$AI72,\"C\"),基本情報!$R$4:$S$10,2)))","v":""}]
[null,null,null,null,10150,null,null,50,{"$f":"IF(VLOOKUP($E73,学年名簿と評価・評定!$E$24:$K$573,5)=\"\",\"\",VLOOKUP($E73,学年名簿と評価・評定!$E$24:$K$573,5))","v":""},{"$f":"IF(VLOOKUP($E73,学年名簿と評価・評定!$E$24:$K$573,6)=\"\",\"\",VLOOKUP($E73,学年名簿と評価・評定!$E$24:$K$573,7))","v":""},null,"",null,null,null,{"$f":"IF(OR($I73=\"\",COUNTA($M73:$O73)=0),\"\",IF(AND(M73=\"-\",N73=\"-\",O73=\"-\"),\"-\",VLOOKUP(COUNTIF($M73:$O73,\"A\")-COUNTIF($M73:$O73,\"C\"),基本情報!$R$4:$S$10,2)))","v":""},null,null,null,null,null,"",null,null,null,{"$f":"IF(OR($I73=\"\",COUNTA($W73:$Y73)=0),\"\",IF(AND(W73=\"-\",X73=\"-\",Y73=\"-\"),\"-\",VLOOKUP(COUNTIF($W73:$Y73,\"A\")-COUNTIF($W73:$Y73,\"C\"),基本情報!$R$4:$S$10,2)))","v":""},null,null,null,null,null,"",null,null,null,{"$f":"IF(OR($I73=\"\",COUNTA($AG73:$AI73)=0),\"\",IF(AND(AG73=\"-\",AH73=\"-\",AI73=\"-\"),\"-\",VLOOKUP(COUNTIF($AG73:$AI73,\"A\")-COUNTIF($AG73:$AI73,\"C\"),基本情報!$R$4:$S$10,2)))","v":""}]

{"sheet":"2組","index":3,"n_rows":73,"n_cols":40,"rows_kept":73,"cut":false,"hidden":false,"merged":[[2,34,2,36],[2,37,2,39],[21,11,21,15],[21,21,21,25],[21,31,21,35],[2,11,2,13],[2,14,2,16],[2,17,2,19],[2,21,2,23],[2,24,2,26],[2,27,2,29],[2,31,2,33]]}
[]
[]
[null,null,null,null,null,null,null,null,null,null,null,"校長",null,null,"教頭",null,null,"教務",null,null,null,"校長",null,null,"教頭",null,null,"教務",null,null,null,"校長",null,null,"教頭",null,null,"教務"]
[]
[]
[]
[]
[null,null,null,null,null,null,null,null,{"$f":"基本情報!E4","v":1},null,null,null,1,2,3,4,5,"-",null,"平均",null,null,1,2,3,4,5,"-",null,"平均",null,null,1,2,3,4,5,"-",null,"平均"]
[null,null,null,null,null,null,null,null,2,null,null,1,{"$f":"学年名簿と評価・評定!M9","v":0},{"$f":"学年名簿と評価・評定!N9","v":0},{"$f":"学年名簿と評価・評定!O9","v":0},{"$f":"学年名簿と評価・評定!P9","v":0},{"$f":"学年名簿と評価・評定!Q9","v":1},{"$f":"学年名簿と評価・評定!R9","v":0},{"$f":"SUM(M9:R9)","v":1},{"$f":"学年名簿と評価・評定!T9","v":5},null,1,{"$f":"学年名簿と評価・評定!W9","v":1},{"$f":"学年名簿と評価・評定!X9","v":0},{"$f":"学年名簿と評価・評定!Y9","v":0},{"$f":"学年名簿と評価・評定!Z9","v":0},{"$f":"学年名簿と評価・評定!AA9","v":0},{"$f":"学年名簿と評価・評定!AB9","v":0},{"$f":"学年名簿と評価・評定!AC9","v":1},{"$f":"学年名簿と評価・評定!AD9","v":1},null,1,{"$f":"学年名簿と評価・評定!AG9","v":0},{"$f":"学年名簿と評価・評定!AH9","v":0},{"$f":"学年名簿と評価・評定!AI9","v":1},{"$f":"学年名簿と評価・評定!AJ9","v":0},{"$f":"学年名簿と評価・評定!AK9","v":0},{"$f":"学年名簿と評価・評定!AL9","v":0},{"$f":"学年名簿と評価・評定!AM9","v":1},{"$f":"学年名簿と評価・評定!AN9","v":3}]
[null,null,null,null,null,null,null,null,null,null,null,2,{"$f":"学年名簿と評価・評定!M10","v":0},{"$f":"学年名簿と評価・評定!N10","v":0},{"$f":"学年名簿と評価・評定!O10","v":0},{"$f":"学年名簿と評価・評定!P10","v":0},{"$f":"学年名簿と評価・評定!Q10","v":0},{"$f":"学年名簿と評価・評定!R10","v":0},{"$f":"SUM(M10:R10)","v":0},{"$f":"学年名簿と評価・評定!T10","v":""},null,2,{"$f":"学年名簿と評価・評定!W10","v":0},{"$f":"学年名簿と評価・評定!X10","v":0},{"$f":"学年名簿と評価・評定!Y10","v":0},{"$f":"学年名簿と評価・評定!Z10","v":0},{"$f":"学年名簿と評価・評定!AA10","v":0},{"$f":"学年名簿と評価・評定!AB10","v":0},{"$f":"学年名簿と評価・評定!AC10","v":0},{"$f":"学年名簿と評価・評定!AD10","v":""},null,2,{"$f":"学年名簿と評価・評定!AG10","v":0},{"$f":"学年名簿と評価・評定!AH10","v":0},{"$f":"学年名簿と評価・評定!AI10","v":0},{"$f":"学年名簿と評価・評定!AJ10","v":0},{"$f":"学年名簿と評価・評定!AK10","v":0},{"$f":"学年名簿と評価・評定!AL10","v":0},{"$f":"学年名簿と評価・評定!AM10","v":0},{"$f":"学年名簿と評価・評定!AN10","v":""}]
[null,null,null,null,null,null,null,null,null,null,null,3,{"$f":"学年名簿と評価・評定!M11","v":0},{"$f":"学年名簿と評価・評定!N11","v":0},{"$f":"学年名簿と評価・評定!O11","v":0},{"$f":"学年名簿と評価・評定!P11","v":0},{"$f":"学年名簿と評価・評定!Q11","v":0},{"$f":"学年名簿と評価・評定!R11","v":0},0,{"$f":"学年名簿と評価・評定!T11","v":""},null,3,{"$f":"学年名簿と評価・評定!W11","v":0},{"$f":"学年名簿と評価・評定!X11","v":0},{"$f":"学年名簿と評価・評定!Y11","v":0},{"$f":"学年名簿と評価・評定!Z11","v":0},{"$f":"学年名簿と評価・評定!AA11","v":0},{"$f":"学年名簿と評価・評定!AB11","v":0},{"$f":"学年名簿と評価・評定!AC11","v":0},{"$f":"学年名簿と評価・評定!AD11","v":""},null,3,{"$f":"学年名簿と評価・評定!AG11","v":0},{"$f":"学年名簿と評価・評定!AH11","v":0},{"$f":"学年名簿と評価・評定!AI11","v":0},{"$f":"学年名簿と評価・評定!AJ11","v":0},{"$f":"学年名簿と評価・評定!AK11","v":0},{"$f":"学年名簿と評価・評定!AL11","v":0},{"$f":"学年名簿と評価・評定!AM11","v":0},{"$f":"学年名簿と評価・評定!AN11","v":""}]
[null,null,null,null,null,null,null,null,null,null,null,4,{"$f":"学年名簿と評価・評定!M12","v":0},{"$f":"学年名簿と評価・評定!N12","v":0},{"$f":"学年名簿と評価・評定!O12","v":0},{"$f":"学年名簿と評価・評定!P12","v":0},{"$f":"学年名簿と評価・評定!Q12","v":0},{"$f":"学年名簿と評価・評定!R12","v":0},0,{"$f":"学年名簿と評価・評定!T12","v":""},null,4,{"$f":"学年名簿と評価・評定!W12","v":0},{"$f":"学年名簿と評価・評定!X12","v":0},{"$f":"学年名簿と評価・評定!Y12","v":0},{"$f":"学年名簿と評価・評定!Z12","v":0},{"$f":"学年名簿と評価・評定!AA12","v":0},{"$f":"学年名簿と評価・評定!AB12","v":0},{"$f":"学年名簿と評価・評定!AC12","v":0},{"$f":"学年名簿と評価・評定!AD12","v":""},null,4,{"$f":"学年名簿と評価・評定!AG12","v":0},{"$f":"学年名簿と評価・評定!AH12","v":0},{"$f":"学年名簿と評価・評定!AI12","v":0},{"$f":"学年名簿と評価・評定!AJ12","v":0},{"$f":"学年名簿と評価・評定!AK12","v":0},{"$f":"学年名簿と評価・評定!AL12","v":0},{"$f":"学年名簿と評価・評定!AM12","v":0},{"$f":"学年名簿と評価・評定!AN12","v":""}]
[null,null,null,null,null,null,null,null,null,null,null,5,{"$f":"学年名簿と評価・評定!M13","v":0},{"$f":"学年名簿と評価・評定!N13","v":0},{"$f":"学年名簿と評価・評定!O13","v":0},{"$f":"学年名簿と評価・評定!P13","v":0},{"$f":"学年名簿と評価・評定!Q13","v":0},{"$f":"学年名簿と評価・評定!R13","v":0},0,{"$f":"学年名簿と評価・評定!T13","v":""},null,5,{"$f":"学年名簿と評価・評定!W13","v":0},{"$f":"学年名簿と評価・評定!X13","v":0},{"$f":"学年名簿と評価・評定!Y13","v":0},{"$f":"学年名簿と評価・評定!Z13","v":0},{"$f":"学年名簿と評価・評定!AA13","v":0},{"$f":"学年名簿と評価・評定!AB13","v":0},{"$f":"学年名簿と評価・評定!AC13","v":0},{"$f":"学年名簿と評価・評定!AD13","v":""},null,5,{"$f":"学年名簿と評価・評定!AG13","v":0},{"$f":"学年名簿と評価・評定!AH13","v":0},{"$f":"学年名簿と評価・評定!AI13","v":0},{"$f":"学年名簿と評価・評定!AJ13","v":0},{"$f":"学年名簿と評価・評定!AK13","v":0},{"$f":"学年名簿と評価・評定!AL13","v":0},{"$f":"学年名簿と評価・評定!AM13","v":0},{"$f":"学年名簿と評価・評定!AN13","v":""}]
[null,null,null,null,null,null,null,null,null,null,null,6,{"$f":"学年名簿と評価・評定!M14","v":0},{"$f":"学年名簿と評価・評定!N14","v":0},{"$f":"学年名簿と評価・評定!O14","v":0},{"$f":"学年名簿と評価・評定!P14","v":0},{"$f":"学年名簿と評価・評定!Q14","v":0},{"$f":"学年名簿と評価・評定!R14","v":0},0,{"$f":"学年名簿と評価・評定!T14","v":""},null,6,{"$f":"学年名簿と評価・評定!W14","v":0},{"$f":"学年名簿と評価・評定!X14","v":0},{"$f":"学年名簿と評価・評定!Y14","v":0},{"$f":"学年名簿と評価・評定!Z14","v":0},{"$f":"学年名簿と評価・評定!AA14","v":0},{"$f":"学年名簿と評価・評定!AB14","v":0},{"$f":"学年名簿と評価・評定!AC14","v":0},{"$f":"学年名簿と評価・評定!AD14","v":""},null,6,{"$f":"学年名簿と評価・評定!AG14","v":0},{"$f":"学年名簿と評価・評定!AH14","v":0},{"$f":"学年名簿と評価・評定!AI14","v":0},{"$f":"学年名簿と評価・評定!AJ14","v":0},{"$f":"学年名簿と評価・評定!AK14","v":0},{"$f":"学年名簿と評価・評定!AL14","v":0},{"$f":"学年名簿と評価・評定!AM14","v":0},{"$f":"学年名簿と評価・評定!AN14","v":""}]
[null,null,null,null,null,null,null,null,null,null,null,7,{"$f":"学年名簿と評価・評定!M15","v":0},{"$f":"学年名簿と評価・評定!N15","v":0},{"$f":"学年名簿と評価・評定!O15","v":0},{"$f":"学年名簿と評価・評定!P15","v":0},{"$f":"学年名簿と評価・評定!Q15","v":0},{"$f":"学年名簿と評価・評定!R15","v":0},0,{"$f":"学年名簿と評価・評定!T15","v":""},null,7,{"$f":"学年名簿と評価・評定!W15","v":0},{"$f":"学年名簿と評価・評定!X15","v":0},{"$f":"学年名簿と評価・評定!Y15","v":0},{"$f":"学年名簿と評価・評定!Z15","v":0},{"$f":"学年名簿と評価・評定!AA15","v":0},{"$f":"学年名簿と評価・評定!AB15","v":0},{"$f":"学年名簿と評価・評定!AC15","v":0},{"$f":"学年名簿と評価・評定!AD15","v":""},null,7,{"$f":"学年名簿と評価・評定!AG15","v":0},{"$f":"学年名簿と評価・評定!AH15","v":0},{"$f":"学年名簿と評価・評定!AI15","v":0},{"$f":"学年名簿と評価・評定!AJ15","v":0},{"$f":"学年名簿と評価・評定!AK15","v":0},{"$f":"学年名簿と評価・評定!AL15","v":0},{"$f":"学年名簿と評価・評定!AM15","v":0},{"$f":"学年名簿と評価・評定!AN15","v":""}]
[null,null,null,null,null,null,null,null,null,null,null,8,{"$f":"学年名簿と評価・評定!M16","v":0},{"$f":"学年名簿と評価・評定!N16","v":0},{"$f":"学年名簿と評価・評定!O16","v":0},{"$f":"学年名簿と評価・評定!P16","v":0},{"$f":"学年名簿と評価・評定!Q16","v":0},{"$f":"学年名簿と評価・評定!R16","v":0},0,{"$f":"学年名簿と評価・評定!T16","v":""},null,8,{"$f":"学年名簿と評価・評定!W16","v":0},{"$f":"学年名簿と評価・評定!X16","v":0},{"$f":"学年名簿と評価・評定!Y16","v":0},{"$f":"学年名簿と評価・評定!Z16","v":0},{"$f":"学年名簿と評価・評定!AA16","v":0},{"$f":"学年名簿と評価・評定!AB16","v":0},{"$f":"学年名簿と評価・評定!AC16","v":0},{"$f":"学年名簿と評価・評定!AD16","v":""},null,8,{"$f":"学年名簿と評価・評定!AG16","v":0},{"$f":"学年名簿と評価・評定!AH16","v":0},{"$f":"学年名簿と評価・評定!AI16","v":0},{"$f":"学年名簿と評価・評定!AJ16","v":0},{"$f":"学年名簿と評価・評定!AK16","v":0},{"$f":"学年名簿と評価・評定!AL16","v":0},{"$f":"学年名簿と評価・評定!AM16","v":0},{"$f":"学年名簿と評価・評定!AN16","v":""}]
[null,null,null,null,null,null,null,null,null,null,null,9,{"$f":"学年名簿と評価・評定!M17","v":0},{"$f":"学年名簿と評価・評定!N17","v":0},{"$f":"学年名簿と評価・評定!O17","v":0},{"$f":"学年名簿と評価・評定!P17","v":0},{"$f":"学年名簿と評価・評定!Q17","v":0},{"$f":"学年名簿と評価・評定!R17","v":0},0,{"$f":"学年名簿と評価・評定!T17","v":""},null,9,{"$f":"学年名簿と評価・評定!W17","v":0},{"$f":"学年名簿と評価・評定!X17","v":0},{"$f":"学年名簿と評価・評定!Y17","v":0},{"$f":"学年名簿と評価・評定!Z17","v":0},{"$f":"学年名簿と評価・評定!AA17","v":0},{"$f":"学年名簿と評価・評定!AB17","v":0},{"$f":"学年名簿と評価・評定!AC17","v":0},{"$f":"学年名簿と評価・評定!AD17","v":""},null,9,{"$f":"学年名簿と評価・評定!AG17","v":0},{"$f":"学年名簿と評価・評定!AH17","v":0},{"$f":"学年名簿と評価・評定!AI17","v":0},{"$f":"学年名簿と評価・評定!AJ17","v":0},{"$f":"学年名簿と評価・評定!AK17","v":0},{"$f":"学年名簿と評価・評定!AL17","v":0},{"$f":"学年名簿と評価・評定!AM17","v":0},{"$f":"学年名簿と評価・評定!AN17","v":""}]
[null,null,null,null,null,null,null,null,null,null,null,10,{"$f":"学年名簿と評価・評定!M18","v":0},{"$f":"学年名簿と評価・評定!N18","v":0},{"$f":"学年名簿と評価・評定!O18","v":0},{"$f":"学年名簿と評価・評定!P18","v":0},{"$f":"学年名簿と評価・評定!Q18","v":0},{"$f":"学年名簿と評価・評定!R18","v":0},0,{"$f":"学年名簿と評価・評定!T18","v":""},null,10,{"$f":"学年名簿と評価・評定!W18","v":0},{"$f":"学年名簿と評価・評定!X18","v":0},{"$f":"学年名簿と評価・評定!Y18","v":0},{"$f":"学年名簿と評価・評定!Z18","v":0},{"$f":"学年名簿と評価・評定!AA18","v":0},{"$f":"学年名簿と評価・評定!AB18","v":0},{"$f":"学年名簿と評価・評定!AC18","v":0},{"$f":"学年名簿と評価・評定!AD18","v":""},null,10,{"$f":"学年名簿と評価・評定!AG18","v":0},{"$f":"学年名簿と評価・評定!AH18","v":0},{"$f":"学年名簿と評価・評定!AI18","v":0},{"$f":"学年名簿と評価・評定!AJ18","v":0},{"$f":"学年名簿と評価・評定!AK18","v":0},{"$f":"学年名簿と評価・評定!AL18","v":0},{"$f":"学年名簿と評価・評定!AM18","v":0},{"$f":"学年名簿と評価・評定!AN18","v":""}]
[null,null,null,null,null,null,null,null,null,null,null,11,{"$f":"学年名簿と評価・評定!M19","v":0},{"$f":"学年名簿と評価・評定!N19","v":0},{"$f":"学年名簿と評価・評定!O19","v":0},{"$f":"学年名簿と評価・評定!P19","v":0},{"$f":"学年名簿と評価・評定!Q19","v":0},{"$f":"学年名簿と評価・評定!R19","v":0},0,{"$f":"学年名簿と評価・評定!T19","v":""},null,11,{"$f":"学年名簿と評価・評定!W19","v":0},{"$f":"学年名簿と評価・評定!X19","v":0},{"$f":"学年名簿と評価・評定!Y19","v":0},{"$f":"学年名簿と評価・評定!Z19","v":0},{"$f":"学年名簿と評価・評定!AA19","v":0},{"$f":"学年名簿と評価・評定!AB19","v":0},{"$f":"学年名簿と評価・評定!AC19","v":0},{"$f":"学年名簿と評価・評定!AD19","v":""},null,11,{"$f":"学年名簿と評価・評定!AG19","v":0},{"$f":"学年名簿と評価・評定!AH19","v":0},{"$f":"学年名簿と評価・評定!AI19","v":0},{"$f":"学年名簿と評価・評定!AJ19","v":0},{"$f":"学年名簿と評価・評定!AK19","v":0},{"$f":"学年名簿と評価・評定!AL19","v":0},{"$f":"学年名簿と評価・評定!AM19","v":0},{"$f":"学年名簿と評価・評定!AN19","v":""}]
[null,null,null,null,null,null,null,null,{"$f":"基本情報!E6","v":"国語"},null,null,"計",{"$f":"学年名簿と評価・評定!M20","v":0},{"$f":"学年名簿と評価・評定!N20","v":0},{"$f":"学年名簿と評価・評定!O20","v":0},{"$f":"学年名簿と評価・評定!P20","v":0},{"$f":"学年名簿と評価・評定!Q20","v":1},{"$f":"学年名簿と評価・評定!R20","v":0},1,{"$f":"学年名簿と評価・評定!T20","v":5},null,"計",{"$f":"学年名簿と評価・評定!W20","v":1},{"$f":"学年名簿と評価・評定!X20","v":0},{"$f":"学年名簿と評価・評定!Y20","v":0},{"$f":"学年名簿と評価・評定!Z20","v":0},{"$f":"学年名簿と評価・評定!AA20","v":0},{"$f":"学年名簿と評価・評定!AB20","v":0},{"$f":"学年名簿と評価・評定!AC20","v":1},{"$f":"学年名簿と評価・評定!AD20","v":1},null,"計",{"$f":"学年名簿と評価・評定!AG20","v":0},{"$f":"学年名簿と評価・評定!AH20","v":0},{"$f":"学年名簿と評価・評定!AI20","v":1},{"$f":"学年名簿と評価・評定!AJ20","v":0},{"$f":"学年名簿と評価・評定!AK20","v":0},{"$f":"学年名簿と評価・評定!AL20","v":0},{"$f":"学年名簿と評価・評定!AM20","v":1},{"$f":"学年名簿と評価・評定!AN20","v":3}]
[]
[null,null,null,null,null,null,null,null,null,null,null,"前　　期",null,null,null,null,null,null,null,null,null,"後　　期",null,null,null,null,null,null,null,null,null,"学　　年"]
[null,null,null,null,null,null,null,"番","氏　　名","性",null,"評定",{"$f":"基本情報!P14","v":"知技"},{"$f":"基本情報!P15","v":"思判"},{"$f":"基本情報!P16","v":"学び"},"評定","CHECK",null,null,null,null,"評定",{"$f":"M23","v":"知技"},{"$f":"N23","v":"思判"},"学び","評定","CHECK",null,null,null,null,"評定","知技","思判","学び","評定","CHECK"]
[null,null,null,null,{"$f":"$I$8*10000+$I$9*100+$H24","v":10201},null,null,1,{"$f":"IF(VLOOKUP($E24,学年名簿と評価・評定!$E$24:$K$573,5)=\"\",\"\",VLOOKUP($E24,学年名簿と評価・評定!$E$24:$K$573,5))","v":""},{"$f":"IF(VLOOKUP($E24,学年名簿と評価・評定!$E$24:$K$573,6)=\"\",\"\",VLOOKUP($E24,学年名簿と評価・評定!$E$24:$K$573,7))","v":""},null,{"$f":"P24","v":""},null,null,null,{"$f":"IF(OR($I24=\"\",COUNTA($M24:$O24)=0),\"\",IF(AND(M24=\"-\",N24=\"-\",O24=\"-\"),\"-\",VLOOKUP(COUNTIF($M24:$O24,\"A\")-COUNTIF($M24:$O24,\"C\"),基本情報!$R$4:$S$10,2)))","v":""},null,null,null,null,null,{"$f":"Z24","v":""},null,null,null,{"$f":"IF(OR($I24=\"\",COUNTA($W24:$Y24)=0),\"\",IF(AND(W24=\"-\",X24=\"-\",Y24=\"-\"),\"-\",VLOOKUP(COUNTIF($W24:$Y24,\"A\")-COUNTIF($W24:$Y24,\"C\"),基本情報!$R$4:$S$10,2)))","v":""},null,null,null,null,null,{"$f":"AJ24","v":""},null,null,null,{"$f":"IF(OR($I24=\"\",COUNTA($AG24:$AI24)=0),\"\",IF(AND(AG24=\"-\",AH24=\"-\",AI24=\"-\"),\"-\",VLOOKUP(COUNTIF($AG24:$AI24,\"A\")-COUNTIF($AG24:$AI24,\"C\"),基本情報!$R$4:$S$10,2)))","v":""}]
[null,null,null,null,10202,null,null,2,{"$f":"IF(VLOOKUP($E25,学年名簿と評価・評定!$E$24:$K$573,5)=\"\",\"\",VLOOKUP($E25,学年名簿と評価・評定!$E$24:$K$573,5))","v":""},{"$f":"IF(VLOOKUP($E25,学年名簿と評価・評定!$E$24:$K$573,6)=\"\",\"\",VLOOKUP($E25,学年名簿と評価・評定!$E$24:$K$573,7))","v":""},null,{"$f":"P25","v":""},null,null,null,{"$f":"IF(OR($I25=\"\",COUNTA($M25:$O25)=0),\"\",IF(AND(M25=\"-\",N25=\"-\",O25=\"-\"),\"-\",VLOOKUP(COUNTIF($M25:$O25,\"A\")-COUNTIF($M25:$O25,\"C\"),基本情報!$R$4:$S$10,2)))","v":""},null,null,null,null,null,{"$f":"Z25","v":""},null,null,null,{"$f":"IF(OR($I25=\"\",COUNTA($W25:$Y25)=0),\"\",IF(AND(W25=\"-\",X25=\"-\",Y25=\"-\"),\"-\",VLOOKUP(COUNTIF($W25:$Y25,\"A\")-COUNTIF($W25:$Y25,\"C\"),基本情報!$R$4:$S$10,2)))","v":""},null,null,null,null,null,{"$f":"AJ25","v":""},null,null,null,{"$f":"IF(OR($I25=\"\",COUNTA($AG25:$AI25)=0),\"\",IF(AND(AG25=\"-\",AH25=\"-\",AI25=\"-\"),\"-\",VLOOKUP(COUNTIF($AG25:$AI25,\"A\")-COUNTIF($AG25:$AI25,\"C\"),基本情報!$R$4:$S$10,2)))","v":""}]
[null,null,null,null,10203,null,null,3,{"$f":"IF(VLOOKUP($E26,学年名簿と評価・評定!$E$24:$K$573,5)=\"\",\"\",VLOOKUP($E26,学年名簿と評価・評定!$E$24:$K$573,5))","v":""},{"$f":"IF(VLOOKUP($E26,学年名簿と評価・評定!$E$24:$K$573,6)=\"\",\"\",VLOOKUP($E26,学年名簿と評価・評定!$E$24:$K$573,7))","v":""},null,"",null,null,null,{"$f":"IF(OR($I26=\"\",COUNTA($M26:$O26)=0),\"\",IF(AND(M26=\"-\",N26=\"-\",O26=\"-\"),\"-\",VLOOKUP(COUNTIF($M26:$O26,\"A\")-COUNTIF($M26:$O26,\"C\"),基本情報!$R$4:$S$10,2)))","v":""},null,null,null,null,null,{"$f":"Z26","v":""},null,null,null,{"$f":"IF(OR($I26=\"\",COUNTA($W26:$Y26)=0),\"\",IF(AND(W26=\"-\",X26=\"-\",Y26=\"-\"),\"-\",VLOOKUP(COUNTIF($W26:$Y26,\"A\")-COUNTIF($W26:$Y26,\"C\"),基本情報!$R$4:$S$10,2)))","v":""},null,null,null,null,null,"",null,null,null,{"$f":"IF(OR($I26=\"\",COUNTA($AG26:$AI26)=0),\"\",IF(AND(AG26=\"-\",AH26=\"-\",AI26=\"-\"),\"-\",VLOOKUP(COUNTIF($AG26:$AI26,\"A\")-COUNTIF($AG26:$AI26,\"C\"),基本情報!$R$4:$S$10,2)))","v":""}]
[null,null,null,null,10204,null,null,4,{"$f":"IF(VLOOKUP($E27,学年名簿と評価・評定!$E$24:$K$573,5)=\"\",\"\",VLOOKUP($E27,学年名簿と評価・評定!$E$24:$K$573,5))","v":""},{"$f":"IF(VLOOKUP($E27,学年名簿と評価・評定!$E$24:$K$573,6)=\"\",\"\",VLOOKUP($E27,学年名簿と評価・評定!$E$24:$K$573,7))","v":""},null,"",null,null,null,{"$f":"IF(OR($I27=\"\",COUNTA($M27:$O27)=0),\"\",IF(AND(M27=\"-\",N27=\"-\",O27=\"-\"),\"-\",VLOOKUP(COUNTIF($M27:$O27,\"A\")-COUNTIF($M27:$O27,\"C\"),基本情報!$R$4:$S$10,2)))","v":""},null,null,null,null,null,"",null,null,null,{"$f":"IF(OR($I27=\"\",COUNTA($W27:$Y27)=0),\"\",IF(AND(W27=\"-\",X27=\"-\",Y27=\"-\"),\"-\",VLOOKUP(COUNTIF($W27:$Y27,\"A\")-COUNTIF($W27:$Y27,\"C\"),基本情報!$R$4:$S$10,2)))","v":""},null,null,null,null,null,"",null,null,null,{"$f":"IF(OR($I27=\"\",COUNTA($AG27:$AI27)=0),\"\",IF(AND(AG27=\"-\",AH27=\"-\",AI27=\"-\"),\"-\",VLOOKUP(COUNTIF($AG27:$AI27,\"A\")-COUNTIF($AG27:$AI27,\"C\"),基本情報!$R$4:$S$10,2)))","v":""}]
[null,null,null,null,10205,null,null,5,{"$f":"IF(VLOOKUP($E28,学年名簿と評価・評定!$E$24:$K$573,5)=\"\",\"\",VLOOKUP($E28,学年名簿と評価・評定!$E$24:$K$573,5))","v":""},{"$f":"IF(VLOOKUP($E28,学年名簿と評価・評定!$E$24:$K$573,6)=\"\",\"\",VLOOKUP($E28,学年名簿と評価・評定!$E$24:$K$573,7))","v":""},null,"",null,null,null,{"$f":"IF(OR($I28=\"\",COUNTA($M28:$O28)=0),\"\",IF(AND(M28=\"-\",N28=\"-\",O28=\"-\"),\"-\",VLOOKUP(COUNTIF($M28:$O28,\"A\")-COUNTIF($M28:$O28,\"C\"),基本情報!$R$4:$S$10,2)))","v":""},null,null,null,null,null,"",null,null,null,{"$f":"IF(OR($I28=\"\",COUNTA($W28:$Y28)=0),\"\",IF(AND(W28=\"-\",X28=\"-\",Y28=\"-\"),\"-\",VLOOKUP(COUNTIF($W28:$Y28,\"A\")-COUNTIF($W28:$Y28,\"C\"),基本情報!$R$4:$S$10,2)))","v":""},null,null,null,null,null,"",null,null,null,{"$f":"IF(OR($I28=\"\",COUNTA($AG28:$AI28)=0),\"\",IF(AND(AG28=\"-\",AH28=\"-\",AI28=\"-\"),\"-\",VLOOKUP(COUNTIF($AG28:$AI28,\"A\")-COUNTIF($AG28:$AI28,\"C\"),基本情報!$R$4:$S$10,2)))","v":""}]
[null,null,null,null,10206,null,null,6,{"$f":"IF(VLOOKUP($E29,学年名簿と評価・評定!$E$24:$K$573,5)=\"\",\"\",VLOOKUP($E29,学年名簿と評価・評定!$E$24:$K$573,5))","v":""},{"$f":"IF(VLOOKUP($E29,学年名簿と評価・評定!$E$24:$K$573,6)=\"\",\"\",VLOOKUP($E29,学年名簿と評価・評定!$E$24:$K$573,7))","v":""},null,"",null,null,null,{"$f":"IF(OR($I29=\"\",COUNTA($M29:$O29)=0),\"\",IF(AND(M29=\"-\",N29=\"-\",O29=\"-\"),\"-\",VLOOKUP(COUNTIF($M29:$O29,\"A\")-COUNTIF($M29:$O29,\"C\"),基本情報!$R$4:$S$10,2)))","v":""},null,null,null,null,null,"",null,null,null,{"$f":"IF(OR($I29=\"\",COUNTA($W29:$Y29)=0),\"\",IF(AND(W29=\"-\",X29=\"-\",Y29=\"-\"),\"-\",VLOOKUP(COUNTIF($W29:$Y29,\"A\")-COUNTIF($W29:$Y29,\"C\"),基本情報!$R$4:$S$10,2)))","v":""},null,null,null,null,null,"",null,null,null,{"$f":"IF(OR($I29=\"\",COUNTA($AG29:$AI29)=0),\"\",IF(AND(AG29=\"-\",AH29=\"-\",AI29=\"-\"),\"-\",VLOOKUP(COUNTIF($AG29:$AI29,\"A\")-COUNTIF($AG29:$AI29,\"C\"),基本情報!$R$4:$S$10,2)))","v":""}]
[null,null,null,null,10207,null,null,7,{"$f":"IF(VLOOKUP($E30,学年名簿と評価・評定!$E$24:$K$573,5)=\"\",\"\",VLOOKUP($E30,学年名簿と評価・評定!$E$24:$K$573,5))","v":""},{"$f":"IF(VLOOKUP($E30,学年名簿と評価・評定!$E$24:$K$573,6)=\"\",\"\",VLOOKUP($E30,学年名簿と評価・評定!$E$24:$K$573,7))","v":""},null,"",null,null,null,{"$f":"IF(OR($I30=\"\",COUNTA($M30:$O30)=0),\"\",IF(AND(M30=\"-\",N30=\"-\",O30=\"-\"),\"-\",VLOOKUP(COUNTIF($M30:$O30,\"A\")-COUNTIF($M30:$O30,\"C\"),基本情報!$R$4:$S$10,2)))","v":""},null,null,null,null,null,"",null,null,null,{"$f":"IF(OR($I30=\"\",COUNTA($W30:$Y30)=0),\"\",IF(AND(W30=\"-\",X30=\"-\",Y30=\"-\"),\"-\",VLOOKUP(COUNTIF($W30:$Y30,\"A\")-COUNTIF($W30:$Y30,\"C\"),基本情報!$R$4:$S$10,2)))","v":""},null,null,null,null,null,"",null,null,null,{"$f":"IF(OR($I30=\"\",COUNTA($AG30:$AI30)=0),\"\",IF(AND(AG30=\"-\",AH30=\"-\",AI30=\"-\"),\"-\",VLOOKUP(COUNTIF($AG30:$AI30,\"A\")-COUNTIF($AG30:$AI30,\"C\"),基本情報!$R$4:$S$10,2)))","v":""}]
[null,null,null,null,10208,null,null,8,{"$f":"IF(VLOOKUP($E31,学年名簿と評価・評定!$E$24:$K$573,5)=\"\",\"\",VLOOKUP($E31,学年名簿と評価・評定!$E$24:$K$573,5))","v":""},{"$f":"IF(VLOOKUP($E31,学年名簿と評価・評定!$E$24:$K$573,6)=\"\",\"\",VLOOKUP($E31,学年名簿と評価・評定!$E$24:$K$573,7))","v":""},null,"",null,null,null,{"$f":"IF(OR($I31=\"\",COUNTA($M31:$O31)=0),\"\",IF(AND(M31=\"-\",N31=\"-\",O31=\"-\"),\"-\",VLOOKUP(COUNTIF($M31:$O31,\"A\")-COUNTIF($M31:$O31,\"C\"),基本情報!$R$4:$S$10,2)))","v":""},null,null,null,null,null,"",null,null,null,{"$f":"IF(OR($I31=\"\",COUNTA($W31:$Y31)=0),\"\",IF(AND(W31=\"-\",X31=\"-\",Y31=\"-\"),\"-\",VLOOKUP(COUNTIF($W31:$Y31,\"A\")-COUNTIF($W31:$Y31,\"C\"),基本情報!$R$4:$S$10,2)))","v":""},null,null,null,null,null,"",null,null,null,{"$f":"IF(OR($I31=\"\",COUNTA($AG31:$AI31)=0),\"\",IF(AND(AG31=\"-\",AH31=\"-\",AI31=\"-\"),\"-\",VLOOKUP(COUNTIF($AG31:$AI31,\"A\")-COUNTIF($AG31:$AI31,\"C\"),基本情報!$R$4:$S$10,2)))","v":""}]
[null,null,null,null,10209,null,null,9,{"$f":"IF(VLOOKUP($E32,学年名簿と評価・評定!$E$24:$K$573,5)=\"\",\"\",VLOOKUP($E32,学年名簿と評価・評定!$E$24:$K$573,5))","v":""},{"$f":"IF(VLOOKUP($E32,学年名簿と評価・評定!$E$24:$K$573,6)=\"\",\"\",VLOOKUP($E32,学年名簿と評価・評定!$E$24:$K$573,7))","v":""},null,"",null,null,null,{"$f":"IF(OR($I32=\"\",COUNTA($M32:$O32)=0),\"\",IF(AND(M32=\"-\",N32=\"-\",O32=\"-\"),\"-\",VLOOKUP(COUNTIF($M32:$O32,\"A\")-COUNTIF($M32:$O32,\"C\"),基本情報!$R$4:$S$10,2)))","v":""},null,null,null,null,null,"",null,null,null,{"$f":"IF(OR($I32=\"\",COUNTA($W32:$Y32)=0),\"\",IF(AND(W32=\"-\",X32=\"-\",Y32=\"-\"),\"-\",VLOOKUP(COUNTIF($W32:$Y32,\"A\")-COUNTIF($W32:$Y32,\"C\"),基本情報!$R$4:$S$10,2)))","v":""},null,null,null,null,null,"",null,null,null,{"$f":"IF(OR($I32=\"\",COUNTA($AG32:$AI32)=0),\"\",IF(AND(AG32=\"-\",AH32=\"-\",AI32=\"-\"),\"-\",VLOOKUP(COUNTIF($AG32:$AI32,\"A\")-COUNTIF($AG32:$AI32,\"C\"),基本情報!$R$4:$S$10,2)))","v":""}]
[null,null,null,null,10210,null,null,10,{"$f":"IF(VLOOKUP($E33,学年名簿と評価・評定!$E$24:$K$573,5)=\"\",\"\",VLOOKUP($E33,学年名簿と評価・評定!$E$24:$K$573,5))","v":""},{"$f":"IF(VLOOKUP($E33,学年名簿と評価・評定!$E$24:$K$573,6)=\"\",\"\",VLOOKUP($E33,学年名簿と評価・評定!$E$24:$K$573,7))","v":""},null,"",null,null,null,{"$f":"IF(OR($I33=\"\",COUNTA($M33:$O33)=0),\"\",IF(AND(M33=\"-\",N33=\"-\",O33=\"-\"),\"-\",VLOOKUP(COUNTIF($M33:$O33,\"A\")-COUNTIF($M33:$O33,\"C\"),基本情報!$R$4:$S$10,2)))","v":""},null,null,null,null,null,"",null,null,null,{"$f":"IF(OR($I33=\"\",COUNTA($W33:$Y33)=0),\"\",IF(AND(W33=\"-\",X33=\"-\",Y33=\"-\"),\"-\",VLOOKUP(COUNTIF($W33:$Y33,\"A\")-COUNTIF($W33:$Y33,\"C\"),基本情報!$R$4:$S$10,2)))","v":""},null,null,null,null,null,"",null,null,null,{"$f":"IF(OR($I33=\"\",COUNTA($AG33:$AI33)=0),\"\",IF(AND(AG33=\"-\",AH33=\"-\",AI33=\"-\"),\"-\",VLOOKUP(COUNTIF($AG33:$AI33,\"A\")-COUNTIF($AG33:$AI33,\"C\"),基本情報!$R$4:$S$10,2)))","v":""}]
[null,null,null,null,10211,null,null,11,{"$f":"IF(VLOOKUP($E34,学年名簿と評価・評定!$E$24:$K$573,5)=\"\",\"\",VLOOKUP($E34,学年名簿と評価・評定!$E$24:$K$573,5))","v":""},{"$f":"IF(VLOOKUP($E34,学年名簿と評価・評定!$E$24:$K$573,6)=\"\",\"\",VLOOKUP($E34,学年名簿と評価・評定!$E$24:$K$573,7))","v":""},null,"",null,null,null,{"$f":"IF(OR($I34=\"\",COUNTA($M34:$O34)=0),\"\",IF(AND(M34=\"-\",N34=\"-\",O34=\"-\"),\"-\",VLOOKUP(COUNTIF($M34:$O34,\"A\")-COUNTIF($M34:$O34,\"C\"),基本情報!$R$4:$S$10,2)))","v":""},null,null,null,null,null,"",null,null,null,{"$f":"IF(OR($I34=\"\",COUNTA($W34:$Y34)=0),\"\",IF(AND(W34=\"-\",X34=\"-\",Y34=\"-\"),\"-\",VLOOKUP(COUNTIF($W34:$Y34,\"A\")-COUNTIF($W34:$Y34,\"C\"),基本情報!$R$4:$S$10,2)))","v":""},null,null,null,null,null,"",null,null,null,{"$f":"IF(OR($I34=\"\",COUNTA($AG34:$AI34)=0),\"\",IF(AND(AG34=\"-\",AH34=\"-\",AI34=\"-\"),\"-\",VLOOKUP(COUNTIF($AG34:$AI34,\"A\")-COUNTIF($AG34:$AI34,\"C\"),基本情報!$R$4:$S$10,2)))","v":""}]
[null,null,null,null,10212,null,null,12,{"$f":"IF(VLOOKUP($E35,学年名簿と評価・評定!$E$24:$K$573,5)=\"\",\"\",VLOOKUP($E35,学年名簿と評価・評定!$E$24:$K$573,5))","v":""},{"$f":"IF(VLOOKUP($E35,学年名簿と評価・評定!$E$24:$K$573,6)=\"\",\"\",VLOOKUP($E35,学年名簿と評価・評定!$E$24:$K$573,7))","v":""},null,"",null,null,null,{"$f":"IF(OR($I35=\"\",COUNTA($M35:$O35)=0),\"\",IF(AND(M35=\"-\",N35=\"-\",O35=\"-\"),\"-\",VLOOKUP(COUNTIF($M35:$O35,\"A\")-COUNTIF($M35:$O35,\"C\"),基本情報!$R$4:$S$10,2)))","v":""},null,null,null,null,null,"",null,null,null,{"$f":"IF(OR($I35=\"\",COUNTA($W35:$Y35)=0),\"\",IF(AND(W35=\"-\",X35=\"-\",Y35=\"-\"),\"-\",VLOOKUP(COUNTIF($W35:$Y35,\"A\")-COUNTIF($W35:$Y35,\"C\"),基本情報!$R$4:$S$10,2)))","v":""},null,null,null,null,null,"",null,null,null,{"$f":"IF(OR($I35=\"\",COUNTA($AG35:$AI35)=0),\"\",IF(AND(AG35=\"-\",AH35=\"-\",AI35=\"-\"),\"-\",VLOOKUP(COUNTIF($AG35:$AI35,\"A\")-COUNTIF($AG35:$AI35,\"C\"),基本情報!$R$4:$S$10,2)))","v":""}]
[null,null,null,null,10213,null,null,13,{"$f":"IF(VLOOKUP($E36,学年名簿と評価・評定!$E$24:$K$573,5)=\"\",\"\",VLOOKUP($E36,学年名簿と評価・評定!$E$24:$K$573,5))","v":""},{"$f":"IF(VLOOKUP($E36,学年名簿と評価・評定!$E$24:$K$573,6)=\"\",\"\",VLOOKUP($E36,学年名簿と評価・評定!$E$24:$K$573,7))","v":""},null,"",null,null,null,{"$f":"IF(OR($I36=\"\",COUNTA($M36:$O36)=0),\"\",IF(AND(M36=\"-\",N36=\"-\",O36=\"-\"),\"-\",VLOOKUP(COUNTIF($M36:$O36,\"A\")-COUNTIF($M36:$O36,\"C\"),基本情報!$R$4:$S$10,2)))","v":""},null,null,null,null,null,"",null,null,null,{"$f":"IF(OR($I36=\"\",COUNTA($W36:$Y36)=0),\"\",IF(AND(W36=\"-\",X36=\"-\",Y36=\"-\"),\"-\",VLOOKUP(COUNTIF($W36:$Y36,\"A\")-COUNTIF($W36:$Y36,\"C\"),基本情報!$R$4:$S$10,2)))","v":""},null,null,null,null,null,"",null,null,null,{"$f":"IF(OR($I36=\"\",COUNTA($AG36:$AI36)=0),\"\",IF(AND(AG36=\"-\",AH36=\"-\",AI36=\"-\"),\"-\",VLOOKUP(COUNTIF($AG36:$AI36,\"A\")-COUNTIF($AG36:$AI36,\"C\"),基本情報!$R$4:$S$10,2)))","v":""}]
[null,null,null,null,10214,null,null,14,{"$f":"IF(VLOOKUP($E37,学年名簿と評価・評定!$E$24:$K$573,5)=\"\",\"\",VLOOKUP($E37,学年名簿と評価・評定!$E$24:$K$573,5))","v":""},{"$f":"IF(VLOOKUP($E37,学年名簿と評価・評定!$E$24:$K$573,6)=\"\",\"\",VLOOKUP($E37,学年名簿と評価・評定!$E$24:$K$573,7))","v":""},null,"",null,null,null,{"$f":"IF(OR($I37=\"\",COUNTA($M37:$O37)=0),\"\",IF(AND(M37=\"-\",N37=\"-\",O37=\"-\"),\"-\",VLOOKUP(COUNTIF($M37:$O37,\"A\")-COUNTIF($M37:$O37,\"C\"),基本情報!$R$4:$S$10,2)))","v":""},null,null,null,null,null,"",null,null,null,{"$f":"IF(OR($I37=\"\",COUNTA($W37:$Y37)=0),\"\",IF(AND(W37=\"-\",X37=\"-\",Y37=\"-\"),\"-\",VLOOKUP(COUNTIF($W37:$Y37,\"A\")-COUNTIF($W37:$Y37,\"C\"),基本情報!$R$4:$S$10,2)))","v":""},null,null,null,null,null,"",null,null,null,{"$f":"IF(OR($I37=\"\",COUNTA($AG37:$AI37)=0),\"\",IF(AND(AG37=\"-\",AH37=\"-\",AI37=\"-\"),\"-\",VLOOKUP(COUNTIF($AG37:$AI37,\"A\")-COUNTIF($AG37:$AI37,\"C\"),基本情報!$R$4:$S$10,2)))","v":""}]
[null,null,null,null,10215,null,null,15,{"$f":"IF(VLOOKUP($E38,学年名簿と評価・評定!$E$24:$K$573,5)=\"\",\"\",VLOOKUP($E38,学年名簿と評価・評定!$E$24:$K$573,5))","v":""},{"$f":"IF(VLOOKUP($E38,学年名簿と評価・評定!$E$24:$K$573,6)=\"\",\"\",VLOOKUP($E38,学年名簿と評価・評定!$E$24:$K$573,7))","v":""},null,"",null,null,null,{"$f":"IF(OR($I38=\"\",COUNTA($M38:$O38)=0),\"\",IF(AND(M38=\"-\",N38=\"-\",O38=\"-\"),\"-\",VLOOKUP(COUNTIF($M38:$O38,\"A\")-COUNTIF($M38:$O38,\"C\"),基本情報!$R$4:$S$10,2)))","v":""},null,null,null,null,null,"",null,null,null,{"$f":"IF(OR($I38=\"\",COUNTA($W38:$Y38)=0),\"\",IF(AND(W38=\"-\",X38=\"-\",Y38=\"-\"),\"-\",VLOOKUP(COUNTIF($W38:$Y38,\"A\")-COUNTIF($W38:$Y38,\"C\"),基本情報!$R$4:$S$10,2)))","v":""},null,null,null,null,null,"",null,null,null,{"$f":"IF(OR($I38=\"\",COUNTA($AG38:$AI38)=0),\"\",IF(AND(AG38=\"-\",AH38=\"-\",AI38=\"-\"),\"-\",VLOOKUP(COUNTIF($AG38:$AI38,\"A\")-COUNTIF($AG38:$AI38,\"C\"),基本情報!$R$4:$S$10,2)))","v":""}]
[null,null,null,null,10216,null,null,16,{"$f":"IF(VLOOKUP($E39,学年名簿と評価・評定!$E$24:$K$573,5)=\"\",\"\",VLOOKUP($E39,学年名簿と評価・評定!$E$24:$K$573,5))","v":""},{"$f":"IF(VLOOKUP($E39,学年名簿と評価・評定!$E$24:$K$573,6)=\"\",\"\",VLOOKUP($E39,学年名簿と評価・評定!$E$24:$K$573,7))","v":""},null,"",null,null,null,{"$f":"IF(OR($I39=\"\",COUNTA($M39:$O39)=0),\"\",IF(AND(M39=\"-\",N39=\"-\",O39=\"-\"),\"-\",VLOOKUP(COUNTIF($M39:$O39,\"A\")-COUNTIF($M39:$O39,\"C\"),基本情報!$R$4:$S$10,2)))","v":""},null,null,null,null,null,"",null,null,null,{"$f":"IF(OR($I39=\"\",COUNTA($W39:$Y39)=0),\"\",IF(AND(W39=\"-\",X39=\"-\",Y39=\"-\"),\"-\",VLOOKUP(COUNTIF($W39:$Y39,\"A\")-COUNTIF($W39:$Y39,\"C\"),基本情報!$R$4:$S$10,2)))","v":""},null,null,null,null,null,"",null,null,null,{"$f":"IF(OR($I39=\"\",COUNTA($AG39:$AI39)=0),\"\",IF(AND(AG39=\"-\",AH39=\"-\",AI39=\"-\"),\"-\",VLOOKUP(COUNTIF($AG39:$AI39,\"A\")-COUNTIF($AG39:$AI39,\"C\"),基本情報!$R$4:$S$10,2)))","v":""}]
[null,null,null,null,10217,null,null,17,{"$f":"IF(VLOOKUP($E40,学年名簿と評価・評定!$E$24:$K$573,5)=\"\",\"\",VLOOKUP($E40,学年名簿と評価・評定!$E$24:$K$573,5))","v":""},{"$f":"IF(VLOOKUP($E40,学年名簿と評価・評定!$E$24:$K$573,6)=\"\",\"\",VLOOKUP($E40,学年名簿と評価・評定!$E$24:$K$573,7))","v":""},null,"",null,null,null,{"$f":"IF(OR($I40=\"\",COUNTA($M40:$O40)=0),\"\",IF(AND(M40=\"-\",N40=\"-\",O40=\"-\"),\"-\",VLOOKUP(COUNTIF($M40:$O40,\"A\")-COUNTIF($M40:$O40,\"C\"),基本情報!$R$4:$S$10,2)))","v":""},null,null,null,null,null,"",null,null,null,{"$f":"IF(OR($I40=\"\",COUNTA($W40:$Y40)=0),\"\",IF(AND(W40=\"-\",X40=\"-\",Y40=\"-\"),\"-\",VLOOKUP(COUNTIF($W40:$Y40,\"A\")-COUNTIF($W40:$Y40,\"C\"),基本情報!$R$4:$S$10,2)))","v":""},null,null,null,null,null,"",null,null,null,{"$f":"IF(OR($I40=\"\",COUNTA($AG40:$AI40)=0),\"\",IF(AND(AG40=\"-\",AH40=\"-\",AI40=\"-\"),\"-\",VLOOKUP(COUNTIF($AG40:$AI40,\"A\")-COUNTIF($AG40:$AI40,\"C\"),基本情報!$R$4:$S$10,2)))","v":""}]
[null,null,null,null,10218,null,null,18,{"$f":"IF(VLOOKUP($E41,学年名簿と評価・評定!$E$24:$K$573,5)=\"\",\"\",VLOOKUP($E41,学年名簿と評価・評定!$E$24:$K$573,5))","v":""},{"$f":"IF(VLOOKUP($E41,学年名簿と評価・評定!$E$24:$K$573,6)=\"\",\"\",VLOOKUP($E41,学年名簿と評価・評定!$E$24:$K$573,7))","v":""},null,"",null,null,null,{"$f":"IF(OR($I41=\"\",COUNTA($M41:$O41)=0),\"\",IF(AND(M41=\"-\",N41=\"-\",O41=\"-\"),\"-\",VLOOKUP(COUNTIF($M41:$O41,\"A\")-COUNTIF($M41:$O41,\"C\"),基本情報!$R$4:$S$10,2)))","v":""},null,null,null,null,null,"",null,null,null,{"$f":"IF(OR($I41=\"\",COUNTA($W41:$Y41)=0),\"\",IF(AND(W41=\"-\",X41=\"-\",Y41=\"-\"),\"-\",VLOOKUP(COUNTIF($W41:$Y41,\"A\")-COUNTIF($W41:$Y41,\"C\"),基本情報!$R$4:$S$10,2)))","v":""},null,null,null,null,null,"",null,null,null,{"$f":"IF(OR($I41=\"\",COUNTA($AG41:$AI41)=0),\"\",IF(AND(AG41=\"-\",AH41=\"-\",AI41=\"-\"),\"-\",VLOOKUP(COUNTIF($AG41:$AI41,\"A\")-COUNTIF($AG41:$AI41,\"C\"),基本情報!$R$4:$S$10,2)))","v":""}]
[null,null,null,null,10219,null,null,19,{"$f":"IF(VLOOKUP($E42,学年名簿と評価・評定!$E$24:$K$573,5)=\"\",\"\",VLOOKUP($E42,学年名簿と評価・評定!$E$24:$K$573,5))","v":""},{"$f":"IF(VLOOKUP($E42,学年名簿と評価・評定!$E$24:$K$573,6)=\"\",\"\",VLOOKUP($E42,学年名簿と評価・評定!$E$24:$K$573,7))","v":""},null,"",null,null,null,{"$f":"IF(OR($I42=\"\",COUNTA($M42:$O42)=0),\"\",IF(AND(M42=\"-\",N42=\"-\",O42=\"-\"),\"-\",VLOOKUP(COUNTIF($M42:$O42,\"A\")-COUNTIF($M42:$O42,\"C\"),基本情報!$R$4:$S$10,2)))","v":""},null,null,null,null,null,"",null,null,null,{"$f":"IF(OR($I42=\"\",COUNTA($W42:$Y42)=0),\"\",IF(AND(W42=\"-\",X42=\"-\",Y42=\"-\"),\"-\",VLOOKUP(COUNTIF($W42:$Y42,\"A\")-COUNTIF($W42:$Y42,\"C\"),基本情報!$R$4:$S$10,2)))","v":""},null,null,null,null,null,"",null,null,null,{"$f":"IF(OR($I42=\"\",COUNTA($AG42:$AI42)=0),\"\",IF(AND(AG42=\"-\",AH42=\"-\",AI42=\"-\"),\"-\",VLOOKUP(COUNTIF($AG42:$AI42,\"A\")-COUNTIF($AG42:$AI42,\"C\"),基本情報!$R$4:$S$10,2)))","v":""}]
[null,null,null,null,10220,null,null,20,{"$f":"IF(VLOOKUP($E43,学年名簿と評価・評定!$E$24:$K$573,5)=\"\",\"\",VLOOKUP($E43,学年名簿と評価・評定!$E$24:$K$573,5))","v":""},{"$f":"IF(VLOOKUP($E43,学年名簿と評価・評定!$E$24:$K$573,6)=\"\",\"\",VLOOKUP($E43,学年名簿と評価・評定!$E$24:$K$573,7))","v":""},null,"",null,null,null,{"$f":"IF(OR($I43=\"\",COUNTA($M43:$O43)=0),\"\",IF(AND(M43=\"-\",N43=\"-\",O43=\"-\"),\"-\",VLOOKUP(COUNTIF($M43:$O43,\"A\")-COUNTIF($M43:$O43,\"C\"),基本情報!$R$4:$S$10,2)))","v":""},null,null,null,null,null,"",null,null,null,{"$f":"IF(OR($I43=\"\",COUNTA($W43:$Y43)=0),\"\",IF(AND(W43=\"-\",X43=\"-\",Y43=\"-\"),\"-\",VLOOKUP(COUNTIF($W43:$Y43,\"A\")-COUNTIF($W43:$Y43,\"C\"),基本情報!$R$4:$S$10,2)))","v":""},null,null,null,null,null,"",null,null,null,{"$f":"IF(OR($I43=\"\",COUNTA($AG43:$AI43)=0),\"\",IF(AND(AG43=\"-\",AH43=\"-\",AI43=\"-\"),\"-\",VLOOKUP(COUNTIF($AG43:$AI43,\"A\")-COUNTIF($AG43:$AI43,\"C\"),基本情報!$R$4:$S$10,2)))","v":""}]
[null,null,null,null,10221,null,null,21,{"$f":"IF(VLOOKUP($E44,学年名簿と評価・評定!$E$24:$K$573,5)=\"\",\"\",VLOOKUP($E44,学年名簿と評価・評定!$E$24:$K$573,5))","v":""},{"$f":"IF(VLOOKUP($E44,学年名簿と評価・評定!$E$24:$K$573,6)=\"\",\"\",VLOOKUP($E44,学年名簿と評価・評定!$E$24:$K$573,7))","v":""},null,"",null,null,null,{"$f":"IF(OR($I44=\"\",COUNTA($M44:$O44)=0),\"\",IF(AND(M44=\"-\",N44=\"-\",O44=\"-\"),\"-\",VLOOKUP(COUNTIF($M44:$O44,\"A\")-COUNTIF($M44:$O44,\"C\"),基本情報!$R$4:$S$10,2)))","v":""},null,null,null,null,null,"",null,null,null,{"$f":"IF(OR($I44=\"\",COUNTA($W44:$Y44)=0),\"\",IF(AND(W44=\"-\",X44=\"-\",Y44=\"-\"),\"-\",VLOOKUP(COUNTIF($W44:$Y44,\"A\")-COUNTIF($W44:$Y44,\"C\"),基本情報!$R$4:$S$10,2)))","v":""},null,null,null,null,null,"",null,null,null,{"$f":"IF(OR($I44=\"\",COUNTA($AG44:$AI44)=0),\"\",IF(AND(AG44=\"-\",AH44=\"-\",AI44=\"-\"),\"-\",VLOOKUP(COUNTIF($AG44:$AI44,\"A\")-COUNTIF($AG44:$AI44,\"C\"),基本情報!$R$4:$S$10,2)))","v":""}]
[null,null,null,null,10222,null,null,22,{"$f":"IF(VLOOKUP($E45,学年名簿と評価・評定!$E$24:$K$573,5)=\"\",\"\",VLOOKUP($E45,学年名簿と評価・評定!$E$24:$K$573,5))","v":""},{"$f":"IF(VLOOKUP($E45,学年名簿と評価・評定!$E$24:$K$573,6)=\"\",\"\",VLOOKUP($E45,学年名簿と評価・評定!$E$24:$K$573,7))","v":""},null,"",null,null,null,{"$f":"IF(OR($I45=\"\",COUNTA($M45:$O45)=0),\"\",IF(AND(M45=\"-\",N45=\"-\",O45=\"-\"),\"-\",VLOOKUP(COUNTIF($M45:$O45,\"A\")-COUNTIF($M45:$O45,\"C\"),基本情報!$R$4:$S$10,2)))","v":""},null,null,null,null,null,"",null,null,null,{"$f":"IF(OR($I45=\"\",COUNTA($W45:$Y45)=0),\"\",IF(AND(W45=\"-\",X45=\"-\",Y45=\"-\"),\"-\",VLOOKUP(COUNTIF($W45:$Y45,\"A\")-COUNTIF($W45:$Y45,\"C\"),基本情報!$R$4:$S$10,2)))","v":""},null,null,null,null,null,"",null,null,null,{"$f":"IF(OR($I45=\"\",COUNTA($AG45:$AI45)=0),\"\",IF(AND(AG45=\"-\",AH45=\"-\",AI45=\"-\"),\"-\",VLOOKUP(COUNTIF($AG45:$AI45,\"A\")-COUNTIF($AG45:$AI45,\"C\"),基本情報!$R$4:$S$10,2)))","v":""}]
[null,null,null,null,10223,null,null,23,{"$f":"IF(VLOOKUP($E46,学年名簿と評価・評定!$E$24:$K$573,5)=\"\",\"\",VLOOKUP($E46,学年名簿と評価・評定!$E$24:$K$573,5))","v":""},{"$f":"IF(VLOOKUP($E46,学年名簿と評価・評定!$E$24:$K$573,6)=\"\",\"\",VLOOKUP($E46,学年名簿と評価・評定!$E$24:$K$573,7))","v":""},null,"",null,null,null,{"$f":"IF(OR($I46=\"\",COUNTA($M46:$O46)=0),\"\",IF(AND(M46=\"-\",N46=\"-\",O46=\"-\"),\"-\",VLOOKUP(COUNTIF($M46:$O46,\"A\")-COUNTIF($M46:$O46,\"C\"),基本情報!$R$4:$S$10,2)))","v":""},null,null,null,null,null,"",null,null,null,{"$f":"IF(OR($I46=\"\",COUNTA($W46:$Y46)=0),\"\",IF(AND(W46=\"-\",X46=\"-\",Y46=\"-\"),\"-\",VLOOKUP(COUNTIF($W46:$Y46,\"A\")-COUNTIF($W46:$Y46,\"C\"),基本情報!$R$4:$S$10,2)))","v":""},null,null,null,null,null,"",null,null,null,{"$f":"IF(OR($I46=\"\",COUNTA($AG46:$AI46)=0),\"\",IF(AND(AG46=\"-\",AH46=\"-\",AI46=\"-\"),\"-\",VLOOKUP(COUNTIF($AG46:$AI46,\"A\")-COUNTIF($AG46:$AI46,\"C\"),基本情報!$R$4:$S$10,2)))","v":""}]
[null,null,null,null,10224,null,null,24,{"$f":"IF(VLOOKUP($E47,学年名簿と評価・評定!$E$24:$K$573,5)=\"\",\"\",VLOOKUP($E47,学年名簿と評価・評定!$E$24:$K$573,5))","v":""},{"$f":"IF(VLOOKUP($E47,学年名簿と評価・評定!$E$24:$K$573,6)=\"\",\"\",VLOOKUP($E47,学年名簿と評価・評定!$E$24:$K$573,7))","v":""},null,"",null,null,null,{"$f":"IF(OR($I47=\"\",COUNTA($M47:$O47)=0),\"\",IF(AND(M47=\"-\",N47=\"-\",O47=\"-\"),\"-\",VLOOKUP(COUNTIF($M47:$O47,\"A\")-COUNTIF($M47:$O47,\"C\"),基本情報!$R$4:$S$10,2)))","v":""},null,null,null,null,null,"",null,null,null,{"$f":"IF(OR($I47=\"\",COUNTA($W47:$Y47)=0),\"\",IF(AND(W47=\"-\",X47=\"-\",Y47=\"-\"),\"-\",VLOOKUP(COUNTIF($W47:$Y47,\"A\")-COUNTIF($W47:$Y47,\"C\"),基本情報!$R$4:$S$10,2)))","v":""},null,null,null,null,null,"",null,null,null,{"$f":"IF(OR($I47=\"\",COUNTA($AG47:$AI47)=0),\"\",IF(AND(AG47=\"-\",AH47=\"-\",AI47=\"-\"),\"-\",VLOOKUP(COUNTIF($AG47:$AI47,\"A\")-COUNTIF($AG47:$AI47,\"C\"),基本情報!$R$4:$S$10,2)))","v":""}]
[null,null,null,null,10225,null,null,25,{"$f":"IF(VLOOKUP($E48,学年名簿と評価・評定!$E$24:$K$573,5)=\"\",\"\",VLOOKUP($E48,学年名簿と評価・評定!$E$24:$K$573,5))","v":""},{"$f":"IF(VLOOKUP($E48,学年名簿と評価・評定!$E$24:$K$573,6)=\"\",\"\",VLOOKUP($E48,学年名簿と評価・評定!$E$24:$K$573,7))","v":""},null,"",null,null,null,{"$f":"IF(OR($I48=\"\",COUNTA($M48:$O48)=0),\"\",IF(AND(M48=\"-\",N48=\"-\",O48=\"-\"),\"-\",VLOOKUP(COUNTIF($M48:$O48,\"A\")-COUNTIF($M48:$O48,\"C\"),基本情報!$R$4:$S$10,2)))","v":""},null,null,null,null,null,"",null,null,null,{"$f":"IF(OR($I48=\"\",COUNTA($W48:$Y48)=0),\"\",IF(AND(W48=\"-\",X48=\"-\",Y48=\"-\"),\"-\",VLOOKUP(COUNTIF($W48:$Y48,\"A\")-COUNTIF($W48:$Y48,\"C\"),基本情報!$R$4:$S$10,2)))","v":""},null,null,null,null,null,"",null,null,null,{"$f":"IF(OR($I48=\"\",COUNTA($AG48:$AI48)=0),\"\",IF(AND(AG48=\"-\",AH48=\"-\",AI48=\"-\"),\"-\",VLOOKUP(COUNTIF($AG48:$AI48,\"A\")-COUNTIF($AG48:$AI48,\"C\"),基本情報!$R$4:$S$10,2)))","v":""}]
[null,null,null,null,10226,null,null,26,{"$f":"IF(VLOOKUP($E49,学年名簿と評価・評定!$E$24:$K$573,5)=\"\",\"\",VLOOKUP($E49,学年名簿と評価・評定!$E$24:$K$573,5))","v":""},{"$f":"IF(VLOOKUP($E49,学年名簿と評価・評定!$E$24:$K$573,6)=\"\",\"\",VLOOKUP($E49,学年名簿と評価・評定!$E$24:$K$573,7))","v":""},null,"",null,null,null,{"$f":"IF(OR($I49=\"\",COUNTA($M49:$O49)=0),\"\",IF(AND(M49=\"-\",N49=\"-\",O49=\"-\"),\"-\",VLOOKUP(COUNTIF($M49:$O49,\"A\")-COUNTIF($M49:$O49,\"C\"),基本情報!$R$4:$S$10,2)))","v":""},null,null,null,null,null,"",null,null,null,{"$f":"IF(OR($I49=\"\",COUNTA($W49:$Y49)=0),\"\",IF(AND(W49=\"-\",X49=\"-\",Y49=\"-\"),\"-\",VLOOKUP(COUNTIF($W49:$Y49,\"A\")-COUNTIF($W49:$Y49,\"C\"),基本情報!$R$4:$S$10,2)))","v":""},null,null,null,null,null,"",null,null,null,{"$f":"IF(OR($I49=\"\",COUNTA($AG49:$AI49)=0),\"\",IF(AND(AG49=\"-\",AH49=\"-\",AI49=\"-\"),\"-\",VLOOKUP(COUNTIF($AG49:$AI49,\"A\")-COUNTIF($AG49:$AI49,\"C\"),基本情報!$R$4:$S$10,2)))","v":""}]
[null,null,null,null,10227,null,null,27,{"$f":"IF(VLOOKUP($E50,学年名簿と評価・評定!$E$24:$K$573,5)=\"\",\"\",VLOOKUP($E50,学年名簿と評価・評定!$E$24:$K$573,5))","v":""},{"$f":"IF(VLOOKUP($E50,学年名簿と評価・評定!$E$24:$K$573,6)=\"\",\"\",VLOOKUP($E50,学年名簿と評価・評定!$E$24:$K$573,7))","v":""},null,"",null,null,null,{"$f":"IF(OR($I50=\"\",COUNTA($M50:$O50)=0),\"\",IF(AND(M50=\"-\",N50=\"-\",O50=\"-\"),\"-\",VLOOKUP(COUNTIF($M50:$O50,\"A\")-COUNTIF($M50:$O50,\"C\"),基本情報!$R$4:$S$10,2)))","v":""},null,null,null,null,null,"",null,null,null,{"$f":"IF(OR($I50=\"\",COUNTA($W50:$Y50)=0),\"\",IF(AND(W50=\"-\",X50=\"-\",Y50=\"-\"),\"-\",VLOOKUP(COUNTIF($W50:$Y50,\"A\")-COUNTIF($W50:$Y50,\"C\"),基本情報!$R$4:$S$10,2)))","v":""},null,null,null,null,null,"",null,null,null,{"$f":"IF(OR($I50=\"\",COUNTA($AG50:$AI50)=0),\"\",IF(AND(AG50=\"-\",AH50=\"-\",AI50=\"-\"),\"-\",VLOOKUP(COUNTIF($AG50:$AI50,\"A\")-COUNTIF($AG50:$AI50,\"C\"),基本情報!$R$4:$S$10,2)))","v":""}]
[null,null,null,null,10228,null,null,28,{"$f":"IF(VLOOKUP($E51,学年名簿と評価・評定!$E$24:$K$573,5)=\"\",\"\",VLOOKUP($E51,学年名簿と評価・評定!$E$24:$K$573,5))","v":""},{"$f":"IF(VLOOKUP($E51,学年名簿と評価・評定!$E$24:$K$573,6)=\"\",\"\",VLOOKUP($E51,学年名簿と評価・評定!$E$24:$K$573,7))","v":""},null,"",null,null,null,{"$f":"IF(OR($I51=\"\",COUNTA($M51:$O51)=0),\"\",IF(AND(M51=\"-\",N51=\"-\",O51=\"-\"),\"-\",VLOOKUP(COUNTIF($M51:$O51,\"A\")-COUNTIF($M51:$O51,\"C\"),基本情報!$R$4:$S$10,2)))","v":""},null,null,null,null,null,"",null,null,null,{"$f":"IF(OR($I51=\"\",COUNTA($W51:$Y51)=0),\"\",IF(AND(W51=\"-\",X51=\"-\",Y51=\"-\"),\"-\",VLOOKUP(COUNTIF($W51:$Y51,\"A\")-COUNTIF($W51:$Y51,\"C\"),基本情報!$R$4:$S$10,2)))","v":""},null,null,null,null,null,"",null,null,null,{"$f":"IF(OR($I51=\"\",COUNTA($AG51:$AI51)=0),\"\",IF(AND(AG51=\"-\",AH51=\"-\",AI51=\"-\"),\"-\",VLOOKUP(COUNTIF($AG51:$AI51,\"A\")-COUNTIF($AG51:$AI51,\"C\"),基本情報!$R$4:$S$10,2)))","v":""}]
[null,null,null,null,10229,null,null,29,{"$f":"IF(VLOOKUP($E52,学年名簿と評価・評定!$E$24:$K$573,5)=\"\",\"\",VLOOKUP($E52,学年名簿と評価・評定!$E$24:$K$573,5))","v":""},{"$f":"IF(VLOOKUP($E52,学年名簿と評価・評定!$E$24:$K$573,6)=\"\",\"\",VLOOKUP($E52,学年名簿と評価・評定!$E$24:$K$573,7))","v":""},null,"",null,null,null,{"$f":"IF(OR($I52=\"\",COUNTA($M52:$O52)=0),\"\",IF(AND(M52=\"-\",N52=\"-\",O52=\"-\"),\"-\",VLOOKUP(COUNTIF($M52:$O52,\"A\")-COUNTIF($M52:$O52,\"C\"),基本情報!$R$4:$S$10,2)))","v":""},null,null,null,null,null,"",null,null,null,{"$f":"IF(OR($I52=\"\",COUNTA($W52:$Y52)=0),\"\",IF(AND(W52=\"-\",X52=\"-\",Y52=\"-\"),\"-\",VLOOKUP(COUNTIF($W52:$Y52,\"A\")-COUNTIF($W52:$Y52,\"C\"),基本情報!$R$4:$S$10,2)))","v":""},null,null,null,null,null,"",null,null,null,{"$f":"IF(OR($I52=\"\",COUNTA($AG52:$AI52)=0),\"\",IF(AND(AG52=\"-\",AH52=\"-\",AI52=\"-\"),\"-\",VLOOKUP(COUNTIF($AG52:$AI52,\"A\")-COUNTIF($AG52:$AI52,\"C\"),基本情報!$R$4:$S$10,2)))","v":""}]
[null,null,null,null,10230,null,null,30,{"$f":"IF(VLOOKUP($E53,学年名簿と評価・評定!$E$24:$K$573,5)=\"\",\"\",VLOOKUP($E53,学年名簿と評価・評定!$E$24:$K$573,5))","v":""},{"$f":"IF(VLOOKUP($E53,学年名簿と評価・評定!$E$24:$K$573,6)=\"\",\"\",VLOOKUP($E53,学年名簿と評価・評定!$E$24:$K$573,7))","v":""},null,"",null,null,null,{"$f":"IF(OR($I53=\"\",COUNTA($M53:$O53)=0),\"\",IF(AND(M53=\"-\",N53=\"-\",O53=\"-\"),\"-\",VLOOKUP(COUNTIF($M53:$O53,\"A\")-COUNTIF($M53:$O53,\"C\"),基本情報!$R$4:$S$10,2)))","v":""},null,null,null,null,null,"",null,null,null,{"$f":"IF(OR($I53=\"\",COUNTA($W53:$Y53)=0),\"\",IF(AND(W53=\"-\",X53=\"-\",Y53=\"-\"),\"-\",VLOOKUP(COUNTIF($W53:$Y53,\"A\")-COUNTIF($W53:$Y53,\"C\"),基本情報!$R$4:$S$10,2)))","v":""},null,null,null,null,null,"",null,null,null,{"$f":"IF(OR($I53=\"\",COUNTA($AG53:$AI53)=0),\"\",IF(AND(AG53=\"-\",AH53=\"-\",AI53=\"-\"),\"-\",VLOOKUP(COUNTIF($AG53:$AI53,\"A\")-COUNTIF($AG53:$AI53,\"C\"),基本情報!$R$4:$S$10,2)))","v":""}]
[null,null,null,null,10231,null,null,31,{"$f":"IF(VLOOKUP($E54,学年名簿と評価・評定!$E$24:$K$573,5)=\"\",\"\",VLOOKUP($E54,学年名簿と評価・評定!$E$24:$K$573,5))","v":""},{"$f":"IF(VLOOKUP($E54,学年名簿と評価・評定!$E$24:$K$573,6)=\"\",\"\",VLOOKUP($E54,学年名簿と評価・評定!$E$24:$K$573,7))","v":""},null,"",null,null,null,{"$f":"IF(OR($I54=\"\",COUNTA($M54:$O54)=0),\"\",IF(AND(M54=\"-\",N54=\"-\",O54=\"-\"),\"-\",VLOOKUP(COUNTIF($M54:$O54,\"A\")-COUNTIF($M54:$O54,\"C\"),基本情報!$R$4:$S$10,2)))","v":""},null,null,null,null,null,"",null,null,null,{"$f":"IF(OR($I54=\"\",COUNTA($W54:$Y54)=0),\"\",IF(AND(W54=\"-\",X54=\"-\",Y54=\"-\"),\"-\",VLOOKUP(COUNTIF($W54:$Y54,\"A\")-COUNTIF($W54:$Y54,\"C\"),基本情報!$R$4:$S$10,2)))","v":""},null,null,null,null,null,"",null,null,null,{"$f":"IF(OR($I54=\"\",COUNTA($AG54:$AI54)=0),\"\",IF(AND(AG54=\"-\",AH54=\"-\",AI54=\"-\"),\"-\",VLOOKUP(COUNTIF($AG54:$AI54,\"A\")-COUNTIF($AG54:$AI54,\"C\"),基本情報!$R$4:$S$10,2)))","v":""}]
[null,null,null,null,10232,null,null,32,{"$f":"IF(VLOOKUP($E55,学年名簿と評価・評定!$E$24:$K$573,5)=\"\",\"\",VLOOKUP($E55,学年名簿と評価・評定!$E$24:$K$573,5))","v":""},{"$f":"IF(VLOOKUP($E55,学年名簿と評価・評定!$E$24:$K$573,6)=\"\",\"\",VLOOKUP($E55,学年名簿と評価・評定!$E$24:$K$573,7))","v":""},null,"",null,null,null,{"$f":"IF(OR($I55=\"\",COUNTA($M55:$O55)=0),\"\",IF(AND(M55=\"-\",N55=\"-\",O55=\"-\"),\"-\",VLOOKUP(COUNTIF($M55:$O55,\"A\")-COUNTIF($M55:$O55,\"C\"),基本情報!$R$4:$S$10,2)))","v":""},null,null,null,null,null,"",null,null,null,{"$f":"IF(OR($I55=\"\",COUNTA($W55:$Y55)=0),\"\",IF(AND(W55=\"-\",X55=\"-\",Y55=\"-\"),\"-\",VLOOKUP(COUNTIF($W55:$Y55,\"A\")-COUNTIF($W55:$Y55,\"C\"),基本情報!$R$4:$S$10,2)))","v":""},null,null,null,null,null,"",null,null,null,{"$f":"IF(OR($I55=\"\",COUNTA($AG55:$AI55)=0),\"\",IF(AND(AG55=\"-\",AH55=\"-\",AI55=\"-\"),\"-\",VLOOKUP(COUNTIF($AG55:$AI55,\"A\")-COUNTIF($AG55:$AI55,\"C\"),基本情報!$R$4:$S$10,2)))","v":""}]
[null,null,null,null,{"$f":"$I$8*10000+$I$9*100+$H56","v":10233},null,null,33,{"$f":"IF(VLOOKUP($E56,学年名簿と評価・評定!$E$24:$K$573,5)=\"\",\"\",VLOOKUP($E56,学年名簿と評価・評定!$E$24:$K$573,5))","v":""},{"$f":"IF(VLOOKUP($E56,学年名簿と評価・評定!$E$24:$K$573,6)=\"\",\"\",VLOOKUP($E56,学年名簿と評価・評定!$E$24:$K$573,7))","v":""},null,"",null,null,null,{"$f":"IF(OR($I56=\"\",COUNTA($M56:$O56)=0),\"\",IF(AND(M56=\"-\",N56=\"-\",O56=\"-\"),\"-\",VLOOKUP(COUNTIF($M56:$O56,\"A\")-COUNTIF($M56:$O56,\"C\"),基本情報!$R$4:$S$10,2)))","v":""},null,null,null,null,null,"",null,null,null,{"$f":"IF(OR($I56=\"\",COUNTA($W56:$Y56)=0),\"\",IF(AND(W56=\"-\",X56=\"-\",Y56=\"-\"),\"-\",VLOOKUP(COUNTIF($W56:$Y56,\"A\")-COUNTIF($W56:$Y56,\"C\"),基本情報!$R$4:$S$10,2)))","v":""},null,null,null,null,null,"",null,null,null,{"$f":"IF(OR($I56=\"\",COUNTA($AG56:$AI56)=0),\"\",IF(AND(AG56=\"-\",AH56=\"-\",AI56=\"-\"),\"-\",VLOOKUP(COUNTIF($AG56:$AI56,\"A\")-COUNTIF($AG56:$AI56,\"C\"),基本情報!$R$4:$S$10,2)))","v":""}]
[null,null,null,null,10234,null,null,34,{"$f":"IF(VLOOKUP($E57,学年名簿と評価・評定!$E$24:$K$573,5)=\"\",\"\",VLOOKUP($E57,学年名簿と評価・評定!$E$24:$K$573,5))","v":""},{"$f":"IF(VLOOKUP($E57,学年名簿と評価・評定!$E$24:$K$573,6)=\"\",\"\",VLOOKUP($E57,学年名簿と評価・評定!$E$24:$K$573,7))","v":""},null,"",null,null,null,{"$f":"IF(OR($I57=\"\",COUNTA($M57:$O57)=0),\"\",IF(AND(M57=\"-\",N57=\"-\",O57=\"-\"),\"-\",VLOOKUP(COUNTIF($M57:$O57,\"A\")-COUNTIF($M57:$O57,\"C\"),基本情報!$R$4:$S$10,2)))","v":""},null,null,null,null,null,"",null,null,null,{"$f":"IF(OR($I57=\"\",COUNTA($W57:$Y57)=0),\"\",IF(AND(W57=\"-\",X57=\"-\",Y57=\"-\"),\"-\",VLOOKUP(COUNTIF($W57:$Y57,\"A\")-COUNTIF($W57:$Y57,\"C\"),基本情報!$R$4:$S$10,2)))","v":""},null,null,null,null,null,"",null,null,null,{"$f":"IF(OR($I57=\"\",COUNTA($AG57:$AI57)=0),\"\",IF(AND(AG57=\"-\",AH57=\"-\",AI57=\"-\"),\"-\",VLOOKUP(COUNTIF($AG57:$AI57,\"A\")-COUNTIF($AG57:$AI57,\"C\"),基本情報!$R$4:$S$10,2)))","v":""}]
[null,null,null,null,10235,null,null,35,{"$f":"IF(VLOOKUP($E58,学年名簿と評価・評定!$E$24:$K$573,5)=\"\",\"\",VLOOKUP($E58,学年名簿と評価・評定!$E$24:$K$573,5))","v":""},{"$f":"IF(VLOOKUP($E58,学年名簿と評価・評定!$E$24:$K$573,6)=\"\",\"\",VLOOKUP($E58,学年名簿と評価・評定!$E$24:$K$573,7))","v":""},null,"",null,null,null,{"$f":"IF(OR($I58=\"\",COUNTA($M58:$O58)=0),\"\",IF(AND(M58=\"-\",N58=\"-\",O58=\"-\"),\"-\",VLOOKUP(COUNTIF($M58:$O58,\"A\")-COUNTIF($M58:$O58,\"C\"),基本情報!$R$4:$S$10,2)))","v":""},null,null,null,null,null,"",null,null,null,{"$f":"IF(OR($I58=\"\",COUNTA($W58:$Y58)=0),\"\",IF(AND(W58=\"-\",X58=\"-\",Y58=\"-\"),\"-\",VLOOKUP(COUNTIF($W58:$Y58,\"A\")-COUNTIF($W58:$Y58,\"C\"),基本情報!$R$4:$S$10,2)))","v":""},null,null,null,null,null,"",null,null,null,{"$f":"IF(OR($I58=\"\",COUNTA($AG58:$AI58)=0),\"\",IF(AND(AG58=\"-\",AH58=\"-\",AI58=\"-\"),\"-\",VLOOKUP(COUNTIF($AG58:$AI58,\"A\")-COUNTIF($AG58:$AI58,\"C\"),基本情報!$R$4:$S$10,2)))","v":""}]
[null,null,null,null,10236,null,null,36,{"$f":"IF(VLOOKUP($E59,学年名簿と評価・評定!$E$24:$K$573,5)=\"\",\"\",VLOOKUP($E59,学年名簿と評価・評定!$E$24:$K$573,5))","v":""},{"$f":"IF(VLOOKUP($E59,学年名簿と評価・評定!$E$24:$K$573,6)=\"\",\"\",VLOOKUP($E59,学年名簿と評価・評定!$E$24:$K$573,7))","v":""},null,"",null,null,null,{"$f":"IF(OR($I59=\"\",COUNTA($M59:$O59)=0),\"\",IF(AND(M59=\"-\",N59=\"-\",O59=\"-\"),\"-\",VLOOKUP(COUNTIF($M59:$O59,\"A\")-COUNTIF($M59:$O59,\"C\"),基本情報!$R$4:$S$10,2)))","v":""},null,null,null,null,null,"",null,null,null,{"$f":"IF(OR($I59=\"\",COUNTA($W59:$Y59)=0),\"\",IF(AND(W59=\"-\",X59=\"-\",Y59=\"-\"),\"-\",VLOOKUP(COUNTIF($W59:$Y59,\"A\")-COUNTIF($W59:$Y59,\"C\"),基本情報!$R$4:$S$10,2)))","v":""},null,null,null,null,null,"",null,null,null,{"$f":"IF(OR($I59=\"\",COUNTA($AG59:$AI59)=0),\"\",IF(AND(AG59=\"-\",AH59=\"-\",AI59=\"-\"),\"-\",VLOOKUP(COUNTIF($AG59:$AI59,\"A\")-COUNTIF($AG59:$AI59,\"C\"),基本情報!$R$4:$S$10,2)))","v":""}]
[null,null,null,null,10237,null,null,37,{"$f":"IF(VLOOKUP($E60,学年名簿と評価・評定!$E$24:$K$573,5)=\"\",\"\",VLOOKUP($E60,学年名簿と評価・評定!$E$24:$K$573,5))","v":""},{"$f":"IF(VLOOKUP($E60,学年名簿と評価・評定!$E$24:$K$573,6)=\"\",\"\",VLOOKUP($E60,学年名簿と評価・評定!$E$24:$K$573,7))","v":""},null,"",null,null,null,{"$f":"IF(OR($I60=\"\",COUNTA($M60:$O60)=0),\"\",IF(AND(M60=\"-\",N60=\"-\",O60=\"-\"),\"-\",VLOOKUP(COUNTIF($M60:$O60,\"A\")-COUNTIF($M60:$O60,\"C\"),基本情報!$R$4:$S$10,2)))","v":""},null,null,null,null,null,"",null,null,null,{"$f":"IF(OR($I60=\"\",COUNTA($W60:$Y60)=0),\"\",IF(AND(W60=\"-\",X60=\"-\",Y60=\"-\"),\"-\",VLOOKUP(COUNTIF($W60:$Y60,\"A\")-COUNTIF($W60:$Y60,\"C\"),基本情報!$R$4:$S$10,2)))","v":""},null,null,null,null,null,"",null,null,null,{"$f":"IF(OR($I60=\"\",COUNTA($AG60:$AI60)=0),\"\",IF(AND(AG60=\"-\",AH60=\"-\",AI60=\"-\"),\"-\",VLOOKUP(COUNTIF($AG60:$AI60,\"A\")-COUNTIF($AG60:$AI60,\"C\"),基本情報!$R$4:$S$10,2)))","v":""}]
[null,null,null,null,10238,null,null,38,{"$f":"IF(VLOOKUP($E61,学年名簿と評価・評定!$E$24:$K$573,5)=\"\",\"\",VLOOKUP($E61,学年名簿と評価・評定!$E$24:$K$573,5))","v":""},{"$f":"IF(VLOOKUP($E61,学年名簿と評価・評定!$E$24:$K$573,6)=\"\",\"\",VLOOKUP($E61,学年名簿と評価・評定!$E$24:$K$573,7))","v":""},null,"",null,null,null,{"$f":"IF(OR($I61=\"\",COUNTA($M61:$O61)=0),\"\",IF(AND(M61=\"-\",N61=\"-\",O61=\"-\"),\"-\",VLOOKUP(COUNTIF($M61:$O61,\"A\")-COUNTIF($M61:$O61,\"C\"),基本情報!$R$4:$S$10,2)))","v":""},null,null,null,null,null,"",null,null,null,{"$f":"IF(OR($I61=\"\",COUNTA($W61:$Y61)=0),\"\",IF(AND(W61=\"-\",X61=\"-\",Y61=\"-\"),\"-\",VLOOKUP(COUNTIF($W61:$Y61,\"A\")-COUNTIF($W61:$Y61,\"C\"),基本情報!$R$4:$S$10,2)))","v":""},null,null,null,null,null,"",null,null,null,{"$f":"IF(OR($I61=\"\",COUNTA($AG61:$AI61)=0),\"\",IF(AND(AG61=\"-\",AH61=\"-\",AI61=\"-\"),\"-\",VLOOKUP(COUNTIF($AG61:$AI61,\"A\")-COUNTIF($AG61:$AI61,\"C\"),基本情報!$R$4:$S$10,2)))","v":""}]
[null,null,null,null,10239,null,null,39,{"$f":"IF(VLOOKUP($E62,学年名簿と評価・評定!$E$24:$K$573,5)=\"\",\"\",VLOOKUP($E62,学年名簿と評価・評定!$E$24:$K$573,5))","v":""},{"$f":"IF(VLOOKUP($E62,学年名簿と評価・評定!$E$24:$K$573,6)=\"\",\"\",VLOOKUP($E62,学年名簿と評価・評定!$E$24:$K$573,7))","v":""},null,"",null,null,null,{"$f":"IF(OR($I62=\"\",COUNTA($M62:$O62)=0),\"\",IF(AND(M62=\"-\",N62=\"-\",O62=\"-\"),\"-\",VLOOKUP(COUNTIF($M62:$O62,\"A\")-COUNTIF($M62:$O62,\"C\"),基本情報!$R$4:$S$10,2)))","v":""},null,null,null,null,null,"",null,null,null,{"$f":"IF(OR($I62=\"\",COUNTA($W62:$Y62)=0),\"\",IF(AND(W62=\"-\",X62=\"-\",Y62=\"-\"),\"-\",VLOOKUP(COUNTIF($W62:$Y62,\"A\")-COUNTIF($W62:$Y62,\"C\"),基本情報!$R$4:$S$10,2)))","v":""},null,null,null,null,null,"",null,null,null,{"$f":"IF(OR($I62=\"\",COUNTA($AG62:$AI62)=0),\"\",IF(AND(AG62=\"-\",AH62=\"-\",AI62=\"-\"),\"-\",VLOOKUP(COUNTIF($AG62:$AI62,\"A\")-COUNTIF($AG62:$AI62,\"C\"),基本情報!$R$4:$S$10,2)))","v":""}]
[null,null,null,null,10240,null,null,40,{"$f":"IF(VLOOKUP($E63,学年名簿と評価・評定!$E$24:$K$573,5)=\"\",\"\",VLOOKUP($E63,学年名簿と評価・評定!$E$24:$K$573,5))","v":""},{"$f":"IF(VLOOKUP($E63,学年名簿と評価・評定!$E$24:$K$573,6)=\"\",\"\",VLOOKUP($E63,学年名簿と評価・評定!$E$24:$K$573,7))","v":""},null,"",null,null,null,{"$f":"IF(OR($I63=\"\",COUNTA($M63:$O63)=0),\"\",IF(AND(M63=\"-\",N63=\"-\",O63=\"-\"),\"-\",VLOOKUP(COUNTIF($M63:$O63,\"A\")-COUNTIF($M63:$O63,\"C\"),基本情報!$R$4:$S$10,2)))","v":""},null,null,null,null,null,"",null,null,null,{"$f":"IF(OR($I63=\"\",COUNTA($W63:$Y63)=0),\"\",IF(AND(W63=\"-\",X63=\"-\",Y63=\"-\"),\"-\",VLOOKUP(COUNTIF($W63:$Y63,\"A\")-COUNTIF($W63:$Y63,\"C\"),基本情報!$R$4:$S$10,2)))","v":""},null,null,null,null,null,"",null,null,null,{"$f":"IF(OR($I63=\"\",COUNTA($AG63:$AI63)=0),\"\",IF(AND(AG63=\"-\",AH63=\"-\",AI63=\"-\"),\"-\",VLOOKUP(COUNTIF($AG63:$AI63,\"A\")-COUNTIF($AG63:$AI63,\"C\"),基本情報!$R$4:$S$10,2)))","v":""}]
[null,null,null,null,10241,null,null,41,{"$f":"IF(VLOOKUP($E64,学年名簿と評価・評定!$E$24:$K$573,5)=\"\",\"\",VLOOKUP($E64,学年名簿と評価・評定!$E$24:$K$573,5))","v":""},{"$f":"IF(VLOOKUP($E64,学年名簿と評価・評定!$E$24:$K$573,6)=\"\",\"\",VLOOKUP($E64,学年名簿と評価・評定!$E$24:$K$573,7))","v":""},null,"",null,null,null,{"$f":"IF(OR($I64=\"\",COUNTA($M64:$O64)=0),\"\",IF(AND(M64=\"-\",N64=\"-\",O64=\"-\"),\"-\",VLOOKUP(COUNTIF($M64:$O64,\"A\")-COUNTIF($M64:$O64,\"C\"),基本情報!$R$4:$S$10,2)))","v":""},null,null,null,null,null,"",null,null,null,{"$f":"IF(OR($I64=\"\",COUNTA($W64:$Y64)=0),\"\",IF(AND(W64=\"-\",X64=\"-\",Y64=\"-\"),\"-\",VLOOKUP(COUNTIF($W64:$Y64,\"A\")-COUNTIF($W64:$Y64,\"C\"),基本情報!$R$4:$S$10,2)))","v":""},null,null,null,null,null,"",null,null,null,{"$f":"IF(OR($I64=\"\",COUNTA($AG64:$AI64)=0),\"\",IF(AND(AG64=\"-\",AH64=\"-\",AI64=\"-\"),\"-\",VLOOKUP(COUNTIF($AG64:$AI64,\"A\")-COUNTIF($AG64:$AI64,\"C\"),基本情報!$R$4:$S$10,2)))","v":""}]
[null,null,null,null,10242,null,null,42,{"$f":"IF(VLOOKUP($E65,学年名簿と評価・評定!$E$24:$K$573,5)=\"\",\"\",VLOOKUP($E65,学年名簿と評価・評定!$E$24:$K$573,5))","v":""},{"$f":"IF(VLOOKUP($E65,学年名簿と評価・評定!$E$24:$K$573,6)=\"\",\"\",VLOOKUP($E65,学年名簿と評価・評定!$E$24:$K$573,7))","v":""},null,"",null,null,null,{"$f":"IF(OR($I65=\"\",COUNTA($M65:$O65)=0),\"\",IF(AND(M65=\"-\",N65=\"-\",O65=\"-\"),\"-\",VLOOKUP(COUNTIF($M65:$O65,\"A\")-COUNTIF($M65:$O65,\"C\"),基本情報!$R$4:$S$10,2)))","v":""},null,null,null,null,null,"",null,null,null,{"$f":"IF(OR($I65=\"\",COUNTA($W65:$Y65)=0),\"\",IF(AND(W65=\"-\",X65=\"-\",Y65=\"-\"),\"-\",VLOOKUP(COUNTIF($W65:$Y65,\"A\")-COUNTIF($W65:$Y65,\"C\"),基本情報!$R$4:$S$10,2)))","v":""},null,null,null,null,null,"",null,null,null,{"$f":"IF(OR($I65=\"\",COUNTA($AG65:$AI65)=0),\"\",IF(AND(AG65=\"-\",AH65=\"-\",AI65=\"-\"),\"-\",VLOOKUP(COUNTIF($AG65:$AI65,\"A\")-COUNTIF($AG65:$AI65,\"C\"),基本情報!$R$4:$S$10,2)))","v":""}]
[null,null,null,null,10243,null,null,43,{"$f":"IF(VLOOKUP($E66,学年名簿と評価・評定!$E$24:$K$573,5)=\"\",\"\",VLOOKUP($E66,学年名簿と評価・評定!$E$24:$K$573,5))","v":""},{"$f":"IF(VLOOKUP($E66,学年名簿と評価・評定!$E$24:$K$573,6)=\"\",\"\",VLOOKUP($E66,学年名簿と評価・評定!$E$24:$K$573,7))","v":""},null,"",null,null,null,{"$f":"IF(OR($I66=\"\",COUNTA($M66:$O66)=0),\"\",IF(AND(M66=\"-\",N66=\"-\",O66=\"-\"),\"-\",VLOOKUP(COUNTIF($M66:$O66,\"A\")-COUNTIF($M66:$O66,\"C\"),基本情報!$R$4:$S$10,2)))","v":""},null,null,null,null,null,"",null,null,null,{"$f":"IF(OR($I66=\"\",COUNTA($W66:$Y66)=0),\"\",IF(AND(W66=\"-\",X66=\"-\",Y66=\"-\"),\"-\",VLOOKUP(COUNTIF($W66:$Y66,\"A\")-COUNTIF($W66:$Y66,\"C\"),基本情報!$R$4:$S$10,2)))","v":""},null,null,null,null,null,"",null,null,null,{"$f":"IF(OR($I66=\"\",COUNTA($AG66:$AI66)=0),\"\",IF(AND(AG66=\"-\",AH66=\"-\",AI66=\"-\"),\"-\",VLOOKUP(COUNTIF($AG66:$AI66,\"A\")-COUNTIF($AG66:$AI66,\"C\"),基本情報!$R$4:$S$10,2)))","v":""}]
[null,null,null,null,10244,null,null,44,{"$f":"IF(VLOOKUP($E67,学年名簿と評価・評定!$E$24:$K$573,5)=\"\",\"\",VLOOKUP($E67,学年名簿と評価・評定!$E$24:$K$573,5))","v":""},{"$f":"IF(VLOOKUP($E67,学年名簿と評価・評定!$E$24:$K$573,6)=\"\",\"\",VLOOKUP($E67,学年名簿と評価・評定!$E$24:$K$573,7))","v":""},null,"",null,null,null,{"$f":"IF(OR($I67=\"\",COUNTA($M67:$O67)=0),\"\",IF(AND(M67=\"-\",N67=\"-\",O67=\"-\"),\"-\",VLOOKUP(COUNTIF($M67:$O67,\"A\")-COUNTIF($M67:$O67,\"C\"),基本情報!$R$4:$S$10,2)))","v":""},null,null,null,null,null,"",null,null,null,{"$f":"IF(OR($I67=\"\",COUNTA($W67:$Y67)=0),\"\",IF(AND(W67=\"-\",X67=\"-\",Y67=\"-\"),\"-\",VLOOKUP(COUNTIF($W67:$Y67,\"A\")-COUNTIF($W67:$Y67,\"C\"),基本情報!$R$4:$S$10,2)))","v":""},null,null,null,null,null,"",null,null,null,{"$f":"IF(OR($I67=\"\",COUNTA($AG67:$AI67)=0),\"\",IF(AND(AG67=\"-\",AH67=\"-\",AI67=\"-\"),\"-\",VLOOKUP(COUNTIF($AG67:$AI67,\"A\")-COUNTIF($AG67:$AI67,\"C\"),基本情報!$R$4:$S$10,2)))","v":""}]
[null,null,null,null,10245,null,null,45,{"$f":"IF(VLOOKUP($E68,学年名簿と評価・評定!$E$24:$K$573,5)=\"\",\"\",VLOOKUP($E68,学年名簿と評価・評定!$E$24:$K$573,5))","v":""},{"$f":"IF(VLOOKUP($E68,学年名簿と評価・評定!$E$24:$K$573,6)=\"\",\"\",VLOOKUP($E68,学年名簿と評価・評定!$E$24:$K$573,7))","v":""},null,"",null,null,null,{"$f":"IF(OR($I68=\"\",COUNTA($M68:$O68)=0),\"\",IF(AND(M68=\"-\",N68=\"-\",O68=\"-\"),\"-\",VLOOKUP(COUNTIF($M68:$O68,\"A\")-COUNTIF($M68:$O68,\"C\"),基本情報!$R$4:$S$10,2)))","v":""},null,null,null,null,null,"",null,null,null,{"$f":"IF(OR($I68=\"\",COUNTA($W68:$Y68)=0),\"\",IF(AND(W68=\"-\",X68=\"-\",Y68=\"-\"),\"-\",VLOOKUP(COUNTIF($W68:$Y68,\"A\")-COUNTIF($W68:$Y68,\"C\"),基本情報!$R$4:$S$10,2)))","v":""},null,null,null,null,null,"",null,null,null,{"$f":"IF(OR($I68=\"\",COUNTA($AG68:$AI68)=0),\"\",IF(AND(AG68=\"-\",AH68=\"-\",AI68=\"-\"),\"-\",VLOOKUP(COUNTIF($AG68:$AI68,\"A\")-COUNTIF($AG68:$AI68,\"C\"),基本情報!$R$4:$S$10,2)))","v":""}]
[null,null,null,null,10246,null,null,46,{"$f":"IF(VLOOKUP($E69,学年名簿と評価・評定!$E$24:$K$573,5)=\"\",\"\",VLOOKUP($E69,学年名簿と評価・評定!$E$24:$K$573,5))","v":""},{"$f":"IF(VLOOKUP($E69,学年名簿と評価・評定!$E$24:$K$573,6)=\"\",\"\",VLOOKUP($E69,学年名簿と評価・評定!$E$24:$K$573,7))","v":""},null,"",null,null,null,{"$f":"IF(OR($I69=\"\",COUNTA($M69:$O69)=0),\"\",IF(AND(M69=\"-\",N69=\"-\",O69=\"-\"),\"-\",VLOOKUP(COUNTIF($M69:$O69,\"A\")-COUNTIF($M69:$O69,\"C\"),基本情報!$R$4:$S$10,2)))","v":""},null,null,null,null,null,"",null,null,null,{"$f":"IF(OR($I69=\"\",COUNTA($W69:$Y69)=0),\"\",IF(AND(W69=\"-\",X69=\"-\",Y69=\"-\"),\"-\",VLOOKUP(COUNTIF($W69:$Y69,\"A\")-COUNTIF($W69:$Y69,\"C\"),基本情報!$R$4:$S$10,2)))","v":""},null,null,null,null,null,"",null,null,null,{"$f":"IF(OR($I69=\"\",COUNTA($AG69:$AI69)=0),\"\",IF(AND(AG69=\"-\",AH69=\"-\",AI69=\"-\"),\"-\",VLOOKUP(COUNTIF($AG69:$AI69,\"A\")-COUNTIF($AG69:$AI69,\"C\"),基本情報!$R$4:$S$10,2)))","v":""}]
[null,null,null,null,10247,null,null,47,{"$f":"IF(VLOOKUP($E70,学年名簿と評価・評定!$E$24:$K$573,5)=\"\",\"\",VLOOKUP($E70,学年名簿と評価・評定!$E$24:$K$573,5))","v":""},{"$f":"IF(VLOOKUP($E70,学年名簿と評価・評定!$E$24:$K$573,6)=\"\",\"\",VLOOKUP($E70,学年名簿と評価・評定!$E$24:$K$573,7))","v":""},null,"",null,null,null,{"$f":"IF(OR($I70=\"\",COUNTA($M70:$O70)=0),\"\",IF(AND(M70=\"-\",N70=\"-\",O70=\"-\"),\"-\",VLOOKUP(COUNTIF($M70:$O70,\"A\")-COUNTIF($M70:$O70,\"C\"),基本情報!$R$4:$S$10,2)))","v":""},null,null,null,null,null,"",null,null,null,{"$f":"IF(OR($I70=\"\",COUNTA($W70:$Y70)=0),\"\",IF(AND(W70=\"-\",X70=\"-\",Y70=\"-\"),\"-\",VLOOKUP(COUNTIF($W70:$Y70,\"A\")-COUNTIF($W70:$Y70,\"C\"),基本情報!$R$4:$S$10,2)))","v":""},null,null,null,null,null,"",null,null,null,{"$f":"IF(OR($I70=\"\",COUNTA($AG70:$AI70)=0),\"\",IF(AND(AG70=\"-\",AH70=\"-\",AI70=\"-\"),\"-\",VLOOKUP(COUNTIF($AG70:$AI70,\"A\")-COUNTIF($AG70:$AI70,\"C\"),基本情報!$R$4:$S$10,2)))","v":""}]
[null,null,null,null,10248,null,null,48,{"$f":"IF(VLOOKUP($E71,学年名簿と評価・評定!$E$24:$K$573,5)=\"\",\"\",VLOOKUP($E71,学年名簿と評価・評定!$E$24:$K$573,5))","v":""},{"$f":"IF(VLOOKUP($E71,学年名簿と評価・評定!$E$24:$K$573,6)=\"\",\"\",VLOOKUP($E71,学年名簿と評価・評定!$E$24:$K$573,7))","v":""},null,"",null,null,null,{"$f":"IF(OR($I71=\"\",COUNTA($M71:$O71)=0),\"\",IF(AND(M71=\"-\",N71=\"-\",O71=\"-\"),\"-\",VLOOKUP(COUNTIF($M71:$O71,\"A\")-COUNTIF($M71:$O71,\"C\"),基本情報!$R$4:$S$10,2)))","v":""},null,null,null,null,null,"",null,null,null,{"$f":"IF(OR($I71=\"\",COUNTA($W71:$Y71)=0),\"\",IF(AND(W71=\"-\",X71=\"-\",Y71=\"-\"),\"-\",VLOOKUP(COUNTIF($W71:$Y71,\"A\")-COUNTIF($W71:$Y71,\"C\"),基本情報!$R$4:$S$10,2)))","v":""},null,null,null,null,null,"",null,null,null,{"$f":"IF(OR($I71=\"\",COUNTA($AG71:$AI71)=0),\"\",IF(AND(AG71=\"-\",AH71=\"-\",AI71=\"-\"),\"-\",VLOOKUP(COUNTIF($AG71:$AI71,\"A\")-COUNTIF($AG71:$AI71,\"C\"),基本情報!$R$4:$S$10,2)))","v":""}]
[null,null,null,null,10249,null,null,49,{"$f":"IF(VLOOKUP($E72,学年名簿と評価・評定!$E$24:$K$573,5)=\"\",\"\",VLOOKUP($E72,学年名簿と評価・評定!$E$24:$K$573,5))","v":""},{"$f":"IF(VLOOKUP($E72,学年名簿と評価・評定!$E$24:$K$573,6)=\"\",\"\",VLOOKUP($E72,学年名簿と評価・評定!$E$24:$K$573,7))","v":""},null,"",null,null,null,{"$f":"IF(OR($I72=\"\",COUNTA($M72:$O72)=0),\"\",IF(AND(M72=\"-\",N72=\"-\",O72=\"-\"),\"-\",VLOOKUP(COUNTIF($M72:$O72,\"A\")-COUNTIF($M72:$O72,\"C\"),基本情報!$R$4:$S$10,2)))","v":""},null,null,null,null,null,"",null,null,null,{"$f":"IF(OR($I72=\"\",COUNTA($W72:$Y72)=0),\"\",IF(AND(W72=\"-\",X72=\"-\",Y72=\"-\"),\"-\",VLOOKUP(COUNTIF($W72:$Y72,\"A\")-COUNTIF($W72:$Y72,\"C\"),基本情報!$R$4:$S$10,2)))","v":""},null,null,null,null,null,"",null,null,null,{"$f":"IF(OR($I72=\"\",COUNTA($AG72:$AI72)=0),\"\",IF(AND(AG72=\"-\",AH72=\"-\",AI72=\"-\"),\"-\",VLOOKUP(COUNTIF($AG72:$AI72,\"A\")-COUNTIF($AG72:$AI72,\"C\"),基本情報!$R$4:$S$10,2)))","v":""}]
[null,null,null,null,10250,null,null,50,{"$f":"IF(VLOOKUP($E73,学年名簿と評価・評定!$E$24:$K$573,5)=\"\",\"\",VLOOKUP($E73,学年名簿と評価・評定!$E$24:$K$573,5))","v":""},{"$f":"IF(VLOOKUP($E73,学年名簿と評価・評定!$E$24:$K$573,6)=\"\",\"\",VLOOKUP($E73,学年名簿と評価・評定!$E$24:$K$573,7))","v":""},null,"",null,null,null,{"$f":"IF(OR($I73=\"\",COUNTA($M73:$O73)=0),\"\",IF(AND(M73=\"-\",N73=\"-\",O73=\"-\"),\"-\",VLOOKUP(COUNTIF($M73:$O73,\"A\")-COUNTIF($M73:$O73,\"C\"),基本情報!$R$4:$S$10,2)))","v":""},null,null,null,null,null,"",null,null,null,{"$f":"IF(OR($I73=\"\",COUNTA($W73:$Y73)=0),\"\",IF(AND(W73=\"-\",X73=\"-\",Y73=\"-\"),\"-\",VLOOKUP(COUNTIF($W73:$Y73,\"A\")-COUNTIF($W73:$Y73,\"C\"),基本情報!$R$4:$S$10,2)))","v":""},null,null,null,null,null,"",null,null,null,{"$f":"IF(OR($I73=\"\",COUNTA($AG73:$AI73)=0),\"\",IF(AND(AG73=\"-\",AH73=\"-\",AI73=\"-\"),\"-\",VLOOKUP(COUNTIF($AG73:$AI73,\"A\")-COUNTIF($AG73:$AI73,\"C\"),基本情報!$R$4:$S$10,2)))","v":""}]

{"sheet":"3組","index":4,"n_rows":73,"n_cols":40,"rows_kept":73,"cut":false,"hidden":false,"merged":[[2,34,2,36],[2,37,2,39],[21,11,21,15],[21,21,21,25],[21,31,21,35],[2,11,2,13],[2,14,2,16],[2,17,2,19],[2,21,2,23],[2,24,2,26],[2,27,2,29],[2,31,2,33]]}
[]
[]
[null,null,null,null,null,null,null,null,null,null,null,"校長",null,null,"教頭",null,null,"教務",null,null,null,"校長",null,null,"教頭",null,null,"教務",null,null,null,"校長",null,null,"教頭",null,null,"教務"]
[]
[]
[]
[]
[null,null,null,null,null,null,null,null,{"$f":"基本情報!E4","v":1},null,null,null,1,2,3,4,5,"-",null,"平均",null,null,1,2,3,4,5,"-",null,"平均",null,null,1,2,3,4,5,"-",null,"平均"]
[null,null,null,null,null,null,null,null,3,null,null,1,{"$f":"学年名簿と評価・評定!M9","v":0},{"$f":"学年名簿と評価・評定!N9","v":0},{"$f":"学年名簿と評価・評定!O9","v":0},{"$f":"学年名簿と評価・評定!P9","v":0},{"$f":"学年名簿と評価・評定!Q9","v":1},{"$f":"学年名簿と評価・評定!R9","v":0},{"$f":"SUM(M9:R9)","v":1},{"$f":"学年名簿と評価・評定!T9","v":5},null,1,{"$f":"学年名簿と評価・評定!W9","v":1},{"$f":"学年名簿と評価・評定!X9","v":0},{"$f":"学年名簿と評価・評定!Y9","v":0},{"$f":"学年名簿と評価・評定!Z9","v":0},{"$f":"学年名簿と評価・評定!AA9","v":0},{"$f":"学年名簿と評価・評定!AB9","v":0},{"$f":"学年名簿と評価・評定!AC9","v":1},{"$f":"学年名簿と評価・評定!AD9","v":1},null,1,{"$f":"学年名簿と評価・評定!AG9","v":0},{"$f":"学年名簿と評価・評定!AH9","v":0},{"$f":"学年名簿と評価・評定!AI9","v":1},{"$f":"学年名簿と評価・評定!AJ9","v":0},{"$f":"学年名簿と評価・評定!AK9","v":0},{"$f":"学年名簿と評価・評定!AL9","v":0},{"$f":"学年名簿と評価・評定!AM9","v":1},{"$f":"学年名簿と評価・評定!AN9","v":3}]
[null,null,null,null,null,null,null,null,null,null,null,2,{"$f":"学年名簿と評価・評定!M10","v":0},{"$f":"学年名簿と評価・評定!N10","v":0},{"$f":"学年名簿と評価・評定!O10","v":0},{"$f":"学年名簿と評価・評定!P10","v":0},{"$f":"学年名簿と評価・評定!Q10","v":0},{"$f":"学年名簿と評価・評定!R10","v":0},{"$f":"SUM(M10:R10)","v":0},{"$f":"学年名簿と評価・評定!T10","v":""},null,2,{"$f":"学年名簿と評価・評定!W10","v":0},{"$f":"学年名簿と評価・評定!X10","v":0},{"$f":"学年名簿と評価・評定!Y10","v":0},{"$f":"学年名簿と評価・評定!Z10","v":0},{"$f":"学年名簿と評価・評定!AA10","v":0},{"$f":"学年名簿と評価・評定!AB10","v":0},{"$f":"学年名簿と評価・評定!AC10","v":0},{"$f":"学年名簿と評価・評定!AD10","v":""},null,2,{"$f":"学年名簿と評価・評定!AG10","v":0},{"$f":"学年名簿と評価・評定!AH10","v":0},{"$f":"学年名簿と評価・評定!AI10","v":0},{"$f":"学年名簿と評価・評定!AJ10","v":0},{"$f":"学年名簿と評価・評定!AK10","v":0},{"$f":"学年名簿と評価・評定!AL10","v":0},{"$f":"学年名簿と評価・評定!AM10","v":0},{"$f":"学年名簿と評価・評定!AN10","v":""}]
[null,null,null,null,null,null,null,null,null,null,null,3,{"$f":"学年名簿と評価・評定!M11","v":0},{"$f":"学年名簿と評価・評定!N11","v":0},{"$f":"学年名簿と評価・評定!O11","v":0},{"$f":"学年名簿と評価・評定!P11","v":0},{"$f":"学年名簿と評価・評定!Q11","v":0},{"$f":"学年名簿と評価・評定!R11","v":0},0,{"$f":"学年名簿と評価・評定!T11","v":""},null,3,{"$f":"学年名簿と評価・評定!W11","v":0},{"$f":"学年名簿と評価・評定!X11","v":0},{"$f":"学年名簿と評価・評定!Y11","v":0},{"$f":"学年名簿と評価・評定!Z11","v":0},{"$f":"学年名簿と評価・評定!AA11","v":0},{"$f":"学年名簿と評価・評定!AB11","v":0},{"$f":"学年名簿と評価・評定!AC11","v":0},{"$f":"学年名簿と評価・評定!AD11","v":""},null,3,{"$f":"学年名簿と評価・評定!AG11","v":0},{"$f":"学年名簿と評価・評定!AH11","v":0},{"$f":"学年名簿と評価・評定!AI11","v":0},{"$f":"学年名簿と評価・評定!AJ11","v":0},{"$f":"学年名簿と評価・評定!AK11","v":0},{"$f":"学年名簿と評価・評定!AL11","v":0},{"$f":"学年名簿と評価・評定!AM11","v":0},{"$f":"学年名簿と評価・評定!AN11","v":""}]
[null,null,null,null,null,null,null,null,null,null,null,4,{"$f":"学年名簿と評価・評定!M12","v":0},{"$f":"学年名簿と評価・評定!N12","v":0},{"$f":"学年名簿と評価・評定!O12","v":0},{"$f":"学年名簿と評価・評定!P12","v":0},{"$f":"学年名簿と評価・評定!Q12","v":0},{"$f":"学年名簿と評価・評定!R12","v":0},0,{"$f":"学年名簿と評価・評定!T12","v":""},null,4,{"$f":"学年名簿と評価・評定!W12","v":0},{"$f":"学年名簿と評価・評定!X12","v":0},{"$f":"学年名簿と評価・評定!Y12","v":0},{"$f":"学年名簿と評価・評定!Z12","v":0},{"$f":"学年名簿と評価・評定!AA12","v":0},{"$f":"学年名簿と評価・評定!AB12","v":0},{"$f":"学年名簿と評価・評定!AC12","v":0},{"$f":"学年名簿と評価・評定!AD12","v":""},null,4,{"$f":"学年名簿と評価・評定!AG12","v":0},{"$f":"学年名簿と評価・評定!AH12","v":0},{"$f":"学年名簿と評価・評定!AI12","v":0},{"$f":"学年名簿と評価・評定!AJ12","v":0},{"$f":"学年名簿と評価・評定!AK12","v":0},{"$f":"学年名簿と評価・評定!AL12","v":0},{"$f":"学年名簿と評価・評定!AM12","v":0},{"$f":"学年名簿と評価・評定!AN12","v":""}]
[null,null,null,null,null,null,null,null,null,null,null,5,{"$f":"学年名簿と評価・評定!M13","v":0},{"$f":"学年名簿と評価・評定!N13","v":0},{"$f":"学年名簿と評価・評定!O13","v":0},{"$f":"学年名簿と評価・評定!P13","v":0},{"$f":"学年名簿と評価・評定!Q13","v":0},{"$f":"学年名簿と評価・評定!R13","v":0},0,{"$f":"学年名簿と評価・評定!T13","v":""},null,5,{"$f":"学年名簿と評価・評定!W13","v":0},{"$f":"学年名簿と評価・評定!X13","v":0},{"$f":"学年名簿と評価・評定!Y13","v":0},{"$f":"学年名簿と評価・評定!Z13","v":0},{"$f":"学年名簿と評価・評定!AA13","v":0},{"$f":"学年名簿と評価・評定!AB13","v":0},{"$f":"学年名簿と評価・評定!AC13","v":0},{"$f":"学年名簿と評価・評定!AD13","v":""},null,5,{"$f":"学年名簿と評価・評定!AG13","v":0},{"$f":"学年名簿と評価・評定!AH13","v":0},{"$f":"学年名簿と評価・評定!AI13","v":0},{"$f":"学年名簿と評価・評定!AJ13","v":0},{"$f":"学年名簿と評価・評定!AK13","v":0},{"$f":"学年名簿と評価・評定!AL13","v":0},{"$f":"学年名簿と評価・評定!AM13","v":0},{"$f":"学年名簿と評価・評定!AN13","v":""}]
[null,null,null,null,null,null,null,null,null,null,null,6,{"$f":"学年名簿と評価・評定!M14","v":0},{"$f":"学年名簿と評価・評定!N14","v":0},{"$f":"学年名簿と評価・評定!O14","v":0},{"$f":"学年名簿と評価・評定!P14","v":0},{"$f":"学年名簿と評価・評定!Q14","v":0},{"$f":"学年名簿と評価・評定!R14","v":0},0,{"$f":"学年名簿と評価・評定!T14","v":""},null,6,{"$f":"学年名簿と評価・評定!W14","v":0},{"$f":"学年名簿と評価・評定!X14","v":0},{"$f":"学年名簿と評価・評定!Y14","v":0},{"$f":"学年名簿と評価・評定!Z14","v":0},{"$f":"学年名簿と評価・評定!AA14","v":0},{"$f":"学年名簿と評価・評定!AB14","v":0},{"$f":"学年名簿と評価・評定!AC14","v":0},{"$f":"学年名簿と評価・評定!AD14","v":""},null,6,{"$f":"学年名簿と評価・評定!AG14","v":0},{"$f":"学年名簿と評価・評定!AH14","v":0},{"$f":"学年名簿と評価・評定!AI14","v":0},{"$f":"学年名簿と評価・評定!AJ14","v":0},{"$f":"学年名簿と評価・評定!AK14","v":0},{"$f":"学年名簿と評価・評定!AL14","v":0},{"$f":"学年名簿と評価・評定!AM14","v":0},{"$f":"学年名簿と評価・評定!AN14","v":""}]
[null,null,null,null,null,null,null,null,null,null,null,7,{"$f":"学年名簿と評価・評定!M15","v":0},{"$f":"学年名簿と評価・評定!N15","v":0},{"$f":"学年名簿と評価・評定!O15","v":0},{"$f":"学年名簿と評価・評定!P15","v":0},{"$f":"学年名簿と評価・評定!Q15","v":0},{"$f":"学年名簿と評価・評定!R15","v":0},0,{"$f":"学年名簿と評価・評定!T15","v":""},null,7,{"$f":"学年名簿と評価・評定!W15","v":0},{"$f":"学年名簿と評価・評定!X15","v":0},{"$f":"学年名簿と評価・評定!Y15","v":0},{"$f":"学年名簿と評価・評定!Z15","v":0},{"$f":"学年名簿と評価・評定!AA15","v":0},{"$f":"学年名簿と評価・評定!AB15","v":0},{"$f":"学年名簿と評価・評定!AC15","v":0},{"$f":"学年名簿と評価・評定!AD15","v":""},null,7,{"$f":"学年名簿と評価・評定!AG15","v":0},{"$f":"学年名簿と評価・評定!AH15","v":0},{"$f":"学年名簿と評価・評定!AI15","v":0},{"$f":"学年名簿と評価・評定!AJ15","v":0},{"$f":"学年名簿と評価・評定!AK15","v":0},{"$f":"学年名簿と評価・評定!AL15","v":0},{"$f":"学年名簿と評価・評定!AM15","v":0},{"$f":"学年名簿と評価・評定!AN15","v":""}]
[null,null,null,null,null,null,null,null,null,null,null,8,{"$f":"学年名簿と評価・評定!M16","v":0},{"$f":"学年名簿と評価・評定!N16","v":0},{"$f":"学年名簿と評価・評定!O16","v":0},{"$f":"学年名簿と評価・評定!P16","v":0},{"$f":"学年名簿と評価・評定!Q16","v":0},{"$f":"学年名簿と評価・評定!R16","v":0},0,{"$f":"学年名簿と評価・評定!T16","v":""},null,8,{"$f":"学年名簿と評価・評定!W16","v":0},{"$f":"学年名簿と評価・評定!X16","v":0},{"$f":"学年名簿と評価・評定!Y16","v":0},{"$f":"学年名簿と評価・評定!Z16","v":0},{"$f":"学年名簿と評価・評定!AA16","v":0},{"$f":"学年名簿と評価・評定!AB16","v":0},{"$f":"学年名簿と評価・評定!AC16","v":0},{"$f":"学年名簿と評価・評定!AD16","v":""},null,8,{"$f":"学年名簿と評価・評定!AG16","v":0},{"$f":"学年名簿と評価・評定!AH16","v":0},{"$f":"学年名簿と評価・評定!AI16","v":0},{"$f":"学年名簿と評価・評定!AJ16","v":0},{"$f":"学年名簿と評価・評定!AK16","v":0},{"$f":"学年名簿と評価・評定!AL16","v":0},{"$f":"学年名簿と評価・評定!AM16","v":0},{"$f":"学年名簿と評価・評定!AN16","v":""}]
[null,null,null,null,null,null,null,null,null,null,null,9,{"$f":"学年名簿と評価・評定!M17","v":0},{"$f":"学年名簿と評価・評定!N17","v":0},{"$f":"学年名簿と評価・評定!O17","v":0},{"$f":"学年名簿と評価・評定!P17","v":0},{"$f":"学年名簿と評価・評定!Q17","v":0},{"$f":"学年名簿と評価・評定!R17","v":0},0,{"$f":"学年名簿と評価・評定!T17","v":""},null,9,{"$f":"学年名簿と評価・評定!W17","v":0},{"$f":"学年名簿と評価・評定!X17","v":0},{"$f":"学年名簿と評価・評定!Y17","v":0},{"$f":"学年名簿と評価・評定!Z17","v":0},{"$f":"学年名簿と評価・評定!AA17","v":0},{"$f":"学年名簿と評価・評定!AB17","v":0},{"$f":"学年名簿と評価・評定!AC17","v":0},{"$f":"学年名簿と評価・評定!AD17","v":""},null,9,{"$f":"学年名簿と評価・評定!AG17","v":0},{"$f":"学年名簿と評価・評定!AH17","v":0},{"$f":"学年名簿と評価・評定!AI17","v":0},{"$f":"学年名簿と評価・評定!AJ17","v":0},{"$f":"学年名簿と評価・評定!AK17","v":0},{"$f":"学年名簿と評価・評定!AL17","v":0},{"$f":"学年名簿と評価・評定!AM17","v":0},{"$f":"学年名簿と評価・評定!AN17","v":""}]
[null,null,null,null,null,null,null,null,null,null,null,10,{"$f":"学年名簿と評価・評定!M18","v":0},{"$f":"学年名簿と評価・評定!N18","v":0},{"$f":"学年名簿と評価・評定!O18","v":0},{"$f":"学年名簿と評価・評定!P18","v":0},{"$f":"学年名簿と評価・評定!Q18","v":0},{"$f":"学年名簿と評価・評定!R18","v":0},0,{"$f":"学年名簿と評価・評定!T18","v":""},null,10,{"$f":"学年名簿と評価・評定!W18","v":0},{"$f":"学年名簿と評価・評定!X18","v":0},{"$f":"学年名簿と評価・評定!Y18","v":0},{"$f":"学年名簿と評価・評定!Z18","v":0},{"$f":"学年名簿と評価・評定!AA18","v":0},{"$f":"学年名簿と評価・評定!AB18","v":0},{"$f":"学年名簿と評価・評定!AC18","v":0},{"$f":"学年名簿と評価・評定!AD18","v":""},null,10,{"$f":"学年名簿と評価・評定!AG18","v":0},{"$f":"学年名簿と評価・評定!AH18","v":0},{"$f":"学年名簿と評価・評定!AI18","v":0},{"$f":"学年名簿と評価・評定!AJ18","v":0},{"$f":"学年名簿と評価・評定!AK18","v":0},{"$f":"学年名簿と評価・評定!AL18","v":0},{"$f":"学年名簿と評価・評定!AM18","v":0},{"$f":"学年名簿と評価・評定!AN18","v":""}]
[null,null,null,null,null,null,null,null,null,null,null,11,{"$f":"学年名簿と評価・評定!M19","v":0},{"$f":"学年名簿と評価・評定!N19","v":0},{"$f":"学年名簿と評価・評定!O19","v":0},{"$f":"学年名簿と評価・評定!P19","v":0},{"$f":"学年名簿と評価・評定!Q19","v":0},{"$f":"学年名簿と評価・評定!R19","v":0},0,{"$f":"学年名簿と評価・評定!T19","v":""},null,11,{"$f":"学年名簿と評価・評定!W19","v":0},{"$f":"学年名簿と評価・評定!X19","v":0},{"$f":"学年名簿と評価・評定!Y19","v":0},{"$f":"学年名簿と評価・評定!Z19","v":0},{"$f":"学年名簿と評価・評定!AA19","v":0},{"$f":"学年名簿と評価・評定!AB19","v":0},{"$f":"学年名簿と評価・評定!AC19","v":0},{"$f":"学年名簿と評価・評定!AD19","v":""},null,11,{"$f":"学年名簿と評価・評定!AG19","v":0},{"$f":"学年名簿と評価・評定!AH19","v":0},{"$f":"学年名簿と評価・評定!AI19","v":0},{"$f":"学年名簿と評価・評定!AJ19","v":0},{"$f":"学年名簿と評価・評定!AK19","v":0},{"$f":"学年名簿と評価・評定!AL19","v":0},{"$f":"学年名簿と評価・評定!AM19","v":0},{"$f":"学年名簿と評価・評定!AN19","v":""}]
[null,null,null,null,null,null,null,null,{"$f":"基本情報!E6","v":"国語"},null,null,"計",{"$f":"学年名簿と評価・評定!M20","v":0},{"$f":"学年名簿と評価・評定!N20","v":0},{"$f":"学年名簿と評価・評定!O20","v":0},{"$f":"学年名簿と評価・評定!P20","v":0},{"$f":"学年名簿と評価・評定!Q20","v":1},{"$f":"学年名簿と評価・評定!R20","v":0},1,{"$f":"学年名簿と評価・評定!T20","v":5},null,"計",{"$f":"学年名簿と評価・評定!W20","v":1},{"$f":"学年名簿と評価・評定!X20","v":0},{"$f":"学年名簿と評価・評定!Y20","v":0},{"$f":"学年名簿と評価・評定!Z20","v":0},{"$f":"学年名簿と評価・評定!AA20","v":0},{"$f":"学年名簿と評価・評定!AB20","v":0},{"$f":"学年名簿と評価・評定!AC20","v":1},{"$f":"学年名簿と評価・評定!AD20","v":1},null,"計",{"$f":"学年名簿と評価・評定!AG20","v":0},{"$f":"学年名簿と評価・評定!AH20","v":0},{"$f":"学年名簿と評価・評定!AI20","v":1},{"$f":"学年名簿と評価・評定!AJ20","v":0},{"$f":"学年名簿と評価・評定!AK20","v":0},{"$f":"学年名簿と評価・評定!AL20","v":0},{"$f":"学年名簿と評価・評定!AM20","v":1},{"$f":"学年名簿と評価・評定!AN20","v":3}]
[]
[null,null,null,null,null,null,null,null,null,null,null,"前　　期",null,null,null,null,null,null,null,null,null,"後　　期",null,null,null,null,null,null,null,null,null,"学　　年"]
[null,null,null,null,null,null,null,"番","氏　　名","性",null,"評定",{"$f":"基本情報!P14","v":"知技"},{"$f":"基本情報!P15","v":"思判"},{"$f":"基本情報!P16","v":"学び"},"評定","CHECK",null,null,null,null,"評定",{"$f":"M23","v":"知技"},{"$f":"N23","v":"思判"},"学び","評定","CHECK",null,null,null,null,"評定","知技","思判","学び","評定","CHECK"]
[null,null,null,null,{"$f":"$I$8*10000+$I$9*100+$H24","v":10301},null,null,1,{"$f":"IF(VLOOKUP($E24,学年名簿と評価・評定!$E$24:$K$573,5)=\"\",\"\",VLOOKUP($E24,学年名簿と評価・評定!$E$24:$K$573,5))","v":""},{"$f":"IF(VLOOKUP($E24,学年名簿と評価・評定!$E$24:$K$573,6)=\"\",\"\",VLOOKUP($E24,学年名簿と評価・評定!$E$24:$K$573,7))","v":""},null,{"$f":"P24","v":""},null,null,null,{"$f":"IF(OR($I24=\"\",COUNTA($M24:$O24)=0),\"\",IF(AND(M24=\"-\",N24=\"-\",O24=\"-\"),\"-\",VLOOKUP(COUNTIF($M24:$O24,\"A\")-COUNTIF($M24:$O24,\"C\"),基本情報!$R$4:$S$10,2)))","v":""},null,null,null,null,null,{"$f":"Z24","v":""},null,null,null,{"$f":"IF(OR($I24=\"\",COUNTA($W24:$Y24)=0),\"\",IF(AND(W24=\"-\",X24=\"-\",Y24=\"-\"),\"-\",VLOOKUP(COUNTIF($W24:$Y24,\"A\")-COUNTIF($W24:$Y24,\"C\"),基本情報!$R$4:$S$10,2)))","v":""},null,null,null,null,null,{"$f":"AJ24","v":""},null,null,null,{"$f":"IF(OR($I24=\"\",COUNTA($AG24:$AI24)=0),\"\",IF(AND(AG24=\"-\",AH24=\"-\",AI24=\"-\"),\"-\",VLOOKUP(COUNTIF($AG24:$AI24,\"A\")-COUNTIF($AG24:$AI24,\"C\"),基本情報!$R$4:$S$10,2)))","v":""}]
[null,null,null,null,10302,null,null,2,{"$f":"IF(VLOOKUP($E25,学年名簿と評価・評定!$E$24:$K$573,5)=\"\",\"\",VLOOKUP($E25,学年名簿と評価・評定!$E$24:$K$573,5))","v":""},{"$f":"IF(VLOOKUP($E25,学年名簿と評価・評定!$E$24:$K$573,6)=\"\",\"\",VLOOKUP($E25,学年名簿と評価・評定!$E$24:$K$573,7))","v":""},null,{"$f":"P25","v":""},null,null,null,{"$f":"IF(OR($I25=\"\",COUNTA($M25:$O25)=0),\"\",IF(AND(M25=\"-\",N25=\"-\",O25=\"-\"),\"-\",VLOOKUP(COUNTIF($M25:$O25,\"A\")-COUNTIF($M25:$O25,\"C\"),基本情報!$R$4:$S$10,2)))","v":""},null,null,null,null,null,{"$f":"Z25","v":""},null,null,null,{"$f":"IF(OR($I25=\"\",COUNTA($W25:$Y25)=0),\"\",IF(AND(W25=\"-\",X25=\"-\",Y25=\"-\"),\"-\",VLOOKUP(COUNTIF($W25:$Y25,\"A\")-COUNTIF($W25:$Y25,\"C\"),基本情報!$R$4:$S$10,2)))","v":""},null,null,null,null,null,{"$f":"AJ25","v":""},null,null,null,{"$f":"IF(OR($I25=\"\",COUNTA($AG25:$AI25)=0),\"\",IF(AND(AG25=\"-\",AH25=\"-\",AI25=\"-\"),\"-\",VLOOKUP(COUNTIF($AG25:$AI25,\"A\")-COUNTIF($AG25:$AI25,\"C\"),基本情報!$R$4:$S$10,2)))","v":""}]
[null,null,null,null,10303,null,null,3,{"$f":"IF(VLOOKUP($E26,学年名簿と評価・評定!$E$24:$K$573,5)=\"\",\"\",VLOOKUP($E26,学年名簿と評価・評定!$E$24:$K$573,5))","v":""},{"$f":"IF(VLOOKUP($E26,学年名簿と評価・評定!$E$24:$K$573,6)=\"\",\"\",VLOOKUP($E26,学年名簿と評価・評定!$E$24:$K$573,7))","v":""},null,"",null,null,null,{"$f":"IF(OR($I26=\"\",COUNTA($M26:$O26)=0),\"\",IF(AND(M26=\"-\",N26=\"-\",O26=\"-\"),\"-\",VLOOKUP(COUNTIF($M26:$O26,\"A\")-COUNTIF($M26:$O26,\"C\"),基本情報!$R$4:$S$10,2)))","v":""},null,null,null,null,null,{"$f":"Z26","v":""},null,null,null,{"$f":"IF(OR($I26=\"\",COUNTA($W26:$Y26)=0),\"\",IF(AND(W26=\"-\",X26=\"-\",Y26=\"-\"),\"-\",VLOOKUP(COUNTIF($W26:$Y26,\"A\")-COUNTIF($W26:$Y26,\"C\"),基本情報!$R$4:$S$10,2)))","v":""},null,null,null,null,null,"",null,null,null,{"$f":"IF(OR($I26=\"\",COUNTA($AG26:$AI26)=0),\"\",IF(AND(AG26=\"-\",AH26=\"-\",AI26=\"-\"),\"-\",VLOOKUP(COUNTIF($AG26:$AI26,\"A\")-COUNTIF($AG26:$AI26,\"C\"),基本情報!$R$4:$S$10,2)))","v":""}]
[null,null,null,null,10304,null,null,4,{"$f":"IF(VLOOKUP($E27,学年名簿と評価・評定!$E$24:$K$573,5)=\"\",\"\",VLOOKUP($E27,学年名簿と評価・評定!$E$24:$K$573,5))","v":""},{"$f":"IF(VLOOKUP($E27,学年名簿と評価・評定!$E$24:$K$573,6)=\"\",\"\",VLOOKUP($E27,学年名簿と評価・評定!$E$24:$K$573,7))","v":""},null,"",null,null,null,{"$f":"IF(OR($I27=\"\",COUNTA($M27:$O27)=0),\"\",IF(AND(M27=\"-\",N27=\"-\",O27=\"-\"),\"-\",VLOOKUP(COUNTIF($M27:$O27,\"A\")-COUNTIF($M27:$O27,\"C\"),基本情報!$R$4:$S$10,2)))","v":""},null,null,null,null,null,"",null,null,null,{"$f":"IF(OR($I27=\"\",COUNTA($W27:$Y27)=0),\"\",IF(AND(W27=\"-\",X27=\"-\",Y27=\"-\"),\"-\",VLOOKUP(COUNTIF($W27:$Y27,\"A\")-COUNTIF($W27:$Y27,\"C\"),基本情報!$R$4:$S$10,2)))","v":""},null,null,null,null,null,"",null,null,null,{"$f":"IF(OR($I27=\"\",COUNTA($AG27:$AI27)=0),\"\",IF(AND(AG27=\"-\",AH27=\"-\",AI27=\"-\"),\"-\",VLOOKUP(COUNTIF($AG27:$AI27,\"A\")-COUNTIF($AG27:$AI27,\"C\"),基本情報!$R$4:$S$10,2)))","v":""}]
[null,null,null,null,10305,null,null,5,{"$f":"IF(VLOOKUP($E28,学年名簿と評価・評定!$E$24:$K$573,5)=\"\",\"\",VLOOKUP($E28,学年名簿と評価・評定!$E$24:$K$573,5))","v":""},{"$f":"IF(VLOOKUP($E28,学年名簿と評価・評定!$E$24:$K$573,6)=\"\",\"\",VLOOKUP($E28,学年名簿と評価・評定!$E$24:$K$573,7))","v":""},null,"",null,null,null,{"$f":"IF(OR($I28=\"\",COUNTA($M28:$O28)=0),\"\",IF(AND(M28=\"-\",N28=\"-\",O28=\"-\"),\"-\",VLOOKUP(COUNTIF($M28:$O28,\"A\")-COUNTIF($M28:$O28,\"C\"),基本情報!$R$4:$S$10,2)))","v":""},null,null,null,null,null,"",null,null,null,{"$f":"IF(OR($I28=\"\",COUNTA($W28:$Y28)=0),\"\",IF(AND(W28=\"-\",X28=\"-\",Y28=\"-\"),\"-\",VLOOKUP(COUNTIF($W28:$Y28,\"A\")-COUNTIF($W28:$Y28,\"C\"),基本情報!$R$4:$S$10,2)))","v":""},null,null,null,null,null,"",null,null,null,{"$f":"IF(OR($I28=\"\",COUNTA($AG28:$AI28)=0),\"\",IF(AND(AG28=\"-\",AH28=\"-\",AI28=\"-\"),\"-\",VLOOKUP(COUNTIF($AG28:$AI28,\"A\")-COUNTIF($AG28:$AI28,\"C\"),基本情報!$R$4:$S$10,2)))","v":""}]
[null,null,null,null,10306,null,null,6,{"$f":"IF(VLOOKUP($E29,学年名簿と評価・評定!$E$24:$K$573,5)=\"\",\"\",VLOOKUP($E29,学年名簿と評価・評定!$E$24:$K$573,5))","v":""},{"$f":"IF(VLOOKUP($E29,学年名簿と評価・評定!$E$24:$K$573,6)=\"\",\"\",VLOOKUP($E29,学年名簿と評価・評定!$E$24:$K$573,7))","v":""},null,"",null,null,null,{"$f":"IF(OR($I29=\"\",COUNTA($M29:$O29)=0),\"\",IF(AND(M29=\"-\",N29=\"-\",O29=\"-\"),\"-\",VLOOKUP(COUNTIF($M29:$O29,\"A\")-COUNTIF($M29:$O29,\"C\"),基本情報!$R$4:$S$10,2)))","v":""},null,null,null,null,null,"",null,null,null,{"$f":"IF(OR($I29=\"\",COUNTA($W29:$Y29)=0),\"\",IF(AND(W29=\"-\",X29=\"-\",Y29=\"-\"),\"-\",VLOOKUP(COUNTIF($W29:$Y29,\"A\")-COUNTIF($W29:$Y29,\"C\"),基本情報!$R$4:$S$10,2)))","v":""},null,null,null,null,null,"",null,null,null,{"$f":"IF(OR($I29=\"\",COUNTA($AG29:$AI29)=0),\"\",IF(AND(AG29=\"-\",AH29=\"-\",AI29=\"-\"),\"-\",VLOOKUP(COUNTIF($AG29:$AI29,\"A\")-COUNTIF($AG29:$AI29,\"C\"),基本情報!$R$4:$S$10,2)))","v":""}]
[null,null,null,null,10307,null,null,7,{"$f":"IF(VLOOKUP($E30,学年名簿と評価・評定!$E$24:$K$573,5)=\"\",\"\",VLOOKUP($E30,学年名簿と評価・評定!$E$24:$K$573,5))","v":""},{"$f":"IF(VLOOKUP($E30,学年名簿と評価・評定!$E$24:$K$573,6)=\"\",\"\",VLOOKUP($E30,学年名簿と評価・評定!$E$24:$K$573,7))","v":""},null,"",null,null,null,{"$f":"IF(OR($I30=\"\",COUNTA($M30:$O30)=0),\"\",IF(AND(M30=\"-\",N30=\"-\",O30=\"-\"),\"-\",VLOOKUP(COUNTIF($M30:$O30,\"A\")-COUNTIF($M30:$O30,\"C\"),基本情報!$R$4:$S$10,2)))","v":""},null,null,null,null,null,"",null,null,null,{"$f":"IF(OR($I30=\"\",COUNTA($W30:$Y30)=0),\"\",IF(AND(W30=\"-\",X30=\"-\",Y30=\"-\"),\"-\",VLOOKUP(COUNTIF($W30:$Y30,\"A\")-COUNTIF($W30:$Y30,\"C\"),基本情報!$R$4:$S$10,2)))","v":""},null,null,null,null,null,"",null,null,null,{"$f":"IF(OR($I30=\"\",COUNTA($AG30:$AI30)=0),\"\",IF(AND(AG30=\"-\",AH30=\"-\",AI30=\"-\"),\"-\",VLOOKUP(COUNTIF($AG30:$AI30,\"A\")-COUNTIF($AG30:$AI30,\"C\"),基本情報!$R$4:$S$10,2)))","v":""}]
[null,null,null,null,10308,null,null,8,{"$f":"IF(VLOOKUP($E31,学年名簿と評価・評定!$E$24:$K$573,5)=\"\",\"\",VLOOKUP($E31,学年名簿と評価・評定!$E$24:$K$573,5))","v":""},{"$f":"IF(VLOOKUP($E31,学年名簿と評価・評定!$E$24:$K$573,6)=\"\",\"\",VLOOKUP($E31,学年名簿と評価・評定!$E$24:$K$573,7))","v":""},null,"",null,null,null,{"$f":"IF(OR($I31=\"\",COUNTA($M31:$O31)=0),\"\",IF(AND(M31=\"-\",N31=\"-\",O31=\"-\"),\"-\",VLOOKUP(COUNTIF($M31:$O31,\"A\")-COUNTIF($M31:$O31,\"C\"),基本情報!$R$4:$S$10,2)))","v":""},null,null,null,null,null,"",null,null,null,{"$f":"IF(OR($I31=\"\",COUNTA($W31:$Y31)=0),\"\",IF(AND(W31=\"-\",X31=\"-\",Y31=\"-\"),\"-\",VLOOKUP(COUNTIF($W31:$Y31,\"A\")-COUNTIF($W31:$Y31,\"C\"),基本情報!$R$4:$S$10,2)))","v":""},null,null,null,null,null,"",null,null,null,{"$f":"IF(OR($I31=\"\",COUNTA($AG31:$AI31)=0),\"\",IF(AND(AG31=\"-\",AH31=\"-\",AI31=\"-\"),\"-\",VLOOKUP(COUNTIF($AG31:$AI31,\"A\")-COUNTIF($AG31:$AI31,\"C\"),基本情報!$R$4:$S$10,2)))","v":""}]
[null,null,null,null,10309,null,null,9,{"$f":"IF(VLOOKUP($E32,学年名簿と評価・評定!$E$24:$K$573,5)=\"\",\"\",VLOOKUP($E32,学年名簿と評価・評定!$E$24:$K$573,5))","v":""},{"$f":"IF(VLOOKUP($E32,学年名簿と評価・評定!$E$24:$K$573,6)=\"\",\"\",VLOOKUP($E32,学年名簿と評価・評定!$E$24:$K$573,7))","v":""},null,"",null,null,null,{"$f":"IF(OR($I32=\"\",COUNTA($M32:$O32)=0),\"\",IF(AND(M32=\"-\",N32=\"-\",O32=\"-\"),\"-\",VLOOKUP(COUNTIF($M32:$O32,\"A\")-COUNTIF($M32:$O32,\"C\"),基本情報!$R$4:$S$10,2)))","v":""},null,null,null,null,null,"",null,null,null,{"$f":"IF(OR($I32=\"\",COUNTA($W32:$Y32)=0),\"\",IF(AND(W32=\"-\",X32=\"-\",Y32=\"-\"),\"-\",VLOOKUP(COUNTIF($W32:$Y32,\"A\")-COUNTIF($W32:$Y32,\"C\"),基本情報!$R$4:$S$10,2)))","v":""},null,null,null,null,null,"",null,null,null,{"$f":"IF(OR($I32=\"\",COUNTA($AG32:$AI32)=0),\"\",IF(AND(AG32=\"-\",AH32=\"-\",AI32=\"-\"),\"-\",VLOOKUP(COUNTIF($AG32:$AI32,\"A\")-COUNTIF($AG32:$AI32,\"C\"),基本情報!$R$4:$S$10,2)))","v":""}]
[null,null,null,null,10310,null,null,10,{"$f":"IF(VLOOKUP($E33,学年名簿と評価・評定!$E$24:$K$573,5)=\"\",\"\",VLOOKUP($E33,学年名簿と評価・評定!$E$24:$K$573,5))","v":""},{"$f":"IF(VLOOKUP($E33,学年名簿と評価・評定!$E$24:$K$573,6)=\"\",\"\",VLOOKUP($E33,学年名簿と評価・評定!$E$24:$K$573,7))","v":""},null,"",null,null,null,{"$f":"IF(OR($I33=\"\",COUNTA($M33:$O33)=0),\"\",IF(AND(M33=\"-\",N33=\"-\",O33=\"-\"),\"-\",VLOOKUP(COUNTIF($M33:$O33,\"A\")-COUNTIF($M33:$O33,\"C\"),基本情報!$R$4:$S$10,2)))","v":""},null,null,null,null,null,"",null,null,null,{"$f":"IF(OR($I33=\"\",COUNTA($W33:$Y33)=0),\"\",IF(AND(W33=\"-\",X33=\"-\",Y33=\"-\"),\"-\",VLOOKUP(COUNTIF($W33:$Y33,\"A\")-COUNTIF($W33:$Y33,\"C\"),基本情報!$R$4:$S$10,2)))","v":""},null,null,null,null,null,"",null,null,null,{"$f":"IF(OR($I33=\"\",COUNTA($AG33:$AI33)=0),\"\",IF(AND(AG33=\"-\",AH33=\"-\",AI33=\"-\"),\"-\",VLOOKUP(COUNTIF($AG33:$AI33,\"A\")-COUNTIF($AG33:$AI33,\"C\"),基本情報!$R$4:$S$10,2)))","v":""}]
[null,null,null,null,10311,null,null,11,{"$f":"IF(VLOOKUP($E34,学年名簿と評価・評定!$E$24:$K$573,5)=\"\",\"\",VLOOKUP($E34,学年名簿と評価・評定!$E$24:$K$573,5))","v":""},{"$f":"IF(VLOOKUP($E34,学年名簿と評価・評定!$E$24:$K$573,6)=\"\",\"\",VLOOKUP($E34,学年名簿と評価・評定!$E$24:$K$573,7))","v":""},null,"",null,null,null,{"$f":"IF(OR($I34=\"\",COUNTA($M34:$O34)=0),\"\",IF(AND(M34=\"-\",N34=\"-\",O34=\"-\"),\"-\",VLOOKUP(COUNTIF($M34:$O34,\"A\")-COUNTIF($M34:$O34,\"C\"),基本情報!$R$4:$S$10,2)))","v":""},null,null,null,null,null,"",null,null,null,{"$f":"IF(OR($I34=\"\",COUNTA($W34:$Y34)=0),\"\",IF(AND(W34=\"-\",X34=\"-\",Y34=\"-\"),\"-\",VLOOKUP(COUNTIF($W34:$Y34,\"A\")-COUNTIF($W34:$Y34,\"C\"),基本情報!$R$4:$S$10,2)))","v":""},null,null,null,null,null,"",null,null,null,{"$f":"IF(OR($I34=\"\",COUNTA($AG34:$AI34)=0),\"\",IF(AND(AG34=\"-\",AH34=\"-\",AI34=\"-\"),\"-\",VLOOKUP(COUNTIF($AG34:$AI34,\"A\")-COUNTIF($AG34:$AI34,\"C\"),基本情報!$R$4:$S$10,2)))","v":""}]
[null,null,null,null,10312,null,null,12,{"$f":"IF(VLOOKUP($E35,学年名簿と評価・評定!$E$24:$K$573,5)=\"\",\"\",VLOOKUP($E35,学年名簿と評価・評定!$E$24:$K$573,5))","v":""},{"$f":"IF(VLOOKUP($E35,学年名簿と評価・評定!$E$24:$K$573,6)=\"\",\"\",VLOOKUP($E35,学年名簿と評価・評定!$E$24:$K$573,7))","v":""},null,"",null,null,null,{"$f":"IF(OR($I35=\"\",COUNTA($M35:$O35)=0),\"\",IF(AND(M35=\"-\",N35=\"-\",O35=\"-\"),\"-\",VLOOKUP(COUNTIF($M35:$O35,\"A\")-COUNTIF($M35:$O35,\"C\"),基本情報!$R$4:$S$10,2)))","v":""},null,null,null,null,null,"",null,null,null,{"$f":"IF(OR($I35=\"\",COUNTA($W35:$Y35)=0),\"\",IF(AND(W35=\"-\",X35=\"-\",Y35=\"-\"),\"-\",VLOOKUP(COUNTIF($W35:$Y35,\"A\")-COUNTIF($W35:$Y35,\"C\"),基本情報!$R$4:$S$10,2)))","v":""},null,null,null,null,null,"",null,null,null,{"$f":"IF(OR($I35=\"\",COUNTA($AG35:$AI35)=0),\"\",IF(AND(AG35=\"-\",AH35=\"-\",AI35=\"-\"),\"-\",VLOOKUP(COUNTIF($AG35:$AI35,\"A\")-COUNTIF($AG35:$AI35,\"C\"),基本情報!$R$4:$S$10,2)))","v":""}]
[null,null,null,null,10313,null,null,13,{"$f":"IF(VLOOKUP($E36,学年名簿と評価・評定!$E$24:$K$573,5)=\"\",\"\",VLOOKUP($E36,学年名簿と評価・評定!$E$24:$K$573,5))","v":""},{"$f":"IF(VLOOKUP($E36,学年名簿と評価・評定!$E$24:$K$573,6)=\"\",\"\",VLOOKUP($E36,学年名簿と評価・評定!$E$24:$K$573,7))","v":""},null,"",null,null,null,{"$f":"IF(OR($I36=\"\",COUNTA($M36:$O36)=0),\"\",IF(AND(M36=\"-\",N36=\"-\",O36=\"-\"),\"-\",VLOOKUP(COUNTIF($M36:$O36,\"A\")-COUNTIF($M36:$O36,\"C\"),基本情報!$R$4:$S$10,2)))","v":""},null,null,null,null,null,"",null,null,null,{"$f":"IF(OR($I36=\"\",COUNTA($W36:$Y36)=0),\"\",IF(AND(W36=\"-\",X36=\"-\",Y36=\"-\"),\"-\",VLOOKUP(COUNTIF($W36:$Y36,\"A\")-COUNTIF($W36:$Y36,\"C\"),基本情報!$R$4:$S$10,2)))","v":""},null,null,null,null,null,"",null,null,null,{"$f":"IF(OR($I36=\"\",COUNTA($AG36:$AI36)=0),\"\",IF(AND(AG36=\"-\",AH36=\"-\",AI36=\"-\"),\"-\",VLOOKUP(COUNTIF($AG36:$AI36,\"A\")-COUNTIF($AG36:$AI36,\"C\"),基本情報!$R$4:$S$10,2)))","v":""}]
[null,null,null,null,10314,null,null,14,{"$f":"IF(VLOOKUP($E37,学年名簿と評価・評定!$E$24:$K$573,5)=\"\",\"\",VLOOKUP($E37,学年名簿と評価・評定!$E$24:$K$573,5))","v":""},{"$f":"IF(VLOOKUP($E37,学年名簿と評価・評定!$E$24:$K$573,6)=\"\",\"\",VLOOKUP($E37,学年名簿と評価・評定!$E$24:$K$573,7))","v":""},null,"",null,null,null,{"$f":"IF(OR($I37=\"\",COUNTA($M37:$O37)=0),\"\",IF(AND(M37=\"-\",N37=\"-\",O37=\"-\"),\"-\",VLOOKUP(COUNTIF($M37:$O37,\"A\")-COUNTIF($M37:$O37,\"C\"),基本情報!$R$4:$S$10,2)))","v":""},null,null,null,null,null,"",null,null,null,{"$f":"IF(OR($I37=\"\",COUNTA($W37:$Y37)=0),\"\",IF(AND(W37=\"-\",X37=\"-\",Y37=\"-\"),\"-\",VLOOKUP(COUNTIF($W37:$Y37,\"A\")-COUNTIF($W37:$Y37,\"C\"),基本情報!$R$4:$S$10,2)))","v":""},null,null,null,null,null,"",null,null,null,{"$f":"IF(OR($I37=\"\",COUNTA($AG37:$AI37)=0),\"\",IF(AND(AG37=\"-\",AH37=\"-\",AI37=\"-\"),\"-\",VLOOKUP(COUNTIF($AG37:$AI37,\"A\")-COUNTIF($AG37:$AI37,\"C\"),基本情報!$R$4:$S$10,2)))","v":""}]
[null,null,null,null,10315,null,null,15,{"$f":"IF(VLOOKUP($E38,学年名簿と評価・評定!$E$24:$K$573,5)=\"\",\"\",VLOOKUP($E38,学年名簿と評価・評定!$E$24:$K$573,5))","v":""},{"$f":"IF(VLOOKUP($E38,学年名簿と評価・評定!$E$24:$K$573,6)=\"\",\"\",VLOOKUP($E38,学年名簿と評価・評定!$E$24:$K$573,7))","v":""},null,"",null,null,null,{"$f":"IF(OR($I38=\"\",COUNTA($M38:$O38)=0),\"\",IF(AND(M38=\"-\",N38=\"-\",O38=\"-\"),\"-\",VLOOKUP(COUNTIF($M38:$O38,\"A\")-COUNTIF($M38:$O38,\"C\"),基本情報!$R$4:$S$10,2)))","v":""},null,null,null,null,null,"",null,null,null,{"$f":"IF(OR($I38=\"\",COUNTA($W38:$Y38)=0),\"\",IF(AND(W38=\"-\",X38=\"-\",Y38=\"-\"),\"-\",VLOOKUP(COUNTIF($W38:$Y38,\"A\")-COUNTIF($W38:$Y38,\"C\"),基本情報!$R$4:$S$10,2)))","v":""},null,null,null,null,null,"",null,null,null,{"$f":"IF(OR($I38=\"\",COUNTA($AG38:$AI38)=0),\"\",IF(AND(AG38=\"-\",AH38=\"-\",AI38=\"-\"),\"-\",VLOOKUP(COUNTIF($AG38:$AI38,\"A\")-COUNTIF($AG38:$AI38,\"C\"),基本情報!$R$4:$S$10,2)))","v":""}]
[null,null,null,null,10316,null,null,16,{"$f":"IF(VLOOKUP($E39,学年名簿と評価・評定!$E$24:$K$573,5)=\"\",\"\",VLOOKUP($E39,学年名簿と評価・評定!$E$24:$K$573,5))","v":""},{"$f":"IF(VLOOKUP($E39,学年名簿と評価・評定!$E$24:$K$573,6)=\"\",\"\",VLOOKUP($E39,学年名簿と評価・評定!$E$24:$K$573,7))","v":""},null,"",null,null,null,{"$f":"IF(OR($I39=\"\",COUNTA($M39:$O39)=0),\"\",IF(AND(M39=\"-\",N39=\"-\",O39=\"-\"),\"-\",VLOOKUP(COUNTIF($M39:$O39,\"A\")-COUNTIF($M39:$O39,\"C\"),基本情報!$R$4:$S$10,2)))","v":""},null,null,null,null,null,"",null,null,null,{"$f":"IF(OR($I39=\"\",COUNTA($W39:$Y39)=0),\"\",IF(AND(W39=\"-\",X39=\"-\",Y39=\"-\"),\"-\",VLOOKUP(COUNTIF($W39:$Y39,\"A\")-COUNTIF($W39:$Y39,\"C\"),基本情報!$R$4:$S$10,2)))","v":""},null,null,null,null,null,"",null,null,null,{"$f":"IF(OR($I39=\"\",COUNTA($AG39:$AI39)=0),\"\",IF(AND(AG39=\"-\",AH39=\"-\",AI39=\"-\"),\"-\",VLOOKUP(COUNTIF($AG39:$AI39,\"A\")-COUNTIF($AG39:$AI39,\"C\"),基本情報!$R$4:$S$10,2)))","v":""}]
[null,null,null,null,10317,null,null,17,{"$f":"IF(VLOOKUP($E40,学年名簿と評価・評定!$E$24:$K$573,5)=\"\",\"\",VLOOKUP($E40,学年名簿と評価・評定!$E$24:$K$573,5))","v":""},{"$f":"IF(VLOOKUP($E40,学年名簿と評価・評定!$E$24:$K$573,6)=\"\",\"\",VLOOKUP($E40,学年名簿と評価・評定!$E$24:$K$573,7))","v":""},null,"",null,null,null,{"$f":"IF(OR($I40=\"\",COUNTA($M40:$O40)=0),\"\",IF(AND(M40=\"-\",N40=\"-\",O40=\"-\"),\"-\",VLOOKUP(COUNTIF($M40:$O40,\"A\")-COUNTIF($M40:$O40,\"C\"),基本情報!$R$4:$S$10,2)))","v":""},null,null,null,null,null,"",null,null,null,{"$f":"IF(OR($I40=\"\",COUNTA($W40:$Y40)=0),\"\",IF(AND(W40=\"-\",X40=\"-\",Y40=\"-\"),\"-\",VLOOKUP(COUNTIF($W40:$Y40,\"A\")-COUNTIF($W40:$Y40,\"C\"),基本情報!$R$4:$S$10,2)))","v":""},null,null,null,null,null,"",null,null,null,{"$f":"IF(OR($I40=\"\",COUNTA($AG40:$AI40)=0),\"\",IF(AND(AG40=\"-\",AH40=\"-\",AI40=\"-\"),\"-\",VLOOKUP(COUNTIF($AG40:$AI40,\"A\")-COUNTIF($AG40:$AI40,\"C\"),基本情報!$R$4:$S$10,2)))","v":""}]
[null,null,null,null,10318,null,null,18,{"$f":"IF(VLOOKUP($E41,学年名簿と評価・評定!$E$24:$K$573,5)=\"\",\"\",VLOOKUP($E41,学年名簿と評価・評定!$E$24:$K$573,5))","v":""},{"$f":"IF(VLOOKUP($E41,学年名簿と評価・評定!$E$24:$K$573,6)=\"\",\"\",VLOOKUP($E41,学年名簿と評価・評定!$E$24:$K$573,7))","v":""},null,"",null,null,null,{"$f":"IF(OR($I41=\"\",COUNTA($M41:$O41)=0),\"\",IF(AND(M41=\"-\",N41=\"-\",O41=\"-\"),\"-\",VLOOKUP(COUNTIF($M41:$O41,\"A\")-COUNTIF($M41:$O41,\"C\"),基本情報!$R$4:$S$10,2)))","v":""},null,null,null,null,null,"",null,null,null,{"$f":"IF(OR($I41=\"\",COUNTA($W41:$Y41)=0),\"\",IF(AND(W41=\"-\",X41=\"-\",Y41=\"-\"),\"-\",VLOOKUP(COUNTIF($W41:$Y41,\"A\")-COUNTIF($W41:$Y41,\"C\"),基本情報!$R$4:$S$10,2)))","v":""},null,null,null,null,null,"",null,null,null,{"$f":"IF(OR($I41=\"\",COUNTA($AG41:$AI41)=0),\"\",IF(AND(AG41=\"-\",AH41=\"-\",AI41=\"-\"),\"-\",VLOOKUP(COUNTIF($AG41:$AI41,\"A\")-COUNTIF($AG41:$AI41,\"C\"),基本情報!$R$4:$S$10,2)))","v":""}]
[null,null,null,null,10319,null,null,19,{"$f":"IF(VLOOKUP($E42,学年名簿と評価・評定!$E$24:$K$573,5)=\"\",\"\",VLOOKUP($E42,学年名簿と評価・評定!$E$24:$K$573,5))","v":""},{"$f":"IF(VLOOKUP($E42,学年名簿と評価・評定!$E$24:$K$573,6)=\"\",\"\",VLOOKUP($E42,学年名簿と評価・評定!$E$24:$K$573,7))","v":""},null,"",null,null,null,{"$f":"IF(OR($I42=\"\",COUNTA($M42:$O42)=0),\"\",IF(AND(M42=\"-\",N42=\"-\",O42=\"-\"),\"-\",VLOOKUP(COUNTIF($M42:$O42,\"A\")-COUNTIF($M42:$O42,\"C\"),基本情報!$R$4:$S$10,2)))","v":""},null,null,null,null,null,"",null,null,null,{"$f":"IF(OR($I42=\"\",COUNTA($W42:$Y42)=0),\"\",IF(AND(W42=\"-\",X42=\"-\",Y42=\"-\"),\"-\",VLOOKUP(COUNTIF($W42:$Y42,\"A\")-COUNTIF($W42:$Y42,\"C\"),基本情報!$R$4:$S$10,2)))","v":""},null,null,null,null,null,"",null,null,null,{"$f":"IF(OR($I42=\"\",COUNTA($AG42:$AI42)=0),\"\",IF(AND(AG42=\"-\",AH42=\"-\",AI42=\"-\"),\"-\",VLOOKUP(COUNTIF($AG42:$AI42,\"A\")-COUNTIF($AG42:$AI42,\"C\"),基本情報!$R$4:$S$10,2)))","v":""}]
[null,null,null,null,10320,null,null,20,{"$f":"IF(VLOOKUP($E43,学年名簿と評価・評定!$E$24:$K$573,5)=\"\",\"\",VLOOKUP($E43,学年名簿と評価・評定!$E$24:$K$573,5))","v":""},{"$f":"IF(VLOOKUP($E43,学年名簿と評価・評定!$E$24:$K$573,6)=\"\",\"\",VLOOKUP($E43,学年名簿と評価・評定!$E$24:$K$573,7))","v":""},null,"",null,null,null,{"$f":"IF(OR($I43=\"\",COUNTA($M43:$O43)=0),\"\",IF(AND(M43=\"-\",N43=\"-\",O43=\"-\"),\"-\",VLOOKUP(COUNTIF($M43:$O43,\"A\")-COUNTIF($M43:$O43,\"C\"),基本情報!$R$4:$S$10,2)))","v":""},null,null,null,null,null,"",null,null,null,{"$f":"IF(OR($I43=\"\",COUNTA($W43:$Y43)=0),\"\",IF(AND(W43=\"-\",X43=\"-\",Y43=\"-\"),\"-\",VLOOKUP(COUNTIF($W43:$Y43,\"A\")-COUNTIF($W43:$Y43,\"C\"),基本情報!$R$4:$S$10,2)))","v":""},null,null,null,null,null,"",null,null,null,{"$f":"IF(OR($I43=\"\",COUNTA($AG43:$AI43)=0),\"\",IF(AND(AG43=\"-\",AH43=\"-\",AI43=\"-\"),\"-\",VLOOKUP(COUNTIF($AG43:$AI43,\"A\")-COUNTIF($AG43:$AI43,\"C\"),基本情報!$R$4:$S$10,2)))","v":""}]
[null,null,null,null,10321,null,null,21,{"$f":"IF(VLOOKUP($E44,学年名簿と評価・評定!$E$24:$K$573,5)=\"\",\"\",VLOOKUP($E44,学年名簿と評価・評定!$E$24:$K$573,5))","v":""},{"$f":"IF(VLOOKUP($E44,学年名簿と評価・評定!$E$24:$K$573,6)=\"\",\"\",VLOOKUP($E44,学年名簿と評価・評定!$E$24:$K$573,7))","v":""},null,"",null,null,null,{"$f":"IF(OR($I44=\"\",COUNTA($M44:$O44)=0),\"\",IF(AND(M44=\"-\",N44=\"-\",O44=\"-\"),\"-\",VLOOKUP(COUNTIF($M44:$O44,\"A\")-COUNTIF($M44:$O44,\"C\"),基本情報!$R$4:$S$10,2)))","v":""},null,null,null,null,null,"",null,null,null,{"$f":"IF(OR($I44=\"\",COUNTA($W44:$Y44)=0),\"\",IF(AND(W44=\"-\",X44=\"-\",Y44=\"-\"),\"-\",VLOOKUP(COUNTIF($W44:$Y44,\"A\")-COUNTIF($W44:$Y44,\"C\"),基本情報!$R$4:$S$10,2)))","v":""},null,null,null,null,null,"",null,null,null,{"$f":"IF(OR($I44=\"\",COUNTA($AG44:$AI44)=0),\"\",IF(AND(AG44=\"-\",AH44=\"-\",AI44=\"-\"),\"-\",VLOOKUP(COUNTIF($AG44:$AI44,\"A\")-COUNTIF($AG44:$AI44,\"C\"),基本情報!$R$4:$S$10,2)))","v":""}]
[null,null,null,null,10322,null,null,22,{"$f":"IF(VLOOKUP($E45,学年名簿と評価・評定!$E$24:$K$573,5)=\"\",\"\",VLOOKUP($E45,学年名簿と評価・評定!$E$24:$K$573,5))","v":""},{"$f":"IF(VLOOKUP($E45,学年名簿と評価・評定!$E$24:$K$573,6)=\"\",\"\",VLOOKUP($E45,学年名簿と評価・評定!$E$24:$K$573,7))","v":""},null,"",null,null,null,{"$f":"IF(OR($I45=\"\",COUNTA($M45:$O45)=0),\"\",IF(AND(M45=\"-\",N45=\"-\",O45=\"-\"),\"-\",VLOOKUP(COUNTIF($M45:$O45,\"A\")-COUNTIF($M45:$O45,\"C\"),基本情報!$R$4:$S$10,2)))","v":""},null,null,null,null,null,"",null,null,null,{"$f":"IF(OR($I45=\"\",COUNTA($W45:$Y45)=0),\"\",IF(AND(W45=\"-\",X45=\"-\",Y45=\"-\"),\"-\",VLOOKUP(COUNTIF($W45:$Y45,\"A\")-COUNTIF($W45:$Y45,\"C\"),基本情報!$R$4:$S$10,2)))","v":""},null,null,null,null,null,"",null,null,null,{"$f":"IF(OR($I45=\"\",COUNTA($AG45:$AI45)=0),\"\",IF(AND(AG45=\"-\",AH45=\"-\",AI45=\"-\"),\"-\",VLOOKUP(COUNTIF($AG45:$AI45,\"A\")-COUNTIF($AG45:$AI45,\"C\"),基本情報!$R$4:$S$10,2)))","v":""}]
[null,null,null,null,10323,null,null,23,{"$f":"IF(VLOOKUP($E46,学年名簿と評価・評定!$E$24:$K$573,5)=\"\",\"\",VLOOKUP($E46,学年名簿と評価・評定!$E$24:$K$573,5))","v":""},{"$f":"IF(VLOOKUP($E46,学年名簿と評価・評定!$E$24:$K$573,6)=\"\",\"\",VLOOKUP($E46,学年名簿と評価・評定!$E$24:$K$573,7))","v":""},null,"",null,null,null,{"$f":"IF(OR($I46=\"\",COUNTA($M46:$O46)=0),\"\",IF(AND(M46=\"-\",N46=\"-\",O46=\"-\"),\"-\",VLOOKUP(COUNTIF($M46:$O46,\"A\")-COUNTIF($M46:$O46,\"C\"),基本情報!$R$4:$S$10,2)))","v":""},null,null,null,null,null,"",null,null,null,{"$f":"IF(OR($I46=\"\",COUNTA($W46:$Y46)=0),\"\",IF(AND(W46=\"-\",X46=\"-\",Y46=\"-\"),\"-\",VLOOKUP(COUNTIF($W46:$Y46,\"A\")-COUNTIF($W46:$Y46,\"C\"),基本情報!$R$4:$S$10,2)))","v":""},null,null,null,null,null,"",null,null,null,{"$f":"IF(OR($I46=\"\",COUNTA($AG46:$AI46)=0),\"\",IF(AND(AG46=\"-\",AH46=\"-\",AI46=\"-\"),\"-\",VLOOKUP(COUNTIF($AG46:$AI46,\"A\")-COUNTIF($AG46:$AI46,\"C\"),基本情報!$R$4:$S$10,2)))","v":""}]
[null,null,null,null,10324,null,null,24,{"$f":"IF(VLOOKUP($E47,学年名簿と評価・評定!$E$24:$K$573,5)=\"\",\"\",VLOOKUP($E47,学年名簿と評価・評定!$E$24:$K$573,5))","v":""},{"$f":"IF(VLOOKUP($E47,学年名簿と評価・評定!$E$24:$K$573,6)=\"\",\"\",VLOOKUP($E47,学年名簿と評価・評定!$E$24:$K$573,7))","v":""},null,"",null,null,null,{"$f":"IF(OR($I47=\"\",COUNTA($M47:$O47)=0),\"\",IF(AND(M47=\"-\",N47=\"-\",O47=\"-\"),\"-\",VLOOKUP(COUNTIF($M47:$O47,\"A\")-COUNTIF($M47:$O47,\"C\"),基本情報!$R$4:$S$10,2)))","v":""},null,null,null,null,null,"",null,null,null,{"$f":"IF(OR($I47=\"\",COUNTA($W47:$Y47)=0),\"\",IF(AND(W47=\"-\",X47=\"-\",Y47=\"-\"),\"-\",VLOOKUP(COUNTIF($W47:$Y47,\"A\")-COUNTIF($W47:$Y47,\"C\"),基本情報!$R$4:$S$10,2)))","v":""},null,null,null,null,null,"",null,null,null,{"$f":"IF(OR($I47=\"\",COUNTA($AG47:$AI47)=0),\"\",IF(AND(AG47=\"-\",AH47=\"-\",AI47=\"-\"),\"-\",VLOOKUP(COUNTIF($AG47:$AI47,\"A\")-COUNTIF($AG47:$AI47,\"C\"),基本情報!$R$4:$S$10,2)))","v":""}]
[null,null,null,null,10325,null,null,25,{"$f":"IF(VLOOKUP($E48,学年名簿と評価・評定!$E$24:$K$573,5)=\"\",\"\",VLOOKUP($E48,学年名簿と評価・評定!$E$24:$K$573,5))","v":""},{"$f":"IF(VLOOKUP($E48,学年名簿と評価・評定!$E$24:$K$573,6)=\"\",\"\",VLOOKUP($E48,学年名簿と評価・評定!$E$24:$K$573,7))","v":""},null,"",null,null,null,{"$f":"IF(OR($I48=\"\",COUNTA($M48:$O48)=0),\"\",IF(AND(M48=\"-\",N48=\"-\",O48=\"-\"),\"-\",VLOOKUP(COUNTIF($M48:$O48,\"A\")-COUNTIF($M48:$O48,\"C\"),基本情報!$R$4:$S$10,2)))","v":""},null,null,null,null,null,"",null,null,null,{"$f":"IF(OR($I48=\"\",COUNTA($W48:$Y48)=0),\"\",IF(AND(W48=\"-\",X48=\"-\",Y48=\"-\"),\"-\",VLOOKUP(COUNTIF($W48:$Y48,\"A\")-COUNTIF($W48:$Y48,\"C\"),基本情報!$R$4:$S$10,2)))","v":""},null,null,null,null,null,"",null,null,null,{"$f":"IF(OR($I48=\"\",COUNTA($AG48:$AI48)=0),\"\",IF(AND(AG48=\"-\",AH48=\"-\",AI48=\"-\"),\"-\",VLOOKUP(COUNTIF($AG48:$AI48,\"A\")-COUNTIF($AG48:$AI48,\"C\"),基本情報!$R$4:$S$10,2)))","v":""}]
[null,null,null,null,10326,null,null,26,{"$f":"IF(VLOOKUP($E49,学年名簿と評価・評定!$E$24:$K$573,5)=\"\",\"\",VLOOKUP($E49,学年名簿と評価・評定!$E$24:$K$573,5))","v":""},{"$f":"IF(VLOOKUP($E49,学年名簿と評価・評定!$E$24:$K$573,6)=\"\",\"\",VLOOKUP($E49,学年名簿と評価・評定!$E$24:$K$573,7))","v":""},null,"",null,null,null,{"$f":"IF(OR($I49=\"\",COUNTA($M49:$O49)=0),\"\",IF(AND(M49=\"-\",N49=\"-\",O49=\"-\"),\"-\",VLOOKUP(COUNTIF($M49:$O49,\"A\")-COUNTIF($M49:$O49,\"C\"),基本情報!$R$4:$S$10,2)))","v":""},null,null,null,null,null,"",null,null,null,{"$f":"IF(OR($I49=\"\",COUNTA($W49:$Y49)=0),\"\",IF(AND(W49=\"-\",X49=\"-\",Y49=\"-\"),\"-\",VLOOKUP(COUNTIF($W49:$Y49,\"A\")-COUNTIF($W49:$Y49,\"C\"),基本情報!$R$4:$S$10,2)))","v":""},null,null,null,null,null,"",null,null,null,{"$f":"IF(OR($I49=\"\",COUNTA($AG49:$AI49)=0),\"\",IF(AND(AG49=\"-\",AH49=\"-\",AI49=\"-\"),\"-\",VLOOKUP(COUNTIF($AG49:$AI49,\"A\")-COUNTIF($AG49:$AI49,\"C\"),基本情報!$R$4:$S$10,2)))","v":""}]
[null,null,null,null,10327,null,null,27,{"$f":"IF(VLOOKUP($E50,学年名簿と評価・評定!$E$24:$K$573,5)=\"\",\"\",VLOOKUP($E50,学年名簿と評価・評定!$E$24:$K$573,5))","v":""},{"$f":"IF(VLOOKUP($E50,学年名簿と評価・評定!$E$24:$K$573,6)=\"\",\"\",VLOOKUP($E50,学年名簿と評価・評定!$E$24:$K$573,7))","v":""},null,"",null,null,null,{"$f":"IF(OR($I50=\"\",COUNTA($M50:$O50)=0),\"\",IF(AND(M50=\"-\",N50=\"-\",O50=\"-\"),\"-\",VLOOKUP(COUNTIF($M50:$O50,\"A\")-COUNTIF($M50:$O50,\"C\"),基本情報!$R$4:$S$10,2)))","v":""},null,null,null,null,null,"",null,null,null,{"$f":"IF(OR($I50=\"\",COUNTA($W50:$Y50)=0),\"\",IF(AND(W50=\"-\",X50=\"-\",Y50=\"-\"),\"-\",VLOOKUP(COUNTIF($W50:$Y50,\"A\")-COUNTIF($W50:$Y50,\"C\"),基本情報!$R$4:$S$10,2)))","v":""},null,null,null,null,null,"",null,null,null,{"$f":"IF(OR($I50=\"\",COUNTA($AG50:$AI50)=0),\"\",IF(AND(AG50=\"-\",AH50=\"-\",AI50=\"-\"),\"-\",VLOOKUP(COUNTIF($AG50:$AI50,\"A\")-COUNTIF($AG50:$AI50,\"C\"),基本情報!$R$4:$S$10,2)))","v":""}]
[null,null,null,null,10328,null,null,28,{"$f":"IF(VLOOKUP($E51,学年名簿と評価・評定!$E$24:$K$573,5)=\"\",\"\",VLOOKUP($E51,学年名簿と評価・評定!$E$24:$K$573,5))","v":""},{"$f":"IF(VLOOKUP($E51,学年名簿と評価・評定!$E$24:$K$573,6)=\"\",\"\",VLOOKUP($E51,学年名簿と評価・評定!$E$24:$K$573,7))","v":""},null,"",null,null,null,{"$f":"IF(OR($I51=\"\",COUNTA($M51:$O51)=0),\"\",IF(AND(M51=\"-\",N51=\"-\",O51=\"-\"),\"-\",VLOOKUP(COUNTIF($M51:$O51,\"A\")-COUNTIF($M51:$O51,\"C\"),基本情報!$R$4:$S$10,2)))","v":""},null,null,null,null,null,"",null,null,null,{"$f":"IF(OR($I51=\"\",COUNTA($W51:$Y51)=0),\"\",IF(AND(W51=\"-\",X51=\"-\",Y51=\"-\"),\"-\",VLOOKUP(COUNTIF($W51:$Y51,\"A\")-COUNTIF($W51:$Y51,\"C\"),基本情報!$R$4:$S$10,2)))","v":""},null,null,null,null,null,"",null,null,null,{"$f":"IF(OR($I51=\"\",COUNTA($AG51:$AI51)=0),\"\",IF(AND(AG51=\"-\",AH51=\"-\",AI51=\"-\"),\"-\",VLOOKUP(COUNTIF($AG51:$AI51,\"A\")-COUNTIF($AG51:$AI51,\"C\"),基本情報!$R$4:$S$10,2)))","v":""}]
[null,null,null,null,10329,null,null,29,{"$f":"IF(VLOOKUP($E52,学年名簿と評価・評定!$E$24:$K$573,5)=\"\",\"\",VLOOKUP($E52,学年名簿と評価・評定!$E$24:$K$573,5))","v":""},{"$f":"IF(VLOOKUP($E52,学年名簿と評価・評定!$E$24:$K$573,6)=\"\",\"\",VLOOKUP($E52,学年名簿と評価・評定!$E$24:$K$573,7))","v":""},null,"",null,null,null,{"$f":"IF(OR($I52=\"\",COUNTA($M52:$O52)=0),\"\",IF(AND(M52=\"-\",N52=\"-\",O52=\"-\"),\"-\",VLOOKUP(COUNTIF($M52:$O52,\"A\")-COUNTIF($M52:$O52,\"C\"),基本情報!$R$4:$S$10,2)))","v":""},null,null,null,null,null,"",null,null,null,{"$f":"IF(OR($I52=\"\",COUNTA($W52:$Y52)=0),\"\",IF(AND(W52=\"-\",X52=\"-\",Y52=\"-\"),\"-\",VLOOKUP(COUNTIF($W52:$Y52,\"A\")-COUNTIF($W52:$Y52,\"C\"),基本情報!$R$4:$S$10,2)))","v":""},null,null,null,null,null,"",null,null,null,{"$f":"IF(OR($I52=\"\",COUNTA($AG52:$AI52)=0),\"\",IF(AND(AG52=\"-\",AH52=\"-\",AI52=\"-\"),\"-\",VLOOKUP(COUNTIF($AG52:$AI52,\"A\")-COUNTIF($AG52:$AI52,\"C\"),基本情報!$R$4:$S$10,2)))","v":""}]
[null,null,null,null,10330,null,null,30,{"$f":"IF(VLOOKUP($E53,学年名簿と評価・評定!$E$24:$K$573,5)=\"\",\"\",VLOOKUP($E53,学年名簿と評価・評定!$E$24:$K$573,5))","v":""},{"$f":"IF(VLOOKUP($E53,学年名簿と評価・評定!$E$24:$K$573,6)=\"\",\"\",VLOOKUP($E53,学年名簿と評価・評定!$E$24:$K$573,7))","v":""},null,"",null,null,null,{"$f":"IF(OR($I53=\"\",COUNTA($M53:$O53)=0),\"\",IF(AND(M53=\"-\",N53=\"-\",O53=\"-\"),\"-\",VLOOKUP(COUNTIF($M53:$O53,\"A\")-COUNTIF($M53:$O53,\"C\"),基本情報!$R$4:$S$10,2)))","v":""},null,null,null,null,null,"",null,null,null,{"$f":"IF(OR($I53=\"\",COUNTA($W53:$Y53)=0),\"\",IF(AND(W53=\"-\",X53=\"-\",Y53=\"-\"),\"-\",VLOOKUP(COUNTIF($W53:$Y53,\"A\")-COUNTIF($W53:$Y53,\"C\"),基本情報!$R$4:$S$10,2)))","v":""},null,null,null,null,null,"",null,null,null,{"$f":"IF(OR($I53=\"\",COUNTA($AG53:$AI53)=0),\"\",IF(AND(AG53=\"-\",AH53=\"-\",AI53=\"-\"),\"-\",VLOOKUP(COUNTIF($AG53:$AI53,\"A\")-COUNTIF($AG53:$AI53,\"C\"),基本情報!$R$4:$S$10,2)))","v":""}]
[null,null,null,null,10331,null,null,31,{"$f":"IF(VLOOKUP($E54,学年名簿と評価・評定!$E$24:$K$573,5)=\"\",\"\",VLOOKUP($E54,学年名簿と評価・評定!$E$24:$K$573,5))","v":""},{"$f":"IF(VLOOKUP($E54,学年名簿と評価・評定!$E$24:$K$573,6)=\"\",\"\",VLOOKUP($E54,学年名簿と評価・評定!$E$24:$K$573,7))","v":""},null,"",null,null,null,{"$f":"IF(OR($I54=\"\",COUNTA($M54:$O54)=0),\"\",IF(AND(M54=\"-\",N54=\"-\",O54=\"-\"),\"-\",VLOOKUP(COUNTIF($M54:$O54,\"A\")-COUNTIF($M54:$O54,\"C\"),基本情報!$R$4:$S$10,2)))","v":""},null,null,null,null,null,"",null,null,null,{"$f":"IF(OR($I54=\"\",COUNTA($W54:$Y54)=0),\"\",IF(AND(W54=\"-\",X54=\"-\",Y54=\"-\"),\"-\",VLOOKUP(COUNTIF($W54:$Y54,\"A\")-COUNTIF($W54:$Y54,\"C\"),基本情報!$R$4:$S$10,2)))","v":""},null,null,null,null,null,"",null,null,null,{"$f":"IF(OR($I54=\"\",COUNTA($AG54:$AI54)=0),\"\",IF(AND(AG54=\"-\",AH54=\"-\",AI54=\"-\"),\"-\",VLOOKUP(COUNTIF($AG54:$AI54,\"A\")-COUNTIF($AG54:$AI54,\"C\"),基本情報!$R$4:$S$10,2)))","v":""}]
[null,null,null,null,10332,null,null,32,{"$f":"IF(VLOOKUP($E55,学年名簿と評価・評定!$E$24:$K$573,5)=\"\",\"\",VLOOKUP($E55,学年名簿と評価・評定!$E$24:$K$573,5))","v":""},{"$f":"IF(VLOOKUP($E55,学年名簿と評価・評定!$E$24:$K$573,6)=\"\",\"\",VLOOKUP($E55,学年名簿と評価・評定!$E$24:$K$573,7))","v":""},null,"",null,null,null,{"$f":"IF(OR($I55=\"\",COUNTA($M55:$O55)=0),\"\",IF(AND(M55=\"-\",N55=\"-\",O55=\"-\"),\"-\",VLOOKUP(COUNTIF($M55:$O55,\"A\")-COUNTIF($M55:$O55,\"C\"),基本情報!$R$4:$S$10,2)))","v":""},null,null,null,null,null,"",null,null,null,{"$f":"IF(OR($I55=\"\",COUNTA($W55:$Y55)=0),\"\",IF(AND(W55=\"-\",X55=\"-\",Y55=\"-\"),\"-\",VLOOKUP(COUNTIF($W55:$Y55,\"A\")-COUNTIF($W55:$Y55,\"C\"),基本情報!$R$4:$S$10,2)))","v":""},null,null,null,null,null,"",null,null,null,{"$f":"IF(OR($I55=\"\",COUNTA($AG55:$AI55)=0),\"\",IF(AND(AG55=\"-\",AH55=\"-\",AI55=\"-\"),\"-\",VLOOKUP(COUNTIF($AG55:$AI55,\"A\")-COUNTIF($AG55:$AI55,\"C\"),基本情報!$R$4:$S$10,2)))","v":""}]
[null,null,null,null,{"$f":"$I$8*10000+$I$9*100+$H56","v":10333},null,null,33,{"$f":"IF(VLOOKUP($E56,学年名簿と評価・評定!$E$24:$K$573,5)=\"\",\"\",VLOOKUP($E56,学年名簿と評価・評定!$E$24:$K$573,5))","v":""},{"$f":"IF(VLOOKUP($E56,学年名簿と評価・評定!$E$24:$K$573,6)=\"\",\"\",VLOOKUP($E56,学年名簿と評価・評定!$E$24:$K$573,7))","v":""},null,"",null,null,null,{"$f":"IF(OR($I56=\"\",COUNTA($M56:$O56)=0),\"\",IF(AND(M56=\"-\",N56=\"-\",O56=\"-\"),\"-\",VLOOKUP(COUNTIF($M56:$O56,\"A\")-COUNTIF($M56:$O56,\"C\"),基本情報!$R$4:$S$10,2)))","v":""},null,null,null,null,null,"",null,null,null,{"$f":"IF(OR($I56=\"\",COUNTA($W56:$Y56)=0),\"\",IF(AND(W56=\"-\",X56=\"-\",Y56=\"-\"),\"-\",VLOOKUP(COUNTIF($W56:$Y56,\"A\")-COUNTIF($W56:$Y56,\"C\"),基本情報!$R$4:$S$10,2)))","v":""},null,null,null,null,null,"",null,null,null,{"$f":"IF(OR($I56=\"\",COUNTA($AG56:$AI56)=0),\"\",IF(AND(AG56=\"-\",AH56=\"-\",AI56=\"-\"),\"-\",VLOOKUP(COUNTIF($AG56:$AI56,\"A\")-COUNTIF($AG56:$AI56,\"C\"),基本情報!$R$4:$S$10,2)))","v":""}]
[null,null,null,null,10334,null,null,34,{"$f":"IF(VLOOKUP($E57,学年名簿と評価・評定!$E$24:$K$573,5)=\"\",\"\",VLOOKUP($E57,学年名簿と評価・評定!$E$24:$K$573,5))","v":""},{"$f":"IF(VLOOKUP($E57,学年名簿と評価・評定!$E$24:$K$573,6)=\"\",\"\",VLOOKUP($E57,学年名簿と評価・評定!$E$24:$K$573,7))","v":""},null,"",null,null,null,{"$f":"IF(OR($I57=\"\",COUNTA($M57:$O57)=0),\"\",IF(AND(M57=\"-\",N57=\"-\",O57=\"-\"),\"-\",VLOOKUP(COUNTIF($M57:$O57,\"A\")-COUNTIF($M57:$O57,\"C\"),基本情報!$R$4:$S$10,2)))","v":""},null,null,null,null,null,"",null,null,null,{"$f":"IF(OR($I57=\"\",COUNTA($W57:$Y57)=0),\"\",IF(AND(W57=\"-\",X57=\"-\",Y57=\"-\"),\"-\",VLOOKUP(COUNTIF($W57:$Y57,\"A\")-COUNTIF($W57:$Y57,\"C\"),基本情報!$R$4:$S$10,2)))","v":""},null,null,null,null,null,"",null,null,null,{"$f":"IF(OR($I57=\"\",COUNTA($AG57:$AI57)=0),\"\",IF(AND(AG57=\"-\",AH57=\"-\",AI57=\"-\"),\"-\",VLOOKUP(COUNTIF($AG57:$AI57,\"A\")-COUNTIF($AG57:$AI57,\"C\"),基本情報!$R$4:$S$10,2)))","v":""}]
[null,null,null,null,10335,null,null,35,{"$f":"IF(VLOOKUP($E58,学年名簿と評価・評定!$E$24:$K$573,5)=\"\",\"\",VLOOKUP($E58,学年名簿と評価・評定!$E$24:$K$573,5))","v":""},{"$f":"IF(VLOOKUP($E58,学年名簿と評価・評定!$E$24:$K$573,6)=\"\",\"\",VLOOKUP($E58,学年名簿と評価・評定!$E$24:$K$573,7))","v":""},null,"",null,null,null,{"$f":"IF(OR($I58=\"\",COUNTA($M58:$O58)=0),\"\",IF(AND(M58=\"-\",N58=\"-\",O58=\"-\"),\"-\",VLOOKUP(COUNTIF($M58:$O58,\"A\")-COUNTIF($M58:$O58,\"C\"),基本情報!$R$4:$S$10,2)))","v":""},null,null,null,null,null,"",null,null,null,{"$f":"IF(OR($I58=\"\",COUNTA($W58:$Y58)=0),\"\",IF(AND(W58=\"-\",X58=\"-\",Y58=\"-\"),\"-\",VLOOKUP(COUNTIF($W58:$Y58,\"A\")-COUNTIF($W58:$Y58,\"C\"),基本情報!$R$4:$S$10,2)))","v":""},null,null,null,null,null,"",null,null,null,{"$f":"IF(OR($I58=\"\",COUNTA($AG58:$AI58)=0),\"\",IF(AND(AG58=\"-\",AH58=\"-\",AI58=\"-\"),\"-\",VLOOKUP(COUNTIF($AG58:$AI58,\"A\")-COUNTIF($AG58:$AI58,\"C\"),基本情報!$R$4:$S$10,2)))","v":""}]
[null,null,null,null,10336,null,null,36,{"$f":"IF(VLOOKUP($E59,学年名簿と評価・評定!$E$24:$K$573,5)=\"\",\"\",VLOOKUP($E59,学年名簿と評価・評定!$E$24:$K$573,5))","v":""},{"$f":"IF(VLOOKUP($E59,学年名簿と評価・評定!$E$24:$K$573,6)=\"\",\"\",VLOOKUP($E59,学年名簿と評価・評定!$E$24:$K$573,7))","v":""},null,"",null,null,null,{"$f":"IF(OR($I59=\"\",COUNTA($M59:$O59)=0),\"\",IF(AND(M59=\"-\",N59=\"-\",O59=\"-\"),\"-\",VLOOKUP(COUNTIF($M59:$O59,\"A\")-COUNTIF($M59:$O59,\"C\"),基本情報!$R$4:$S$10,2)))","v":""},null,null,null,null,null,"",null,null,null,{"$f":"IF(OR($I59=\"\",COUNTA($W59:$Y59)=0),\"\",IF(AND(W59=\"-\",X59=\"-\",Y59=\"-\"),\"-\",VLOOKUP(COUNTIF($W59:$Y59,\"A\")-COUNTIF($W59:$Y59,\"C\"),基本情報!$R$4:$S$10,2)))","v":""},null,null,null,null,null,"",null,null,null,{"$f":"IF(OR($I59=\"\",COUNTA($AG59:$AI59)=0),\"\",IF(AND(AG59=\"-\",AH59=\"-\",AI59=\"-\"),\"-\",VLOOKUP(COUNTIF($AG59:$AI59,\"A\")-COUNTIF($AG59:$AI59,\"C\"),基本情報!$R$4:$S$10,2)))","v":""}]
[null,null,null,null,10337,null,null,37,{"$f":"IF(VLOOKUP($E60,学年名簿と評価・評定!$E$24:$K$573,5)=\"\",\"\",VLOOKUP($E60,学年名簿と評価・評定!$E$24:$K$573,5))","v":""},{"$f":"IF(VLOOKUP($E60,学年名簿と評価・評定!$E$24:$K$573,6)=\"\",\"\",VLOOKUP($E60,学年名簿と評価・評定!$E$24:$K$573,7))","v":""},null,"",null,null,null,{"$f":"IF(OR($I60=\"\",COUNTA($M60:$O60)=0),\"\",IF(AND(M60=\"-\",N60=\"-\",O60=\"-\"),\"-\",VLOOKUP(COUNTIF($M60:$O60,\"A\")-COUNTIF($M60:$O60,\"C\"),基本情報!$R$4:$S$10,2)))","v":""},null,null,null,null,null,"",null,null,null,{"$f":"IF(OR($I60=\"\",COUNTA($W60:$Y60)=0),\"\",IF(AND(W60=\"-\",X60=\"-\",Y60=\"-\"),\"-\",VLOOKUP(COUNTIF($W60:$Y60,\"A\")-COUNTIF($W60:$Y60,\"C\"),基本情報!$R$4:$S$10,2)))","v":""},null,null,null,null,null,"",null,null,null,{"$f":"IF(OR($I60=\"\",COUNTA($AG60:$AI60)=0),\"\",IF(AND(AG60=\"-\",AH60=\"-\",AI60=\"-\"),\"-\",VLOOKUP(COUNTIF($AG60:$AI60,\"A\")-COUNTIF($AG60:$AI60,\"C\"),基本情報!$R$4:$S$10,2)))","v":""}]
[null,null,null,null,10338,null,null,38,{"$f":"IF(VLOOKUP($E61,学年名簿と評価・評定!$E$24:$K$573,5)=\"\",\"\",VLOOKUP($E61,学年名簿と評価・評定!$E$24:$K$573,5))","v":""},{"$f":"IF(VLOOKUP($E61,学年名簿と評価・評定!$E$24:$K$573,6)=\"\",\"\",VLOOKUP($E61,学年名簿と評価・評定!$E$24:$K$573,7))","v":""},null,"",null,null,null,{"$f":"IF(OR($I61=\"\",COUNTA($M61:$O61)=0),\"\",IF(AND(M61=\"-\",N61=\"-\",O61=\"-\"),\"-\",VLOOKUP(COUNTIF($M61:$O61,\"A\")-COUNTIF($M61:$O61,\"C\"),基本情報!$R$4:$S$10,2)))","v":""},null,null,null,null,null,"",null,null,null,{"$f":"IF(OR($I61=\"\",COUNTA($W61:$Y61)=0),\"\",IF(AND(W61=\"-\",X61=\"-\",Y61=\"-\"),\"-\",VLOOKUP(COUNTIF($W61:$Y61,\"A\")-COUNTIF($W61:$Y61,\"C\"),基本情報!$R$4:$S$10,2)))","v":""},null,null,null,null,null,"",null,null,null,{"$f":"IF(OR($I61=\"\",COUNTA($AG61:$AI61)=0),\"\",IF(AND(AG61=\"-\",AH61=\"-\",AI61=\"-\"),\"-\",VLOOKUP(COUNTIF($AG61:$AI61,\"A\")-COUNTIF($AG61:$AI61,\"C\"),基本情報!$R$4:$S$10,2)))","v":""}]
[null,null,null,null,10339,null,null,39,{"$f":"IF(VLOOKUP($E62,学年名簿と評価・評定!$E$24:$K$573,5)=\"\",\"\",VLOOKUP($E62,学年名簿と評価・評定!$E$24:$K$573,5))","v":""},{"$f":"IF(VLOOKUP($E62,学年名簿と評価・評定!$E$24:$K$573,6)=\"\",\"\",VLOOKUP($E62,学年名簿と評価・評定!$E$24:$K$573,7))","v":""},null,"",null,null,null,{"$f":"IF(OR($I62=\"\",COUNTA($M62:$O62)=0),\"\",IF(AND(M62=\"-\",N62=\"-\",O62=\"-\"),\"-\",VLOOKUP(COUNTIF($M62:$O62,\"A\")-COUNTIF($M62:$O62,\"C\"),基本情報!$R$4:$S$10,2)))","v":""},null,null,null,null,null,"",null,null,null,{"$f":"IF(OR($I62=\"\",COUNTA($W62:$Y62)=0),\"\",IF(AND(W62=\"-\",X62=\"-\",Y62=\"-\"),\"-\",VLOOKUP(COUNTIF($W62:$Y62,\"A\")-COUNTIF($W62:$Y62,\"C\"),基本情報!$R$4:$S$10,2)))","v":""},null,null,null,null,null,"",null,null,null,{"$f":"IF(OR($I62=\"\",COUNTA($AG62:$AI62)=0),\"\",IF(AND(AG62=\"-\",AH62=\"-\",AI62=\"-\"),\"-\",VLOOKUP(COUNTIF($AG62:$AI62,\"A\")-COUNTIF($AG62:$AI62,\"C\"),基本情報!$R$4:$S$10,2)))","v":""}]
[null,null,null,null,10340,null,null,40,{"$f":"IF(VLOOKUP($E63,学年名簿と評価・評定!$E$24:$K$573,5)=\"\",\"\",VLOOKUP($E63,学年名簿と評価・評定!$E$24:$K$573,5))","v":""},{"$f":"IF(VLOOKUP($E63,学年名簿と評価・評定!$E$24:$K$573,6)=\"\",\"\",VLOOKUP($E63,学年名簿と評価・評定!$E$24:$K$573,7))","v":""},null,"",null,null,null,{"$f":"IF(OR($I63=\"\",COUNTA($M63:$O63)=0),\"\",IF(AND(M63=\"-\",N63=\"-\",O63=\"-\"),\"-\",VLOOKUP(COUNTIF($M63:$O63,\"A\")-COUNTIF($M63:$O63,\"C\"),基本情報!$R$4:$S$10,2)))","v":""},null,null,null,null,null,"",null,null,null,{"$f":"IF(OR($I63=\"\",COUNTA($W63:$Y63)=0),\"\",IF(AND(W63=\"-\",X63=\"-\",Y63=\"-\"),\"-\",VLOOKUP(COUNTIF($W63:$Y63,\"A\")-COUNTIF($W63:$Y63,\"C\"),基本情報!$R$4:$S$10,2)))","v":""},null,null,null,null,null,"",null,null,null,{"$f":"IF(OR($I63=\"\",COUNTA($AG63:$AI63)=0),\"\",IF(AND(AG63=\"-\",AH63=\"-\",AI63=\"-\"),\"-\",VLOOKUP(COUNTIF($AG63:$AI63,\"A\")-COUNTIF($AG63:$AI63,\"C\"),基本情報!$R$4:$S$10,2)))","v":""}]
[null,null,null,null,10341,null,null,41,{"$f":"IF(VLOOKUP($E64,学年名簿と評価・評定!$E$24:$K$573,5)=\"\",\"\",VLOOKUP($E64,学年名簿と評価・評定!$E$24:$K$573,5))","v":""},{"$f":"IF(VLOOKUP($E64,学年名簿と評価・評定!$E$24:$K$573,6)=\"\",\"\",VLOOKUP($E64,学年名簿と評価・評定!$E$24:$K$573,7))","v":""},null,"",null,null,null,{"$f":"IF(OR($I64=\"\",COUNTA($M64:$O64)=0),\"\",IF(AND(M64=\"-\",N64=\"-\",O64=\"-\"),\"-\",VLOOKUP(COUNTIF($M64:$O64,\"A\")-COUNTIF($M64:$O64,\"C\"),基本情報!$R$4:$S$10,2)))","v":""},null,null,null,null,null,"",null,null,null,{"$f":"IF(OR($I64=\"\",COUNTA($W64:$Y64)=0),\"\",IF(AND(W64=\"-\",X64=\"-\",Y64=\"-\"),\"-\",VLOOKUP(COUNTIF($W64:$Y64,\"A\")-COUNTIF($W64:$Y64,\"C\"),基本情報!$R$4:$S$10,2)))","v":""},null,null,null,null,null,"",null,null,null,{"$f":"IF(OR($I64=\"\",COUNTA($AG64:$AI64)=0),\"\",IF(AND(AG64=\"-\",AH64=\"-\",AI64=\"-\"),\"-\",VLOOKUP(COUNTIF($AG64:$AI64,\"A\")-COUNTIF($AG64:$AI64,\"C\"),基本情報!$R$4:$S$10,2)))","v":""}]
[null,null,null,null,10342,null,null,42,{"$f":"IF(VLOOKUP($E65,学年名簿と評価・評定!$E$24:$K$573,5)=\"\",\"\",VLOOKUP($E65,学年名簿と評価・評定!$E$24:$K$573,5))","v":""},{"$f":"IF(VLOOKUP($E65,学年名簿と評価・評定!$E$24:$K$573,6)=\"\",\"\",VLOOKUP($E65,学年名簿と評価・評定!$E$24:$K$573,7))","v":""},null,"",null,null,null,{"$f":"IF(OR($I65=\"\",COUNTA($M65:$O65)=0),\"\",IF(AND(M65=\"-\",N65=\"-\",O65=\"-\"),\"-\",VLOOKUP(COUNTIF($M65:$O65,\"A\")-COUNTIF($M65:$O65,\"C\"),基本情報!$R$4:$S$10,2)))","v":""},null,null,null,null,null,"",null,null,null,{"$f":"IF(OR($I65=\"\",COUNTA($W65:$Y65)=0),\"\",IF(AND(W65=\"-\",X65=\"-\",Y65=\"-\"),\"-\",VLOOKUP(COUNTIF($W65:$Y65,\"A\")-COUNTIF($W65:$Y65,\"C\"),基本情報!$R$4:$S$10,2)))","v":""},null,null,null,null,null,"",null,null,null,{"$f":"IF(OR($I65=\"\",COUNTA($AG65:$AI65)=0),\"\",IF(AND(AG65=\"-\",AH65=\"-\",AI65=\"-\"),\"-\",VLOOKUP(COUNTIF($AG65:$AI65,\"A\")-COUNTIF($AG65:$AI65,\"C\"),基本情報!$R$4:$S$10,2)))","v":""}]
[null,null,null,null,10343,null,null,43,{"$f":"IF(VLOOKUP($E66,学年名簿と評価・評定!$E$24:$K$573,5)=\"\",\"\",VLOOKUP($E66,学年名簿と評価・評定!$E$24:$K$573,5))","v":""},{"$f":"IF(VLOOKUP($E66,学年名簿と評価・評定!$E$24:$K$573,6)=\"\",\"\",VLOOKUP($E66,学年名簿と評価・評定!$E$24:$K$573,7))","v":""},null,"",null,null,null,{"$f":"IF(OR($I66=\"\",COUNTA($M66:$O66)=0),\"\",IF(AND(M66=\"-\",N66=\"-\",O66=\"-\"),\"-\",VLOOKUP(COUNTIF($M66:$O66,\"A\")-COUNTIF($M66:$O66,\"C\"),基本情報!$R$4:$S$10,2)))","v":""},null,null,null,null,null,"",null,null,null,{"$f":"IF(OR($I66=\"\",COUNTA($W66:$Y66)=0),\"\",IF(AND(W66=\"-\",X66=\"-\",Y66=\"-\"),\"-\",VLOOKUP(COUNTIF($W66:$Y66,\"A\")-COUNTIF($W66:$Y66,\"C\"),基本情報!$R$4:$S$10,2)))","v":""},null,null,null,null,null,"",null,null,null,{"$f":"IF(OR($I66=\"\",COUNTA($AG66:$AI66)=0),\"\",IF(AND(AG66=\"-\",AH66=\"-\",AI66=\"-\"),\"-\",VLOOKUP(COUNTIF($AG66:$AI66,\"A\")-COUNTIF($AG66:$AI66,\"C\"),基本情報!$R$4:$S$10,2)))","v":""}]
[null,null,null,null,10344,null,null,44,{"$f":"IF(VLOOKUP($E67,学年名簿と評価・評定!$E$24:$K$573,5)=\"\",\"\",VLOOKUP($E67,学年名簿と評価・評定!$E$24:$K$573,5))","v":""},{"$f":"IF(VLOOKUP($E67,学年名簿と評価・評定!$E$24:$K$573,6)=\"\",\"\",VLOOKUP($E67,学年名簿と評価・評定!$E$24:$K$573,7))","v":""},null,"",null,null,null,{"$f":"IF(OR($I67=\"\",COUNTA($M67:$O67)=0),\"\",IF(AND(M67=\"-\",N67=\"-\",O67=\"-\"),\"-\",VLOOKUP(COUNTIF($M67:$O67,\"A\")-COUNTIF($M67:$O67,\"C\"),基本情報!$R$4:$S$10,2)))","v":""},null,null,null,null,null,"",null,null,null,{"$f":"IF(OR($I67=\"\",COUNTA($W67:$Y67)=0),\"\",IF(AND(W67=\"-\",X67=\"-\",Y67=\"-\"),\"-\",VLOOKUP(COUNTIF($W67:$Y67,\"A\")-COUNTIF($W67:$Y67,\"C\"),基本情報!$R$4:$S$10,2)))","v":""},null,null,null,null,null,"",null,null,null,{"$f":"IF(OR($I67=\"\",COUNTA($AG67:$AI67)=0),\"\",IF(AND(AG67=\"-\",AH67=\"-\",AI67=\"-\"),\"-\",VLOOKUP(COUNTIF($AG67:$AI67,\"A\")-COUNTIF($AG67:$AI67,\"C\"),基本情報!$R$4:$S$10,2)))","v":""}]
[null,null,null,null,10345,null,null,45,{"$f":"IF(VLOOKUP($E68,学年名簿と評価・評定!$E$24:$K$573,5)=\"\",\"\",VLOOKUP($E68,学年名簿と評価・評定!$E$24:$K$573,5))","v":""},{"$f":"IF(VLOOKUP($E68,学年名簿と評価・評定!$E$24:$K$573,6)=\"\",\"\",VLOOKUP($E68,学年名簿と評価・評定!$E$24:$K$573,7))","v":""},null,"",null,null,null,{"$f":"IF(OR($I68=\"\",COUNTA($M68:$O68)=0),\"\",IF(AND(M68=\"-\",N68=\"-\",O68=\"-\"),\"-\",VLOOKUP(COUNTIF($M68:$O68,\"A\")-COUNTIF($M68:$O68,\"C\"),基本情報!$R$4:$S$10,2)))","v":""},null,null,null,null,null,"",null,null,null,{"$f":"IF(OR($I68=\"\",COUNTA($W68:$Y68)=0),\"\",IF(AND(W68=\"-\",X68=\"-\",Y68=\"-\"),\"-\",VLOOKUP(COUNTIF($W68:$Y68,\"A\")-COUNTIF($W68:$Y68,\"C\"),基本情報!$R$4:$S$10,2)))","v":""},null,null,null,null,null,"",null,null,null,{"$f":"IF(OR($I68=\"\",COUNTA($AG68:$AI68)=0),\"\",IF(AND(AG68=\"-\",AH68=\"-\",AI68=\"-\"),\"-\",VLOOKUP(COUNTIF($AG68:$AI68,\"A\")-COUNTIF($AG68:$AI68,\"C\"),基本情報!$R$4:$S$10,2)))","v":""}]
[null,null,null,null,10346,null,null,46,{"$f":"IF(VLOOKUP($E69,学年名簿と評価・評定!$E$24:$K$573,5)=\"\",\"\",VLOOKUP($E69,学年名簿と評価・評定!$E$24:$K$573,5))","v":""},{"$f":"IF(VLOOKUP($E69,学年名簿と評価・評定!$E$24:$K$573,6)=\"\",\"\",VLOOKUP($E69,学年名簿と評価・評定!$E$24:$K$573,7))","v":""},null,"",null,null,null,{"$f":"IF(OR($I69=\"\",COUNTA($M69:$O69)=0),\"\",IF(AND(M69=\"-\",N69=\"-\",O69=\"-\"),\"-\",VLOOKUP(COUNTIF($M69:$O69,\"A\")-COUNTIF($M69:$O69,\"C\"),基本情報!$R$4:$S$10,2)))","v":""},null,null,null,null,null,"",null,null,null,{"$f":"IF(OR($I69=\"\",COUNTA($W69:$Y69)=0),\"\",IF(AND(W69=\"-\",X69=\"-\",Y69=\"-\"),\"-\",VLOOKUP(COUNTIF($W69:$Y69,\"A\")-COUNTIF($W69:$Y69,\"C\"),基本情報!$R$4:$S$10,2)))","v":""},null,null,null,null,null,"",null,null,null,{"$f":"IF(OR($I69=\"\",COUNTA($AG69:$AI69)=0),\"\",IF(AND(AG69=\"-\",AH69=\"-\",AI69=\"-\"),\"-\",VLOOKUP(COUNTIF($AG69:$AI69,\"A\")-COUNTIF($AG69:$AI69,\"C\"),基本情報!$R$4:$S$10,2)))","v":""}]
[null,null,null,null,10347,null,null,47,{"$f":"IF(VLOOKUP($E70,学年名簿と評価・評定!$E$24:$K$573,5)=\"\",\"\",VLOOKUP($E70,学年名簿と評価・評定!$E$24:$K$573,5))","v":""},{"$f":"IF(VLOOKUP($E70,学年名簿と評価・評定!$E$24:$K$573,6)=\"\",\"\",VLOOKUP($E70,学年名簿と評価・評定!$E$24:$K$573,7))","v":""},null,"",null,null,null,{"$f":"IF(OR($I70=\"\",COUNTA($M70:$O70)=0),\"\",IF(AND(M70=\"-\",N70=\"-\",O70=\"-\"),\"-\",VLOOKUP(COUNTIF($M70:$O70,\"A\")-COUNTIF($M70:$O70,\"C\"),基本情報!$R$4:$S$10,2)))","v":""},null,null,null,null,null,"",null,null,null,{"$f":"IF(OR($I70=\"\",COUNTA($W70:$Y70)=0),\"\",IF(AND(W70=\"-\",X70=\"-\",Y70=\"-\"),\"-\",VLOOKUP(COUNTIF($W70:$Y70,\"A\")-COUNTIF($W70:$Y70,\"C\"),基本情報!$R$4:$S$10,2)))","v":""},null,null,null,null,null,"",null,null,null,{"$f":"IF(OR($I70=\"\",COUNTA($AG70:$AI70)=0),\"\",IF(AND(AG70=\"-\",AH70=\"-\",AI70=\"-\"),\"-\",VLOOKUP(COUNTIF($AG70:$AI70,\"A\")-COUNTIF($AG70:$AI70,\"C\"),基本情報!$R$4:$S$10,2)))","v":""}]
[null,null,null,null,10348,null,null,48,{"$f":"IF(VLOOKUP($E71,学年名簿と評価・評定!$E$24:$K$573,5)=\"\",\"\",VLOOKUP($E71,学年名簿と評価・評定!$E$24:$K$573,5))","v":""},{"$f":"IF(VLOOKUP($E71,学年名簿と評価・評定!$E$24:$K$573,6)=\"\",\"\",VLOOKUP($E71,学年名簿と評価・評定!$E$24:$K$573,7))","v":""},null,"",null,null,null,{"$f":"IF(OR($I71=\"\",COUNTA($M71:$O71)=0),\"\",IF(AND(M71=\"-\",N71=\"-\",O71=\"-\"),\"-\",VLOOKUP(COUNTIF($M71:$O71,\"A\")-COUNTIF($M71:$O71,\"C\"),基本情報!$R$4:$S$10,2)))","v":""},null,null,null,null,null,"",null,null,null,{"$f":"IF(OR($I71=\"\",COUNTA($W71:$Y71)=0),\"\",IF(AND(W71=\"-\",X71=\"-\",Y71=\"-\"),\"-\",VLOOKUP(COUNTIF($W71:$Y71,\"A\")-COUNTIF($W71:$Y71,\"C\"),基本情報!$R$4:$S$10,2)))","v":""},null,null,null,null,null,"",null,null,null,{"$f":"IF(OR($I71=\"\",COUNTA($AG71:$AI71)=0),\"\",IF(AND(AG71=\"-\",AH71=\"-\",AI71=\"-\"),\"-\",VLOOKUP(COUNTIF($AG71:$AI71,\"A\")-COUNTIF($AG71:$AI71,\"C\"),基本情報!$R$4:$S$10,2)))","v":""}]
[null,null,null,null,10349,null,null,49,{"$f":"IF(VLOOKUP($E72,学年名簿と評価・評定!$E$24:$K$573,5)=\"\",\"\",VLOOKUP($E72,学年名簿と評価・評定!$E$24:$K$573,5))","v":""},{"$f":"IF(VLOOKUP($E72,学年名簿と評価・評定!$E$24:$K$573,6)=\"\",\"\",VLOOKUP($E72,学年名簿と評価・評定!$E$24:$K$573,7))","v":""},null,"",null,null,null,{"$f":"IF(OR($I72=\"\",COUNTA($M72:$O72)=0),\"\",IF(AND(M72=\"-\",N72=\"-\",O72=\"-\"),\"-\",VLOOKUP(COUNTIF($M72:$O72,\"A\")-COUNTIF($M72:$O72,\"C\"),基本情報!$R$4:$S$10,2)))","v":""},null,null,null,null,null,"",null,null,null,{"$f":"IF(OR($I72=\"\",COUNTA($W72:$Y72)=0),\"\",IF(AND(W72=\"-\",X72=\"-\",Y72=\"-\"),\"-\",VLOOKUP(COUNTIF($W72:$Y72,\"A\")-COUNTIF($W72:$Y72,\"C\"),基本情報!$R$4:$S$10,2)))","v":""},null,null,null,null,null,"",null,null,null,{"$f":"IF(OR($I72=\"\",COUNTA($AG72:$AI72)=0),\"\",IF(AND(AG72=\"-\",AH72=\"-\",AI72=\"-\"),\"-\",VLOOKUP(COUNTIF($AG72:$AI72,\"A\")-COUNTIF($AG72:$AI72,\"C\"),基本情報!$R$4:$S$10,2)))","v":""}]
[null,null,null,null,10350,null,null,50,{"$f":"IF(VLOOKUP($E73,学年名簿と評価・評定!$E$24:$K$573,5)=\"\",\"\",VLOOKUP($E73,学年名簿と評価・評定!$E$24:$K$573,5))","v":""},{"$f":"IF(VLOOKUP($E73,学年名簿と評価・評定!$E$24:$K$573,6)=\"\",\"\",VLOOKUP($E73,学年名簿と評価・評定!$E$24:$K$573,7))","v":""},null,"",null,null,null,{"$f":"IF(OR($I73=\"\",COUNTA($M73:$O73)=0),\"\",IF(AND(M73=\"-\",N73=\"-\",O73=\"-\"),\"-\",VLOOKUP(COUNTIF($M73:$O73,\"A\")-COUNTIF($M73:$O73,\"C\"),基本情報!$R$4:$S$10,2)))","v":""},null,null,null,null,null,"",null,null,null,{"$f":"IF(OR($I73=\"\",COUNTA($W73:$Y73)=0),\"\",IF(AND(W73=\"-\",X73=\"-\",Y73=\"-\"),\"-\",VLOOKUP(COUNTIF($W73:$Y73,\"A\")-COUNTIF($W73:$Y73,\"C\"),基本情報!$R$4:$S$10,2)))","v":""},null,null,null,null,null,"",null,null,null,{"$f":"IF(OR($I73=\"\",COUNTA($AG73:$AI73)=0),\"\",IF(AND(AG73=\"-\",AH73=\"-\",AI73=\"-\"),\"-\",VLOOKUP(COUNTIF($AG73:$AI73,\"A\")-COUNTIF($AG73:$AI73,\"C\"),基本情報!$R$4:$S$10,2)))","v":""}]

{"sheet":"4組","index":5,"n_rows":73,"n_cols":40,"rows_kept":73,"cut":false,"hidden":false,"merged":[[2,34,2,36],[2,37,2,39],[21,11,21,15],[21,21,21,25],[21,31,21,35],[2,11,2,13],[2,14,2,16],[2,17,2,19],[2,21,2,23],[2,24,2,26],[2,27,2,29],[2,31,2,33]]}
[]
[]
[null,null,null,null,null,null,null,null,null,null,null,"校長",null,null,"教頭",null,null,"教務",null,null,null,"校長",null,null,"教頭",null,null,"教務",null,null,null,"校長",null,null,"教頭",null,null,"教務"]
[]
[]
[]
[]
[null,null,null,null,null,null,null,null,{"$f":"基本情報!E4","v":1},null,null,null,1,2,3,4,5,"-",null,"平均",null,null,1,2,3,4,5,"-",null,"平均",null,null,1,2,3,4,5,"-",null,"平均"]
[null,null,null,null,null,null,null,null,4,null,null,1,{"$f":"学年名簿と評価・評定!M9","v":0},{"$f":"学年名簿と評価・評定!N9","v":0},{"$f":"学年名簿と評価・評定!O9","v":0},{"$f":"学年名簿と評価・評定!P9","v":0},{"$f":"学年名簿と評価・評定!Q9","v":1},{"$f":"学年名簿と評価・評定!R9","v":0},{"$f":"SUM(M9:R9)","v":1},{"$f":"学年名簿と評価・評定!T9","v":5},null,1,{"$f":"学年名簿と評価・評定!W9","v":1},{"$f":"学年名簿と評価・評定!X9","v":0},{"$f":"学年名簿と評価・評定!Y9","v":0},{"$f":"学年名簿と評価・評定!Z9","v":0},{"$f":"学年名簿と評価・評定!AA9","v":0},{"$f":"学年名簿と評価・評定!AB9","v":0},{"$f":"学年名簿と評価・評定!AC9","v":1},{"$f":"学年名簿と評価・評定!AD9","v":1},null,1,{"$f":"学年名簿と評価・評定!AG9","v":0},{"$f":"学年名簿と評価・評定!AH9","v":0},{"$f":"学年名簿と評価・評定!AI9","v":1},{"$f":"学年名簿と評価・評定!AJ9","v":0},{"$f":"学年名簿と評価・評定!AK9","v":0},{"$f":"学年名簿と評価・評定!AL9","v":0},{"$f":"学年名簿と評価・評定!AM9","v":1},{"$f":"学年名簿と評価・評定!AN9","v":3}]
[null,null,null,null,null,null,null,null,null,null,null,2,{"$f":"学年名簿と評価・評定!M10","v":0},{"$f":"学年名簿と評価・評定!N10","v":0},{"$f":"学年名簿と評価・評定!O10","v":0},{"$f":"学年名簿と評価・評定!P10","v":0},{"$f":"学年名簿と評価・評定!Q10","v":0},{"$f":"学年名簿と評価・評定!R10","v":0},{"$f":"SUM(M10:R10)","v":0},{"$f":"学年名簿と評価・評定!T10","v":""},null,2,{"$f":"学年名簿と評価・評定!W10","v":0},{"$f":"学年名簿と評価・評定!X10","v":0},{"$f":"学年名簿と評価・評定!Y10","v":0},{"$f":"学年名簿と評価・評定!Z10","v":0},{"$f":"学年名簿と評価・評定!AA10","v":0},{"$f":"学年名簿と評価・評定!AB10","v":0},{"$f":"学年名簿と評価・評定!AC10","v":0},{"$f":"学年名簿と評価・評定!AD10","v":""},null,2,{"$f":"学年名簿と評価・評定!AG10","v":0},{"$f":"学年名簿と評価・評定!AH10","v":0},{"$f":"学年名簿と評価・評定!AI10","v":0},{"$f":"学年名簿と評価・評定!AJ10","v":0},{"$f":"学年名簿と評価・評定!AK10","v":0},{"$f":"学年名簿と評価・評定!AL10","v":0},{"$f":"学年名簿と評価・評定!AM10","v":0},{"$f":"学年名簿と評価・評定!AN10","v":""}]
[null,null,null,null,null,null,null,null,null,null,null,3,{"$f":"学年名簿と評価・評定!M11","v":0},{"$f":"学年名簿と評価・評定!N11","v":0},{"$f":"学年名簿と評価・評定!O11","v":0},{"$f":"学年名簿と評価・評定!P11","v":0},{"$f":"学年名簿と評価・評定!Q11","v":0},{"$f":"学年名簿と評価・評定!R11","v":0},0,{"$f":"学年名簿と評価・評定!T11","v":""},null,3,{"$f":"学年名簿と評価・評定!W11","v":0},{"$f":"学年名簿と評価・評定!X11","v":0},{"$f":"学年名簿と評価・評定!Y11","v":0},{"$f":"学年名簿と評価・評定!Z11","v":0},{"$f":"学年名簿と評価・評定!AA11","v":0},{"$f":"学年名簿と評価・評定!AB11","v":0},{"$f":"学年名簿と評価・評定!AC11","v":0},{"$f":"学年名簿と評価・評定!AD11","v":""},null,3,{"$f":"学年名簿と評価・評定!AG11","v":0},{"$f":"学年名簿と評価・評定!AH11","v":0},{"$f":"学年名簿と評価・評定!AI11","v":0},{"$f":"学年名簿と評価・評定!AJ11","v":0},{"$f":"学年名簿と評価・評定!AK11","v":0},{"$f":"学年名簿と評価・評定!AL11","v":0},{"$f":"学年名簿と評価・評定!AM11","v":0},{"$f":"学年名簿と評価・評定!AN11","v":""}]
[null,null,null,null,null,null,null,null,null,null,null,4,{"$f":"学年名簿と評価・評定!M12","v":0},{"$f":"学年名簿と評価・評定!N12","v":0},{"$f":"学年名簿と評価・評定!O12","v":0},{"$f":"学年名簿と評価・評定!P12","v":0},{"$f":"学年名簿と評価・評定!Q12","v":0},{"$f":"学年名簿と評価・評定!R12","v":0},0,{"$f":"学年名簿と評価・評定!T12","v":""},null,4,{"$f":"学年名簿と評価・評定!W12","v":0},{"$f":"学年名簿と評価・評定!X12","v":0},{"$f":"学年名簿と評価・評定!Y12","v":0},{"$f":"学年名簿と評価・評定!Z12","v":0},{"$f":"学年名簿と評価・評定!AA12","v":0},{"$f":"学年名簿と評価・評定!AB12","v":0},{"$f":"学年名簿と評価・評定!AC12","v":0},{"$f":"学年名簿と評価・評定!AD12","v":""},null,4,{"$f":"学年名簿と評価・評定!AG12","v":0},{"$f":"学年名簿と評価・評定!AH12","v":0},{"$f":"学年名簿と評価・評定!AI12","v":0},{"$f":"学年名簿と評価・評定!AJ12","v":0},{"$f":"学年名簿と評価・評定!AK12","v":0},{"$f":"学年名簿と評価・評定!AL12","v":0},{"$f":"学年名簿と評価・評定!AM12","v":0},{"$f":"学年名簿と評価・評定!AN12","v":""}]
[null,null,null,null,null,null,null,null,null,null,null,5,{"$f":"学年名簿と評価・評定!M13","v":0},{"$f":"学年名簿と評価・評定!N13","v":0},{"$f":"学年名簿と評価・評定!O13","v":0},{"$f":"学年名簿と評価・評定!P13","v":0},{"$f":"学年名簿と評価・評定!Q13","v":0},{"$f":"学年名簿と評価・評定!R13","v":0},0,{"$f":"学年名簿と評価・評定!T13","v":""},null,5,{"$f":"学年名簿と評価・評定!W13","v":0},{"$f":"学年名簿と評価・評定!X13","v":0},{"$f":"学年名簿と評価・評定!Y13","v":0},{"$f":"学年名簿と評価・評定!Z13","v":0},{"$f":"学年名簿と評価・評定!AA13","v":0},{"$f":"学年名簿と評価・評定!AB13","v":0},{"$f":"学年名簿と評価・評定!AC13","v":0},{"$f":"学年名簿と評価・評定!AD13","v":""},null,5,{"$f":"学年名簿と評価・評定!AG13","v":0},{"$f":"学年名簿と評価・評定!AH13","v":0},{"$f":"学年名簿と評価・評定!AI13","v":0},{"$f":"学年名簿と評価・評定!AJ13","v":0},{"$f":"学年名簿と評価・評定!AK13","v":0},{"$f":"学年名簿と評価・評定!AL13","v":0},{"$f":"学年名簿と評価・評定!AM13","v":0},{"$f":"学年名簿と評価・評定!AN13","v":""}]
[null,null,null,null,null,null,null,null,null,null,null,6,{"$f":"学年名簿と評価・評定!M14","v":0},{"$f":"学年名簿と評価・評定!N14","v":0},{"$f":"学年名簿と評価・評定!O14","v":0},{"$f":"学年名簿と評価・評定!P14","v":0},{"$f":"学年名簿と評価・評定!Q14","v":0},{"$f":"学年名簿と評価・評定!R14","v":0},0,{"$f":"学年名簿と評価・評定!T14","v":""},null,6,{"$f":"学年名簿と評価・評定!W14","v":0},{"$f":"学年名簿と評価・評定!X14","v":0},{"$f":"学年名簿と評価・評定!Y14","v":0},{"$f":"学年名簿と評価・評定!Z14","v":0},{"$f":"学年名簿と評価・評定!AA14","v":0},{"$f":"学年名簿と評価・評定!AB14","v":0},{"$f":"学年名簿と評価・評定!AC14","v":0},{"$f":"学年名簿と評価・評定!AD14","v":""},null,6,{"$f":"学年名簿と評価・評定!AG14","v":0},{"$f":"学年名簿と評価・評定!AH14","v":0},{"$f":"学年名簿と評価・評定!AI14","v":0},{"$f":"学年名簿と評価・評定!AJ14","v":0},{"$f":"学年名簿と評価・評定!AK14","v":0},{"$f":"学年名簿と評価・評定!AL14","v":0},{"$f":"学年名簿と評価・評定!AM14","v":0},{"$f":"学年名簿と評価・評定!AN14","v":""}]
[null,null,null,null,null,null,null,null,null,null,null,7,{"$f":"学年名簿と評価・評定!M15","v":0},{"$f":"学年名簿と評価・評定!N15","v":0},{"$f":"学年名簿と評価・評定!O15","v":0},{"$f":"学年名簿と評価・評定!P15","v":0},{"$f":"学年名簿と評価・評定!Q15","v":0},{"$f":"学年名簿と評価・評定!R15","v":0},0,{"$f":"学年名簿と評価・評定!T15","v":""},null,7,{"$f":"学年名簿と評価・評定!W15","v":0},{"$f":"学年名簿と評価・評定!X15","v":0},{"$f":"学年名簿と評価・評定!Y15","v":0},{"$f":"学年名簿と評価・評定!Z15","v":0},{"$f":"学年名簿と評価・評定!AA15","v":0},{"$f":"学年名簿と評価・評定!AB15","v":0},{"$f":"学年名簿と評価・評定!AC15","v":0},{"$f":"学年名簿と評価・評定!AD15","v":""},null,7,{"$f":"学年名簿と評価・評定!AG15","v":0},{"$f":"学年名簿と評価・評定!AH15","v":0},{"$f":"学年名簿と評価・評定!AI15","v":0},{"$f":"学年名簿と評価・評定!AJ15","v":0},{"$f":"学年名簿と評価・評定!AK15","v":0},{"$f":"学年名簿と評価・評定!AL15","v":0},{"$f":"学年名簿と評価・評定!AM15","v":0},{"$f":"学年名簿と評価・評定!AN15","v":""}]
[null,null,null,null,null,null,null,null,null,null,null,8,{"$f":"学年名簿と評価・評定!M16","v":0},{"$f":"学年名簿と評価・評定!N16","v":0},{"$f":"学年名簿と評価・評定!O16","v":0},{"$f":"学年名簿と評価・評定!P16","v":0},{"$f":"学年名簿と評価・評定!Q16","v":0},{"$f":"学年名簿と評価・評定!R16","v":0},0,{"$f":"学年名簿と評価・評定!T16","v":""},null,8,{"$f":"学年名簿と評価・評定!W16","v":0},{"$f":"学年名簿と評価・評定!X16","v":0},{"$f":"学年名簿と評価・評定!Y16","v":0},{"$f":"学年名簿と評価・評定!Z16","v":0},{"$f":"学年名簿と評価・評定!AA16","v":0},{"$f":"学年名簿と評価・評定!AB16","v":0},{"$f":"学年名簿と評価・評定!AC16","v":0},{"$f":"学年名簿と評価・評定!AD16","v":""},null,8,{"$f":"学年名簿と評価・評定!AG16","v":0},{"$f":"学年名簿と評価・評定!AH16","v":0},{"$f":"学年名簿と評価・評定!AI16","v":0},{"$f":"学年名簿と評価・評定!AJ16","v":0},{"$f":"学年名簿と評価・評定!AK16","v":0},{"$f":"学年名簿と評価・評定!AL16","v":0},{"$f":"学年名簿と評価・評定!AM16","v":0},{"$f":"学年名簿と評価・評定!AN16","v":""}]
[null,null,null,null,null,null,null,null,null,null,null,9,{"$f":"学年名簿と評価・評定!M17","v":0},{"$f":"学年名簿と評価・評定!N17","v":0},{"$f":"学年名簿と評価・評定!O17","v":0},{"$f":"学年名簿と評価・評定!P17","v":0},{"$f":"学年名簿と評価・評定!Q17","v":0},{"$f":"学年名簿と評価・評定!R17","v":0},0,{"$f":"学年名簿と評価・評定!T17","v":""},null,9,{"$f":"学年名簿と評価・評定!W17","v":0},{"$f":"学年名簿と評価・評定!X17","v":0},{"$f":"学年名簿と評価・評定!Y17","v":0},{"$f":"学年名簿と評価・評定!Z17","v":0},{"$f":"学年名簿と評価・評定!AA17","v":0},{"$f":"学年名簿と評価・評定!AB17","v":0},{"$f":"学年名簿と評価・評定!AC17","v":0},{"$f":"学年名簿と評価・評定!AD17","v":""},null,9,{"$f":"学年名簿と評価・評定!AG17","v":0},{"$f":"学年名簿と評価・評定!AH17","v":0},{"$f":"学年名簿と評価・評定!AI17","v":0},{"$f":"学年名簿と評価・評定!AJ17","v":0},{"$f":"学年名簿と評価・評定!AK17","v":0},{"$f":"学年名簿と評価・評定!AL17","v":0},{"$f":"学年名簿と評価・評定!AM17","v":0},{"$f":"学年名簿と評価・評定!AN17","v":""}]
[null,null,null,null,null,null,null,null,null,null,null,10,{"$f":"学年名簿と評価・評定!M18","v":0},{"$f":"学年名簿と評価・評定!N18","v":0},{"$f":"学年名簿と評価・評定!O18","v":0},{"$f":"学年名簿と評価・評定!P18","v":0},{"$f":"学年名簿と評価・評定!Q18","v":0},{"$f":"学年名簿と評価・評定!R18","v":0},0,{"$f":"学年名簿と評価・評定!T18","v":""},null,10,{"$f":"学年名簿と評価・評定!W18","v":0},{"$f":"学年名簿と評価・評定!X18","v":0},{"$f":"学年名簿と評価・評定!Y18","v":0},{"$f":"学年名簿と評価・評定!Z18","v":0},{"$f":"学年名簿と評価・評定!AA18","v":0},{"$f":"学年名簿と評価・評定!AB18","v":0},{"$f":"学年名簿と評価・評定!AC18","v":0},{"$f":"学年名簿と評価・評定!AD18","v":""},null,10,{"$f":"学年名簿と評価・評定!AG18","v":0},{"$f":"学年名簿と評価・評定!AH18","v":0},{"$f":"学年名簿と評価・評定!AI18","v":0},{"$f":"学年名簿と評価・評定!AJ18","v":0},{"$f":"学年名簿と評価・評定!AK18","v":0},{"$f":"学年名簿と評価・評定!AL18","v":0},{"$f":"学年名簿と評価・評定!AM18","v":0},{"$f":"学年名簿と評価・評定!AN18","v":""}]
[null,null,null,null,null,null,null,null,null,null,null,11,{"$f":"学年名簿と評価・評定!M19","v":0},{"$f":"学年名簿と評価・評定!N19","v":0},{"$f":"学年名簿と評価・評定!O19","v":0},{"$f":"学年名簿と評価・評定!P19","v":0},{"$f":"学年名簿と評価・評定!Q19","v":0},{"$f":"学年名簿と評価・評定!R19","v":0},0,{"$f":"学年名簿と評価・評定!T19","v":""},null,11,{"$f":"学年名簿と評価・評定!W19","v":0},{"$f":"学年名簿と評価・評定!X19","v":0},{"$f":"学年名簿と評価・評定!Y19","v":0},{"$f":"学年名簿と評価・評定!Z19","v":0},{"$f":"学年名簿と評価・評定!AA19","v":0},{"$f":"学年名簿と評価・評定!AB19","v":0},{"$f":"学年名簿と評価・評定!AC19","v":0},{"$f":"学年名簿と評価・評定!AD19","v":""},null,11,{"$f":"学年名簿と評価・評定!AG19","v":0},{"$f":"学年名簿と評価・評定!AH19","v":0},{"$f":"学年名簿と評価・評定!AI19","v":0},{"$f":"学年名簿と評価・評定!AJ19","v":0},{"$f":"学年名簿と評価・評定!AK19","v":0},{"$f":"学年名簿と評価・評定!AL19","v":0},{"$f":"学年名簿と評価・評定!AM19","v":0},{"$f":"学年名簿と評価・評定!AN19","v":""}]
[null,null,null,null,null,null,null,null,{"$f":"基本情報!E6","v":"国語"},null,null,"計",{"$f":"学年名簿と評価・評定!M20","v":0},{"$f":"学年名簿と評価・評定!N20","v":0},{"$f":"学年名簿と評価・評定!O20","v":0},{"$f":"学年名簿と評価・評定!P20","v":0},{"$f":"学年名簿と評価・評定!Q20","v":1},{"$f":"学年名簿と評価・評定!R20","v":0},1,{"$f":"学年名簿と評価・評定!T20","v":5},null,"計",{"$f":"学年名簿と評価・評定!W20","v":1},{"$f":"学年名簿と評価・評定!X20","v":0},{"$f":"学年名簿と評価・評定!Y20","v":0},{"$f":"学年名簿と評価・評定!Z20","v":0},{"$f":"学年名簿と評価・評定!AA20","v":0},{"$f":"学年名簿と評価・評定!AB20","v":0},{"$f":"学年名簿と評価・評定!AC20","v":1},{"$f":"学年名簿と評価・評定!AD20","v":1},null,"計",{"$f":"学年名簿と評価・評定!AG20","v":0},{"$f":"学年名簿と評価・評定!AH20","v":0},{"$f":"学年名簿と評価・評定!AI20","v":1},{"$f":"学年名簿と評価・評定!AJ20","v":0},{"$f":"学年名簿と評価・評定!AK20","v":0},{"$f":"学年名簿と評価・評定!AL20","v":0},{"$f":"学年名簿と評価・評定!AM20","v":1},{"$f":"学年名簿と評価・評定!AN20","v":3}]
[]
[null,null,null,null,null,null,null,null,null,null,null,"前　　期",null,null,null,null,null,null,null,null,null,"後　　期",null,null,null,null,null,null,null,null,null,"学　　年"]
[null,null,null,null,null,null,null,"番","氏　　名","性",null,"評定",{"$f":"基本情報!P14","v":"知技"},{"$f":"基本情報!P15","v":"思判"},{"$f":"基本情報!P16","v":"学び"},"評定","CHECK",null,null,null,null,"評定",{"$f":"M23","v":"知技"},{"$f":"N23","v":"思判"},"学び","評定","CHECK",null,null,null,null,"評定","知技","思判","学び","評定","CHECK"]
[null,null,null,null,{"$f":"$I$8*10000+$I$9*100+$H24","v":10401},null,null,1,{"$f":"IF(VLOOKUP($E24,学年名簿と評価・評定!$E$24:$K$573,5)=\"\",\"\",VLOOKUP($E24,学年名簿と評価・評定!$E$24:$K$573,5))","v":""},{"$f":"IF(VLOOKUP($E24,学年名簿と評価・評定!$E$24:$K$573,6)=\"\",\"\",VLOOKUP($E24,学年名簿と評価・評定!$E$24:$K$573,7))","v":""},null,{"$f":"P24","v":""},null,null,null,{"$f":"IF(OR($I24=\"\",COUNTA($M24:$O24)=0),\"\",IF(AND(M24=\"-\",N24=\"-\",O24=\"-\"),\"-\",VLOOKUP(COUNTIF($M24:$O24,\"A\")-COUNTIF($M24:$O24,\"C\"),基本情報!$R$4:$S$10,2)))","v":""},null,null,null,null,null,{"$f":"Z24","v":""},null,null,null,{"$f":"IF(OR($I24=\"\",COUNTA($W24:$Y24)=0),\"\",IF(AND(W24=\"-\",X24=\"-\",Y24=\"-\"),\"-\",VLOOKUP(COUNTIF($W24:$Y24,\"A\")-COUNTIF($W24:$Y24,\"C\"),基本情報!$R$4:$S$10,2)))","v":""},null,null,null,null,null,{"$f":"AJ24","v":""},null,null,null,{"$f":"IF(OR($I24=\"\",COUNTA($AG24:$AI24)=0),\"\",IF(AND(AG24=\"-\",AH24=\"-\",AI24=\"-\"),\"-\",VLOOKUP(COUNTIF($AG24:$AI24,\"A\")-COUNTIF($AG24:$AI24,\"C\"),基本情報!$R$4:$S$10,2)))","v":""}]
[null,null,null,null,10402,null,null,2,{"$f":"IF(VLOOKUP($E25,学年名簿と評価・評定!$E$24:$K$573,5)=\"\",\"\",VLOOKUP($E25,学年名簿と評価・評定!$E$24:$K$573,5))","v":""},{"$f":"IF(VLOOKUP($E25,学年名簿と評価・評定!$E$24:$K$573,6)=\"\",\"\",VLOOKUP($E25,学年名簿と評価・評定!$E$24:$K$573,7))","v":""},null,{"$f":"P25","v":""},null,null,null,{"$f":"IF(OR($I25=\"\",COUNTA($M25:$O25)=0),\"\",IF(AND(M25=\"-\",N25=\"-\",O25=\"-\"),\"-\",VLOOKUP(COUNTIF($M25:$O25,\"A\")-COUNTIF($M25:$O25,\"C\"),基本情報!$R$4:$S$10,2)))","v":""},null,null,null,null,null,{"$f":"Z25","v":""},null,null,null,{"$f":"IF(OR($I25=\"\",COUNTA($W25:$Y25)=0),\"\",IF(AND(W25=\"-\",X25=\"-\",Y25=\"-\"),\"-\",VLOOKUP(COUNTIF($W25:$Y25,\"A\")-COUNTIF($W25:$Y25,\"C\"),基本情報!$R$4:$S$10,2)))","v":""},null,null,null,null,null,{"$f":"AJ25","v":""},null,null,null,{"$f":"IF(OR($I25=\"\",COUNTA($AG25:$AI25)=0),\"\",IF(AND(AG25=\"-\",AH25=\"-\",AI25=\"-\"),\"-\",VLOOKUP(COUNTIF($AG25:$AI25,\"A\")-COUNTIF($AG25:$AI25,\"C\"),基本情報!$R$4:$S$10,2)))","v":""}]
[null,null,null,null,10403,null,null,3,{"$f":"IF(VLOOKUP($E26,学年名簿と評価・評定!$E$24:$K$573,5)=\"\",\"\",VLOOKUP($E26,学年名簿と評価・評定!$E$24:$K$573,5))","v":""},{"$f":"IF(VLOOKUP($E26,学年名簿と評価・評定!$E$24:$K$573,6)=\"\",\"\",VLOOKUP($E26,学年名簿と評価・評定!$E$24:$K$573,7))","v":""},null,"",null,null,null,{"$f":"IF(OR($I26=\"\",COUNTA($M26:$O26)=0),\"\",IF(AND(M26=\"-\",N26=\"-\",O26=\"-\"),\"-\",VLOOKUP(COUNTIF($M26:$O26,\"A\")-COUNTIF($M26:$O26,\"C\"),基本情報!$R$4:$S$10,2)))","v":""},null,null,null,null,null,{"$f":"Z26","v":""},null,null,null,{"$f":"IF(OR($I26=\"\",COUNTA($W26:$Y26)=0),\"\",IF(AND(W26=\"-\",X26=\"-\",Y26=\"-\"),\"-\",VLOOKUP(COUNTIF($W26:$Y26,\"A\")-COUNTIF($W26:$Y26,\"C\"),基本情報!$R$4:$S$10,2)))","v":""},null,null,null,null,null,"",null,null,null,{"$f":"IF(OR($I26=\"\",COUNTA($AG26:$AI26)=0),\"\",IF(AND(AG26=\"-\",AH26=\"-\",AI26=\"-\"),\"-\",VLOOKUP(COUNTIF($AG26:$AI26,\"A\")-COUNTIF($AG26:$AI26,\"C\"),基本情報!$R$4:$S$10,2)))","v":""}]
[null,null,null,null,10404,null,null,4,{"$f":"IF(VLOOKUP($E27,学年名簿と評価・評定!$E$24:$K$573,5)=\"\",\"\",VLOOKUP($E27,学年名簿と評価・評定!$E$24:$K$573,5))","v":""},{"$f":"IF(VLOOKUP($E27,学年名簿と評価・評定!$E$24:$K$573,6)=\"\",\"\",VLOOKUP($E27,学年名簿と評価・評定!$E$24:$K$573,7))","v":""},null,"",null,null,null,{"$f":"IF(OR($I27=\"\",COUNTA($M27:$O27)=0),\"\",IF(AND(M27=\"-\",N27=\"-\",O27=\"-\"),\"-\",VLOOKUP(COUNTIF($M27:$O27,\"A\")-COUNTIF($M27:$O27,\"C\"),基本情報!$R$4:$S$10,2)))","v":""},null,null,null,null,null,"",null,null,null,{"$f":"IF(OR($I27=\"\",COUNTA($W27:$Y27)=0),\"\",IF(AND(W27=\"-\",X27=\"-\",Y27=\"-\"),\"-\",VLOOKUP(COUNTIF($W27:$Y27,\"A\")-COUNTIF($W27:$Y27,\"C\"),基本情報!$R$4:$S$10,2)))","v":""},null,null,null,null,null,"",null,null,null,{"$f":"IF(OR($I27=\"\",COUNTA($AG27:$AI27)=0),\"\",IF(AND(AG27=\"-\",AH27=\"-\",AI27=\"-\"),\"-\",VLOOKUP(COUNTIF($AG27:$AI27,\"A\")-COUNTIF($AG27:$AI27,\"C\"),基本情報!$R$4:$S$10,2)))","v":""}]
[null,null,null,null,10405,null,null,5,{"$f":"IF(VLOOKUP($E28,学年名簿と評価・評定!$E$24:$K$573,5)=\"\",\"\",VLOOKUP($E28,学年名簿と評価・評定!$E$24:$K$573,5))","v":""},{"$f":"IF(VLOOKUP($E28,学年名簿と評価・評定!$E$24:$K$573,6)=\"\",\"\",VLOOKUP($E28,学年名簿と評価・評定!$E$24:$K$573,7))","v":""},null,"",null,null,null,{"$f":"IF(OR($I28=\"\",COUNTA($M28:$O28)=0),\"\",IF(AND(M28=\"-\",N28=\"-\",O28=\"-\"),\"-\",VLOOKUP(COUNTIF($M28:$O28,\"A\")-COUNTIF($M28:$O28,\"C\"),基本情報!$R$4:$S$10,2)))","v":""},null,null,null,null,null,"",null,null,null,{"$f":"IF(OR($I28=\"\",COUNTA($W28:$Y28)=0),\"\",IF(AND(W28=\"-\",X28=\"-\",Y28=\"-\"),\"-\",VLOOKUP(COUNTIF($W28:$Y28,\"A\")-COUNTIF($W28:$Y28,\"C\"),基本情報!$R$4:$S$10,2)))","v":""},null,null,null,null,null,"",null,null,null,{"$f":"IF(OR($I28=\"\",COUNTA($AG28:$AI28)=0),\"\",IF(AND(AG28=\"-\",AH28=\"-\",AI28=\"-\"),\"-\",VLOOKUP(COUNTIF($AG28:$AI28,\"A\")-COUNTIF($AG28:$AI28,\"C\"),基本情報!$R$4:$S$10,2)))","v":""}]
[null,null,null,null,10406,null,null,6,{"$f":"IF(VLOOKUP($E29,学年名簿と評価・評定!$E$24:$K$573,5)=\"\",\"\",VLOOKUP($E29,学年名簿と評価・評定!$E$24:$K$573,5))","v":""},{"$f":"IF(VLOOKUP($E29,学年名簿と評価・評定!$E$24:$K$573,6)=\"\",\"\",VLOOKUP($E29,学年名簿と評価・評定!$E$24:$K$573,7))","v":""},null,"",null,null,null,{"$f":"IF(OR($I29=\"\",COUNTA($M29:$O29)=0),\"\",IF(AND(M29=\"-\",N29=\"-\",O29=\"-\"),\"-\",VLOOKUP(COUNTIF($M29:$O29,\"A\")-COUNTIF($M29:$O29,\"C\"),基本情報!$R$4:$S$10,2)))","v":""},null,null,null,null,null,"",null,null,null,{"$f":"IF(OR($I29=\"\",COUNTA($W29:$Y29)=0),\"\",IF(AND(W29=\"-\",X29=\"-\",Y29=\"-\"),\"-\",VLOOKUP(COUNTIF($W29:$Y29,\"A\")-COUNTIF($W29:$Y29,\"C\"),基本情報!$R$4:$S$10,2)))","v":""},null,null,null,null,null,"",null,null,null,{"$f":"IF(OR($I29=\"\",COUNTA($AG29:$AI29)=0),\"\",IF(AND(AG29=\"-\",AH29=\"-\",AI29=\"-\"),\"-\",VLOOKUP(COUNTIF($AG29:$AI29,\"A\")-COUNTIF($AG29:$AI29,\"C\"),基本情報!$R$4:$S$10,2)))","v":""}]
[null,null,null,null,10407,null,null,7,{"$f":"IF(VLOOKUP($E30,学年名簿と評価・評定!$E$24:$K$573,5)=\"\",\"\",VLOOKUP($E30,学年名簿と評価・評定!$E$24:$K$573,5))","v":""},{"$f":"IF(VLOOKUP($E30,学年名簿と評価・評定!$E$24:$K$573,6)=\"\",\"\",VLOOKUP($E30,学年名簿と評価・評定!$E$24:$K$573,7))","v":""},null,"",null,null,null,{"$f":"IF(OR($I30=\"\",COUNTA($M30:$O30)=0),\"\",IF(AND(M30=\"-\",N30=\"-\",O30=\"-\"),\"-\",VLOOKUP(COUNTIF($M30:$O30,\"A\")-COUNTIF($M30:$O30,\"C\"),基本情報!$R$4:$S$10,2)))","v":""},null,null,null,null,null,"",null,null,null,{"$f":"IF(OR($I30=\"\",COUNTA($W30:$Y30)=0),\"\",IF(AND(W30=\"-\",X30=\"-\",Y30=\"-\"),\"-\",VLOOKUP(COUNTIF($W30:$Y30,\"A\")-COUNTIF($W30:$Y30,\"C\"),基本情報!$R$4:$S$10,2)))","v":""},null,null,null,null,null,"",null,null,null,{"$f":"IF(OR($I30=\"\",COUNTA($AG30:$AI30)=0),\"\",IF(AND(AG30=\"-\",AH30=\"-\",AI30=\"-\"),\"-\",VLOOKUP(COUNTIF($AG30:$AI30,\"A\")-COUNTIF($AG30:$AI30,\"C\"),基本情報!$R$4:$S$10,2)))","v":""}]
[null,null,null,null,10408,null,null,8,{"$f":"IF(VLOOKUP($E31,学年名簿と評価・評定!$E$24:$K$573,5)=\"\",\"\",VLOOKUP($E31,学年名簿と評価・評定!$E$24:$K$573,5))","v":""},{"$f":"IF(VLOOKUP($E31,学年名簿と評価・評定!$E$24:$K$573,6)=\"\",\"\",VLOOKUP($E31,学年名簿と評価・評定!$E$24:$K$573,7))","v":""},null,"",null,null,null,{"$f":"IF(OR($I31=\"\",COUNTA($M31:$O31)=0),\"\",IF(AND(M31=\"-\",N31=\"-\",O31=\"-\"),\"-\",VLOOKUP(COUNTIF($M31:$O31,\"A\")-COUNTIF($M31:$O31,\"C\"),基本情報!$R$4:$S$10,2)))","v":""},null,null,null,null,null,"",null,null,null,{"$f":"IF(OR($I31=\"\",COUNTA($W31:$Y31)=0),\"\",IF(AND(W31=\"-\",X31=\"-\",Y31=\"-\"),\"-\",VLOOKUP(COUNTIF($W31:$Y31,\"A\")-COUNTIF($W31:$Y31,\"C\"),基本情報!$R$4:$S$10,2)))","v":""},null,null,null,null,null,"",null,null,null,{"$f":"IF(OR($I31=\"\",COUNTA($AG31:$AI31)=0),\"\",IF(AND(AG31=\"-\",AH31=\"-\",AI31=\"-\"),\"-\",VLOOKUP(COUNTIF($AG31:$AI31,\"A\")-COUNTIF($AG31:$AI31,\"C\"),基本情報!$R$4:$S$10,2)))","v":""}]
[null,null,null,null,10409,null,null,9,{"$f":"IF(VLOOKUP($E32,学年名簿と評価・評定!$E$24:$K$573,5)=\"\",\"\",VLOOKUP($E32,学年名簿と評価・評定!$E$24:$K$573,5))","v":""},{"$f":"IF(VLOOKUP($E32,学年名簿と評価・評定!$E$24:$K$573,6)=\"\",\"\",VLOOKUP($E32,学年名簿と評価・評定!$E$24:$K$573,7))","v":""},null,"",null,null,null,{"$f":"IF(OR($I32=\"\",COUNTA($M32:$O32)=0),\"\",IF(AND(M32=\"-\",N32=\"-\",O32=\"-\"),\"-\",VLOOKUP(COUNTIF($M32:$O32,\"A\")-COUNTIF($M32:$O32,\"C\"),基本情報!$R$4:$S$10,2)))","v":""},null,null,null,null,null,"",null,null,null,{"$f":"IF(OR($I32=\"\",COUNTA($W32:$Y32)=0),\"\",IF(AND(W32=\"-\",X32=\"-\",Y32=\"-\"),\"-\",VLOOKUP(COUNTIF($W32:$Y32,\"A\")-COUNTIF($W32:$Y32,\"C\"),基本情報!$R$4:$S$10,2)))","v":""},null,null,null,null,null,"",null,null,null,{"$f":"IF(OR($I32=\"\",COUNTA($AG32:$AI32)=0),\"\",IF(AND(AG32=\"-\",AH32=\"-\",AI32=\"-\"),\"-\",VLOOKUP(COUNTIF($AG32:$AI32,\"A\")-COUNTIF($AG32:$AI32,\"C\"),基本情報!$R$4:$S$10,2)))","v":""}]
[null,null,null,null,10410,null,null,10,{"$f":"IF(VLOOKUP($E33,学年名簿と評価・評定!$E$24:$K$573,5)=\"\",\"\",VLOOKUP($E33,学年名簿と評価・評定!$E$24:$K$573,5))","v":""},{"$f":"IF(VLOOKUP($E33,学年名簿と評価・評定!$E$24:$K$573,6)=\"\",\"\",VLOOKUP($E33,学年名簿と評価・評定!$E$24:$K$573,7))","v":""},null,"",null,null,null,{"$f":"IF(OR($I33=\"\",COUNTA($M33:$O33)=0),\"\",IF(AND(M33=\"-\",N33=\"-\",O33=\"-\"),\"-\",VLOOKUP(COUNTIF($M33:$O33,\"A\")-COUNTIF($M33:$O33,\"C\"),基本情報!$R$4:$S$10,2)))","v":""},null,null,null,null,null,"",null,null,null,{"$f":"IF(OR($I33=\"\",COUNTA($W33:$Y33)=0),\"\",IF(AND(W33=\"-\",X33=\"-\",Y33=\"-\"),\"-\",VLOOKUP(COUNTIF($W33:$Y33,\"A\")-COUNTIF($W33:$Y33,\"C\"),基本情報!$R$4:$S$10,2)))","v":""},null,null,null,null,null,"",null,null,null,{"$f":"IF(OR($I33=\"\",COUNTA($AG33:$AI33)=0),\"\",IF(AND(AG33=\"-\",AH33=\"-\",AI33=\"-\"),\"-\",VLOOKUP(COUNTIF($AG33:$AI33,\"A\")-COUNTIF($AG33:$AI33,\"C\"),基本情報!$R$4:$S$10,2)))","v":""}]
[null,null,null,null,10411,null,null,11,{"$f":"IF(VLOOKUP($E34,学年名簿と評価・評定!$E$24:$K$573,5)=\"\",\"\",VLOOKUP($E34,学年名簿と評価・評定!$E$24:$K$573,5))","v":""},{"$f":"IF(VLOOKUP($E34,学年名簿と評価・評定!$E$24:$K$573,6)=\"\",\"\",VLOOKUP($E34,学年名簿と評価・評定!$E$24:$K$573,7))","v":""},null,"",null,null,null,{"$f":"IF(OR($I34=\"\",COUNTA($M34:$O34)=0),\"\",IF(AND(M34=\"-\",N34=\"-\",O34=\"-\"),\"-\",VLOOKUP(COUNTIF($M34:$O34,\"A\")-COUNTIF($M34:$O34,\"C\"),基本情報!$R$4:$S$10,2)))","v":""},null,null,null,null,null,"",null,null,null,{"$f":"IF(OR($I34=\"\",COUNTA($W34:$Y34)=0),\"\",IF(AND(W34=\"-\",X34=\"-\",Y34=\"-\"),\"-\",VLOOKUP(COUNTIF($W34:$Y34,\"A\")-COUNTIF($W34:$Y34,\"C\"),基本情報!$R$4:$S$10,2)))","v":""},null,null,null,null,null,"",null,null,null,{"$f":"IF(OR($I34=\"\",COUNTA($AG34:$AI34)=0),\"\",IF(AND(AG34=\"-\",AH34=\"-\",AI34=\"-\"),\"-\",VLOOKUP(COUNTIF($AG34:$AI34,\"A\")-COUNTIF($AG34:$AI34,\"C\"),基本情報!$R$4:$S$10,2)))","v":""}]
[null,null,null,null,10412,null,null,12,{"$f":"IF(VLOOKUP($E35,学年名簿と評価・評定!$E$24:$K$573,5)=\"\",\"\",VLOOKUP($E35,学年名簿と評価・評定!$E$24:$K$573,5))","v":""},{"$f":"IF(VLOOKUP($E35,学年名簿と評価・評定!$E$24:$K$573,6)=\"\",\"\",VLOOKUP($E35,学年名簿と評価・評定!$E$24:$K$573,7))","v":""},null,"",null,null,null,{"$f":"IF(OR($I35=\"\",COUNTA($M35:$O35)=0),\"\",IF(AND(M35=\"-\",N35=\"-\",O35=\"-\"),\"-\",VLOOKUP(COUNTIF($M35:$O35,\"A\")-COUNTIF($M35:$O35,\"C\"),基本情報!$R$4:$S$10,2)))","v":""},null,null,null,null,null,"",null,null,null,{"$f":"IF(OR($I35=\"\",COUNTA($W35:$Y35)=0),\"\",IF(AND(W35=\"-\",X35=\"-\",Y35=\"-\"),\"-\",VLOOKUP(COUNTIF($W35:$Y35,\"A\")-COUNTIF($W35:$Y35,\"C\"),基本情報!$R$4:$S$10,2)))","v":""},null,null,null,null,null,"",null,null,null,{"$f":"IF(OR($I35=\"\",COUNTA($AG35:$AI35)=0),\"\",IF(AND(AG35=\"-\",AH35=\"-\",AI35=\"-\"),\"-\",VLOOKUP(COUNTIF($AG35:$AI35,\"A\")-COUNTIF($AG35:$AI35,\"C\"),基本情報!$R$4:$S$10,2)))","v":""}]
[null,null,null,null,10413,null,null,13,{"$f":"IF(VLOOKUP($E36,学年名簿と評価・評定!$E$24:$K$573,5)=\"\",\"\",VLOOKUP($E36,学年名簿と評価・評定!$E$24:$K$573,5))","v":""},{"$f":"IF(VLOOKUP($E36,学年名簿と評価・評定!$E$24:$K$573,6)=\"\",\"\",VLOOKUP($E36,学年名簿と評価・評定!$E$24:$K$573,7))","v":""},null,"",null,null,null,{"$f":"IF(OR($I36=\"\",COUNTA($M36:$O36)=0),\"\",IF(AND(M36=\"-\",N36=\"-\",O36=\"-\"),\"-\",VLOOKUP(COUNTIF($M36:$O36,\"A\")-COUNTIF($M36:$O36,\"C\"),基本情報!$R$4:$S$10,2)))","v":""},null,null,null,null,null,"",null,null,null,{"$f":"IF(OR($I36=\"\",COUNTA($W36:$Y36)=0),\"\",IF(AND(W36=\"-\",X36=\"-\",Y36=\"-\"),\"-\",VLOOKUP(COUNTIF($W36:$Y36,\"A\")-COUNTIF($W36:$Y36,\"C\"),基本情報!$R$4:$S$10,2)))","v":""},null,null,null,null,null,"",null,null,null,{"$f":"IF(OR($I36=\"\",COUNTA($AG36:$AI36)=0),\"\",IF(AND(AG36=\"-\",AH36=\"-\",AI36=\"-\"),\"-\",VLOOKUP(COUNTIF($AG36:$AI36,\"A\")-COUNTIF($AG36:$AI36,\"C\"),基本情報!$R$4:$S$10,2)))","v":""}]
[null,null,null,null,10414,null,null,14,{"$f":"IF(VLOOKUP($E37,学年名簿と評価・評定!$E$24:$K$573,5)=\"\",\"\",VLOOKUP($E37,学年名簿と評価・評定!$E$24:$K$573,5))","v":""},{"$f":"IF(VLOOKUP($E37,学年名簿と評価・評定!$E$24:$K$573,6)=\"\",\"\",VLOOKUP($E37,学年名簿と評価・評定!$E$24:$K$573,7))","v":""},null,"",null,null,null,{"$f":"IF(OR($I37=\"\",COUNTA($M37:$O37)=0),\"\",IF(AND(M37=\"-\",N37=\"-\",O37=\"-\"),\"-\",VLOOKUP(COUNTIF($M37:$O37,\"A\")-COUNTIF($M37:$O37,\"C\"),基本情報!$R$4:$S$10,2)))","v":""},null,null,null,null,null,"",null,null,null,{"$f":"IF(OR($I37=\"\",COUNTA($W37:$Y37)=0),\"\",IF(AND(W37=\"-\",X37=\"-\",Y37=\"-\"),\"-\",VLOOKUP(COUNTIF($W37:$Y37,\"A\")-COUNTIF($W37:$Y37,\"C\"),基本情報!$R$4:$S$10,2)))","v":""},null,null,null,null,null,"",null,null,null,{"$f":"IF(OR($I37=\"\",COUNTA($AG37:$AI37)=0),\"\",IF(AND(AG37=\"-\",AH37=\"-\",AI37=\"-\"),\"-\",VLOOKUP(COUNTIF($AG37:$AI37,\"A\")-COUNTIF($AG37:$AI37,\"C\"),基本情報!$R$4:$S$10,2)))","v":""}]
[null,null,null,null,10415,null,null,15,{"$f":"IF(VLOOKUP($E38,学年名簿と評価・評定!$E$24:$K$573,5)=\"\",\"\",VLOOKUP($E38,学年名簿と評価・評定!$E$24:$K$573,5))","v":""},{"$f":"IF(VLOOKUP($E38,学年名簿と評価・評定!$E$24:$K$573,6)=\"\",\"\",VLOOKUP($E38,学年名簿と評価・評定!$E$24:$K$573,7))","v":""},null,"",null,null,null,{"$f":"IF(OR($I38=\"\",COUNTA($M38:$O38)=0),\"\",IF(AND(M38=\"-\",N38=\"-\",O38=\"-\"),\"-\",VLOOKUP(COUNTIF($M38:$O38,\"A\")-COUNTIF($M38:$O38,\"C\"),基本情報!$R$4:$S$10,2)))","v":""},null,null,null,null,null,"",null,null,null,{"$f":"IF(OR($I38=\"\",COUNTA($W38:$Y38)=0),\"\",IF(AND(W38=\"-\",X38=\"-\",Y38=\"-\"),\"-\",VLOOKUP(COUNTIF($W38:$Y38,\"A\")-COUNTIF($W38:$Y38,\"C\"),基本情報!$R$4:$S$10,2)))","v":""},null,null,null,null,null,"",null,null,null,{"$f":"IF(OR($I38=\"\",COUNTA($AG38:$AI38)=0),\"\",IF(AND(AG38=\"-\",AH38=\"-\",AI38=\"-\"),\"-\",VLOOKUP(COUNTIF($AG38:$AI38,\"A\")-COUNTIF($AG38:$AI38,\"C\"),基本情報!$R$4:$S$10,2)))","v":""}]
[null,null,null,null,10416,null,null,16,{"$f":"IF(VLOOKUP($E39,学年名簿と評価・評定!$E$24:$K$573,5)=\"\",\"\",VLOOKUP($E39,学年名簿と評価・評定!$E$24:$K$573,5))","v":""},{"$f":"IF(VLOOKUP($E39,学年名簿と評価・評定!$E$24:$K$573,6)=\"\",\"\",VLOOKUP($E39,学年名簿と評価・評定!$E$24:$K$573,7))","v":""},null,"",null,null,null,{"$f":"IF(OR($I39=\"\",COUNTA($M39:$O39)=0),\"\",IF(AND(M39=\"-\",N39=\"-\",O39=\"-\"),\"-\",VLOOKUP(COUNTIF($M39:$O39,\"A\")-COUNTIF($M39:$O39,\"C\"),基本情報!$R$4:$S$10,2)))","v":""},null,null,null,null,null,"",null,null,null,{"$f":"IF(OR($I39=\"\",COUNTA($W39:$Y39)=0),\"\",IF(AND(W39=\"-\",X39=\"-\",Y39=\"-\"),\"-\",VLOOKUP(COUNTIF($W39:$Y39,\"A\")-COUNTIF($W39:$Y39,\"C\"),基本情報!$R$4:$S$10,2)))","v":""},null,null,null,null,null,"",null,null,null,{"$f":"IF(OR($I39=\"\",COUNTA($AG39:$AI39)=0),\"\",IF(AND(AG39=\"-\",AH39=\"-\",AI39=\"-\"),\"-\",VLOOKUP(COUNTIF($AG39:$AI39,\"A\")-COUNTIF($AG39:$AI39,\"C\"),基本情報!$R$4:$S$10,2)))","v":""}]
[null,null,null,null,10417,null,null,17,{"$f":"IF(VLOOKUP($E40,学年名簿と評価・評定!$E$24:$K$573,5)=\"\",\"\",VLOOKUP($E40,学年名簿と評価・評定!$E$24:$K$573,5))","v":""},{"$f":"IF(VLOOKUP($E40,学年名簿と評価・評定!$E$24:$K$573,6)=\"\",\"\",VLOOKUP($E40,学年名簿と評価・評定!$E$24:$K$573,7))","v":""},null,"",null,null,null,{"$f":"IF(OR($I40=\"\",COUNTA($M40:$O40)=0),\"\",IF(AND(M40=\"-\",N40=\"-\",O40=\"-\"),\"-\",VLOOKUP(COUNTIF($M40:$O40,\"A\")-COUNTIF($M40:$O40,\"C\"),基本情報!$R$4:$S$10,2)))","v":""},null,null,null,null,null,"",null,null,null,{"$f":"IF(OR($I40=\"\",COUNTA($W40:$Y40)=0),\"\",IF(AND(W40=\"-\",X40=\"-\",Y40=\"-\"),\"-\",VLOOKUP(COUNTIF($W40:$Y40,\"A\")-COUNTIF($W40:$Y40,\"C\"),基本情報!$R$4:$S$10,2)))","v":""},null,null,null,null,null,"",null,null,null,{"$f":"IF(OR($I40=\"\",COUNTA($AG40:$AI40)=0),\"\",IF(AND(AG40=\"-\",AH40=\"-\",AI40=\"-\"),\"-\",VLOOKUP(COUNTIF($AG40:$AI40,\"A\")-COUNTIF($AG40:$AI40,\"C\"),基本情報!$R$4:$S$10,2)))","v":""}]
[null,null,null,null,10418,null,null,18,{"$f":"IF(VLOOKUP($E41,学年名簿と評価・評定!$E$24:$K$573,5)=\"\",\"\",VLOOKUP($E41,学年名簿と評価・評定!$E$24:$K$573,5))","v":""},{"$f":"IF(VLOOKUP($E41,学年名簿と評価・評定!$E$24:$K$573,6)=\"\",\"\",VLOOKUP($E41,学年名簿と評価・評定!$E$24:$K$573,7))","v":""},null,"",null,null,null,{"$f":"IF(OR($I41=\"\",COUNTA($M41:$O41)=0),\"\",IF(AND(M41=\"-\",N41=\"-\",O41=\"-\"),\"-\",VLOOKUP(COUNTIF($M41:$O41,\"A\")-COUNTIF($M41:$O41,\"C\"),基本情報!$R$4:$S$10,2)))","v":""},null,null,null,null,null,"",null,null,null,{"$f":"IF(OR($I41=\"\",COUNTA($W41:$Y41)=0),\"\",IF(AND(W41=\"-\",X41=\"-\",Y41=\"-\"),\"-\",VLOOKUP(COUNTIF($W41:$Y41,\"A\")-COUNTIF($W41:$Y41,\"C\"),基本情報!$R$4:$S$10,2)))","v":""},null,null,null,null,null,"",null,null,null,{"$f":"IF(OR($I41=\"\",COUNTA($AG41:$AI41)=0),\"\",IF(AND(AG41=\"-\",AH41=\"-\",AI41=\"-\"),\"-\",VLOOKUP(COUNTIF($AG41:$AI41,\"A\")-COUNTIF($AG41:$AI41,\"C\"),基本情報!$R$4:$S$10,2)))","v":""}]
[null,null,null,null,10419,null,null,19,{"$f":"IF(VLOOKUP($E42,学年名簿と評価・評定!$E$24:$K$573,5)=\"\",\"\",VLOOKUP($E42,学年名簿と評価・評定!$E$24:$K$573,5))","v":""},{"$f":"IF(VLOOKUP($E42,学年名簿と評価・評定!$E$24:$K$573,6)=\"\",\"\",VLOOKUP($E42,学年名簿と評価・評定!$E$24:$K$573,7))","v":""},null,"",null,null,null,{"$f":"IF(OR($I42=\"\",COUNTA($M42:$O42)=0),\"\",IF(AND(M42=\"-\",N42=\"-\",O42=\"-\"),\"-\",VLOOKUP(COUNTIF($M42:$O42,\"A\")-COUNTIF($M42:$O42,\"C\"),基本情報!$R$4:$S$10,2)))","v":""},null,null,null,null,null,"",null,null,null,{"$f":"IF(OR($I42=\"\",COUNTA($W42:$Y42)=0),\"\",IF(AND(W42=\"-\",X42=\"-\",Y42=\"-\"),\"-\",VLOOKUP(COUNTIF($W42:$Y42,\"A\")-COUNTIF($W42:$Y42,\"C\"),基本情報!$R$4:$S$10,2)))","v":""},null,null,null,null,null,"",null,null,null,{"$f":"IF(OR($I42=\"\",COUNTA($AG42:$AI42)=0),\"\",IF(AND(AG42=\"-\",AH42=\"-\",AI42=\"-\"),\"-\",VLOOKUP(COUNTIF($AG42:$AI42,\"A\")-COUNTIF($AG42:$AI42,\"C\"),基本情報!$R$4:$S$10,2)))","v":""}]
[null,null,null,null,10420,null,null,20,{"$f":"IF(VLOOKUP($E43,学年名簿と評価・評定!$E$24:$K$573,5)=\"\",\"\",VLOOKUP($E43,学年名簿と評価・評定!$E$24:$K$573,5))","v":""},{"$f":"IF(VLOOKUP($E43,学年名簿と評価・評定!$E$24:$K$573,6)=\"\",\"\",VLOOKUP($E43,学年名簿と評価・評定!$E$24:$K$573,7))","v":""},null,"",null,null,null,{"$f":"IF(OR($I43=\"\",COUNTA($M43:$O43)=0),\"\",IF(AND(M43=\"-\",N43=\"-\",O43=\"-\"),\"-\",VLOOKUP(COUNTIF($M43:$O43,\"A\")-COUNTIF($M43:$O43,\"C\"),基本情報!$R$4:$S$10,2)))","v":""},null,null,null,null,null,"",null,null,null,{"$f":"IF(OR($I43=\"\",COUNTA($W43:$Y43)=0),\"\",IF(AND(W43=\"-\",X43=\"-\",Y43=\"-\"),\"-\",VLOOKUP(COUNTIF($W43:$Y43,\"A\")-COUNTIF($W43:$Y43,\"C\"),基本情報!$R$4:$S$10,2)))","v":""},null,null,null,null,null,"",null,null,null,{"$f":"IF(OR($I43=\"\",COUNTA($AG43:$AI43)=0),\"\",IF(AND(AG43=\"-\",AH43=\"-\",AI43=\"-\"),\"-\",VLOOKUP(COUNTIF($AG43:$AI43,\"A\")-COUNTIF($AG43:$AI43,\"C\"),基本情報!$R$4:$S$10,2)))","v":""}]
[null,null,null,null,10421,null,null,21,{"$f":"IF(VLOOKUP($E44,学年名簿と評価・評定!$E$24:$K$573,5)=\"\",\"\",VLOOKUP($E44,学年名簿と評価・評定!$E$24:$K$573,5))","v":""},{"$f":"IF(VLOOKUP($E44,学年名簿と評価・評定!$E$24:$K$573,6)=\"\",\"\",VLOOKUP($E44,学年名簿と評価・評定!$E$24:$K$573,7))","v":""},null,"",null,null,null,{"$f":"IF(OR($I44=\"\",COUNTA($M44:$O44)=0),\"\",IF(AND(M44=\"-\",N44=\"-\",O44=\"-\"),\"-\",VLOOKUP(COUNTIF($M44:$O44,\"A\")-COUNTIF($M44:$O44,\"C\"),基本情報!$R$4:$S$10,2)))","v":""},null,null,null,null,null,"",null,null,null,{"$f":"IF(OR($I44=\"\",COUNTA($W44:$Y44)=0),\"\",IF(AND(W44=\"-\",X44=\"-\",Y44=\"-\"),\"-\",VLOOKUP(COUNTIF($W44:$Y44,\"A\")-COUNTIF($W44:$Y44,\"C\"),基本情報!$R$4:$S$10,2)))","v":""},null,null,null,null,null,"",null,null,null,{"$f":"IF(OR($I44=\"\",COUNTA($AG44:$AI44)=0),\"\",IF(AND(AG44=\"-\",AH44=\"-\",AI44=\"-\"),\"-\",VLOOKUP(COUNTIF($AG44:$AI44,\"A\")-COUNTIF($AG44:$AI44,\"C\"),基本情報!$R$4:$S$10,2)))","v":""}]
[null,null,null,null,10422,null,null,22,{"$f":"IF(VLOOKUP($E45,学年名簿と評価・評定!$E$24:$K$573,5)=\"\",\"\",VLOOKUP($E45,学年名簿と評価・評定!$E$24:$K$573,5))","v":""},{"$f":"IF(VLOOKUP($E45,学年名簿と評価・評定!$E$24:$K$573,6)=\"\",\"\",VLOOKUP($E45,学年名簿と評価・評定!$E$24:$K$573,7))","v":""},null,"",null,null,null,{"$f":"IF(OR($I45=\"\",COUNTA($M45:$O45)=0),\"\",IF(AND(M45=\"-\",N45=\"-\",O45=\"-\"),\"-\",VLOOKUP(COUNTIF($M45:$O45,\"A\")-COUNTIF($M45:$O45,\"C\"),基本情報!$R$4:$S$10,2)))","v":""},null,null,null,null,null,"",null,null,null,{"$f":"IF(OR($I45=\"\",COUNTA($W45:$Y45)=0),\"\",IF(AND(W45=\"-\",X45=\"-\",Y45=\"-\"),\"-\",VLOOKUP(COUNTIF($W45:$Y45,\"A\")-COUNTIF($W45:$Y45,\"C\"),基本情報!$R$4:$S$10,2)))","v":""},null,null,null,null,null,"",null,null,null,{"$f":"IF(OR($I45=\"\",COUNTA($AG45:$AI45)=0),\"\",IF(AND(AG45=\"-\",AH45=\"-\",AI45=\"-\"),\"-\",VLOOKUP(COUNTIF($AG45:$AI45,\"A\")-COUNTIF($AG45:$AI45,\"C\"),基本情報!$R$4:$S$10,2)))","v":""}]
[null,null,null,null,10423,null,null,23,{"$f":"IF(VLOOKUP($E46,学年名簿と評価・評定!$E$24:$K$573,5)=\"\",\"\",VLOOKUP($E46,学年名簿と評価・評定!$E$24:$K$573,5))","v":""},{"$f":"IF(VLOOKUP($E46,学年名簿と評価・評定!$E$24:$K$573,6)=\"\",\"\",VLOOKUP($E46,学年名簿と評価・評定!$E$24:$K$573,7))","v":""},null,"",null,null,null,{"$f":"IF(OR($I46=\"\",COUNTA($M46:$O46)=0),\"\",IF(AND(M46=\"-\",N46=\"-\",O46=\"-\"),\"-\",VLOOKUP(COUNTIF($M46:$O46,\"A\")-COUNTIF($M46:$O46,\"C\"),基本情報!$R$4:$S$10,2)))","v":""},null,null,null,null,null,"",null,null,null,{"$f":"IF(OR($I46=\"\",COUNTA($W46:$Y46)=0),\"\",IF(AND(W46=\"-\",X46=\"-\",Y46=\"-\"),\"-\",VLOOKUP(COUNTIF($W46:$Y46,\"A\")-COUNTIF($W46:$Y46,\"C\"),基本情報!$R$4:$S$10,2)))","v":""},null,null,null,null,null,"",null,null,null,{"$f":"IF(OR($I46=\"\",COUNTA($AG46:$AI46)=0),\"\",IF(AND(AG46=\"-\",AH46=\"-\",AI46=\"-\"),\"-\",VLOOKUP(COUNTIF($AG46:$AI46,\"A\")-COUNTIF($AG46:$AI46,\"C\"),基本情報!$R$4:$S$10,2)))","v":""}]
[null,null,null,null,10424,null,null,24,{"$f":"IF(VLOOKUP($E47,学年名簿と評価・評定!$E$24:$K$573,5)=\"\",\"\",VLOOKUP($E47,学年名簿と評価・評定!$E$24:$K$573,5))","v":""},{"$f":"IF(VLOOKUP($E47,学年名簿と評価・評定!$E$24:$K$573,6)=\"\",\"\",VLOOKUP($E47,学年名簿と評価・評定!$E$24:$K$573,7))","v":""},null,"",null,null,null,{"$f":"IF(OR($I47=\"\",COUNTA($M47:$O47)=0),\"\",IF(AND(M47=\"-\",N47=\"-\",O47=\"-\"),\"-\",VLOOKUP(COUNTIF($M47:$O47,\"A\")-COUNTIF($M47:$O47,\"C\"),基本情報!$R$4:$S$10,2)))","v":""},null,null,null,null,null,"",null,null,null,{"$f":"IF(OR($I47=\"\",COUNTA($W47:$Y47)=0),\"\",IF(AND(W47=\"-\",X47=\"-\",Y47=\"-\"),\"-\",VLOOKUP(COUNTIF($W47:$Y47,\"A\")-COUNTIF($W47:$Y47,\"C\"),基本情報!$R$4:$S$10,2)))","v":""},null,null,null,null,null,"",null,null,null,{"$f":"IF(OR($I47=\"\",COUNTA($AG47:$AI47)=0),\"\",IF(AND(AG47=\"-\",AH47=\"-\",AI47=\"-\"),\"-\",VLOOKUP(COUNTIF($AG47:$AI47,\"A\")-COUNTIF($AG47:$AI47,\"C\"),基本情報!$R$4:$S$10,2)))","v":""}]
[null,null,null,null,10425,null,null,25,{"$f":"IF(VLOOKUP($E48,学年名簿と評価・評定!$E$24:$K$573,5)=\"\",\"\",VLOOKUP($E48,学年名簿と評価・評定!$E$24:$K$573,5))","v":""},{"$f":"IF(VLOOKUP($E48,学年名簿と評価・評定!$E$24:$K$573,6)=\"\",\"\",VLOOKUP($E48,学年名簿と評価・評定!$E$24:$K$573,7))","v":""},null,"",null,null,null,{"$f":"IF(OR($I48=\"\",COUNTA($M48:$O48)=0),\"\",IF(AND(M48=\"-\",N48=\"-\",O48=\"-\"),\"-\",VLOOKUP(COUNTIF($M48:$O48,\"A\")-COUNTIF($M48:$O48,\"C\"),基本情報!$R$4:$S$10,2)))","v":""},null,null,null,null,null,"",null,null,null,{"$f":"IF(OR($I48=\"\",COUNTA($W48:$Y48)=0),\"\",IF(AND(W48=\"-\",X48=\"-\",Y48=\"-\"),\"-\",VLOOKUP(COUNTIF($W48:$Y48,\"A\")-COUNTIF($W48:$Y48,\"C\"),基本情報!$R$4:$S$10,2)))","v":""},null,null,null,null,null,"",null,null,null,{"$f":"IF(OR($I48=\"\",COUNTA($AG48:$AI48)=0),\"\",IF(AND(AG48=\"-\",AH48=\"-\",AI48=\"-\"),\"-\",VLOOKUP(COUNTIF($AG48:$AI48,\"A\")-COUNTIF($AG48:$AI48,\"C\"),基本情報!$R$4:$S$10,2)))","v":""}]
[null,null,null,null,10426,null,null,26,{"$f":"IF(VLOOKUP($E49,学年名簿と評価・評定!$E$24:$K$573,5)=\"\",\"\",VLOOKUP($E49,学年名簿と評価・評定!$E$24:$K$573,5))","v":""},{"$f":"IF(VLOOKUP($E49,学年名簿と評価・評定!$E$24:$K$573,6)=\"\",\"\",VLOOKUP($E49,学年名簿と評価・評定!$E$24:$K$573,7))","v":""},null,"",null,null,null,{"$f":"IF(OR($I49=\"\",COUNTA($M49:$O49)=0),\"\",IF(AND(M49=\"-\",N49=\"-\",O49=\"-\"),\"-\",VLOOKUP(COUNTIF($M49:$O49,\"A\")-COUNTIF($M49:$O49,\"C\"),基本情報!$R$4:$S$10,2)))","v":""},null,null,null,null,null,"",null,null,null,{"$f":"IF(OR($I49=\"\",COUNTA($W49:$Y49)=0),\"\",IF(AND(W49=\"-\",X49=\"-\",Y49=\"-\"),\"-\",VLOOKUP(COUNTIF($W49:$Y49,\"A\")-COUNTIF($W49:$Y49,\"C\"),基本情報!$R$4:$S$10,2)))","v":""},null,null,null,null,null,"",null,null,null,{"$f":"IF(OR($I49=\"\",COUNTA($AG49:$AI49)=0),\"\",IF(AND(AG49=\"-\",AH49=\"-\",AI49=\"-\"),\"-\",VLOOKUP(COUNTIF($AG49:$AI49,\"A\")-COUNTIF($AG49:$AI49,\"C\"),基本情報!$R$4:$S$10,2)))","v":""}]
[null,null,null,null,10427,null,null,27,{"$f":"IF(VLOOKUP($E50,学年名簿と評価・評定!$E$24:$K$573,5)=\"\",\"\",VLOOKUP($E50,学年名簿と評価・評定!$E$24:$K$573,5))","v":""},{"$f":"IF(VLOOKUP($E50,学年名簿と評価・評定!$E$24:$K$573,6)=\"\",\"\",VLOOKUP($E50,学年名簿と評価・評定!$E$24:$K$573,7))","v":""},null,"",null,null,null,{"$f":"IF(OR($I50=\"\",COUNTA($M50:$O50)=0),\"\",IF(AND(M50=\"-\",N50=\"-\",O50=\"-\"),\"-\",VLOOKUP(COUNTIF($M50:$O50,\"A\")-COUNTIF($M50:$O50,\"C\"),基本情報!$R$4:$S$10,2)))","v":""},null,null,null,null,null,"",null,null,null,{"$f":"IF(OR($I50=\"\",COUNTA($W50:$Y50)=0),\"\",IF(AND(W50=\"-\",X50=\"-\",Y50=\"-\"),\"-\",VLOOKUP(COUNTIF($W50:$Y50,\"A\")-COUNTIF($W50:$Y50,\"C\"),基本情報!$R$4:$S$10,2)))","v":""},null,null,null,null,null,"",null,null,null,{"$f":"IF(OR($I50=\"\",COUNTA($AG50:$AI50)=0),\"\",IF(AND(AG50=\"-\",AH50=\"-\",AI50=\"-\"),\"-\",VLOOKUP(COUNTIF($AG50:$AI50,\"A\")-COUNTIF($AG50:$AI50,\"C\"),基本情報!$R$4:$S$10,2)))","v":""}]
[null,null,null,null,10428,null,null,28,{"$f":"IF(VLOOKUP($E51,学年名簿と評価・評定!$E$24:$K$573,5)=\"\",\"\",VLOOKUP($E51,学年名簿と評価・評定!$E$24:$K$573,5))","v":""},{"$f":"IF(VLOOKUP($E51,学年名簿と評価・評定!$E$24:$K$573,6)=\"\",\"\",VLOOKUP($E51,学年名簿と評価・評定!$E$24:$K$573,7))","v":""},null,"",null,null,null,{"$f":"IF(OR($I51=\"\",COUNTA($M51:$O51)=0),\"\",IF(AND(M51=\"-\",N51=\"-\",O51=\"-\"),\"-\",VLOOKUP(COUNTIF($M51:$O51,\"A\")-COUNTIF($M51:$O51,\"C\"),基本情報!$R$4:$S$10,2)))","v":""},null,null,null,null,null,"",null,null,null,{"$f":"IF(OR($I51=\"\",COUNTA($W51:$Y51)=0),\"\",IF(AND(W51=\"-\",X51=\"-\",Y51=\"-\"),\"-\",VLOOKUP(COUNTIF($W51:$Y51,\"A\")-COUNTIF($W51:$Y51,\"C\"),基本情報!$R$4:$S$10,2)))","v":""},null,null,null,null,null,"",null,null,null,{"$f":"IF(OR($I51=\"\",COUNTA($AG51:$AI51)=0),\"\",IF(AND(AG51=\"-\",AH51=\"-\",AI51=\"-\"),\"-\",VLOOKUP(COUNTIF($AG51:$AI51,\"A\")-COUNTIF($AG51:$AI51,\"C\"),基本情報!$R$4:$S$10,2)))","v":""}]
[null,null,null,null,10429,null,null,29,{"$f":"IF(VLOOKUP($E52,学年名簿と評価・評定!$E$24:$K$573,5)=\"\",\"\",VLOOKUP($E52,学年名簿と評価・評定!$E$24:$K$573,5))","v":""},{"$f":"IF(VLOOKUP($E52,学年名簿と評価・評定!$E$24:$K$573,6)=\"\",\"\",VLOOKUP($E52,学年名簿と評価・評定!$E$24:$K$573,7))","v":""},null,"",null,null,null,{"$f":"IF(OR($I52=\"\",COUNTA($M52:$O52)=0),\"\",IF(AND(M52=\"-\",N52=\"-\",O52=\"-\"),\"-\",VLOOKUP(COUNTIF($M52:$O52,\"A\")-COUNTIF($M52:$O52,\"C\"),基本情報!$R$4:$S$10,2)))","v":""},null,null,null,null,null,"",null,null,null,{"$f":"IF(OR($I52=\"\",COUNTA($W52:$Y52)=0),\"\",IF(AND(W52=\"-\",X52=\"-\",Y52=\"-\"),\"-\",VLOOKUP(COUNTIF($W52:$Y52,\"A\")-COUNTIF($W52:$Y52,\"C\"),基本情報!$R$4:$S$10,2)))","v":""},null,null,null,null,null,"",null,null,null,{"$f":"IF(OR($I52=\"\",COUNTA($AG52:$AI52)=0),\"\",IF(AND(AG52=\"-\",AH52=\"-\",AI52=\"-\"),\"-\",VLOOKUP(COUNTIF($AG52:$AI52,\"A\")-COUNTIF($AG52:$AI52,\"C\"),基本情報!$R$4:$S$10,2)))","v":""}]
[null,null,null,null,10430,null,null,30,{"$f":"IF(VLOOKUP($E53,学年名簿と評価・評定!$E$24:$K$573,5)=\"\",\"\",VLOOKUP($E53,学年名簿と評価・評定!$E$24:$K$573,5))","v":""},{"$f":"IF(VLOOKUP($E53,学年名簿と評価・評定!$E$24:$K$573,6)=\"\",\"\",VLOOKUP($E53,学年名簿と評価・評定!$E$24:$K$573,7))","v":""},null,"",null,null,null,{"$f":"IF(OR($I53=\"\",COUNTA($M53:$O53)=0),\"\",IF(AND(M53=\"-\",N53=\"-\",O53=\"-\"),\"-\",VLOOKUP(COUNTIF($M53:$O53,\"A\")-COUNTIF($M53:$O53,\"C\"),基本情報!$R$4:$S$10,2)))","v":""},null,null,null,null,null,"",null,null,null,{"$f":"IF(OR($I53=\"\",COUNTA($W53:$Y53)=0),\"\",IF(AND(W53=\"-\",X53=\"-\",Y53=\"-\"),\"-\",VLOOKUP(COUNTIF($W53:$Y53,\"A\")-COUNTIF($W53:$Y53,\"C\"),基本情報!$R$4:$S$10,2)))","v":""},null,null,null,null,null,"",null,null,null,{"$f":"IF(OR($I53=\"\",COUNTA($AG53:$AI53)=0),\"\",IF(AND(AG53=\"-\",AH53=\"-\",AI53=\"-\"),\"-\",VLOOKUP(COUNTIF($AG53:$AI53,\"A\")-COUNTIF($AG53:$AI53,\"C\"),基本情報!$R$4:$S$10,2)))","v":""}]
[null,null,null,null,10431,null,null,31,{"$f":"IF(VLOOKUP($E54,学年名簿と評価・評定!$E$24:$K$573,5)=\"\",\"\",VLOOKUP($E54,学年名簿と評価・評定!$E$24:$K$573,5))","v":""},{"$f":"IF(VLOOKUP($E54,学年名簿と評価・評定!$E$24:$K$573,6)=\"\",\"\",VLOOKUP($E54,学年名簿と評価・評定!$E$24:$K$573,7))","v":""},null,"",null,null,null,{"$f":"IF(OR($I54=\"\",COUNTA($M54:$O54)=0),\"\",IF(AND(M54=\"-\",N54=\"-\",O54=\"-\"),\"-\",VLOOKUP(COUNTIF($M54:$O54,\"A\")-COUNTIF($M54:$O54,\"C\"),基本情報!$R$4:$S$10,2)))","v":""},null,null,null,null,null,"",null,null,null,{"$f":"IF(OR($I54=\"\",COUNTA($W54:$Y54)=0),\"\",IF(AND(W54=\"-\",X54=\"-\",Y54=\"-\"),\"-\",VLOOKUP(COUNTIF($W54:$Y54,\"A\")-COUNTIF($W54:$Y54,\"C\"),基本情報!$R$4:$S$10,2)))","v":""},null,null,null,null,null,"",null,null,null,{"$f":"IF(OR($I54=\"\",COUNTA($AG54:$AI54)=0),\"\",IF(AND(AG54=\"-\",AH54=\"-\",AI54=\"-\"),\"-\",VLOOKUP(COUNTIF($AG54:$AI54,\"A\")-COUNTIF($AG54:$AI54,\"C\"),基本情報!$R$4:$S$10,2)))","v":""}]
[null,null,null,null,10432,null,null,32,{"$f":"IF(VLOOKUP($E55,学年名簿と評価・評定!$E$24:$K$573,5)=\"\",\"\",VLOOKUP($E55,学年名簿と評価・評定!$E$24:$K$573,5))","v":""},{"$f":"IF(VLOOKUP($E55,学年名簿と評価・評定!$E$24:$K$573,6)=\"\",\"\",VLOOKUP($E55,学年名簿と評価・評定!$E$24:$K$573,7))","v":""},null,"",null,null,null,{"$f":"IF(OR($I55=\"\",COUNTA($M55:$O55)=0),\"\",IF(AND(M55=\"-\",N55=\"-\",O55=\"-\"),\"-\",VLOOKUP(COUNTIF($M55:$O55,\"A\")-COUNTIF($M55:$O55,\"C\"),基本情報!$R$4:$S$10,2)))","v":""},null,null,null,null,null,"",null,null,null,{"$f":"IF(OR($I55=\"\",COUNTA($W55:$Y55)=0),\"\",IF(AND(W55=\"-\",X55=\"-\",Y55=\"-\"),\"-\",VLOOKUP(COUNTIF($W55:$Y55,\"A\")-COUNTIF($W55:$Y55,\"C\"),基本情報!$R$4:$S$10,2)))","v":""},null,null,null,null,null,"",null,null,null,{"$f":"IF(OR($I55=\"\",COUNTA($AG55:$AI55)=0),\"\",IF(AND(AG55=\"-\",AH55=\"-\",AI55=\"-\"),\"-\",VLOOKUP(COUNTIF($AG55:$AI55,\"A\")-COUNTIF($AG55:$AI55,\"C\"),基本情報!$R$4:$S$10,2)))","v":""}]
[null,null,null,null,{"$f":"$I$8*10000+$I$9*100+$H56","v":10433},null,null,33,{"$f":"IF(VLOOKUP($E56,学年名簿と評価・評定!$E$24:$K$573,5)=\"\",\"\",VLOOKUP($E56,学年名簿と評価・評定!$E$24:$K$573,5))","v":""},{"$f":"IF(VLOOKUP($E56,学年名簿と評価・評定!$E$24:$K$573,6)=\"\",\"\",VLOOKUP($E56,学年名簿と評価・評定!$E$24:$K$573,7))","v":""},null,"",null,null,null,{"$f":"IF(OR($I56=\"\",COUNTA($M56:$O56)=0),\"\",IF(AND(M56=\"-\",N56=\"-\",O56=\"-\"),\"-\",VLOOKUP(COUNTIF($M56:$O56,\"A\")-COUNTIF($M56:$O56,\"C\"),基本情報!$R$4:$S$10,2)))","v":""},null,null,null,null,null,"",null,null,null,{"$f":"IF(OR($I56=\"\",COUNTA($W56:$Y56)=0),\"\",IF(AND(W56=\"-\",X56=\"-\",Y56=\"-\"),\"-\",VLOOKUP(COUNTIF($W56:$Y56,\"A\")-COUNTIF($W56:$Y56,\"C\"),基本情報!$R$4:$S$10,2)))","v":""},null,null,null,null,null,"",null,null,null,{"$f":"IF(OR($I56=\"\",COUNTA($AG56:$AI56)=0),\"\",IF(AND(AG56=\"-\",AH56=\"-\",AI56=\"-\"),\"-\",VLOOKUP(COUNTIF($AG56:$AI56,\"A\")-COUNTIF($AG56:$AI56,\"C\"),基本情報!$R$4:$S$10,2)))","v":""}]
[null,null,null,null,10434,null,null,34,{"$f":"IF(VLOOKUP($E57,学年名簿と評価・評定!$E$24:$K$573,5)=\"\",\"\",VLOOKUP($E57,学年名簿と評価・評定!$E$24:$K$573,5))","v":""},{"$f":"IF(VLOOKUP($E57,学年名簿と評価・評定!$E$24:$K$573,6)=\"\",\"\",VLOOKUP($E57,学年名簿と評価・評定!$E$24:$K$573,7))","v":""},null,"",null,null,null,{"$f":"IF(OR($I57=\"\",COUNTA($M57:$O57)=0),\"\",IF(AND(M57=\"-\",N57=\"-\",O57=\"-\"),\"-\",VLOOKUP(COUNTIF($M57:$O57,\"A\")-COUNTIF($M57:$O57,\"C\"),基本情報!$R$4:$S$10,2)))","v":""},null,null,null,null,null,"",null,null,null,{"$f":"IF(OR($I57=\"\",COUNTA($W57:$Y57)=0),\"\",IF(AND(W57=\"-\",X57=\"-\",Y57=\"-\"),\"-\",VLOOKUP(COUNTIF($W57:$Y57,\"A\")-COUNTIF($W57:$Y57,\"C\"),基本情報!$R$4:$S$10,2)))","v":""},null,null,null,null,null,"",null,null,null,{"$f":"IF(OR($I57=\"\",COUNTA($AG57:$AI57)=0),\"\",IF(AND(AG57=\"-\",AH57=\"-\",AI57=\"-\"),\"-\",VLOOKUP(COUNTIF($AG57:$AI57,\"A\")-COUNTIF($AG57:$AI57,\"C\"),基本情報!$R$4:$S$10,2)))","v":""}]
[null,null,null,null,10435,null,null,35,{"$f":"IF(VLOOKUP($E58,学年名簿と評価・評定!$E$24:$K$573,5)=\"\",\"\",VLOOKUP($E58,学年名簿と評価・評定!$E$24:$K$573,5))","v":""},{"$f":"IF(VLOOKUP($E58,学年名簿と評価・評定!$E$24:$K$573,6)=\"\",\"\",VLOOKUP($E58,学年名簿と評価・評定!$E$24:$K$573,7))","v":""},null,"",null,null,null,{"$f":"IF(OR($I58=\"\",COUNTA($M58:$O58)=0),\"\",IF(AND(M58=\"-\",N58=\"-\",O58=\"-\"),\"-\",VLOOKUP(COUNTIF($M58:$O58,\"A\")-COUNTIF($M58:$O58,\"C\"),基本情報!$R$4:$S$10,2)))","v":""},null,null,null,null,null,"",null,null,null,{"$f":"IF(OR($I58=\"\",COUNTA($W58:$Y58)=0),\"\",IF(AND(W58=\"-\",X58=\"-\",Y58=\"-\"),\"-\",VLOOKUP(COUNTIF($W58:$Y58,\"A\")-COUNTIF($W58:$Y58,\"C\"),基本情報!$R$4:$S$10,2)))","v":""},null,null,null,null,null,"",null,null,null,{"$f":"IF(OR($I58=\"\",COUNTA($AG58:$AI58)=0),\"\",IF(AND(AG58=\"-\",AH58=\"-\",AI58=\"-\"),\"-\",VLOOKUP(COUNTIF($AG58:$AI58,\"A\")-COUNTIF($AG58:$AI58,\"C\"),基本情報!$R$4:$S$10,2)))","v":""}]
[null,null,null,null,10436,null,null,36,{"$f":"IF(VLOOKUP($E59,学年名簿と評価・評定!$E$24:$K$573,5)=\"\",\"\",VLOOKUP($E59,学年名簿と評価・評定!$E$24:$K$573,5))","v":""},{"$f":"IF(VLOOKUP($E59,学年名簿と評価・評定!$E$24:$K$573,6)=\"\",\"\",VLOOKUP($E59,学年名簿と評価・評定!$E$24:$K$573,7))","v":""},null,"",null,null,null,{"$f":"IF(OR($I59=\"\",COUNTA($M59:$O59)=0),\"\",IF(AND(M59=\"-\",N59=\"-\",O59=\"-\"),\"-\",VLOOKUP(COUNTIF($M59:$O59,\"A\")-COUNTIF($M59:$O59,\"C\"),基本情報!$R$4:$S$10,2)))","v":""},null,null,null,null,null,"",null,null,null,{"$f":"IF(OR($I59=\"\",COUNTA($W59:$Y59)=0),\"\",IF(AND(W59=\"-\",X59=\"-\",Y59=\"-\"),\"-\",VLOOKUP(COUNTIF($W59:$Y59,\"A\")-COUNTIF($W59:$Y59,\"C\"),基本情報!$R$4:$S$10,2)))","v":""},null,null,null,null,null,"",null,null,null,{"$f":"IF(OR($I59=\"\",COUNTA($AG59:$AI59)=0),\"\",IF(AND(AG59=\"-\",AH59=\"-\",AI59=\"-\"),\"-\",VLOOKUP(COUNTIF($AG59:$AI59,\"A\")-COUNTIF($AG59:$AI59,\"C\"),基本情報!$R$4:$S$10,2)))","v":""}]
[null,null,null,null,10437,null,null,37,{"$f":"IF(VLOOKUP($E60,学年名簿と評価・評定!$E$24:$K$573,5)=\"\",\"\",VLOOKUP($E60,学年名簿と評価・評定!$E$24:$K$573,5))","v":""},{"$f":"IF(VLOOKUP($E60,学年名簿と評価・評定!$E$24:$K$573,6)=\"\",\"\",VLOOKUP($E60,学年名簿と評価・評定!$E$24:$K$573,7))","v":""},null,"",null,null,null,{"$f":"IF(OR($I60=\"\",COUNTA($M60:$O60)=0),\"\",IF(AND(M60=\"-\",N60=\"-\",O60=\"-\"),\"-\",VLOOKUP(COUNTIF($M60:$O60,\"A\")-COUNTIF($M60:$O60,\"C\"),基本情報!$R$4:$S$10,2)))","v":""},null,null,null,null,null,"",null,null,null,{"$f":"IF(OR($I60=\"\",COUNTA($W60:$Y60)=0),\"\",IF(AND(W60=\"-\",X60=\"-\",Y60=\"-\"),\"-\",VLOOKUP(COUNTIF($W60:$Y60,\"A\")-COUNTIF($W60:$Y60,\"C\"),基本情報!$R$4:$S$10,2)))","v":""},null,null,null,null,null,"",null,null,null,{"$f":"IF(OR($I60=\"\",COUNTA($AG60:$AI60)=0),\"\",IF(AND(AG60=\"-\",AH60=\"-\",AI60=\"-\"),\"-\",VLOOKUP(COUNTIF($AG60:$AI60,\"A\")-COUNTIF($AG60:$AI60,\"C\"),基本情報!$R$4:$S$10,2)))","v":""}]
[null,null,null,null,10438,null,null,38,{"$f":"IF(VLOOKUP($E61,学年名簿と評価・評定!$E$24:$K$573,5)=\"\",\"\",VLOOKUP($E61,学年名簿と評価・評定!$E$24:$K$573,5))","v":""},{"$f":"IF(VLOOKUP($E61,学年名簿と評価・評定!$E$24:$K$573,6)=\"\",\"\",VLOOKUP($E61,学年名簿と評価・評定!$E$24:$K$573,7))","v":""},null,"",null,null,null,{"$f":"IF(OR($I61=\"\",COUNTA($M61:$O61)=0),\"\",IF(AND(M61=\"-\",N61=\"-\",O61=\"-\"),\"-\",VLOOKUP(COUNTIF($M61:$O61,\"A\")-COUNTIF($M61:$O61,\"C\"),基本情報!$R$4:$S$10,2)))","v":""},null,null,null,null,null,"",null,null,null,{"$f":"IF(OR($I61=\"\",COUNTA($W61:$Y61)=0),\"\",IF(AND(W61=\"-\",X61=\"-\",Y61=\"-\"),\"-\",VLOOKUP(COUNTIF($W61:$Y61,\"A\")-COUNTIF($W61:$Y61,\"C\"),基本情報!$R$4:$S$10,2)))","v":""},null,null,null,null,null,"",null,null,null,{"$f":"IF(OR($I61=\"\",COUNTA($AG61:$AI61)=0),\"\",IF(AND(AG61=\"-\",AH61=\"-\",AI61=\"-\"),\"-\",VLOOKUP(COUNTIF($AG61:$AI61,\"A\")-COUNTIF($AG61:$AI61,\"C\"),基本情報!$R$4:$S$10,2)))","v":""}]
[null,null,null,null,10439,null,null,39,{"$f":"IF(VLOOKUP($E62,学年名簿と評価・評定!$E$24:$K$573,5)=\"\",\"\",VLOOKUP($E62,学年名簿と評価・評定!$E$24:$K$573,5))","v":""},{"$f":"IF(VLOOKUP($E62,学年名簿と評価・評定!$E$24:$K$573,6)=\"\",\"\",VLOOKUP($E62,学年名簿と評価・評定!$E$24:$K$573,7))","v":""},null,"",null,null,null,{"$f":"IF(OR($I62=\"\",COUNTA($M62:$O62)=0),\"\",IF(AND(M62=\"-\",N62=\"-\",O62=\"-\"),\"-\",VLOOKUP(COUNTIF($M62:$O62,\"A\")-COUNTIF($M62:$O62,\"C\"),基本情報!$R$4:$S$10,2)))","v":""},null,null,null,null,null,"",null,null,null,{"$f":"IF(OR($I62=\"\",COUNTA($W62:$Y62)=0),\"\",IF(AND(W62=\"-\",X62=\"-\",Y62=\"-\"),\"-\",VLOOKUP(COUNTIF($W62:$Y62,\"A\")-COUNTIF($W62:$Y62,\"C\"),基本情報!$R$4:$S$10,2)))","v":""},null,null,null,null,null,"",null,null,null,{"$f":"IF(OR($I62=\"\",COUNTA($AG62:$AI62)=0),\"\",IF(AND(AG62=\"-\",AH62=\"-\",AI62=\"-\"),\"-\",VLOOKUP(COUNTIF($AG62:$AI62,\"A\")-COUNTIF($AG62:$AI62,\"C\"),基本情報!$R$4:$S$10,2)))","v":""}]
[null,null,null,null,10440,null,null,40,{"$f":"IF(VLOOKUP($E63,学年名簿と評価・評定!$E$24:$K$573,5)=\"\",\"\",VLOOKUP($E63,学年名簿と評価・評定!$E$24:$K$573,5))","v":""},{"$f":"IF(VLOOKUP($E63,学年名簿と評価・評定!$E$24:$K$573,6)=\"\",\"\",VLOOKUP($E63,学年名簿と評価・評定!$E$24:$K$573,7))","v":""},null,"",null,null,null,{"$f":"IF(OR($I63=\"\",COUNTA($M63:$O63)=0),\"\",IF(AND(M63=\"-\",N63=\"-\",O63=\"-\"),\"-\",VLOOKUP(COUNTIF($M63:$O63,\"A\")-COUNTIF($M63:$O63,\"C\"),基本情報!$R$4:$S$10,2)))","v":""},null,null,null,null,null,"",null,null,null,{"$f":"IF(OR($I63=\"\",COUNTA($W63:$Y63)=0),\"\",IF(AND(W63=\"-\",X63=\"-\",Y63=\"-\"),\"-\",VLOOKUP(COUNTIF($W63:$Y63,\"A\")-COUNTIF($W63:$Y63,\"C\"),基本情報!$R$4:$S$10,2)))","v":""},null,null,null,null,null,"",null,null,null,{"$f":"IF(OR($I63=\"\",COUNTA($AG63:$AI63)=0),\"\",IF(AND(AG63=\"-\",AH63=\"-\",AI63=\"-\"),\"-\",VLOOKUP(COUNTIF($AG63:$AI63,\"A\")-COUNTIF($AG63:$AI63,\"C\"),基本情報!$R$4:$S$10,2)))","v":""}]
[null,null,null,null,10441,null,null,41,{"$f":"IF(VLOOKUP($E64,学年名簿と評価・評定!$E$24:$K$573,5)=\"\",\"\",VLOOKUP($E64,学年名簿と評価・評定!$E$24:$K$573,5))","v":""},{"$f":"IF(VLOOKUP($E64,学年名簿と評価・評定!$E$24:$K$573,6)=\"\",\"\",VLOOKUP($E64,学年名簿と評価・評定!$E$24:$K$573,7))","v":""},null,"",null,null,null,{"$f":"IF(OR($I64=\"\",COUNTA($M64:$O64)=0),\"\",IF(AND(M64=\"-\",N64=\"-\",O64=\"-\"),\"-\",VLOOKUP(COUNTIF($M64:$O64,\"A\")-COUNTIF($M64:$O64,\"C\"),基本情報!$R$4:$S$10,2)))","v":""},null,null,null,null,null,"",null,null,null,{"$f":"IF(OR($I64=\"\",COUNTA($W64:$Y64)=0),\"\",IF(AND(W64=\"-\",X64=\"-\",Y64=\"-\"),\"-\",VLOOKUP(COUNTIF($W64:$Y64,\"A\")-COUNTIF($W64:$Y64,\"C\"),基本情報!$R$4:$S$10,2)))","v":""},null,null,null,null,null,"",null,null,null,{"$f":"IF(OR($I64=\"\",COUNTA($AG64:$AI64)=0),\"\",IF(AND(AG64=\"-\",AH64=\"-\",AI64=\"-\"),\"-\",VLOOKUP(COUNTIF($AG64:$AI64,\"A\")-COUNTIF($AG64:$AI64,\"C\"),基本情報!$R$4:$S$10,2)))","v":""}]
[null,null,null,null,10442,null,null,42,{"$f":"IF(VLOOKUP($E65,学年名簿と評価・評定!$E$24:$K$573,5)=\"\",\"\",VLOOKUP($E65,学年名簿と評価・評定!$E$24:$K$573,5))","v":""},{"$f":"IF(VLOOKUP($E65,学年名簿と評価・評定!$E$24:$K$573,6)=\"\",\"\",VLOOKUP($E65,学年名簿と評価・評定!$E$24:$K$573,7))","v":""},null,"",null,null,null,{"$f":"IF(OR($I65=\"\",COUNTA($M65:$O65)=0),\"\",IF(AND(M65=\"-\",N65=\"-\",O65=\"-\"),\"-\",VLOOKUP(COUNTIF($M65:$O65,\"A\")-COUNTIF($M65:$O65,\"C\"),基本情報!$R$4:$S$10,2)))","v":""},null,null,null,null,null,"",null,null,null,{"$f":"IF(OR($I65=\"\",COUNTA($W65:$Y65)=0),\"\",IF(AND(W65=\"-\",X65=\"-\",Y65=\"-\"),\"-\",VLOOKUP(COUNTIF($W65:$Y65,\"A\")-COUNTIF($W65:$Y65,\"C\"),基本情報!$R$4:$S$10,2)))","v":""},null,null,null,null,null,"",null,null,null,{"$f":"IF(OR($I65=\"\",COUNTA($AG65:$AI65)=0),\"\",IF(AND(AG65=\"-\",AH65=\"-\",AI65=\"-\"),\"-\",VLOOKUP(COUNTIF($AG65:$AI65,\"A\")-COUNTIF($AG65:$AI65,\"C\"),基本情報!$R$4:$S$10,2)))","v":""}]
[null,null,null,null,10443,null,null,43,{"$f":"IF(VLOOKUP($E66,学年名簿と評価・評定!$E$24:$K$573,5)=\"\",\"\",VLOOKUP($E66,学年名簿と評価・評定!$E$24:$K$573,5))","v":""},{"$f":"IF(VLOOKUP($E66,学年名簿と評価・評定!$E$24:$K$573,6)=\"\",\"\",VLOOKUP($E66,学年名簿と評価・評定!$E$24:$K$573,7))","v":""},null,"",null,null,null,{"$f":"IF(OR($I66=\"\",COUNTA($M66:$O66)=0),\"\",IF(AND(M66=\"-\",N66=\"-\",O66=\"-\"),\"-\",VLOOKUP(COUNTIF($M66:$O66,\"A\")-COUNTIF($M66:$O66,\"C\"),基本情報!$R$4:$S$10,2)))","v":""},null,null,null,null,null,"",null,null,null,{"$f":"IF(OR($I66=\"\",COUNTA($W66:$Y66)=0),\"\",IF(AND(W66=\"-\",X66=\"-\",Y66=\"-\"),\"-\",VLOOKUP(COUNTIF($W66:$Y66,\"A\")-COUNTIF($W66:$Y66,\"C\"),基本情報!$R$4:$S$10,2)))","v":""},null,null,null,null,null,"",null,null,null,{"$f":"IF(OR($I66=\"\",COUNTA($AG66:$AI66)=0),\"\",IF(AND(AG66=\"-\",AH66=\"-\",AI66=\"-\"),\"-\",VLOOKUP(COUNTIF($AG66:$AI66,\"A\")-COUNTIF($AG66:$AI66,\"C\"),基本情報!$R$4:$S$10,2)))","v":""}]
[null,null,null,null,10444,null,null,44,{"$f":"IF(VLOOKUP($E67,学年名簿と評価・評定!$E$24:$K$573,5)=\"\",\"\",VLOOKUP($E67,学年名簿と評価・評定!$E$24:$K$573,5))","v":""},{"$f":"IF(VLOOKUP($E67,学年名簿と評価・評定!$E$24:$K$573,6)=\"\",\"\",VLOOKUP($E67,学年名簿と評価・評定!$E$24:$K$573,7))","v":""},null,"",null,null,null,{"$f":"IF(OR($I67=\"\",COUNTA($M67:$O67)=0),\"\",IF(AND(M67=\"-\",N67=\"-\",O67=\"-\"),\"-\",VLOOKUP(COUNTIF($M67:$O67,\"A\")-COUNTIF($M67:$O67,\"C\"),基本情報!$R$4:$S$10,2)))","v":""},null,null,null,null,null,"",null,null,null,{"$f":"IF(OR($I67=\"\",COUNTA($W67:$Y67)=0),\"\",IF(AND(W67=\"-\",X67=\"-\",Y67=\"-\"),\"-\",VLOOKUP(COUNTIF($W67:$Y67,\"A\")-COUNTIF($W67:$Y67,\"C\"),基本情報!$R$4:$S$10,2)))","v":""},null,null,null,null,null,"",null,null,null,{"$f":"IF(OR($I67=\"\",COUNTA($AG67:$AI67)=0),\"\",IF(AND(AG67=\"-\",AH67=\"-\",AI67=\"-\"),\"-\",VLOOKUP(COUNTIF($AG67:$AI67,\"A\")-COUNTIF($AG67:$AI67,\"C\"),基本情報!$R$4:$S$10,2)))","v":""}]
[null,null,null,null,10445,null,null,45,{"$f":"IF(VLOOKUP($E68,学年名簿と評価・評定!$E$24:$K$573,5)=\"\",\"\",VLOOKUP($E68,学年名簿と評価・評定!$E$24:$K$573,5))","v":""},{"$f":"IF(VLOOKUP($E68,学年名簿と評価・評定!$E$24:$K$573,6)=\"\",\"\",VLOOKUP($E68,学年名簿と評価・評定!$E$24:$K$573,7))","v":""},null,"",null,null,null,{"$f":"IF(OR($I68=\"\",COUNTA($M68:$O68)=0),\"\",IF(AND(M68=\"-\",N68=\"-\",O68=\"-\"),\"-\",VLOOKUP(COUNTIF($M68:$O68,\"A\")-COUNTIF($M68:$O68,\"C\"),基本情報!$R$4:$S$10,2)))","v":""},null,null,null,null,null,"",null,null,null,{"$f":"IF(OR($I68=\"\",COUNTA($W68:$Y68)=0),\"\",IF(AND(W68=\"-\",X68=\"-\",Y68=\"-\"),\"-\",VLOOKUP(COUNTIF($W68:$Y68,\"A\")-COUNTIF($W68:$Y68,\"C\"),基本情報!$R$4:$S$10,2)))","v":""},null,null,null,null,null,"",null,null,null,{"$f":"IF(OR($I68=\"\",COUNTA($AG68:$AI68)=0),\"\",IF(AND(AG68=\"-\",AH68=\"-\",AI68=\"-\"),\"-\",VLOOKUP(COUNTIF($AG68:$AI68,\"A\")-COUNTIF($AG68:$AI68,\"C\"),基本情報!$R$4:$S$10,2)))","v":""}]
[null,null,null,null,10446,null,null,46,{"$f":"IF(VLOOKUP($E69,学年名簿と評価・評定!$E$24:$K$573,5)=\"\",\"\",VLOOKUP($E69,学年名簿と評価・評定!$E$24:$K$573,5))","v":""},{"$f":"IF(VLOOKUP($E69,学年名簿と評価・評定!$E$24:$K$573,6)=\"\",\"\",VLOOKUP($E69,学年名簿と評価・評定!$E$24:$K$573,7))","v":""},null,"",null,null,null,{"$f":"IF(OR($I69=\"\",COUNTA($M69:$O69)=0),\"\",IF(AND(M69=\"-\",N69=\"-\",O69=\"-\"),\"-\",VLOOKUP(COUNTIF($M69:$O69,\"A\")-COUNTIF($M69:$O69,\"C\"),基本情報!$R$4:$S$10,2)))","v":""},null,null,null,null,null,"",null,null,null,{"$f":"IF(OR($I69=\"\",COUNTA($W69:$Y69)=0),\"\",IF(AND(W69=\"-\",X69=\"-\",Y69=\"-\"),\"-\",VLOOKUP(COUNTIF($W69:$Y69,\"A\")-COUNTIF($W69:$Y69,\"C\"),基本情報!$R$4:$S$10,2)))","v":""},null,null,null,null,null,"",null,null,null,{"$f":"IF(OR($I69=\"\",COUNTA($AG69:$AI69)=0),\"\",IF(AND(AG69=\"-\",AH69=\"-\",AI69=\"-\"),\"-\",VLOOKUP(COUNTIF($AG69:$AI69,\"A\")-COUNTIF($AG69:$AI69,\"C\"),基本情報!$R$4:$S$10,2)))","v":""}]
[null,null,null,null,10447,null,null,47,{"$f":"IF(VLOOKUP($E70,学年名簿と評価・評定!$E$24:$K$573,5)=\"\",\"\",VLOOKUP($E70,学年名簿と評価・評定!$E$24:$K$573,5))","v":""},{"$f":"IF(VLOOKUP($E70,学年名簿と評価・評定!$E$24:$K$573,6)=\"\",\"\",VLOOKUP($E70,学年名簿と評価・評定!$E$24:$K$573,7))","v":""},null,"",null,null,null,{"$f":"IF(OR($I70=\"\",COUNTA($M70:$O70)=0),\"\",IF(AND(M70=\"-\",N70=\"-\",O70=\"-\"),\"-\",VLOOKUP(COUNTIF($M70:$O70,\"A\")-COUNTIF($M70:$O70,\"C\"),基本情報!$R$4:$S$10,2)))","v":""},null,null,null,null,null,"",null,null,null,{"$f":"IF(OR($I70=\"\",COUNTA($W70:$Y70)=0),\"\",IF(AND(W70=\"-\",X70=\"-\",Y70=\"-\"),\"-\",VLOOKUP(COUNTIF($W70:$Y70,\"A\")-COUNTIF($W70:$Y70,\"C\"),基本情報!$R$4:$S$10,2)))","v":""},null,null,null,null,null,"",null,null,null,{"$f":"IF(OR($I70=\"\",COUNTA($AG70:$AI70)=0),\"\",IF(AND(AG70=\"-\",AH70=\"-\",AI70=\"-\"),\"-\",VLOOKUP(COUNTIF($AG70:$AI70,\"A\")-COUNTIF($AG70:$AI70,\"C\"),基本情報!$R$4:$S$10,2)))","v":""}]
[null,null,null,null,10448,null,null,48,{"$f":"IF(VLOOKUP($E71,学年名簿と評価・評定!$E$24:$K$573,5)=\"\",\"\",VLOOKUP($E71,学年名簿と評価・評定!$E$24:$K$573,5))","v":""},{"$f":"IF(VLOOKUP($E71,学年名簿と評価・評定!$E$24:$K$573,6)=\"\",\"\",VLOOKUP($E71,学年名簿と評価・評定!$E$24:$K$573,7))","v":""},null,"",null,null,null,{"$f":"IF(OR($I71=\"\",COUNTA($M71:$O71)=0),\"\",IF(AND(M71=\"-\",N71=\"-\",O71=\"-\"),\"-\",VLOOKUP(COUNTIF($M71:$O71,\"A\")-COUNTIF($M71:$O71,\"C\"),基本情報!$R$4:$S$10,2)))","v":""},null,null,null,null,null,"",null,null,null,{"$f":"IF(OR($I71=\"\",COUNTA($W71:$Y71)=0),\"\",IF(AND(W71=\"-\",X71=\"-\",Y71=\"-\"),\"-\",VLOOKUP(COUNTIF($W71:$Y71,\"A\")-COUNTIF($W71:$Y71,\"C\"),基本情報!$R$4:$S$10,2)))","v":""},null,null,null,null,null,"",null,null,null,{"$f":"IF(OR($I71=\"\",COUNTA($AG71:$AI71)=0),\"\",IF(AND(AG71=\"-\",AH71=\"-\",AI71=\"-\"),\"-\",VLOOKUP(COUNTIF($AG71:$AI71,\"A\")-COUNTIF($AG71:$AI71,\"C\"),基本情報!$R$4:$S$10,2)))","v":""}]
[null,null,null,null,10449,null,null,49,{"$f":"IF(VLOOKUP($E72,学年名簿と評価・評定!$E$24:$K$573,5)=\"\",\"\",VLOOKUP($E72,学年名簿と評価・評定!$E$24:$K$573,5))","v":""},{"$f":"IF(VLOOKUP($E72,学年名簿と評価・評定!$E$24:$K$573,6)=\"\",\"\",VLOOKUP($E72,学年名簿と評価・評定!$E$24:$K$573,7))","v":""},null,"",null,null,null,{"$f":"IF(OR($I72=\"\",COUNTA($M72:$O72)=0),\"\",IF(AND(M72=\"-\",N72=\"-\",O72=\"-\"),\"-\",VLOOKUP(COUNTIF($M72:$O72,\"A\")-COUNTIF($M72:$O72,\"C\"),基本情報!$R$4:$S$10,2)))","v":""},null,null,null,null,null,"",null,null,null,{"$f":"IF(OR($I72=\"\",COUNTA($W72:$Y72)=0),\"\",IF(AND(W72=\"-\",X72=\"-\",Y72=\"-\"),\"-\",VLOOKUP(COUNTIF($W72:$Y72,\"A\")-COUNTIF($W72:$Y72,\"C\"),基本情報!$R$4:$S$10,2)))","v":""},null,null,null,null,null,"",null,null,null,{"$f":"IF(OR($I72=\"\",COUNTA($AG72:$AI72)=0),\"\",IF(AND(AG72=\"-\",AH72=\"-\",AI72=\"-\"),\"-\",VLOOKUP(COUNTIF($AG72:$AI72,\"A\")-COUNTIF($AG72:$AI72,\"C\"),基本情報!$R$4:$S$10,2)))","v":""}]
[null,null,null,null,10450,null,null,50,{"$f":"IF(VLOOKUP($E73,学年名簿と評価・評定!$E$24:$K$573,5)=\"\",\"\",VLOOKUP($E73,学年名簿と評価・評定!$E$24:$K$573,5))","v":""},{"$f":"IF(VLOOKUP($E73,学年名簿と評価・評定!$E$24:$K$573,6)=\"\",\"\",VLOOKUP($E73,学年名簿と評価・評定!$E$24:$K$573,7))","v":""},null,"",null,null,null,{"$f":"IF(OR($I73=\"\",COUNTA($M73:$O73)=0),\"\",IF(AND(M73=\"-\",N73=\"-\",O73=\"-\"),\"-\",VLOOKUP(COUNTIF($M73:$O73,\"A\")-COUNTIF($M73:$O73,\"C\"),基本情報!$R$4:$S$10,2)))","v":""},null,null,null,null,null,"",null,null,null,{"$f":"IF(OR($I73=\"\",COUNTA($W73:$Y73)=0),\"\",IF(AND(W73=\"-\",X73=\"-\",Y73=\"-\"),\"-\",VLOOKUP(COUNTIF($W73:$Y73,\"A\")-COUNTIF($W73:$Y73,\"C\"),基本情報!$R$4:$S$10,2)))","v":""},null,null,null,null,null,"",null,null,null,{"$f":"IF(OR($I73=\"\",COUNTA($AG73:$AI73)=0),\"\",IF(AND(AG73=\"-\",AH73=\"-\",AI73=\"-\"),\"-\",VLOOKUP(COUNTIF($AG73:$AI73,\"A\")-COUNTIF($AG73:$AI73,\"C\"),基本情報!$R$4:$S$10,2)))","v":""}]

{"sheet":"5組","index":6,"n_rows":73,"n_cols":40,"rows_kept":73,"cut":false,"hidden":false,"merged":[[2,34,2,36],[2,37,2,39],[21,11,21,15],[21,21,21,25],[21,31,21,35],[2,11,2,13],[2,14,2,16],[2,17,2,19],[2,21,2,23],[2,24,2,26],[2,27,2,29],[2,31,2,33]]}
[]
[]
[null,null,null,null,null,null,null,null,null,null,null,"校長",null,null,"教頭",null,null,"教務",null,null,null,"校長",null,null,"教頭",null,null,"教務",null,null,null,"校長",null,null,"教頭",null,null,"教務"]
[]
[]
[]
[]
[null,null,null,null,null,null,null,null,{"$f":"基本情報!E4","v":1},null,null,null,1,2,3,4,5,"-",null,"平均",null,null,1,2,3,4,5,"-",null,"平均",null,null,1,2,3,4,5,"-",null,"平均"]
[null,null,null,null,null,null,null,null,5,null,null,1,{"$f":"学年名簿と評価・評定!M9","v":0},{"$f":"学年名簿と評価・評定!N9","v":0},{"$f":"学年名簿と評価・評定!O9","v":0},{"$f":"学年名簿と評価・評定!P9","v":0},{"$f":"学年名簿と評価・評定!Q9","v":1},{"$f":"学年名簿と評価・評定!R9","v":0},{"$f":"SUM(M9:R9)","v":1},{"$f":"学年名簿と評価・評定!T9","v":5},null,1,{"$f":"学年名簿と評価・評定!W9","v":1},{"$f":"学年名簿と評価・評定!X9","v":0},{"$f":"学年名簿と評価・評定!Y9","v":0},{"$f":"学年名簿と評価・評定!Z9","v":0},{"$f":"学年名簿と評価・評定!AA9","v":0},{"$f":"学年名簿と評価・評定!AB9","v":0},{"$f":"学年名簿と評価・評定!AC9","v":1},{"$f":"学年名簿と評価・評定!AD9","v":1},null,1,{"$f":"学年名簿と評価・評定!AG9","v":0},{"$f":"学年名簿と評価・評定!AH9","v":0},{"$f":"学年名簿と評価・評定!AI9","v":1},{"$f":"学年名簿と評価・評定!AJ9","v":0},{"$f":"学年名簿と評価・評定!AK9","v":0},{"$f":"学年名簿と評価・評定!AL9","v":0},{"$f":"学年名簿と評価・評定!AM9","v":1},{"$f":"学年名簿と評価・評定!AN9","v":3}]
[null,null,null,null,null,null,null,null,null,null,null,2,{"$f":"学年名簿と評価・評定!M10","v":0},{"$f":"学年名簿と評価・評定!N10","v":0},{"$f":"学年名簿と評価・評定!O10","v":0},{"$f":"学年名簿と評価・評定!P10","v":0},{"$f":"学年名簿と評価・評定!Q10","v":0},{"$f":"学年名簿と評価・評定!R10","v":0},{"$f":"SUM(M10:R10)","v":0},{"$f":"学年名簿と評価・評定!T10","v":""},null,2,{"$f":"学年名簿と評価・評定!W10","v":0},{"$f":"学年名簿と評価・評定!X10","v":0},{"$f":"学年名簿と評価・評定!Y10","v":0},{"$f":"学年名簿と評価・評定!Z10","v":0},{"$f":"学年名簿と評価・評定!AA10","v":0},{"$f":"学年名簿と評価・評定!AB10","v":0},{"$f":"学年名簿と評価・評定!AC10","v":0},{"$f":"学年名簿と評価・評定!AD10","v":""},null,2,{"$f":"学年名簿と評価・評定!AG10","v":0},{"$f":"学年名簿と評価・評定!AH10","v":0},{"$f":"学年名簿と評価・評定!AI10","v":0},{"$f":"学年名簿と評価・評定!AJ10","v":0},{"$f":"学年名簿と評価・評定!AK10","v":0},{"$f":"学年名簿と評価・評定!AL10","v":0},{"$f":"学年名簿と評価・評定!AM10","v":0},{"$f":"学年名簿と評価・評定!AN10","v":""}]
[null,null,null,null,null,null,null,null,null,null,null,3,{"$f":"学年名簿と評価・評定!M11","v":0},{"$f":"学年名簿と評価・評定!N11","v":0},{"$f":"学年名簿と評価・評定!O11","v":0},{"$f":"学年名簿と評価・評定!P11","v":0},{"$f":"学年名簿と評価・評定!Q11","v":0},{"$f":"学年名簿と評価・評定!R11","v":0},0,{"$f":"学年名簿と評価・評定!T11","v":""},null,3,{"$f":"学年名簿と評価・評定!W11","v":0},{"$f":"学年名簿と評価・評定!X11","v":0},{"$f":"学年名簿と評価・評定!Y11","v":0},{"$f":"学年名簿と評価・評定!Z11","v":0},{"$f":"学年名簿と評価・評定!AA11","v":0},{"$f":"学年名簿と評価・評定!AB11","v":0},{"$f":"学年名簿と評価・評定!AC11","v":0},{"$f":"学年名簿と評価・評定!AD11","v":""},null,3,{"$f":"学年名簿と評価・評定!AG11","v":0},{"$f":"学年名簿と評価・評定!AH11","v":0},{"$f":"学年名簿と評価・評定!AI11","v":0},{"$f":"学年名簿と評価・評定!AJ11","v":0},{"$f":"学年名簿と評価・評定!AK11","v":0},{"$f":"学年名簿と評価・評定!AL11","v":0},{"$f":"学年名簿と評価・評定!AM11","v":0},{"$f":"学年名簿と評価・評定!AN11","v":""}]
[null,null,null,null,null,null,null,null,null,null,null,4,{"$f":"学年名簿と評価・評定!M12","v":0},{"$f":"学年名簿と評価・評定!N12","v":0},{"$f":"学年名簿と評価・評定!O12","v":0},{"$f":"学年名簿と評価・評定!P12","v":0},{"$f":"学年名簿と評価・評定!Q12","v":0},{"$f":"学年名簿と評価・評定!R12","v":0},0,{"$f":"学年名簿と評価・評定!T12","v":""},null,4,{"$f":"学年名簿と評価・評定!W12","v":0},{"$f":"学年名簿と評価・評定!X12","v":0},{"$f":"学年名簿と評価・評定!Y12","v":0},{"$f":"学年名簿と評価・評定!Z12","v":0},{"$f":"学年名簿と評価・評定!AA12","v":0},{"$f":"学年名簿と評価・評定!AB12","v":0},{"$f":"学年名簿と評価・評定!AC12","v":0},{"$f":"学年名簿と評価・評定!AD12","v":""},null,4,{"$f":"学年名簿と評価・評定!AG12","v":0},{"$f":"学年名簿と評価・評定!AH12","v":0},{"$f":"学年名簿と評価・評定!AI12","v":0},{"$f":"学年名簿と評価・評定!AJ12","v":0},{"$f":"学年名簿と評価・評定!AK12","v":0},{"$f":"学年名簿と評価・評定!AL12","v":0},{"$f":"学年名簿と評価・評定!AM12","v":0},{"$f":"学年名簿と評価・評定!AN12","v":""}]
[null,null,null,null,null,null,null,null,null,null,null,5,{"$f":"学年名簿と評価・評定!M13","v":0},{"$f":"学年名簿と評価・評定!N13","v":0},{"$f":"学年名簿と評価・評定!O13","v":0},{"$f":"学年名簿と評価・評定!P13","v":0},{"$f":"学年名簿と評価・評定!Q13","v":0},{"$f":"学年名簿と評価・評定!R13","v":0},0,{"$f":"学年名簿と評価・評定!T13","v":""},null,5,{"$f":"学年名簿と評価・評定!W13","v":0},{"$f":"学年名簿と評価・評定!X13","v":0},{"$f":"学年名簿と評価・評定!Y13","v":0},{"$f":"学年名簿と評価・評定!Z13","v":0},{"$f":"学年名簿と評価・評定!AA13","v":0},{"$f":"学年名簿と評価・評定!AB13","v":0},{"$f":"学年名簿と評価・評定!AC13","v":0},{"$f":"学年名簿と評価・評定!AD13","v":""},null,5,{"$f":"学年名簿と評価・評定!AG13","v":0},{"$f":"学年名簿と評価・評定!AH13","v":0},{"$f":"学年名簿と評価・評定!AI13","v":0},{"$f":"学年名簿と評価・評定!AJ13","v":0},{"$f":"学年名簿と評価・評定!AK13","v":0},{"$f":"学年名簿と評価・評定!AL13","v":0},{"$f":"学年名簿と評価・評定!AM13","v":0},{"$f":"学年名簿と評価・評定!AN13","v":""}]
[null,null,null,null,null,null,null,null,null,null,null,6,{"$f":"学年名簿と評価・評定!M14","v":0},{"$f":"学年名簿と評価・評定!N14","v":0},{"$f":"学年名簿と評価・評定!O14","v":0},{"$f":"学年名簿と評価・評定!P14","v":0},{"$f":"学年名簿と評価・評定!Q14","v":0},{"$f":"学年名簿と評価・評定!R14","v":0},0,{"$f":"学年名簿と評価・評定!T14","v":""},null,6,{"$f":"学年名簿と評価・評定!W14","v":0},{"$f":"学年名簿と評価・評定!X14","v":0},{"$f":"学年名簿と評価・評定!Y14","v":0},{"$f":"学年名簿と評価・評定!Z14","v":0},{"$f":"学年名簿と評価・評定!AA14","v":0},{"$f":"学年名簿と評価・評定!AB14","v":0},{"$f":"学年名簿と評価・評定!AC14","v":0},{"$f":"学年名簿と評価・評定!AD14","v":""},null,6,{"$f":"学年名簿と評価・評定!AG14","v":0},{"$f":"学年名簿と評価・評定!AH14","v":0},{"$f":"学年名簿と評価・評定!AI14","v":0},{"$f":"学年名簿と評価・評定!AJ14","v":0},{"$f":"学年名簿と評価・評定!AK14","v":0},{"$f":"学年名簿と評価・評定!AL14","v":0},{"$f":"学年名簿と評価・評定!AM14","v":0},{"$f":"学年名簿と評価・評定!AN14","v":""}]
[null,null,null,null,null,null,null,null,null,null,null,7,{"$f":"学年名簿と評価・評定!M15","v":0},{"$f":"学年名簿と評価・評定!N15","v":0},{"$f":"学年名簿と評価・評定!O15","v":0},{"$f":"学年名簿と評価・評定!P15","v":0},{"$f":"学年名簿と評価・評定!Q15","v":0},{"$f":"学年名簿と評価・評定!R15","v":0},0,{"$f":"学年名簿と評価・評定!T15","v":""},null,7,{"$f":"学年名簿と評価・評定!W15","v":0},{"$f":"学年名簿と評価・評定!X15","v":0},{"$f":"学年名簿と評価・評定!Y15","v":0},{"$f":"学年名簿と評価・評定!Z15","v":0},{"$f":"学年名簿と評価・評定!AA15","v":0},{"$f":"学年名簿と評価・評定!AB15","v":0},{"$f":"学年名簿と評価・評定!AC15","v":0},{"$f":"学年名簿と評価・評定!AD15","v":""},null,7,{"$f":"学年名簿と評価・評定!AG15","v":0},{"$f":"学年名簿と評価・評定!AH15","v":0},{"$f":"学年名簿と評価・評定!AI15","v":0},{"$f":"学年名簿と評価・評定!AJ15","v":0},{"$f":"学年名簿と評価・評定!AK15","v":0},{"$f":"学年名簿と評価・評定!AL15","v":0},{"$f":"学年名簿と評価・評定!AM15","v":0},{"$f":"学年名簿と評価・評定!AN15","v":""}]
[null,null,null,null,null,null,null,null,null,null,null,8,{"$f":"学年名簿と評価・評定!M16","v":0},{"$f":"学年名簿と評価・評定!N16","v":0},{"$f":"学年名簿と評価・評定!O16","v":0},{"$f":"学年名簿と評価・評定!P16","v":0},{"$f":"学年名簿と評価・評定!Q16","v":0},{"$f":"学年名簿と評価・評定!R16","v":0},0,{"$f":"学年名簿と評価・評定!T16","v":""},null,8,{"$f":"学年名簿と評価・評定!W16","v":0},{"$f":"学年名簿と評価・評定!X16","v":0},{"$f":"学年名簿と評価・評定!Y16","v":0},{"$f":"学年名簿と評価・評定!Z16","v":0},{"$f":"学年名簿と評価・評定!AA16","v":0},{"$f":"学年名簿と評価・評定!AB16","v":0},{"$f":"学年名簿と評価・評定!AC16","v":0},{"$f":"学年名簿と評価・評定!AD16","v":""},null,8,{"$f":"学年名簿と評価・評定!AG16","v":0},{"$f":"学年名簿と評価・評定!AH16","v":0},{"$f":"学年名簿と評価・評定!AI16","v":0},{"$f":"学年名簿と評価・評定!AJ16","v":0},{"$f":"学年名簿と評価・評定!AK16","v":0},{"$f":"学年名簿と評価・評定!AL16","v":0},{"$f":"学年名簿と評価・評定!AM16","v":0},{"$f":"学年名簿と評価・評定!AN16","v":""}]
[null,null,null,null,null,null,null,null,null,null,null,9,{"$f":"学年名簿と評価・評定!M17","v":0},{"$f":"学年名簿と評価・評定!N17","v":0},{"$f":"学年名簿と評価・評定!O17","v":0},{"$f":"学年名簿と評価・評定!P17","v":0},{"$f":"学年名簿と評価・評定!Q17","v":0},{"$f":"学年名簿と評価・評定!R17","v":0},0,{"$f":"学年名簿と評価・評定!T17","v":""},null,9,{"$f":"学年名簿と評価・評定!W17","v":0},{"$f":"学年名簿と評価・評定!X17","v":0},{"$f":"学年名簿と評価・評定!Y17","v":0},{"$f":"学年名簿と評価・評定!Z17","v":0},{"$f":"学年名簿と評価・評定!AA17","v":0},{"$f":"学年名簿と評価・評定!AB17","v":0},{"$f":"学年名簿と評価・評定!AC17","v":0},{"$f":"学年名簿と評価・評定!AD17","v":""},null,9,{"$f":"学年名簿と評価・評定!AG17","v":0},{"$f":"学年名簿と評価・評定!AH17","v":0},{"$f":"学年名簿と評価・評定!AI17","v":0},{"$f":"学年名簿と評価・評定!AJ17","v":0},{"$f":"学年名簿と評価・評定!AK17","v":0},{"$f":"学年名簿と評価・評定!AL17","v":0},{"$f":"学年名簿と評価・評定!AM17","v":0},{"$f":"学年名簿と評価・評定!AN17","v":""}]
[null,null,null,null,null,null,null,null,null,null,null,10,{"$f":"学年名簿と評価・評定!M18","v":0},{"$f":"学年名簿と評価・評定!N18","v":0},{"$f":"学年名簿と評価・評定!O18","v":0},{"$f":"学年名簿と評価・評定!P18","v":0},{"$f":"学年名簿と評価・評定!Q18","v":0},{"$f":"学年名簿と評価・評定!R18","v":0},0,{"$f":"学年名簿と評価・評定!T18","v":""},null,10,{"$f":"学年名簿と評価・評定!W18","v":0},{"$f":"学年名簿と評価・評定!X18","v":0},{"$f":"学年名簿と評価・評定!Y18","v":0},{"$f":"学年名簿と評価・評定!Z18","v":0},{"$f":"学年名簿と評価・評定!AA18","v":0},{"$f":"学年名簿と評価・評定!AB18","v":0},{"$f":"学年名簿と評価・評定!AC18","v":0},{"$f":"学年名簿と評価・評定!AD18","v":""},null,10,{"$f":"学年名簿と評価・評定!AG18","v":0},{"$f":"学年名簿と評価・評定!AH18","v":0},{"$f":"学年名簿と評価・評定!AI18","v":0},{"$f":"学年名簿と評価・評定!AJ18","v":0},{"$f":"学年名簿と評価・評定!AK18","v":0},{"$f":"学年名簿と評価・評定!AL18","v":0},{"$f":"学年名簿と評価・評定!AM18","v":0},{"$f":"学年名簿と評価・評定!AN18","v":""}]
[null,null,null,null,null,null,null,null,null,null,null,11,{"$f":"学年名簿と評価・評定!M19","v":0},{"$f":"学年名簿と評価・評定!N19","v":0},{"$f":"学年名簿と評価・評定!O19","v":0},{"$f":"学年名簿と評価・評定!P19","v":0},{"$f":"学年名簿と評価・評定!Q19","v":0},{"$f":"学年名簿と評価・評定!R19","v":0},0,{"$f":"学年名簿と評価・評定!T19","v":""},null,11,{"$f":"学年名簿と評価・評定!W19","v":0},{"$f":"学年名簿と評価・評定!X19","v":0},{"$f":"学年名簿と評価・評定!Y19","v":0},{"$f":"学年名簿と評価・評定!Z19","v":0},{"$f":"学年名簿と評価・評定!AA19","v":0},{"$f":"学年名簿と評価・評定!AB19","v":0},{"$f":"学年名簿と評価・評定!AC19","v":0},{"$f":"学年名簿と評価・評定!AD19","v":""},null,11,{"$f":"学年名簿と評価・評定!AG19","v":0},{"$f":"学年名簿と評価・評定!AH19","v":0},{"$f":"学年名簿と評価・評定!AI19","v":0},{"$f":"学年名簿と評価・評定!AJ19","v":0},{"$f":"学年名簿と評価・評定!AK19","v":0},{"$f":"学年名簿と評価・評定!AL19","v":0},{"$f":"学年名簿と評価・評定!AM19","v":0},{"$f":"学年名簿と評価・評定!AN19","v":""}]
[null,null,null,null,null,null,null,null,{"$f":"基本情報!E6","v":"国語"},null,null,"計",{"$f":"学年名簿と評価・評定!M20","v":0},{"$f":"学年名簿と評価・評定!N20","v":0},{"$f":"学年名簿と評価・評定!O20","v":0},{"$f":"学年名簿と評価・評定!P20","v":0},{"$f":"学年名簿と評価・評定!Q20","v":1},{"$f":"学年名簿と評価・評定!R20","v":0},1,{"$f":"学年名簿と評価・評定!T20","v":5},null,"計",{"$f":"学年名簿と評価・評定!W20","v":1},{"$f":"学年名簿と評価・評定!X20","v":0},{"$f":"学年名簿と評価・評定!Y20","v":0},{"$f":"学年名簿と評価・評定!Z20","v":0},{"$f":"学年名簿と評価・評定!AA20","v":0},{"$f":"学年名簿と評価・評定!AB20","v":0},{"$f":"学年名簿と評価・評定!AC20","v":1},{"$f":"学年名簿と評価・評定!AD20","v":1},null,"計",{"$f":"学年名簿と評価・評定!AG20","v":0},{"$f":"学年名簿と評価・評定!AH20","v":0},{"$f":"学年名簿と評価・評定!AI20","v":1},{"$f":"学年名簿と評価・評定!AJ20","v":0},{"$f":"学年名簿と評価・評定!AK20","v":0},{"$f":"学年名簿と評価・評定!AL20","v":0},{"$f":"学年名簿と評価・評定!AM20","v":1},{"$f":"学年名簿と評価・評定!AN20","v":3}]
[]
[null,null,null,null,null,null,null,null,null,null,null,"前　　期",null,null,null,null,null,null,null,null,null,"後　　期",null,null,null,null,null,null,null,null,null,"学　　年"]
[null,null,null,null,null,null,null,"番","氏　　名","性",null,"評定",{"$f":"基本情報!P14","v":"知技"},{"$f":"基本情報!P15","v":"思判"},{"$f":"基本情報!P16","v":"学び"},"評定","CHECK",null,null,null,null,"評定",{"$f":"M23","v":"知技"},{"$f":"N23","v":"思判"},"学び","評定","CHECK",null,null,null,null,"評定","知技","思判","学び","評定","CHECK"]
[null,null,null,null,{"$f":"$I$8*10000+$I$9*100+$H24","v":10501},null,null,1,{"$f":"IF(VLOOKUP($E24,学年名簿と評価・評定!$E$24:$K$573,5)=\"\",\"\",VLOOKUP($E24,学年名簿と評価・評定!$E$24:$K$573,5))","v":""},{"$f":"IF(VLOOKUP($E24,学年名簿と評価・評定!$E$24:$K$573,6)=\"\",\"\",VLOOKUP($E24,学年名簿と評価・評定!$E$24:$K$573,7))","v":""},null,{"$f":"P24","v":""},null,null,null,{"$f":"IF(OR($I24=\"\",COUNTA($M24:$O24)=0),\"\",IF(AND(M24=\"-\",N24=\"-\",O24=\"-\"),\"-\",VLOOKUP(COUNTIF($M24:$O24,\"A\")-COUNTIF($M24:$O24,\"C\"),基本情報!$R$4:$S$10,2)))","v":""},null,null,null,null,null,{"$f":"Z24","v":""},null,null,null,{"$f":"IF(OR($I24=\"\",COUNTA($W24:$Y24)=0),\"\",IF(AND(W24=\"-\",X24=\"-\",Y24=\"-\"),\"-\",VLOOKUP(COUNTIF($W24:$Y24,\"A\")-COUNTIF($W24:$Y24,\"C\"),基本情報!$R$4:$S$10,2)))","v":""},null,null,null,null,null,{"$f":"AJ24","v":""},null,null,null,{"$f":"IF(OR($I24=\"\",COUNTA($AG24:$AI24)=0),\"\",IF(AND(AG24=\"-\",AH24=\"-\",AI24=\"-\"),\"-\",VLOOKUP(COUNTIF($AG24:$AI24,\"A\")-COUNTIF($AG24:$AI24,\"C\"),基本情報!$R$4:$S$10,2)))","v":""}]
[null,null,null,null,10502,null,null,2,{"$f":"IF(VLOOKUP($E25,学年名簿と評価・評定!$E$24:$K$573,5)=\"\",\"\",VLOOKUP($E25,学年名簿と評価・評定!$E$24:$K$573,5))","v":""},{"$f":"IF(VLOOKUP($E25,学年名簿と評価・評定!$E$24:$K$573,6)=\"\",\"\",VLOOKUP($E25,学年名簿と評価・評定!$E$24:$K$573,7))","v":""},null,{"$f":"P25","v":""},null,null,null,{"$f":"IF(OR($I25=\"\",COUNTA($M25:$O25)=0),\"\",IF(AND(M25=\"-\",N25=\"-\",O25=\"-\"),\"-\",VLOOKUP(COUNTIF($M25:$O25,\"A\")-COUNTIF($M25:$O25,\"C\"),基本情報!$R$4:$S$10,2)))","v":""},null,null,null,null,null,{"$f":"Z25","v":""},null,null,null,{"$f":"IF(OR($I25=\"\",COUNTA($W25:$Y25)=0),\"\",IF(AND(W25=\"-\",X25=\"-\",Y25=\"-\"),\"-\",VLOOKUP(COUNTIF($W25:$Y25,\"A\")-COUNTIF($W25:$Y25,\"C\"),基本情報!$R$4:$S$10,2)))","v":""},null,null,null,null,null,{"$f":"AJ25","v":""},null,null,null,{"$f":"IF(OR($I25=\"\",COUNTA($AG25:$AI25)=0),\"\",IF(AND(AG25=\"-\",AH25=\"-\",AI25=\"-\"),\"-\",VLOOKUP(COUNTIF($AG25:$AI25,\"A\")-COUNTIF($AG25:$AI25,\"C\"),基本情報!$R$4:$S$10,2)))","v":""}]
[null,null,null,null,10503,null,null,3,{"$f":"IF(VLOOKUP($E26,学年名簿と評価・評定!$E$24:$K$573,5)=\"\",\"\",VLOOKUP($E26,学年名簿と評価・評定!$E$24:$K$573,5))","v":""},{"$f":"IF(VLOOKUP($E26,学年名簿と評価・評定!$E$24:$K$573,6)=\"\",\"\",VLOOKUP($E26,学年名簿と評価・評定!$E$24:$K$573,7))","v":""},null,"",null,null,null,{"$f":"IF(OR($I26=\"\",COUNTA($M26:$O26)=0),\"\",IF(AND(M26=\"-\",N26=\"-\",O26=\"-\"),\"-\",VLOOKUP(COUNTIF($M26:$O26,\"A\")-COUNTIF($M26:$O26,\"C\"),基本情報!$R$4:$S$10,2)))","v":""},null,null,null,null,null,{"$f":"Z26","v":""},null,null,null,{"$f":"IF(OR($I26=\"\",COUNTA($W26:$Y26)=0),\"\",IF(AND(W26=\"-\",X26=\"-\",Y26=\"-\"),\"-\",VLOOKUP(COUNTIF($W26:$Y26,\"A\")-COUNTIF($W26:$Y26,\"C\"),基本情報!$R$4:$S$10,2)))","v":""},null,null,null,null,null,"",null,null,null,{"$f":"IF(OR($I26=\"\",COUNTA($AG26:$AI26)=0),\"\",IF(AND(AG26=\"-\",AH26=\"-\",AI26=\"-\"),\"-\",VLOOKUP(COUNTIF($AG26:$AI26,\"A\")-COUNTIF($AG26:$AI26,\"C\"),基本情報!$R$4:$S$10,2)))","v":""}]
[null,null,null,null,10504,null,null,4,{"$f":"IF(VLOOKUP($E27,学年名簿と評価・評定!$E$24:$K$573,5)=\"\",\"\",VLOOKUP($E27,学年名簿と評価・評定!$E$24:$K$573,5))","v":""},{"$f":"IF(VLOOKUP($E27,学年名簿と評価・評定!$E$24:$K$573,6)=\"\",\"\",VLOOKUP($E27,学年名簿と評価・評定!$E$24:$K$573,7))","v":""},null,"",null,null,null,{"$f":"IF(OR($I27=\"\",COUNTA($M27:$O27)=0),\"\",IF(AND(M27=\"-\",N27=\"-\",O27=\"-\"),\"-\",VLOOKUP(COUNTIF($M27:$O27,\"A\")-COUNTIF($M27:$O27,\"C\"),基本情報!$R$4:$S$10,2)))","v":""},null,null,null,null,null,"",null,null,null,{"$f":"IF(OR($I27=\"\",COUNTA($W27:$Y27)=0),\"\",IF(AND(W27=\"-\",X27=\"-\",Y27=\"-\"),\"-\",VLOOKUP(COUNTIF($W27:$Y27,\"A\")-COUNTIF($W27:$Y27,\"C\"),基本情報!$R$4:$S$10,2)))","v":""},null,null,null,null,null,"",null,null,null,{"$f":"IF(OR($I27=\"\",COUNTA($AG27:$AI27)=0),\"\",IF(AND(AG27=\"-\",AH27=\"-\",AI27=\"-\"),\"-\",VLOOKUP(COUNTIF($AG27:$AI27,\"A\")-COUNTIF($AG27:$AI27,\"C\"),基本情報!$R$4:$S$10,2)))","v":""}]
[null,null,null,null,10505,null,null,5,{"$f":"IF(VLOOKUP($E28,学年名簿と評価・評定!$E$24:$K$573,5)=\"\",\"\",VLOOKUP($E28,学年名簿と評価・評定!$E$24:$K$573,5))","v":""},{"$f":"IF(VLOOKUP($E28,学年名簿と評価・評定!$E$24:$K$573,6)=\"\",\"\",VLOOKUP($E28,学年名簿と評価・評定!$E$24:$K$573,7))","v":""},null,"",null,null,null,{"$f":"IF(OR($I28=\"\",COUNTA($M28:$O28)=0),\"\",IF(AND(M28=\"-\",N28=\"-\",O28=\"-\"),\"-\",VLOOKUP(COUNTIF($M28:$O28,\"A\")-COUNTIF($M28:$O28,\"C\"),基本情報!$R$4:$S$10,2)))","v":""},null,null,null,null,null,"",null,null,null,{"$f":"IF(OR($I28=\"\",COUNTA($W28:$Y28)=0),\"\",IF(AND(W28=\"-\",X28=\"-\",Y28=\"-\"),\"-\",VLOOKUP(COUNTIF($W28:$Y28,\"A\")-COUNTIF($W28:$Y28,\"C\"),基本情報!$R$4:$S$10,2)))","v":""},null,null,null,null,null,"",null,null,null,{"$f":"IF(OR($I28=\"\",COUNTA($AG28:$AI28)=0),\"\",IF(AND(AG28=\"-\",AH28=\"-\",AI28=\"-\"),\"-\",VLOOKUP(COUNTIF($AG28:$AI28,\"A\")-COUNTIF($AG28:$AI28,\"C\"),基本情報!$R$4:$S$10,2)))","v":""}]
[null,null,null,null,10506,null,null,6,{"$f":"IF(VLOOKUP($E29,学年名簿と評価・評定!$E$24:$K$573,5)=\"\",\"\",VLOOKUP($E29,学年名簿と評価・評定!$E$24:$K$573,5))","v":""},{"$f":"IF(VLOOKUP($E29,学年名簿と評価・評定!$E$24:$K$573,6)=\"\",\"\",VLOOKUP($E29,学年名簿と評価・評定!$E$24:$K$573,7))","v":""},null,"",null,null,null,{"$f":"IF(OR($I29=\"\",COUNTA($M29:$O29)=0),\"\",IF(AND(M29=\"-\",N29=\"-\",O29=\"-\"),\"-\",VLOOKUP(COUNTIF($M29:$O29,\"A\")-COUNTIF($M29:$O29,\"C\"),基本情報!$R$4:$S$10,2)))","v":""},null,null,null,null,null,"",null,null,null,{"$f":"IF(OR($I29=\"\",COUNTA($W29:$Y29)=0),\"\",IF(AND(W29=\"-\",X29=\"-\",Y29=\"-\"),\"-\",VLOOKUP(COUNTIF($W29:$Y29,\"A\")-COUNTIF($W29:$Y29,\"C\"),基本情報!$R$4:$S$10,2)))","v":""},null,null,null,null,null,"",null,null,null,{"$f":"IF(OR($I29=\"\",COUNTA($AG29:$AI29)=0),\"\",IF(AND(AG29=\"-\",AH29=\"-\",AI29=\"-\"),\"-\",VLOOKUP(COUNTIF($AG29:$AI29,\"A\")-COUNTIF($AG29:$AI29,\"C\"),基本情報!$R$4:$S$10,2)))","v":""}]
[null,null,null,null,10507,null,null,7,{"$f":"IF(VLOOKUP($E30,学年名簿と評価・評定!$E$24:$K$573,5)=\"\",\"\",VLOOKUP($E30,学年名簿と評価・評定!$E$24:$K$573,5))","v":""},{"$f":"IF(VLOOKUP($E30,学年名簿と評価・評定!$E$24:$K$573,6)=\"\",\"\",VLOOKUP($E30,学年名簿と評価・評定!$E$24:$K$573,7))","v":""},null,"",null,null,null,{"$f":"IF(OR($I30=\"\",COUNTA($M30:$O30)=0),\"\",IF(AND(M30=\"-\",N30=\"-\",O30=\"-\"),\"-\",VLOOKUP(COUNTIF($M30:$O30,\"A\")-COUNTIF($M30:$O30,\"C\"),基本情報!$R$4:$S$10,2)))","v":""},null,null,null,null,null,"",null,null,null,{"$f":"IF(OR($I30=\"\",COUNTA($W30:$Y30)=0),\"\",IF(AND(W30=\"-\",X30=\"-\",Y30=\"-\"),\"-\",VLOOKUP(COUNTIF($W30:$Y30,\"A\")-COUNTIF($W30:$Y30,\"C\"),基本情報!$R$4:$S$10,2)))","v":""},null,null,null,null,null,"",null,null,null,{"$f":"IF(OR($I30=\"\",COUNTA($AG30:$AI30)=0),\"\",IF(AND(AG30=\"-\",AH30=\"-\",AI30=\"-\"),\"-\",VLOOKUP(COUNTIF($AG30:$AI30,\"A\")-COUNTIF($AG30:$AI30,\"C\"),基本情報!$R$4:$S$10,2)))","v":""}]
[null,null,null,null,10508,null,null,8,{"$f":"IF(VLOOKUP($E31,学年名簿と評価・評定!$E$24:$K$573,5)=\"\",\"\",VLOOKUP($E31,学年名簿と評価・評定!$E$24:$K$573,5))","v":""},{"$f":"IF(VLOOKUP($E31,学年名簿と評価・評定!$E$24:$K$573,6)=\"\",\"\",VLOOKUP($E31,学年名簿と評価・評定!$E$24:$K$573,7))","v":""},null,"",null,null,null,{"$f":"IF(OR($I31=\"\",COUNTA($M31:$O31)=0),\"\",IF(AND(M31=\"-\",N31=\"-\",O31=\"-\"),\"-\",VLOOKUP(COUNTIF($M31:$O31,\"A\")-COUNTIF($M31:$O31,\"C\"),基本情報!$R$4:$S$10,2)))","v":""},null,null,null,null,null,"",null,null,null,{"$f":"IF(OR($I31=\"\",COUNTA($W31:$Y31)=0),\"\",IF(AND(W31=\"-\",X31=\"-\",Y31=\"-\"),\"-\",VLOOKUP(COUNTIF($W31:$Y31,\"A\")-COUNTIF($W31:$Y31,\"C\"),基本情報!$R$4:$S$10,2)))","v":""},null,null,null,null,null,"",null,null,null,{"$f":"IF(OR($I31=\"\",COUNTA($AG31:$AI31)=0),\"\",IF(AND(AG31=\"-\",AH31=\"-\",AI31=\"-\"),\"-\",VLOOKUP(COUNTIF($AG31:$AI31,\"A\")-COUNTIF($AG31:$AI31,\"C\"),基本情報!$R$4:$S$10,2)))","v":""}]
[null,null,null,null,10509,null,null,9,{"$f":"IF(VLOOKUP($E32,学年名簿と評価・評定!$E$24:$K$573,5)=\"\",\"\",VLOOKUP($E32,学年名簿と評価・評定!$E$24:$K$573,5))","v":""},{"$f":"IF(VLOOKUP($E32,学年名簿と評価・評定!$E$24:$K$573,6)=\"\",\"\",VLOOKUP($E32,学年名簿と評価・評定!$E$24:$K$573,7))","v":""},null,"",null,null,null,{"$f":"IF(OR($I32=\"\",COUNTA($M32:$O32)=0),\"\",IF(AND(M32=\"-\",N32=\"-\",O32=\"-\"),\"-\",VLOOKUP(COUNTIF($M32:$O32,\"A\")-COUNTIF($M32:$O32,\"C\"),基本情報!$R$4:$S$10,2)))","v":""},null,null,null,null,null,"",null,null,null,{"$f":"IF(OR($I32=\"\",COUNTA($W32:$Y32)=0),\"\",IF(AND(W32=\"-\",X32=\"-\",Y32=\"-\"),\"-\",VLOOKUP(COUNTIF($W32:$Y32,\"A\")-COUNTIF($W32:$Y32,\"C\"),基本情報!$R$4:$S$10,2)))","v":""},null,null,null,null,null,"",null,null,null,{"$f":"IF(OR($I32=\"\",COUNTA($AG32:$AI32)=0),\"\",IF(AND(AG32=\"-\",AH32=\"-\",AI32=\"-\"),\"-\",VLOOKUP(COUNTIF($AG32:$AI32,\"A\")-COUNTIF($AG32:$AI32,\"C\"),基本情報!$R$4:$S$10,2)))","v":""}]
[null,null,null,null,10510,null,null,10,{"$f":"IF(VLOOKUP($E33,学年名簿と評価・評定!$E$24:$K$573,5)=\"\",\"\",VLOOKUP($E33,学年名簿と評価・評定!$E$24:$K$573,5))","v":""},{"$f":"IF(VLOOKUP($E33,学年名簿と評価・評定!$E$24:$K$573,6)=\"\",\"\",VLOOKUP($E33,学年名簿と評価・評定!$E$24:$K$573,7))","v":""},null,"",null,null,null,{"$f":"IF(OR($I33=\"\",COUNTA($M33:$O33)=0),\"\",IF(AND(M33=\"-\",N33=\"-\",O33=\"-\"),\"-\",VLOOKUP(COUNTIF($M33:$O33,\"A\")-COUNTIF($M33:$O33,\"C\"),基本情報!$R$4:$S$10,2)))","v":""},null,null,null,null,null,"",null,null,null,{"$f":"IF(OR($I33=\"\",COUNTA($W33:$Y33)=0),\"\",IF(AND(W33=\"-\",X33=\"-\",Y33=\"-\"),\"-\",VLOOKUP(COUNTIF($W33:$Y33,\"A\")-COUNTIF($W33:$Y33,\"C\"),基本情報!$R$4:$S$10,2)))","v":""},null,null,null,null,null,"",null,null,null,{"$f":"IF(OR($I33=\"\",COUNTA($AG33:$AI33)=0),\"\",IF(AND(AG33=\"-\",AH33=\"-\",AI33=\"-\"),\"-\",VLOOKUP(COUNTIF($AG33:$AI33,\"A\")-COUNTIF($AG33:$AI33,\"C\"),基本情報!$R$4:$S$10,2)))","v":""}]
[null,null,null,null,10511,null,null,11,{"$f":"IF(VLOOKUP($E34,学年名簿と評価・評定!$E$24:$K$573,5)=\"\",\"\",VLOOKUP($E34,学年名簿と評価・評定!$E$24:$K$573,5))","v":""},{"$f":"IF(VLOOKUP($E34,学年名簿と評価・評定!$E$24:$K$573,6)=\"\",\"\",VLOOKUP($E34,学年名簿と評価・評定!$E$24:$K$573,7))","v":""},null,"",null,null,null,{"$f":"IF(OR($I34=\"\",COUNTA($M34:$O34)=0),\"\",IF(AND(M34=\"-\",N34=\"-\",O34=\"-\"),\"-\",VLOOKUP(COUNTIF($M34:$O34,\"A\")-COUNTIF($M34:$O34,\"C\"),基本情報!$R$4:$S$10,2)))","v":""},null,null,null,null,null,"",null,null,null,{"$f":"IF(OR($I34=\"\",COUNTA($W34:$Y34)=0),\"\",IF(AND(W34=\"-\",X34=\"-\",Y34=\"-\"),\"-\",VLOOKUP(COUNTIF($W34:$Y34,\"A\")-COUNTIF($W34:$Y34,\"C\"),基本情報!$R$4:$S$10,2)))","v":""},null,null,null,null,null,"",null,null,null,{"$f":"IF(OR($I34=\"\",COUNTA($AG34:$AI34)=0),\"\",IF(AND(AG34=\"-\",AH34=\"-\",AI34=\"-\"),\"-\",VLOOKUP(COUNTIF($AG34:$AI34,\"A\")-COUNTIF($AG34:$AI34,\"C\"),基本情報!$R$4:$S$10,2)))","v":""}]
[null,null,null,null,10512,null,null,12,{"$f":"IF(VLOOKUP($E35,学年名簿と評価・評定!$E$24:$K$573,5)=\"\",\"\",VLOOKUP($E35,学年名簿と評価・評定!$E$24:$K$573,5))","v":""},{"$f":"IF(VLOOKUP($E35,学年名簿と評価・評定!$E$24:$K$573,6)=\"\",\"\",VLOOKUP($E35,学年名簿と評価・評定!$E$24:$K$573,7))","v":""},null,"",null,null,null,{"$f":"IF(OR($I35=\"\",COUNTA($M35:$O35)=0),\"\",IF(AND(M35=\"-\",N35=\"-\",O35=\"-\"),\"-\",VLOOKUP(COUNTIF($M35:$O35,\"A\")-COUNTIF($M35:$O35,\"C\"),基本情報!$R$4:$S$10,2)))","v":""},null,null,null,null,null,"",null,null,null,{"$f":"IF(OR($I35=\"\",COUNTA($W35:$Y35)=0),\"\",IF(AND(W35=\"-\",X35=\"-\",Y35=\"-\"),\"-\",VLOOKUP(COUNTIF($W35:$Y35,\"A\")-COUNTIF($W35:$Y35,\"C\"),基本情報!$R$4:$S$10,2)))","v":""},null,null,null,null,null,"",null,null,null,{"$f":"IF(OR($I35=\"\",COUNTA($AG35:$AI35)=0),\"\",IF(AND(AG35=\"-\",AH35=\"-\",AI35=\"-\"),\"-\",VLOOKUP(COUNTIF($AG35:$AI35,\"A\")-COUNTIF($AG35:$AI35,\"C\"),基本情報!$R$4:$S$10,2)))","v":""}]
[null,null,null,null,10513,null,null,13,{"$f":"IF(VLOOKUP($E36,学年名簿と評価・評定!$E$24:$K$573,5)=\"\",\"\",VLOOKUP($E36,学年名簿と評価・評定!$E$24:$K$573,5))","v":""},{"$f":"IF(VLOOKUP($E36,学年名簿と評価・評定!$E$24:$K$573,6)=\"\",\"\",VLOOKUP($E36,学年名簿と評価・評定!$E$24:$K$573,7))","v":""},null,"",null,null,null,{"$f":"IF(OR($I36=\"\",COUNTA($M36:$O36)=0),\"\",IF(AND(M36=\"-\",N36=\"-\",O36=\"-\"),\"-\",VLOOKUP(COUNTIF($M36:$O36,\"A\")-COUNTIF($M36:$O36,\"C\"),基本情報!$R$4:$S$10,2)))","v":""},null,null,null,null,null,"",null,null,null,{"$f":"IF(OR($I36=\"\",COUNTA($W36:$Y36)=0),\"\",IF(AND(W36=\"-\",X36=\"-\",Y36=\"-\"),\"-\",VLOOKUP(COUNTIF($W36:$Y36,\"A\")-COUNTIF($W36:$Y36,\"C\"),基本情報!$R$4:$S$10,2)))","v":""},null,null,null,null,null,"",null,null,null,{"$f":"IF(OR($I36=\"\",COUNTA($AG36:$AI36)=0),\"\",IF(AND(AG36=\"-\",AH36=\"-\",AI36=\"-\"),\"-\",VLOOKUP(COUNTIF($AG36:$AI36,\"A\")-COUNTIF($AG36:$AI36,\"C\"),基本情報!$R$4:$S$10,2)))","v":""}]
[null,null,null,null,10514,null,null,14,{"$f":"IF(VLOOKUP($E37,学年名簿と評価・評定!$E$24:$K$573,5)=\"\",\"\",VLOOKUP($E37,学年名簿と評価・評定!$E$24:$K$573,5))","v":""},{"$f":"IF(VLOOKUP($E37,学年名簿と評価・評定!$E$24:$K$573,6)=\"\",\"\",VLOOKUP($E37,学年名簿と評価・評定!$E$24:$K$573,7))","v":""},null,"",null,null,null,{"$f":"IF(OR($I37=\"\",COUNTA($M37:$O37)=0),\"\",IF(AND(M37=\"-\",N37=\"-\",O37=\"-\"),\"-\",VLOOKUP(COUNTIF($M37:$O37,\"A\")-COUNTIF($M37:$O37,\"C\"),基本情報!$R$4:$S$10,2)))","v":""},null,null,null,null,null,"",null,null,null,{"$f":"IF(OR($I37=\"\",COUNTA($W37:$Y37)=0),\"\",IF(AND(W37=\"-\",X37=\"-\",Y37=\"-\"),\"-\",VLOOKUP(COUNTIF($W37:$Y37,\"A\")-COUNTIF($W37:$Y37,\"C\"),基本情報!$R$4:$S$10,2)))","v":""},null,null,null,null,null,"",null,null,null,{"$f":"IF(OR($I37=\"\",COUNTA($AG37:$AI37)=0),\"\",IF(AND(AG37=\"-\",AH37=\"-\",AI37=\"-\"),\"-\",VLOOKUP(COUNTIF($AG37:$AI37,\"A\")-COUNTIF($AG37:$AI37,\"C\"),基本情報!$R$4:$S$10,2)))","v":""}]
[null,null,null,null,10515,null,null,15,{"$f":"IF(VLOOKUP($E38,学年名簿と評価・評定!$E$24:$K$573,5)=\"\",\"\",VLOOKUP($E38,学年名簿と評価・評定!$E$24:$K$573,5))","v":""},{"$f":"IF(VLOOKUP($E38,学年名簿と評価・評定!$E$24:$K$573,6)=\"\",\"\",VLOOKUP($E38,学年名簿と評価・評定!$E$24:$K$573,7))","v":""},null,"",null,null,null,{"$f":"IF(OR($I38=\"\",COUNTA($M38:$O38)=0),\"\",IF(AND(M38=\"-\",N38=\"-\",O38=\"-\"),\"-\",VLOOKUP(COUNTIF($M38:$O38,\"A\")-COUNTIF($M38:$O38,\"C\"),基本情報!$R$4:$S$10,2)))","v":""},null,null,null,null,null,"",null,null,null,{"$f":"IF(OR($I38=\"\",COUNTA($W38:$Y38)=0),\"\",IF(AND(W38=\"-\",X38=\"-\",Y38=\"-\"),\"-\",VLOOKUP(COUNTIF($W38:$Y38,\"A\")-COUNTIF($W38:$Y38,\"C\"),基本情報!$R$4:$S$10,2)))","v":""},null,null,null,null,null,"",null,null,null,{"$f":"IF(OR($I38=\"\",COUNTA($AG38:$AI38)=0),\"\",IF(AND(AG38=\"-\",AH38=\"-\",AI38=\"-\"),\"-\",VLOOKUP(COUNTIF($AG38:$AI38,\"A\")-COUNTIF($AG38:$AI38,\"C\"),基本情報!$R$4:$S$10,2)))","v":""}]
[null,null,null,null,10516,null,null,16,{"$f":"IF(VLOOKUP($E39,学年名簿と評価・評定!$E$24:$K$573,5)=\"\",\"\",VLOOKUP($E39,学年名簿と評価・評定!$E$24:$K$573,5))","v":""},{"$f":"IF(VLOOKUP($E39,学年名簿と評価・評定!$E$24:$K$573,6)=\"\",\"\",VLOOKUP($E39,学年名簿と評価・評定!$E$24:$K$573,7))","v":""},null,"",null,null,null,{"$f":"IF(OR($I39=\"\",COUNTA($M39:$O39)=0),\"\",IF(AND(M39=\"-\",N39=\"-\",O39=\"-\"),\"-\",VLOOKUP(COUNTIF($M39:$O39,\"A\")-COUNTIF($M39:$O39,\"C\"),基本情報!$R$4:$S$10,2)))","v":""},null,null,null,null,null,"",null,null,null,{"$f":"IF(OR($I39=\"\",COUNTA($W39:$Y39)=0),\"\",IF(AND(W39=\"-\",X39=\"-\",Y39=\"-\"),\"-\",VLOOKUP(COUNTIF($W39:$Y39,\"A\")-COUNTIF($W39:$Y39,\"C\"),基本情報!$R$4:$S$10,2)))","v":""},null,null,null,null,null,"",null,null,null,{"$f":"IF(OR($I39=\"\",COUNTA($AG39:$AI39)=0),\"\",IF(AND(AG39=\"-\",AH39=\"-\",AI39=\"-\"),\"-\",VLOOKUP(COUNTIF($AG39:$AI39,\"A\")-COUNTIF($AG39:$AI39,\"C\"),基本情報!$R$4:$S$10,2)))","v":""}]
[null,null,null,null,10517,null,null,17,{"$f":"IF(VLOOKUP($E40,学年名簿と評価・評定!$E$24:$K$573,5)=\"\",\"\",VLOOKUP($E40,学年名簿と評価・評定!$E$24:$K$573,5))","v":""},{"$f":"IF(VLOOKUP($E40,学年名簿と評価・評定!$E$24:$K$573,6)=\"\",\"\",VLOOKUP($E40,学年名簿と評価・評定!$E$24:$K$573,7))","v":""},null,"",null,null,null,{"$f":"IF(OR($I40=\"\",COUNTA($M40:$O40)=0),\"\",IF(AND(M40=\"-\",N40=\"-\",O40=\"-\"),\"-\",VLOOKUP(COUNTIF($M40:$O40,\"A\")-COUNTIF($M40:$O40,\"C\"),基本情報!$R$4:$S$10,2)))","v":""},null,null,null,null,null,"",null,null,null,{"$f":"IF(OR($I40=\"\",COUNTA($W40:$Y40)=0),\"\",IF(AND(W40=\"-\",X40=\"-\",Y40=\"-\"),\"-\",VLOOKUP(COUNTIF($W40:$Y40,\"A\")-COUNTIF($W40:$Y40,\"C\"),基本情報!$R$4:$S$10,2)))","v":""},null,null,null,null,null,"",null,null,null,{"$f":"IF(OR($I40=\"\",COUNTA($AG40:$AI40)=0),\"\",IF(AND(AG40=\"-\",AH40=\"-\",AI40=\"-\"),\"-\",VLOOKUP(COUNTIF($AG40:$AI40,\"A\")-COUNTIF($AG40:$AI40,\"C\"),基本情報!$R$4:$S$10,2)))","v":""}]
[null,null,null,null,10518,null,null,18,{"$f":"IF(VLOOKUP($E41,学年名簿と評価・評定!$E$24:$K$573,5)=\"\",\"\",VLOOKUP($E41,学年名簿と評価・評定!$E$24:$K$573,5))","v":""},{"$f":"IF(VLOOKUP($E41,学年名簿と評価・評定!$E$24:$K$573,6)=\"\",\"\",VLOOKUP($E41,学年名簿と評価・評定!$E$24:$K$573,7))","v":""},null,"",null,null,null,{"$f":"IF(OR($I41=\"\",COUNTA($M41:$O41)=0),\"\",IF(AND(M41=\"-\",N41=\"-\",O41=\"-\"),\"-\",VLOOKUP(COUNTIF($M41:$O41,\"A\")-COUNTIF($M41:$O41,\"C\"),基本情報!$R$4:$S$10,2)))","v":""},null,null,null,null,null,"",null,null,null,{"$f":"IF(OR($I41=\"\",COUNTA($W41:$Y41)=0),\"\",IF(AND(W41=\"-\",X41=\"-\",Y41=\"-\"),\"-\",VLOOKUP(COUNTIF($W41:$Y41,\"A\")-COUNTIF($W41:$Y41,\"C\"),基本情報!$R$4:$S$10,2)))","v":""},null,null,null,null,null,"",null,null,null,{"$f":"IF(OR($I41=\"\",COUNTA($AG41:$AI41)=0),\"\",IF(AND(AG41=\"-\",AH41=\"-\",AI41=\"-\"),\"-\",VLOOKUP(COUNTIF($AG41:$AI41,\"A\")-COUNTIF($AG41:$AI41,\"C\"),基本情報!$R$4:$S$10,2)))","v":""}]
[null,null,null,null,10519,null,null,19,{"$f":"IF(VLOOKUP($E42,学年名簿と評価・評定!$E$24:$K$573,5)=\"\",\"\",VLOOKUP($E42,学年名簿と評価・評定!$E$24:$K$573,5))","v":""},{"$f":"IF(VLOOKUP($E42,学年名簿と評価・評定!$E$24:$K$573,6)=\"\",\"\",VLOOKUP($E42,学年名簿と評価・評定!$E$24:$K$573,7))","v":""},null,"",null,null,null,{"$f":"IF(OR($I42=\"\",COUNTA($M42:$O42)=0),\"\",IF(AND(M42=\"-\",N42=\"-\",O42=\"-\"),\"-\",VLOOKUP(COUNTIF($M42:$O42,\"A\")-COUNTIF($M42:$O42,\"C\"),基本情報!$R$4:$S$10,2)))","v":""},null,null,null,null,null,"",null,null,null,{"$f":"IF(OR($I42=\"\",COUNTA($W42:$Y42)=0),\"\",IF(AND(W42=\"-\",X42=\"-\",Y42=\"-\"),\"-\",VLOOKUP(COUNTIF($W42:$Y42,\"A\")-COUNTIF($W42:$Y42,\"C\"),基本情報!$R$4:$S$10,2)))","v":""},null,null,null,null,null,"",null,null,null,{"$f":"IF(OR($I42=\"\",COUNTA($AG42:$AI42)=0),\"\",IF(AND(AG42=\"-\",AH42=\"-\",AI42=\"-\"),\"-\",VLOOKUP(COUNTIF($AG42:$AI42,\"A\")-COUNTIF($AG42:$AI42,\"C\"),基本情報!$R$4:$S$10,2)))","v":""}]
[null,null,null,null,10520,null,null,20,{"$f":"IF(VLOOKUP($E43,学年名簿と評価・評定!$E$24:$K$573,5)=\"\",\"\",VLOOKUP($E43,学年名簿と評価・評定!$E$24:$K$573,5))","v":""},{"$f":"IF(VLOOKUP($E43,学年名簿と評価・評定!$E$24:$K$573,6)=\"\",\"\",VLOOKUP($E43,学年名簿と評価・評定!$E$24:$K$573,7))","v":""},null,"",null,null,null,{"$f":"IF(OR($I43=\"\",COUNTA($M43:$O43)=0),\"\",IF(AND(M43=\"-\",N43=\"-\",O43=\"-\"),\"-\",VLOOKUP(COUNTIF($M43:$O43,\"A\")-COUNTIF($M43:$O43,\"C\"),基本情報!$R$4:$S$10,2)))","v":""},null,null,null,null,null,"",null,null,null,{"$f":"IF(OR($I43=\"\",COUNTA($W43:$Y43)=0),\"\",IF(AND(W43=\"-\",X43=\"-\",Y43=\"-\"),\"-\",VLOOKUP(COUNTIF($W43:$Y43,\"A\")-COUNTIF($W43:$Y43,\"C\"),基本情報!$R$4:$S$10,2)))","v":""},null,null,null,null,null,"",null,null,null,{"$f":"IF(OR($I43=\"\",COUNTA($AG43:$AI43)=0),\"\",IF(AND(AG43=\"-\",AH43=\"-\",AI43=\"-\"),\"-\",VLOOKUP(COUNTIF($AG43:$AI43,\"A\")-COUNTIF($AG43:$AI43,\"C\"),基本情報!$R$4:$S$10,2)))","v":""}]
[null,null,null,null,10521,null,null,21,{"$f":"IF(VLOOKUP($E44,学年名簿と評価・評定!$E$24:$K$573,5)=\"\",\"\",VLOOKUP($E44,学年名簿と評価・評定!$E$24:$K$573,5))","v":""},{"$f":"IF(VLOOKUP($E44,学年名簿と評価・評定!$E$24:$K$573,6)=\"\",\"\",VLOOKUP($E44,学年名簿と評価・評定!$E$24:$K$573,7))","v":""},null,"",null,null,null,{"$f":"IF(OR($I44=\"\",COUNTA($M44:$O44)=0),\"\",IF(AND(M44=\"-\",N44=\"-\",O44=\"-\"),\"-\",VLOOKUP(COUNTIF($M44:$O44,\"A\")-COUNTIF($M44:$O44,\"C\"),基本情報!$R$4:$S$10,2)))","v":""},null,null,null,null,null,"",null,null,null,{"$f":"IF(OR($I44=\"\",COUNTA($W44:$Y44)=0),\"\",IF(AND(W44=\"-\",X44=\"-\",Y44=\"-\"),\"-\",VLOOKUP(COUNTIF($W44:$Y44,\"A\")-COUNTIF($W44:$Y44,\"C\"),基本情報!$R$4:$S$10,2)))","v":""},null,null,null,null,null,"",null,null,null,{"$f":"IF(OR($I44=\"\",COUNTA($AG44:$AI44)=0),\"\",IF(AND(AG44=\"-\",AH44=\"-\",AI44=\"-\"),\"-\",VLOOKUP(COUNTIF($AG44:$AI44,\"A\")-COUNTIF($AG44:$AI44,\"C\"),基本情報!$R$4:$S$10,2)))","v":""}]
[null,null,null,null,10522,null,null,22,{"$f":"IF(VLOOKUP($E45,学年名簿と評価・評定!$E$24:$K$573,5)=\"\",\"\",VLOOKUP($E45,学年名簿と評価・評定!$E$24:$K$573,5))","v":""},{"$f":"IF(VLOOKUP($E45,学年名簿と評価・評定!$E$24:$K$573,6)=\"\",\"\",VLOOKUP($E45,学年名簿と評価・評定!$E$24:$K$573,7))","v":""},null,"",null,null,null,{"$f":"IF(OR($I45=\"\",COUNTA($M45:$O45)=0),\"\",IF(AND(M45=\"-\",N45=\"-\",O45=\"-\"),\"-\",VLOOKUP(COUNTIF($M45:$O45,\"A\")-COUNTIF($M45:$O45,\"C\"),基本情報!$R$4:$S$10,2)))","v":""},null,null,null,null,null,"",null,null,null,{"$f":"IF(OR($I45=\"\",COUNTA($W45:$Y45)=0),\"\",IF(AND(W45=\"-\",X45=\"-\",Y45=\"-\"),\"-\",VLOOKUP(COUNTIF($W45:$Y45,\"A\")-COUNTIF($W45:$Y45,\"C\"),基本情報!$R$4:$S$10,2)))","v":""},null,null,null,null,null,"",null,null,null,{"$f":"IF(OR($I45=\"\",COUNTA($AG45:$AI45)=0),\"\",IF(AND(AG45=\"-\",AH45=\"-\",AI45=\"-\"),\"-\",VLOOKUP(COUNTIF($AG45:$AI45,\"A\")-COUNTIF($AG45:$AI45,\"C\"),基本情報!$R$4:$S$10,2)))","v":""}]
[null,null,null,null,10523,null,null,23,{"$f":"IF(VLOOKUP($E46,学年名簿と評価・評定!$E$24:$K$573,5)=\"\",\"\",VLOOKUP($E46,学年名簿と評価・評定!$E$24:$K$573,5))","v":""},{"$f":"IF(VLOOKUP($E46,学年名簿と評価・評定!$E$24:$K$573,6)=\"\",\"\",VLOOKUP($E46,学年名簿と評価・評定!$E$24:$K$573,7))","v":""},null,"",null,null,null,{"$f":"IF(OR($I46=\"\",COUNTA($M46:$O46)=0),\"\",IF(AND(M46=\"-\",N46=\"-\",O46=\"-\"),\"-\",VLOOKUP(COUNTIF($M46:$O46,\"A\")-COUNTIF($M46:$O46,\"C\"),基本情報!$R$4:$S$10,2)))","v":""},null,null,null,null,null,"",null,null,null,{"$f":"IF(OR($I46=\"\",COUNTA($W46:$Y46)=0),\"\",IF(AND(W46=\"-\",X46=\"-\",Y46=\"-\"),\"-\",VLOOKUP(COUNTIF($W46:$Y46,\"A\")-COUNTIF($W46:$Y46,\"C\"),基本情報!$R$4:$S$10,2)))","v":""},null,null,null,null,null,"",null,null,null,{"$f":"IF(OR($I46=\"\",COUNTA($AG46:$AI46)=0),\"\",IF(AND(AG46=\"-\",AH46=\"-\",AI46=\"-\"),\"-\",VLOOKUP(COUNTIF($AG46:$AI46,\"A\")-COUNTIF($AG46:$AI46,\"C\"),基本情報!$R$4:$S$10,2)))","v":""}]
[null,null,null,null,10524,null,null,24,{"$f":"IF(VLOOKUP($E47,学年名簿と評価・評定!$E$24:$K$573,5)=\"\",\"\",VLOOKUP($E47,学年名簿と評価・評定!$E$24:$K$573,5))","v":""},{"$f":"IF(VLOOKUP($E47,学年名簿と評価・評定!$E$24:$K$573,6)=\"\",\"\",VLOOKUP($E47,学年名簿と評価・評定!$E$24:$K$573,7))","v":""},null,"",null,null,null,{"$f":"IF(OR($I47=\"\",COUNTA($M47:$O47)=0),\"\",IF(AND(M47=\"-\",N47=\"-\",O47=\"-\"),\"-\",VLOOKUP(COUNTIF($M47:$O47,\"A\")-COUNTIF($M47:$O47,\"C\"),基本情報!$R$4:$S$10,2)))","v":""},null,null,null,null,null,"",null,null,null,{"$f":"IF(OR($I47=\"\",COUNTA($W47:$Y47)=0),\"\",IF(AND(W47=\"-\",X47=\"-\",Y47=\"-\"),\"-\",VLOOKUP(COUNTIF($W47:$Y47,\"A\")-COUNTIF($W47:$Y47,\"C\"),基本情報!$R$4:$S$10,2)))","v":""},null,null,null,null,null,"",null,null,null,{"$f":"IF(OR($I47=\"\",COUNTA($AG47:$AI47)=0),\"\",IF(AND(AG47=\"-\",AH47=\"-\",AI47=\"-\"),\"-\",VLOOKUP(COUNTIF($AG47:$AI47,\"A\")-COUNTIF($AG47:$AI47,\"C\"),基本情報!$R$4:$S$10,2)))","v":""}]
[null,null,null,null,10525,null,null,25,{"$f":"IF(VLOOKUP($E48,学年名簿と評価・評定!$E$24:$K$573,5)=\"\",\"\",VLOOKUP($E48,学年名簿と評価・評定!$E$24:$K$573,5))","v":""},{"$f":"IF(VLOOKUP($E48,学年名簿と評価・評定!$E$24:$K$573,6)=\"\",\"\",VLOOKUP($E48,学年名簿と評価・評定!$E$24:$K$573,7))","v":""},null,"",null,null,null,{"$f":"IF(OR($I48=\"\",COUNTA($M48:$O48)=0),\"\",IF(AND(M48=\"-\",N48=\"-\",O48=\"-\"),\"-\",VLOOKUP(COUNTIF($M48:$O48,\"A\")-COUNTIF($M48:$O48,\"C\"),基本情報!$R$4:$S$10,2)))","v":""},null,null,null,null,null,"",null,null,null,{"$f":"IF(OR($I48=\"\",COUNTA($W48:$Y48)=0),\"\",IF(AND(W48=\"-\",X48=\"-\",Y48=\"-\"),\"-\",VLOOKUP(COUNTIF($W48:$Y48,\"A\")-COUNTIF($W48:$Y48,\"C\"),基本情報!$R$4:$S$10,2)))","v":""},null,null,null,null,null,"",null,null,null,{"$f":"IF(OR($I48=\"\",COUNTA($AG48:$AI48)=0),\"\",IF(AND(AG48=\"-\",AH48=\"-\",AI48=\"-\"),\"-\",VLOOKUP(COUNTIF($AG48:$AI48,\"A\")-COUNTIF($AG48:$AI48,\"C\"),基本情報!$R$4:$S$10,2)))","v":""}]
[null,null,null,null,10526,null,null,26,{"$f":"IF(VLOOKUP($E49,学年名簿と評価・評定!$E$24:$K$573,5)=\"\",\"\",VLOOKUP($E49,学年名簿と評価・評定!$E$24:$K$573,5))","v":""},{"$f":"IF(VLOOKUP($E49,学年名簿と評価・評定!$E$24:$K$573,6)=\"\",\"\",VLOOKUP($E49,学年名簿と評価・評定!$E$24:$K$573,7))","v":""},null,"",null,null,null,{"$f":"IF(OR($I49=\"\",COUNTA($M49:$O49)=0),\"\",IF(AND(M49=\"-\",N49=\"-\",O49=\"-\"),\"-\",VLOOKUP(COUNTIF($M49:$O49,\"A\")-COUNTIF($M49:$O49,\"C\"),基本情報!$R$4:$S$10,2)))","v":""},null,null,null,null,null,"",null,null,null,{"$f":"IF(OR($I49=\"\",COUNTA($W49:$Y49)=0),\"\",IF(AND(W49=\"-\",X49=\"-\",Y49=\"-\"),\"-\",VLOOKUP(COUNTIF($W49:$Y49,\"A\")-COUNTIF($W49:$Y49,\"C\"),基本情報!$R$4:$S$10,2)))","v":""},null,null,null,null,null,"",null,null,null,{"$f":"IF(OR($I49=\"\",COUNTA($AG49:$AI49)=0),\"\",IF(AND(AG49=\"-\",AH49=\"-\",AI49=\"-\"),\"-\",VLOOKUP(COUNTIF($AG49:$AI49,\"A\")-COUNTIF($AG49:$AI49,\"C\"),基本情報!$R$4:$S$10,2)))","v":""}]
[null,null,null,null,10527,null,null,27,{"$f":"IF(VLOOKUP($E50,学年名簿と評価・評定!$E$24:$K$573,5)=\"\",\"\",VLOOKUP($E50,学年名簿と評価・評定!$E$24:$K$573,5))","v":""},{"$f":"IF(VLOOKUP($E50,学年名簿と評価・評定!$E$24:$K$573,6)=\"\",\"\",VLOOKUP($E50,学年名簿と評価・評定!$E$24:$K$573,7))","v":""},null,"",null,null,null,{"$f":"IF(OR($I50=\"\",COUNTA($M50:$O50)=0),\"\",IF(AND(M50=\"-\",N50=\"-\",O50=\"-\"),\"-\",VLOOKUP(COUNTIF($M50:$O50,\"A\")-COUNTIF($M50:$O50,\"C\"),基本情報!$R$4:$S$10,2)))","v":""},null,null,null,null,null,"",null,null,null,{"$f":"IF(OR($I50=\"\",COUNTA($W50:$Y50)=0),\"\",IF(AND(W50=\"-\",X50=\"-\",Y50=\"-\"),\"-\",VLOOKUP(COUNTIF($W50:$Y50,\"A\")-COUNTIF($W50:$Y50,\"C\"),基本情報!$R$4:$S$10,2)))","v":""},null,null,null,null,null,"",null,null,null,{"$f":"IF(OR($I50=\"\",COUNTA($AG50:$AI50)=0),\"\",IF(AND(AG50=\"-\",AH50=\"-\",AI50=\"-\"),\"-\",VLOOKUP(COUNTIF($AG50:$AI50,\"A\")-COUNTIF($AG50:$AI50,\"C\"),基本情報!$R$4:$S$10,2)))","v":""}]
[null,null,null,null,10528,null,null,28,{"$f":"IF(VLOOKUP($E51,学年名簿と評価・評定!$E$24:$K$573,5)=\"\",\"\",VLOOKUP($E51,学年名簿と評価・評定!$E$24:$K$573,5))","v":""},{"$f":"IF(VLOOKUP($E51,学年名簿と評価・評定!$E$24:$K$573,6)=\"\",\"\",VLOOKUP($E51,学年名簿と評価・評定!$E$24:$K$573,7))","v":""},null,"",null,null,null,{"$f":"IF(OR($I51=\"\",COUNTA($M51:$O51)=0),\"\",IF(AND(M51=\"-\",N51=\"-\",O51=\"-\"),\"-\",VLOOKUP(COUNTIF($M51:$O51,\"A\")-COUNTIF($M51:$O51,\"C\"),基本情報!$R$4:$S$10,2)))","v":""},null,null,null,null,null,"",null,null,null,{"$f":"IF(OR($I51=\"\",COUNTA($W51:$Y51)=0),\"\",IF(AND(W51=\"-\",X51=\"-\",Y51=\"-\"),\"-\",VLOOKUP(COUNTIF($W51:$Y51,\"A\")-COUNTIF($W51:$Y51,\"C\"),基本情報!$R$4:$S$10,2)))","v":""},null,null,null,null,null,"",null,null,null,{"$f":"IF(OR($I51=\"\",COUNTA($AG51:$AI51)=0),\"\",IF(AND(AG51=\"-\",AH51=\"-\",AI51=\"-\"),\"-\",VLOOKUP(COUNTIF($AG51:$AI51,\"A\")-COUNTIF($AG51:$AI51,\"C\"),基本情報!$R$4:$S$10,2)))","v":""}]
[null,null,null,null,10529,null,null,29,{"$f":"IF(VLOOKUP($E52,学年名簿と評価・評定!$E$24:$K$573,5)=\"\",\"\",VLOOKUP($E52,学年名簿と評価・評定!$E$24:$K$573,5))","v":""},{"$f":"IF(VLOOKUP($E52,学年名簿と評価・評定!$E$24:$K$573,6)=\"\",\"\",VLOOKUP($E52,学年名簿と評価・評定!$E$24:$K$573,7))","v":""},null,"",null,null,null,{"$f":"IF(OR($I52=\"\",COUNTA($M52:$O52)=0),\"\",IF(AND(M52=\"-\",N52=\"-\",O52=\"-\"),\"-\",VLOOKUP(COUNTIF($M52:$O52,\"A\")-COUNTIF($M52:$O52,\"C\"),基本情報!$R$4:$S$10,2)))","v":""},null,null,null,null,null,"",null,null,null,{"$f":"IF(OR($I52=\"\",COUNTA($W52:$Y52)=0),\"\",IF(AND(W52=\"-\",X52=\"-\",Y52=\"-\"),\"-\",VLOOKUP(COUNTIF($W52:$Y52,\"A\")-COUNTIF($W52:$Y52,\"C\"),基本情報!$R$4:$S$10,2)))","v":""},null,null,null,null,null,"",null,null,null,{"$f":"IF(OR($I52=\"\",COUNTA($AG52:$AI52)=0),\"\",IF(AND(AG52=\"-\",AH52=\"-\",AI52=\"-\"),\"-\",VLOOKUP(COUNTIF($AG52:$AI52,\"A\")-COUNTIF($AG52:$AI52,\"C\"),基本情報!$R$4:$S$10,2)))","v":""}]
[null,null,null,null,10530,null,null,30,{"$f":"IF(VLOOKUP($E53,学年名簿と評価・評定!$E$24:$K$573,5)=\"\",\"\",VLOOKUP($E53,学年名簿と評価・評定!$E$24:$K$573,5))","v":""},{"$f":"IF(VLOOKUP($E53,学年名簿と評価・評定!$E$24:$K$573,6)=\"\",\"\",VLOOKUP($E53,学年名簿と評価・評定!$E$24:$K$573,7))","v":""},null,"",null,null,null,{"$f":"IF(OR($I53=\"\",COUNTA($M53:$O53)=0),\"\",IF(AND(M53=\"-\",N53=\"-\",O53=\"-\"),\"-\",VLOOKUP(COUNTIF($M53:$O53,\"A\")-COUNTIF($M53:$O53,\"C\"),基本情報!$R$4:$S$10,2)))","v":""},null,null,null,null,null,"",null,null,null,{"$f":"IF(OR($I53=\"\",COUNTA($W53:$Y53)=0),\"\",IF(AND(W53=\"-\",X53=\"-\",Y53=\"-\"),\"-\",VLOOKUP(COUNTIF($W53:$Y53,\"A\")-COUNTIF($W53:$Y53,\"C\"),基本情報!$R$4:$S$10,2)))","v":""},null,null,null,null,null,"",null,null,null,{"$f":"IF(OR($I53=\"\",COUNTA($AG53:$AI53)=0),\"\",IF(AND(AG53=\"-\",AH53=\"-\",AI53=\"-\"),\"-\",VLOOKUP(COUNTIF($AG53:$AI53,\"A\")-COUNTIF($AG53:$AI53,\"C\"),基本情報!$R$4:$S$10,2)))","v":""}]
[null,null,null,null,10531,null,null,31,{"$f":"IF(VLOOKUP($E54,学年名簿と評価・評定!$E$24:$K$573,5)=\"\",\"\",VLOOKUP($E54,学年名簿と評価・評定!$E$24:$K$573,5))","v":""},{"$f":"IF(VLOOKUP($E54,学年名簿と評価・評定!$E$24:$K$573,6)=\"\",\"\",VLOOKUP($E54,学年名簿と評価・評定!$E$24:$K$573,7))","v":""},null,"",null,null,null,{"$f":"IF(OR($I54=\"\",COUNTA($M54:$O54)=0),\"\",IF(AND(M54=\"-\",N54=\"-\",O54=\"-\"),\"-\",VLOOKUP(COUNTIF($M54:$O54,\"A\")-COUNTIF($M54:$O54,\"C\"),基本情報!$R$4:$S$10,2)))","v":""},null,null,null,null,null,"",null,null,null,{"$f":"IF(OR($I54=\"\",COUNTA($W54:$Y54)=0),\"\",IF(AND(W54=\"-\",X54=\"-\",Y54=\"-\"),\"-\",VLOOKUP(COUNTIF($W54:$Y54,\"A\")-COUNTIF($W54:$Y54,\"C\"),基本情報!$R$4:$S$10,2)))","v":""},null,null,null,null,null,"",null,null,null,{"$f":"IF(OR($I54=\"\",COUNTA($AG54:$AI54)=0),\"\",IF(AND(AG54=\"-\",AH54=\"-\",AI54=\"-\"),\"-\",VLOOKUP(COUNTIF($AG54:$AI54,\"A\")-COUNTIF($AG54:$AI54,\"C\"),基本情報!$R$4:$S$10,2)))","v":""}]
[null,null,null,null,10532,null,null,32,{"$f":"IF(VLOOKUP($E55,学年名簿と評価・評定!$E$24:$K$573,5)=\"\",\"\",VLOOKUP($E55,学年名簿と評価・評定!$E$24:$K$573,5))","v":""},{"$f":"IF(VLOOKUP($E55,学年名簿と評価・評定!$E$24:$K$573,6)=\"\",\"\",VLOOKUP($E55,学年名簿と評価・評定!$E$24:$K$573,7))","v":""},null,"",null,null,null,{"$f":"IF(OR($I55=\"\",COUNTA($M55:$O55)=0),\"\",IF(AND(M55=\"-\",N55=\"-\",O55=\"-\"),\"-\",VLOOKUP(COUNTIF($M55:$O55,\"A\")-COUNTIF($M55:$O55,\"C\"),基本情報!$R$4:$S$10,2)))","v":""},null,null,null,null,null,"",null,null,null,{"$f":"IF(OR($I55=\"\",COUNTA($W55:$Y55)=0),\"\",IF(AND(W55=\"-\",X55=\"-\",Y55=\"-\"),\"-\",VLOOKUP(COUNTIF($W55:$Y55,\"A\")-COUNTIF($W55:$Y55,\"C\"),基本情報!$R$4:$S$10,2)))","v":""},null,null,null,null,null,"",null,null,null,{"$f":"IF(OR($I55=\"\",COUNTA($AG55:$AI55)=0),\"\",IF(AND(AG55=\"-\",AH55=\"-\",AI55=\"-\"),\"-\",VLOOKUP(COUNTIF($AG55:$AI55,\"A\")-COUNTIF($AG55:$AI55,\"C\"),基本情報!$R$4:$S$10,2)))","v":""}]
[null,null,null,null,{"$f":"$I$8*10000+$I$9*100+$H56","v":10533},null,null,33,{"$f":"IF(VLOOKUP($E56,学年名簿と評価・評定!$E$24:$K$573,5)=\"\",\"\",VLOOKUP($E56,学年名簿と評価・評定!$E$24:$K$573,5))","v":""},{"$f":"IF(VLOOKUP($E56,学年名簿と評価・評定!$E$24:$K$573,6)=\"\",\"\",VLOOKUP($E56,学年名簿と評価・評定!$E$24:$K$573,7))","v":""},null,"",null,null,null,{"$f":"IF(OR($I56=\"\",COUNTA($M56:$O56)=0),\"\",IF(AND(M56=\"-\",N56=\"-\",O56=\"-\"),\"-\",VLOOKUP(COUNTIF($M56:$O56,\"A\")-COUNTIF($M56:$O56,\"C\"),基本情報!$R$4:$S$10,2)))","v":""},null,null,null,null,null,"",null,null,null,{"$f":"IF(OR($I56=\"\",COUNTA($W56:$Y56)=0),\"\",IF(AND(W56=\"-\",X56=\"-\",Y56=\"-\"),\"-\",VLOOKUP(COUNTIF($W56:$Y56,\"A\")-COUNTIF($W56:$Y56,\"C\"),基本情報!$R$4:$S$10,2)))","v":""},null,null,null,null,null,"",null,null,null,{"$f":"IF(OR($I56=\"\",COUNTA($AG56:$AI56)=0),\"\",IF(AND(AG56=\"-\",AH56=\"-\",AI56=\"-\"),\"-\",VLOOKUP(COUNTIF($AG56:$AI56,\"A\")-COUNTIF($AG56:$AI56,\"C\"),基本情報!$R$4:$S$10,2)))","v":""}]
[null,null,null,null,10534,null,null,34,{"$f":"IF(VLOOKUP($E57,学年名簿と評価・評定!$E$24:$K$573,5)=\"\",\"\",VLOOKUP($E57,学年名簿と評価・評定!$E$24:$K$573,5))","v":""},{"$f":"IF(VLOOKUP($E57,学年名簿と評価・評定!$E$24:$K$573,6)=\"\",\"\",VLOOKUP($E57,学年名簿と評価・評定!$E$24:$K$573,7))","v":""},null,"",null,null,null,{"$f":"IF(OR($I57=\"\",COUNTA($M57:$O57)=0),\"\",IF(AND(M57=\"-\",N57=\"-\",O57=\"-\"),\"-\",VLOOKUP(COUNTIF($M57:$O57,\"A\")-COUNTIF($M57:$O57,\"C\"),基本情報!$R$4:$S$10,2)))","v":""},null,null,null,null,null,"",null,null,null,{"$f":"IF(OR($I57=\"\",COUNTA($W57:$Y57)=0),\"\",IF(AND(W57=\"-\",X57=\"-\",Y57=\"-\"),\"-\",VLOOKUP(COUNTIF($W57:$Y57,\"A\")-COUNTIF($W57:$Y57,\"C\"),基本情報!$R$4:$S$10,2)))","v":""},null,null,null,null,null,"",null,null,null,{"$f":"IF(OR($I57=\"\",COUNTA($AG57:$AI57)=0),\"\",IF(AND(AG57=\"-\",AH57=\"-\",AI57=\"-\"),\"-\",VLOOKUP(COUNTIF($AG57:$AI57,\"A\")-COUNTIF($AG57:$AI57,\"C\"),基本情報!$R$4:$S$10,2)))","v":""}]
[null,null,null,null,10535,null,null,35,{"$f":"IF(VLOOKUP($E58,学年名簿と評価・評定!$E$24:$K$573,5)=\"\",\"\",VLOOKUP($E58,学年名簿と評価・評定!$E$24:$K$573,5))","v":""},{"$f":"IF(VLOOKUP($E58,学年名簿と評価・評定!$E$24:$K$573,6)=\"\",\"\",VLOOKUP($E58,学年名簿と評価・評定!$E$24:$K$573,7))","v":""},null,"",null,null,null,{"$f":"IF(OR($I58=\"\",COUNTA($M58:$O58)=0),\"\",IF(AND(M58=\"-\",N58=\"-\",O58=\"-\"),\"-\",VLOOKUP(COUNTIF($M58:$O58,\"A\")-COUNTIF($M58:$O58,\"C\"),基本情報!$R$4:$S$10,2)))","v":""},null,null,null,null,null,"",null,null,null,{"$f":"IF(OR($I58=\"\",COUNTA($W58:$Y58)=0),\"\",IF(AND(W58=\"-\",X58=\"-\",Y58=\"-\"),\"-\",VLOOKUP(COUNTIF($W58:$Y58,\"A\")-COUNTIF($W58:$Y58,\"C\"),基本情報!$R$4:$S$10,2)))","v":""},null,null,null,null,null,"",null,null,null,{"$f":"IF(OR($I58=\"\",COUNTA($AG58:$AI58)=0),\"\",IF(AND(AG58=\"-\",AH58=\"-\",AI58=\"-\"),\"-\",VLOOKUP(COUNTIF($AG58:$AI58,\"A\")-COUNTIF($AG58:$AI58,\"C\"),基本情報!$R$4:$S$10,2)))","v":""}]
[null,null,null,null,10536,null,null,36,{"$f":"IF(VLOOKUP($E59,学年名簿と評価・評定!$E$24:$K$573,5)=\"\",\"\",VLOOKUP($E59,学年名簿と評価・評定!$E$24:$K$573,5))","v":""},{"$f":"IF(VLOOKUP($E59,学年名簿と評価・評定!$E$24:$K$573,6)=\"\",\"\",VLOOKUP($E59,学年名簿と評価・評定!$E$24:$K$573,7))","v":""},null,"",null,null,null,{"$f":"IF(OR($I59=\"\",COUNTA($M59:$O59)=0),\"\",IF(AND(M59=\"-\",N59=\"-\",O59=\"-\"),\"-\",VLOOKUP(COUNTIF($M59:$O59,\"A\")-COUNTIF($M59:$O59,\"C\"),基本情報!$R$4:$S$10,2)))","v":""},null,null,null,null,null,"",null,null,null,{"$f":"IF(OR($I59=\"\",COUNTA($W59:$Y59)=0),\"\",IF(AND(W59=\"-\",X59=\"-\",Y59=\"-\"),\"-\",VLOOKUP(COUNTIF($W59:$Y59,\"A\")-COUNTIF($W59:$Y59,\"C\"),基本情報!$R$4:$S$10,2)))","v":""},null,null,null,null,null,"",null,null,null,{"$f":"IF(OR($I59=\"\",COUNTA($AG59:$AI59)=0),\"\",IF(AND(AG59=\"-\",AH59=\"-\",AI59=\"-\"),\"-\",VLOOKUP(COUNTIF($AG59:$AI59,\"A\")-COUNTIF($AG59:$AI59,\"C\"),基本情報!$R$4:$S$10,2)))","v":""}]
[null,null,null,null,10537,null,null,37,{"$f":"IF(VLOOKUP($E60,学年名簿と評価・評定!$E$24:$K$573,5)=\"\",\"\",VLOOKUP($E60,学年名簿と評価・評定!$E$24:$K$573,5))","v":""},{"$f":"IF(VLOOKUP($E60,学年名簿と評価・評定!$E$24:$K$573,6)=\"\",\"\",VLOOKUP($E60,学年名簿と評価・評定!$E$24:$K$573,7))","v":""},null,"",null,null,null,{"$f":"IF(OR($I60=\"\",COUNTA($M60:$O60)=0),\"\",IF(AND(M60=\"-\",N60=\"-\",O60=\"-\"),\"-\",VLOOKUP(COUNTIF($M60:$O60,\"A\")-COUNTIF($M60:$O60,\"C\"),基本情報!$R$4:$S$10,2)))","v":""},null,null,null,null,null,"",null,null,null,{"$f":"IF(OR($I60=\"\",COUNTA($W60:$Y60)=0),\"\",IF(AND(W60=\"-\",X60=\"-\",Y60=\"-\"),\"-\",VLOOKUP(COUNTIF($W60:$Y60,\"A\")-COUNTIF($W60:$Y60,\"C\"),基本情報!$R$4:$S$10,2)))","v":""},null,null,null,null,null,"",null,null,null,{"$f":"IF(OR($I60=\"\",COUNTA($AG60:$AI60)=0),\"\",IF(AND(AG60=\"-\",AH60=\"-\",AI60=\"-\"),\"-\",VLOOKUP(COUNTIF($AG60:$AI60,\"A\")-COUNTIF($AG60:$AI60,\"C\"),基本情報!$R$4:$S$10,2)))","v":""}]
[null,null,null,null,10538,null,null,38,{"$f":"IF(VLOOKUP($E61,学年名簿と評価・評定!$E$24:$K$573,5)=\"\",\"\",VLOOKUP($E61,学年名簿と評価・評定!$E$24:$K$573,5))","v":""},{"$f":"IF(VLOOKUP($E61,学年名簿と評価・評定!$E$24:$K$573,6)=\"\",\"\",VLOOKUP($E61,学年名簿と評価・評定!$E$24:$K$573,7))","v":""},null,"",null,null,null,{"$f":"IF(OR($I61=\"\",COUNTA($M61:$O61)=0),\"\",IF(AND(M61=\"-\",N61=\"-\",O61=\"-\"),\"-\",VLOOKUP(COUNTIF($M61:$O61,\"A\")-COUNTIF($M61:$O61,\"C\"),基本情報!$R$4:$S$10,2)))","v":""},null,null,null,null,null,"",null,null,null,{"$f":"IF(OR($I61=\"\",COUNTA($W61:$Y61)=0),\"\",IF(AND(W61=\"-\",X61=\"-\",Y61=\"-\"),\"-\",VLOOKUP(COUNTIF($W61:$Y61,\"A\")-COUNTIF($W61:$Y61,\"C\"),基本情報!$R$4:$S$10,2)))","v":""},null,null,null,null,null,"",null,null,null,{"$f":"IF(OR($I61=\"\",COUNTA($AG61:$AI61)=0),\"\",IF(AND(AG61=\"-\",AH61=\"-\",AI61=\"-\"),\"-\",VLOOKUP(COUNTIF($AG61:$AI61,\"A\")-COUNTIF($AG61:$AI61,\"C\"),基本情報!$R$4:$S$10,2)))","v":""}]
[null,null,null,null,10539,null,null,39,{"$f":"IF(VLOOKUP($E62,学年名簿と評価・評定!$E$24:$K$573,5)=\"\",\"\",VLOOKUP($E62,学年名簿と評価・評定!$E$24:$K$573,5))","v":""},{"$f":"IF(VLOOKUP($E62,学年名簿と評価・評定!$E$24:$K$573,6)=\"\",\"\",VLOOKUP($E62,学年名簿と評価・評定!$E$24:$K$573,7))","v":""},null,"",null,null,null,{"$f":"IF(OR($I62=\"\",COUNTA($M62:$O62)=0),\"\",IF(AND(M62=\"-\",N62=\"-\",O62=\"-\"),\"-\",VLOOKUP(COUNTIF($M62:$O62,\"A\")-COUNTIF($M62:$O62,\"C\"),基本情報!$R$4:$S$10,2)))","v":""},null,null,null,null,null,"",null,null,null,{"$f":"IF(OR($I62=\"\",COUNTA($W62:$Y62)=0),\"\",IF(AND(W62=\"-\",X62=\"-\",Y62=\"-\"),\"-\",VLOOKUP(COUNTIF($W62:$Y62,\"A\")-COUNTIF($W62:$Y62,\"C\"),基本情報!$R$4:$S$10,2)))","v":""},null,null,null,null,null,"",null,null,null,{"$f":"IF(OR($I62=\"\",COUNTA($AG62:$AI62)=0),\"\",IF(AND(AG62=\"-\",AH62=\"-\",AI62=\"-\"),\"-\",VLOOKUP(COUNTIF($AG62:$AI62,\"A\")-COUNTIF($AG62:$AI62,\"C\"),基本情報!$R$4:$S$10,2)))","v":""}]
[null,null,null,null,10540,null,null,40,{"$f":"IF(VLOOKUP($E63,学年名簿と評価・評定!$E$24:$K$573,5)=\"\",\"\",VLOOKUP($E63,学年名簿と評価・評定!$E$24:$K$573,5))","v":""},{"$f":"IF(VLOOKUP($E63,学年名簿と評価・評定!$E$24:$K$573,6)=\"\",\"\",VLOOKUP($E63,学年名簿と評価・評定!$E$24:$K$573,7))","v":""},null,"",null,null,null,{"$f":"IF(OR($I63=\"\",COUNTA($M63:$O63)=0),\"\",IF(AND(M63=\"-\",N63=\"-\",O63=\"-\"),\"-\",VLOOKUP(COUNTIF($M63:$O63,\"A\")-COUNTIF($M63:$O63,\"C\"),基本情報!$R$4:$S$10,2)))","v":""},null,null,null,null,null,"",null,null,null,{"$f":"IF(OR($I63=\"\",COUNTA($W63:$Y63)=0),\"\",IF(AND(W63=\"-\",X63=\"-\",Y63=\"-\"),\"-\",VLOOKUP(COUNTIF($W63:$Y63,\"A\")-COUNTIF($W63:$Y63,\"C\"),基本情報!$R$4:$S$10,2)))","v":""},null,null,null,null,null,"",null,null,null,{"$f":"IF(OR($I63=\"\",COUNTA($AG63:$AI63)=0),\"\",IF(AND(AG63=\"-\",AH63=\"-\",AI63=\"-\"),\"-\",VLOOKUP(COUNTIF($AG63:$AI63,\"A\")-COUNTIF($AG63:$AI63,\"C\"),基本情報!$R$4:$S$10,2)))","v":""}]
[null,null,null,null,10541,null,null,41,{"$f":"IF(VLOOKUP($E64,学年名簿と評価・評定!$E$24:$K$573,5)=\"\",\"\",VLOOKUP($E64,学年名簿と評価・評定!$E$24:$K$573,5))","v":""},{"$f":"IF(VLOOKUP($E64,学年名簿と評価・評定!$E$24:$K$573,6)=\"\",\"\",VLOOKUP($E64,学年名簿と評価・評定!$E$24:$K$573,7))","v":""},null,"",null,null,null,{"$f":"IF(OR($I64=\"\",COUNTA($M64:$O64)=0),\"\",IF(AND(M64=\"-\",N64=\"-\",O64=\"-\"),\"-\",VLOOKUP(COUNTIF($M64:$O64,\"A\")-COUNTIF($M64:$O64,\"C\"),基本情報!$R$4:$S$10,2)))","v":""},null,null,null,null,null,"",null,null,null,{"$f":"IF(OR($I64=\"\",COUNTA($W64:$Y64)=0),\"\",IF(AND(W64=\"-\",X64=\"-\",Y64=\"-\"),\"-\",VLOOKUP(COUNTIF($W64:$Y64,\"A\")-COUNTIF($W64:$Y64,\"C\"),基本情報!$R$4:$S$10,2)))","v":""},null,null,null,null,null,"",null,null,null,{"$f":"IF(OR($I64=\"\",COUNTA($AG64:$AI64)=0),\"\",IF(AND(AG64=\"-\",AH64=\"-\",AI64=\"-\"),\"-\",VLOOKUP(COUNTIF($AG64:$AI64,\"A\")-COUNTIF($AG64:$AI64,\"C\"),基本情報!$R$4:$S$10,2)))","v":""}]
[null,null,null,null,10542,null,null,42,{"$f":"IF(VLOOKUP($E65,学年名簿と評価・評定!$E$24:$K$573,5)=\"\",\"\",VLOOKUP($E65,学年名簿と評価・評定!$E$24:$K$573,5))","v":""},{"$f":"IF(VLOOKUP($E65,学年名簿と評価・評定!$E$24:$K$573,6)=\"\",\"\",VLOOKUP($E65,学年名簿と評価・評定!$E$24:$K$573,7))","v":""},null,"",null,null,null,{"$f":"IF(OR($I65=\"\",COUNTA($M65:$O65)=0),\"\",IF(AND(M65=\"-\",N65=\"-\",O65=\"-\"),\"-\",VLOOKUP(COUNTIF($M65:$O65,\"A\")-COUNTIF($M65:$O65,\"C\"),基本情報!$R$4:$S$10,2)))","v":""},null,null,null,null,null,"",null,null,null,{"$f":"IF(OR($I65=\"\",COUNTA($W65:$Y65)=0),\"\",IF(AND(W65=\"-\",X65=\"-\",Y65=\"-\"),\"-\",VLOOKUP(COUNTIF($W65:$Y65,\"A\")-COUNTIF($W65:$Y65,\"C\"),基本情報!$R$4:$S$10,2)))","v":""},null,null,null,null,null,"",null,null,null,{"$f":"IF(OR($I65=\"\",COUNTA($AG65:$AI65)=0),\"\",IF(AND(AG65=\"-\",AH65=\"-\",AI65=\"-\"),\"-\",VLOOKUP(COUNTIF($AG65:$AI65,\"A\")-COUNTIF($AG65:$AI65,\"C\"),基本情報!$R$4:$S$10,2)))","v":""}]
[null,null,null,null,10543,null,null,43,{"$f":"IF(VLOOKUP($E66,学年名簿と評価・評定!$E$24:$K$573,5)=\"\",\"\",VLOOKUP($E66,学年名簿と評価・評定!$E$24:$K$573,5))","v":""},{"$f":"IF(VLOOKUP($E66,学年名簿と評価・評定!$E$24:$K$573,6)=\"\",\"\",VLOOKUP($E66,学年名簿と評価・評定!$E$24:$K$573,7))","v":""},null,"",null,null,null,{"$f":"IF(OR($I66=\"\",COUNTA($M66:$O66)=0),\"\",IF(AND(M66=\"-\",N66=\"-\",O66=\"-\"),\"-\",VLOOKUP(COUNTIF($M66:$O66,\"A\")-COUNTIF($M66:$O66,\"C\"),基本情報!$R$4:$S$10,2)))","v":""},null,null,null,null,null,"",null,null,null,{"$f":"IF(OR($I66=\"\",COUNTA($W66:$Y66)=0),\"\",IF(AND(W66=\"-\",X66=\"-\",Y66=\"-\"),\"-\",VLOOKUP(COUNTIF($W66:$Y66,\"A\")-COUNTIF($W66:$Y66,\"C\"),基本情報!$R$4:$S$10,2)))","v":""},null,null,null,null,null,"",null,null,null,{"$f":"IF(OR($I66=\"\",COUNTA($AG66:$AI66)=0),\"\",IF(AND(AG66=\"-\",AH66=\"-\",AI66=\"-\"),\"-\",VLOOKUP(COUNTIF($AG66:$AI66,\"A\")-COUNTIF($AG66:$AI66,\"C\"),基本情報!$R$4:$S$10,2)))","v":""}]
[null,null,null,null,10544,null,null,44,{"$f":"IF(VLOOKUP($E67,学年名簿と評価・評定!$E$24:$K$573,5)=\"\",\"\",VLOOKUP($E67,学年名簿と評価・評定!$E$24:$K$573,5))","v":""},{"$f":"IF(VLOOKUP($E67,学年名簿と評価・評定!$E$24:$K$573,6)=\"\",\"\",VLOOKUP($E67,学年名簿と評価・評定!$E$24:$K$573,7))","v":""},null,"",null,null,null,{"$f":"IF(OR($I67=\"\",COUNTA($M67:$O67)=0),\"\",IF(AND(M67=\"-\",N67=\"-\",O67=\"-\"),\"-\",VLOOKUP(COUNTIF($M67:$O67,\"A\")-COUNTIF($M67:$O67,\"C\"),基本情報!$R$4:$S$10,2)))","v":""},null,null,null,null,null,"",null,null,null,{"$f":"IF(OR($I67=\"\",COUNTA($W67:$Y67)=0),\"\",IF(AND(W67=\"-\",X67=\"-\",Y67=\"-\"),\"-\",VLOOKUP(COUNTIF($W67:$Y67,\"A\")-COUNTIF($W67:$Y67,\"C\"),基本情報!$R$4:$S$10,2)))","v":""},null,null,null,null,null,"",null,null,null,{"$f":"IF(OR($I67=\"\",COUNTA($AG67:$AI67)=0),\"\",IF(AND(AG67=\"-\",AH67=\"-\",AI67=\"-\"),\"-\",VLOOKUP(COUNTIF($AG67:$AI67,\"A\")-COUNTIF($AG67:$AI67,\"C\"),基本情報!$R$4:$S$10,2)))","v":""}]
[null,null,null,null,10545,null,null,45,{"$f":"IF(VLOOKUP($E68,学年名簿と評価・評定!$E$24:$K$573,5)=\"\",\"\",VLOOKUP($E68,学年名簿と評価・評定!$E$24:$K$573,5))","v":""},{"$f":"IF(VLOOKUP($E68,学年名簿と評価・評定!$E$24:$K$573,6)=\"\",\"\",VLOOKUP($E68,学年名簿と評価・評定!$E$24:$K$573,7))","v":""},null,"",null,null,null,{"$f":"IF(OR($I68=\"\",COUNTA($M68:$O68)=0),\"\",IF(AND(M68=\"-\",N68=\"-\",O68=\"-\"),\"-\",VLOOKUP(COUNTIF($M68:$O68,\"A\")-COUNTIF($M68:$O68,\"C\"),基本情報!$R$4:$S$10,2)))","v":""},null,null,null,null,null,"",null,null,null,{"$f":"IF(OR($I68=\"\",COUNTA($W68:$Y68)=0),\"\",IF(AND(W68=\"-\",X68=\"-\",Y68=\"-\"),\"-\",VLOOKUP(COUNTIF($W68:$Y68,\"A\")-COUNTIF($W68:$Y68,\"C\"),基本情報!$R$4:$S$10,2)))","v":""},null,null,null,null,null,"",null,null,null,{"$f":"IF(OR($I68=\"\",COUNTA($AG68:$AI68)=0),\"\",IF(AND(AG68=\"-\",AH68=\"-\",AI68=\"-\"),\"-\",VLOOKUP(COUNTIF($AG68:$AI68,\"A\")-COUNTIF($AG68:$AI68,\"C\"),基本情報!$R$4:$S$10,2)))","v":""}]
[null,null,null,null,10546,null,null,46,{"$f":"IF(VLOOKUP($E69,学年名簿と評価・評定!$E$24:$K$573,5)=\"\",\"\",VLOOKUP($E69,学年名簿と評価・評定!$E$24:$K$573,5))","v":""},{"$f":"IF(VLOOKUP($E69,学年名簿と評価・評定!$E$24:$K$573,6)=\"\",\"\",VLOOKUP($E69,学年名簿と評価・評定!$E$24:$K$573,7))","v":""},null,"",null,null,null,{"$f":"IF(OR($I69=\"\",COUNTA($M69:$O69)=0),\"\",IF(AND(M69=\"-\",N69=\"-\",O69=\"-\"),\"-\",VLOOKUP(COUNTIF($M69:$O69,\"A\")-COUNTIF($M69:$O69,\"C\"),基本情報!$R$4:$S$10,2)))","v":""},null,null,null,null,null,"",null,null,null,{"$f":"IF(OR($I69=\"\",COUNTA($W69:$Y69)=0),\"\",IF(AND(W69=\"-\",X69=\"-\",Y69=\"-\"),\"-\",VLOOKUP(COUNTIF($W69:$Y69,\"A\")-COUNTIF($W69:$Y69,\"C\"),基本情報!$R$4:$S$10,2)))","v":""},null,null,null,null,null,"",null,null,null,{"$f":"IF(OR($I69=\"\",COUNTA($AG69:$AI69)=0),\"\",IF(AND(AG69=\"-\",AH69=\"-\",AI69=\"-\"),\"-\",VLOOKUP(COUNTIF($AG69:$AI69,\"A\")-COUNTIF($AG69:$AI69,\"C\"),基本情報!$R$4:$S$10,2)))","v":""}]
[null,null,null,null,10547,null,null,47,{"$f":"IF(VLOOKUP($E70,学年名簿と評価・評定!$E$24:$K$573,5)=\"\",\"\",VLOOKUP($E70,学年名簿と評価・評定!$E$24:$K$573,5))","v":""},{"$f":"IF(VLOOKUP($E70,学年名簿と評価・評定!$E$24:$K$573,6)=\"\",\"\",VLOOKUP($E70,学年名簿と評価・評定!$E$24:$K$573,7))","v":""},null,"",null,null,null,{"$f":"IF(OR($I70=\"\",COUNTA($M70:$O70)=0),\"\",IF(AND(M70=\"-\",N70=\"-\",O70=\"-\"),\"-\",VLOOKUP(COUNTIF($M70:$O70,\"A\")-COUNTIF($M70:$O70,\"C\"),基本情報!$R$4:$S$10,2)))","v":""},null,null,null,null,null,"",null,null,null,{"$f":"IF(OR($I70=\"\",COUNTA($W70:$Y70)=0),\"\",IF(AND(W70=\"-\",X70=\"-\",Y70=\"-\"),\"-\",VLOOKUP(COUNTIF($W70:$Y70,\"A\")-COUNTIF($W70:$Y70,\"C\"),基本情報!$R$4:$S$10,2)))","v":""},null,null,null,null,null,"",null,null,null,{"$f":"IF(OR($I70=\"\",COUNTA($AG70:$AI70)=0),\"\",IF(AND(AG70=\"-\",AH70=\"-\",AI70=\"-\"),\"-\",VLOOKUP(COUNTIF($AG70:$AI70,\"A\")-COUNTIF($AG70:$AI70,\"C\"),基本情報!$R$4:$S$10,2)))","v":""}]
[null,null,null,null,10548,null,null,48,{"$f":"IF(VLOOKUP($E71,学年名簿と評価・評定!$E$24:$K$573,5)=\"\",\"\",VLOOKUP($E71,学年名簿と評価・評定!$E$24:$K$573,5))","v":""},{"$f":"IF(VLOOKUP($E71,学年名簿と評価・評定!$E$24:$K$573,6)=\"\",\"\",VLOOKUP($E71,学年名簿と評価・評定!$E$24:$K$573,7))","v":""},null,"",null,null,null,{"$f":"IF(OR($I71=\"\",COUNTA($M71:$O71)=0),\"\",IF(AND(M71=\"-\",N71=\"-\",O71=\"-\"),\"-\",VLOOKUP(COUNTIF($M71:$O71,\"A\")-COUNTIF($M71:$O71,\"C\"),基本情報!$R$4:$S$10,2)))","v":""},null,null,null,null,null,"",null,null,null,{"$f":"IF(OR($I71=\"\",COUNTA($W71:$Y71)=0),\"\",IF(AND(W71=\"-\",X71=\"-\",Y71=\"-\"),\"-\",VLOOKUP(COUNTIF($W71:$Y71,\"A\")-COUNTIF($W71:$Y71,\"C\"),基本情報!$R$4:$S$10,2)))","v":""},null,null,null,null,null,"",null,null,null,{"$f":"IF(OR($I71=\"\",COUNTA($AG71:$AI71)=0),\"\",IF(AND(AG71=\"-\",AH71=\"-\",AI71=\"-\"),\"-\",VLOOKUP(COUNTIF($AG71:$AI71,\"A\")-COUNTIF($AG71:$AI71,\"C\"),基本情報!$R$4:$S$10,2)))","v":""}]
[null,null,null,null,10549,null,null,49,{"$f":"IF(VLOOKUP($E72,学年名簿と評価・評定!$E$24:$K$573,5)=\"\",\"\",VLOOKUP($E72,学年名簿と評価・評定!$E$24:$K$573,5))","v":""},{"$f":"IF(VLOOKUP($E72,学年名簿と評価・評定!$E$24:$K$573,6)=\"\",\"\",VLOOKUP($E72,学年名簿と評価・評定!$E$24:$K$573,7))","v":""},null,"",null,null,null,{"$f":"IF(OR($I72=\"\",COUNTA($M72:$O72)=0),\"\",IF(AND(M72=\"-\",N72=\"-\",O72=\"-\"),\"-\",VLOOKUP(COUNTIF($M72:$O72,\"A\")-COUNTIF($M72:$O72,\"C\"),基本情報!$R$4:$S$10,2)))","v":""},null,null,null,null,null,"",null,null,null,{"$f":"IF(OR($I72=\"\",COUNTA($W72:$Y72)=0),\"\",IF(AND(W72=\"-\",X72=\"-\",Y72=\"-\"),\"-\",VLOOKUP(COUNTIF($W72:$Y72,\"A\")-COUNTIF($W72:$Y72,\"C\"),基本情報!$R$4:$S$10,2)))","v":""},null,null,null,null,null,"",null,null,null,{"$f":"IF(OR($I72=\"\",COUNTA($AG72:$AI72)=0),\"\",IF(AND(AG72=\"-\",AH72=\"-\",AI72=\"-\"),\"-\",VLOOKUP(COUNTIF($AG72:$AI72,\"A\")-COUNTIF($AG72:$AI72,\"C\"),基本情報!$R$4:$S$10,2)))","v":""}]
[null,null,null,null,10550,null,null,50,{"$f":"IF(VLOOKUP($E73,学年名簿と評価・評定!$E$24:$K$573,5)=\"\",\"\",VLOOKUP($E73,学年名簿と評価・評定!$E$24:$K$573,5))","v":""},{"$f":"IF(VLOOKUP($E73,学年名簿と評価・評定!$E$24:$K$573,6)=\"\",\"\",VLOOKUP($E73,学年名簿と評価・評定!$E$24:$K$573,7))","v":""},null,"",null,null,null,{"$f":"IF(OR($I73=\"\",COUNTA($M73:$O73)=0),\"\",IF(AND(M73=\"-\",N73=\"-\",O73=\"-\"),\"-\",VLOOKUP(COUNTIF($M73:$O73,\"A\")-COUNTIF($M73:$O73,\"C\"),基本情報!$R$4:$S$10,2)))","v":""},null,null,null,null,null,"",null,null,null,{"$f":"IF(OR($I73=\"\",COUNTA($W73:$Y73)=0),\"\",IF(AND(W73=\"-\",X73=\"-\",Y73=\"-\"),\"-\",VLOOKUP(COUNTIF($W73:$Y73,\"A\")-COUNTIF($W73:$Y73,\"C\"),基本情報!$R$4:$S$10,2)))","v":""},null,null,null,null,null,"",null,null,null,{"$f":"IF(OR($I73=\"\",COUNTA($AG73:$AI73)=0),\"\",IF(AND(AG73=\"-\",AH73=\"-\",AI73=\"-\"),\"-\",VLOOKUP(COUNTIF($AG73:$AI73,\"A\")-COUNTIF($AG73:$AI73,\"C\"),基本情報!$R$4:$S$10,2)))","v":""}]

{"sheet":"6組","index":7,"n_rows":73,"n_cols":40,"rows_kept":73,"cut":false,"hidden":false,"merged":[[2,34,2,36],[2,37,2,39],[21,11,21,15],[21,21,21,25],[21,31,21,35],[2,11,2,13],[2,14,2,16],[2,17,2,19],[2,21,2,23],[2,24,2,26],[2,27,2,29],[2,31,2,33]]}
[]
[]
[null,null,null,null,null,null,null,null,null,null,null,"校長",null,null,"教頭",null,null,"教務",null,null,null,"校長",null,null,"教頭",null,null,"教務",null,null,null,"校長",null,null,"教頭",null,null,"教務"]
[]
[]
[]
[]
[null,null,null,null,null,null,null,null,{"$f":"基本情報!E4","v":1},null,null,null,1,2,3,4,5,"-",null,"平均",null,null,1,2,3,4,5,"-",null,"平均",null,null,1,2,3,4,5,"-",null,"平均"]
[null,null,null,null,null,null,null,null,6,null,null,1,{"$f":"学年名簿と評価・評定!M9","v":0},{"$f":"学年名簿と評価・評定!N9","v":0},{"$f":"学年名簿と評価・評定!O9","v":0},{"$f":"学年名簿と評価・評定!P9","v":0},{"$f":"学年名簿と評価・評定!Q9","v":1},{"$f":"学年名簿と評価・評定!R9","v":0},{"$f":"SUM(M9:R9)","v":1},{"$f":"学年名簿と評価・評定!T9","v":5},null,1,{"$f":"学年名簿と評価・評定!W9","v":1},{"$f":"学年名簿と評価・評定!X9","v":0},{"$f":"学年名簿と評価・評定!Y9","v":0},{"$f":"学年名簿と評価・評定!Z9","v":0},{"$f":"学年名簿と評価・評定!AA9","v":0},{"$f":"学年名簿と評価・評定!AB9","v":0},{"$f":"学年名簿と評価・評定!AC9","v":1},{"$f":"学年名簿と評価・評定!AD9","v":1},null,1,{"$f":"学年名簿と評価・評定!AG9","v":0},{"$f":"学年名簿と評価・評定!AH9","v":0},{"$f":"学年名簿と評価・評定!AI9","v":1},{"$f":"学年名簿と評価・評定!AJ9","v":0},{"$f":"学年名簿と評価・評定!AK9","v":0},{"$f":"学年名簿と評価・評定!AL9","v":0},{"$f":"学年名簿と評価・評定!AM9","v":1},{"$f":"学年名簿と評価・評定!AN9","v":3}]
[null,null,null,null,null,null,null,null,null,null,null,2,{"$f":"学年名簿と評価・評定!M10","v":0},{"$f":"学年名簿と評価・評定!N10","v":0},{"$f":"学年名簿と評価・評定!O10","v":0},{"$f":"学年名簿と評価・評定!P10","v":0},{"$f":"学年名簿と評価・評定!Q10","v":0},{"$f":"学年名簿と評価・評定!R10","v":0},{"$f":"SUM(M10:R10)","v":0},{"$f":"学年名簿と評価・評定!T10","v":""},null,2,{"$f":"学年名簿と評価・評定!W10","v":0},{"$f":"学年名簿と評価・評定!X10","v":0},{"$f":"学年名簿と評価・評定!Y10","v":0},{"$f":"学年名簿と評価・評定!Z10","v":0},{"$f":"学年名簿と評価・評定!AA10","v":0},{"$f":"学年名簿と評価・評定!AB10","v":0},{"$f":"学年名簿と評価・評定!AC10","v":0},{"$f":"学年名簿と評価・評定!AD10","v":""},null,2,{"$f":"学年名簿と評価・評定!AG10","v":0},{"$f":"学年名簿と評価・評定!AH10","v":0},{"$f":"学年名簿と評価・評定!AI10","v":0},{"$f":"学年名簿と評価・評定!AJ10","v":0},{"$f":"学年名簿と評価・評定!AK10","v":0},{"$f":"学年名簿と評価・評定!AL10","v":0},{"$f":"学年名簿と評価・評定!AM10","v":0},{"$f":"学年名簿と評価・評定!AN10","v":""}]
[null,null,null,null,null,null,null,null,null,null,null,3,{"$f":"学年名簿と評価・評定!M11","v":0},{"$f":"学年名簿と評価・評定!N11","v":0},{"$f":"学年名簿と評価・評定!O11","v":0},{"$f":"学年名簿と評価・評定!P11","v":0},{"$f":"学年名簿と評価・評定!Q11","v":0},{"$f":"学年名簿と評価・評定!R11","v":0},0,{"$f":"学年名簿と評価・評定!T11","v":""},null,3,{"$f":"学年名簿と評価・評定!W11","v":0},{"$f":"学年名簿と評価・評定!X11","v":0},{"$f":"学年名簿と評価・評定!Y11","v":0},{"$f":"学年名簿と評価・評定!Z11","v":0},{"$f":"学年名簿と評価・評定!AA11","v":0},{"$f":"学年名簿と評価・評定!AB11","v":0},{"$f":"学年名簿と評価・評定!AC11","v":0},{"$f":"学年名簿と評価・評定!AD11","v":""},null,3,{"$f":"学年名簿と評価・評定!AG11","v":0},{"$f":"学年名簿と評価・評定!AH11","v":0},{"$f":"学年名簿と評価・評定!AI11","v":0},{"$f":"学年名簿と評価・評定!AJ11","v":0},{"$f":"学年名簿と評価・評定!AK11","v":0},{"$f":"学年名簿と評価・評定!AL11","v":0},{"$f":"学年名簿と評価・評定!AM11","v":0},{"$f":"学年名簿と評価・評定!AN11","v":""}]
[null,null,null,null,null,null,null,null,null,null,null,4,{"$f":"学年名簿と評価・評定!M12","v":0},{"$f":"学年名簿と評価・評定!N12","v":0},{"$f":"学年名簿と評価・評定!O12","v":0},{"$f":"学年名簿と評価・評定!P12","v":0},{"$f":"学年名簿と評価・評定!Q12","v":0},{"$f":"学年名簿と評価・評定!R12","v":0},0,{"$f":"学年名簿と評価・評定!T12","v":""},null,4,{"$f":"学年名簿と評価・評定!W12","v":0},{"$f":"学年名簿と評価・評定!X12","v":0},{"$f":"学年名簿と評価・評定!Y12","v":0},{"$f":"学年名簿と評価・評定!Z12","v":0},{"$f":"学年名簿と評価・評定!AA12","v":0},{"$f":"学年名簿と評価・評定!AB12","v":0},{"$f":"学年名簿と評価・評定!AC12","v":0},{"$f":"学年名簿と評価・評定!AD12","v":""},null,4,{"$f":"学年名簿と評価・評定!AG12","v":0},{"$f":"学年名簿と評価・評定!AH12","v":0},{"$f":"学年名簿と評価・評定!AI12","v":0},{"$f":"学年名簿と評価・評定!AJ12","v":0},{"$f":"学年名簿と評価・評定!AK12","v":0},{"$f":"学年名簿と評価・評定!AL12","v":0},{"$f":"学年名簿と評価・評定!AM12","v":0},{"$f":"学年名簿と評価・評定!AN12","v":""}]
[null,null,null,null,null,null,null,null,null,null,null,5,{"$f":"学年名簿と評価・評定!M13","v":0},{"$f":"学年名簿と評価・評定!N13","v":0},{"$f":"学年名簿と評価・評定!O13","v":0},{"$f":"学年名簿と評価・評定!P13","v":0},{"$f":"学年名簿と評価・評定!Q13","v":0},{"$f":"学年名簿と評価・評定!R13","v":0},0,{"$f":"学年名簿と評価・評定!T13","v":""},null,5,{"$f":"学年名簿と評価・評定!W13","v":0},{"$f":"学年名簿と評価・評定!X13","v":0},{"$f":"学年名簿と評価・評定!Y13","v":0},{"$f":"学年名簿と評価・評定!Z13","v":0},{"$f":"学年名簿と評価・評定!AA13","v":0},{"$f":"学年名簿と評価・評定!AB13","v":0},{"$f":"学年名簿と評価・評定!AC13","v":0},{"$f":"学年名簿と評価・評定!AD13","v":""},null,5,{"$f":"学年名簿と評価・評定!AG13","v":0},{"$f":"学年名簿と評価・評定!AH13","v":0},{"$f":"学年名簿と評価・評定!AI13","v":0},{"$f":"学年名簿と評価・評定!AJ13","v":0},{"$f":"学年名簿と評価・評定!AK13","v":0},{"$f":"学年名簿と評価・評定!AL13","v":0},{"$f":"学年名簿と評価・評定!AM13","v":0},{"$f":"学年名簿と評価・評定!AN13","v":""}]
[null,null,null,null,null,null,null,null,null,null,null,6,{"$f":"学年名簿と評価・評定!M14","v":0},{"$f":"学年名簿と評価・評定!N14","v":0},{"$f":"学年名簿と評価・評定!O14","v":0},{"$f":"学年名簿と評価・評定!P14","v":0},{"$f":"学年名簿と評価・評定!Q14","v":0},{"$f":"学年名簿と評価・評定!R14","v":0},0,{"$f":"学年名簿と評価・評定!T14","v":""},null,6,{"$f":"学年名簿と評価・評定!W14","v":0},{"$f":"学年名簿と評価・評定!X14","v":0},{"$f":"学年名簿と評価・評定!Y14","v":0},{"$f":"学年名簿と評価・評定!Z14","v":0},{"$f":"学年名簿と評価・評定!AA14","v":0},{"$f":"学年名簿と評価・評定!AB14","v":0},{"$f":"学年名簿と評価・評定!AC14","v":0},{"$f":"学年名簿と評価・評定!AD14","v":""},null,6,{"$f":"学年名簿と評価・評定!AG14","v":0},{"$f":"学年名簿と評価・評定!AH14","v":0},{"$f":"学年名簿と評価・評定!AI14","v":0},{"$f":"学年名簿と評価・評定!AJ14","v":0},{"$f":"学年名簿と評価・評定!AK14","v":0},{"$f":"学年名簿と評価・評定!AL14","v":0},{"$f":"学年名簿と評価・評定!AM14","v":0},{"$f":"学年名簿と評価・評定!AN14","v":""}]
[null,null,null,null,null,null,null,null,null,null,null,7,{"$f":"学年名簿と評価・評定!M15","v":0},{"$f":"学年名簿と評価・評定!N15","v":0},{"$f":"学年名簿と評価・評定!O15","v":0},{"$f":"学年名簿と評価・評定!P15","v":0},{"$f":"学年名簿と評価・評定!Q15","v":0},{"$f":"学年名簿と評価・評定!R15","v":0},0,{"$f":"学年名簿と評価・評定!T15","v":""},null,7,{"$f":"学年名簿と評価・評定!W15","v":0},{"$f":"学年名簿と評価・評定!X15","v":0},{"$f":"学年名簿と評価・評定!Y15","v":0},{"$f":"学年名簿と評価・評定!Z15","v":0},{"$f":"学年名簿と評価・評定!AA15","v":0},{"$f":"学年名簿と評価・評定!AB15","v":0},{"$f":"学年名簿と評価・評定!AC15","v":0},{"$f":"学年名簿と評価・評定!AD15","v":""},null,7,{"$f":"学年名簿と評価・評定!AG15","v":0},{"$f":"学年名簿と評価・評定!AH15","v":0},{"$f":"学年名簿と評価・評定!AI15","v":0},{"$f":"学年名簿と評価・評定!AJ15","v":0},{"$f":"学年名簿と評価・評定!AK15","v":0},{"$f":"学年名簿と評価・評定!AL15","v":0},{"$f":"学年名簿と評価・評定!AM15","v":0},{"$f":"学年名簿と評価・評定!AN15","v":""}]
[null,null,null,null,null,null,null,null,null,null,null,8,{"$f":"学年名簿と評価・評定!M16","v":0},{"$f":"学年名簿と評価・評定!N16","v":0},{"$f":"学年名簿と評価・評定!O16","v":0},{"$f":"学年名簿と評価・評定!P16","v":0},{"$f":"学年名簿と評価・評定!Q16","v":0},{"$f":"学年名簿と評価・評定!R16","v":0},0,{"$f":"学年名簿と評価・評定!T16","v":""},null,8,{"$f":"学年名簿と評価・評定!W16","v":0},{"$f":"学年名簿と評価・評定!X16","v":0},{"$f":"学年名簿と評価・評定!Y16","v":0},{"$f":"学年名簿と評価・評定!Z16","v":0},{"$f":"学年名簿と評価・評定!AA16","v":0},{"$f":"学年名簿と評価・評定!AB16","v":0},{"$f":"学年名簿と評価・評定!AC16","v":0},{"$f":"学年名簿と評価・評定!AD16","v":""},null,8,{"$f":"学年名簿と評価・評定!AG16","v":0},{"$f":"学年名簿と評価・評定!AH16","v":0},{"$f":"学年名簿と評価・評定!AI16","v":0},{"$f":"学年名簿と評価・評定!AJ16","v":0},{"$f":"学年名簿と評価・評定!AK16","v":0},{"$f":"学年名簿と評価・評定!AL16","v":0},{"$f":"学年名簿と評価・評定!AM16","v":0},{"$f":"学年名簿と評価・評定!AN16","v":""}]
[null,null,null,null,null,null,null,null,null,null,null,9,{"$f":"学年名簿と評価・評定!M17","v":0},{"$f":"学年名簿と評価・評定!N17","v":0},{"$f":"学年名簿と評価・評定!O17","v":0},{"$f":"学年名簿と評価・評定!P17","v":0},{"$f":"学年名簿と評価・評定!Q17","v":0},{"$f":"学年名簿と評価・評定!R17","v":0},0,{"$f":"学年名簿と評価・評定!T17","v":""},null,9,{"$f":"学年名簿と評価・評定!W17","v":0},{"$f":"学年名簿と評価・評定!X17","v":0},{"$f":"学年名簿と評価・評定!Y17","v":0},{"$f":"学年名簿と評価・評定!Z17","v":0},{"$f":"学年名簿と評価・評定!AA17","v":0},{"$f":"学年名簿と評価・評定!AB17","v":0},{"$f":"学年名簿と評価・評定!AC17","v":0},{"$f":"学年名簿と評価・評定!AD17","v":""},null,9,{"$f":"学年名簿と評価・評定!AG17","v":0},{"$f":"学年名簿と評価・評定!AH17","v":0},{"$f":"学年名簿と評価・評定!AI17","v":0},{"$f":"学年名簿と評価・評定!AJ17","v":0},{"$f":"学年名簿と評価・評定!AK17","v":0},{"$f":"学年名簿と評価・評定!AL17","v":0},{"$f":"学年名簿と評価・評定!AM17","v":0},{"$f":"学年名簿と評価・評定!AN17","v":""}]
[null,null,null,null,null,null,null,null,null,null,null,10,{"$f":"学年名簿と評価・評定!M18","v":0},{"$f":"学年名簿と評価・評定!N18","v":0},{"$f":"学年名簿と評価・評定!O18","v":0},{"$f":"学年名簿と評価・評定!P18","v":0},{"$f":"学年名簿と評価・評定!Q18","v":0},{"$f":"学年名簿と評価・評定!R18","v":0},0,{"$f":"学年名簿と評価・評定!T18","v":""},null,10,{"$f":"学年名簿と評価・評定!W18","v":0},{"$f":"学年名簿と評価・評定!X18","v":0},{"$f":"学年名簿と評価・評定!Y18","v":0},{"$f":"学年名簿と評価・評定!Z18","v":0},{"$f":"学年名簿と評価・評定!AA18","v":0},{"$f":"学年名簿と評価・評定!AB18","v":0},{"$f":"学年名簿と評価・評定!AC18","v":0},{"$f":"学年名簿と評価・評定!AD18","v":""},null,10,{"$f":"学年名簿と評価・評定!AG18","v":0},{"$f":"学年名簿と評価・評定!AH18","v":0},{"$f":"学年名簿と評価・評定!AI18","v":0},{"$f":"学年名簿と評価・評定!AJ18","v":0},{"$f":"学年名簿と評価・評定!AK18","v":0},{"$f":"学年名簿と評価・評定!AL18","v":0},{"$f":"学年名簿と評価・評定!AM18","v":0},{"$f":"学年名簿と評価・評定!AN18","v":""}]
[null,null,null,null,null,null,null,null,null,null,null,11,{"$f":"学年名簿と評価・評定!M19","v":0},{"$f":"学年名簿と評価・評定!N19","v":0},{"$f":"学年名簿と評価・評定!O19","v":0},{"$f":"学年名簿と評価・評定!P19","v":0},{"$f":"学年名簿と評価・評定!Q19","v":0},{"$f":"学年名簿と評価・評定!R19","v":0},0,{"$f":"学年名簿と評価・評定!T19","v":""},null,11,{"$f":"学年名簿と評価・評定!W19","v":0},{"$f":"学年名簿と評価・評定!X19","v":0},{"$f":"学年名簿と評価・評定!Y19","v":0},{"$f":"学年名簿と評価・評定!Z19","v":0},{"$f":"学年名簿と評価・評定!AA19","v":0},{"$f":"学年名簿と評価・評定!AB19","v":0},{"$f":"学年名簿と評価・評定!AC19","v":0},{"$f":"学年名簿と評価・評定!AD19","v":""},null,11,{"$f":"学年名簿と評価・評定!AG19","v":0},{"$f":"学年名簿と評価・評定!AH19","v":0},{"$f":"学年名簿と評価・評定!AI19","v":0},{"$f":"学年名簿と評価・評定!AJ19","v":0},{"$f":"学年名簿と評価・評定!AK19","v":0},{"$f":"学年名簿と評価・評定!AL19","v":0},{"$f":"学年名簿と評価・評定!AM19","v":0},{"$f":"学年名簿と評価・評定!AN19","v":""}]
[null,null,null,null,null,null,null,null,{"$f":"基本情報!E6","v":"国語"},null,null,"計",{"$f":"学年名簿と評価・評定!M20","v":0},{"$f":"学年名簿と評価・評定!N20","v":0},{"$f":"学年名簿と評価・評定!O20","v":0},{"$f":"学年名簿と評価・評定!P20","v":0},{"$f":"学年名簿と評価・評定!Q20","v":1},{"$f":"学年名簿と評価・評定!R20","v":0},1,{"$f":"学年名簿と評価・評定!T20","v":5},null,"計",{"$f":"学年名簿と評価・評定!W20","v":1},{"$f":"学年名簿と評価・評定!X20","v":0},{"$f":"学年名簿と評価・評定!Y20","v":0},{"$f":"学年名簿と評価・評定!Z20","v":0},{"$f":"学年名簿と評価・評定!AA20","v":0},{"$f":"学年名簿と評価・評定!AB20","v":0},{"$f":"学年名簿と評価・評定!AC20","v":1},{"$f":"学年名簿と評価・評定!AD20","v":1},null,"計",{"$f":"学年名簿と評価・評定!AG20","v":0},{"$f":"学年名簿と評価・評定!AH20","v":0},{"$f":"学年名簿と評価・評定!AI20","v":1},{"$f":"学年名簿と評価・評定!AJ20","v":0},{"$f":"学年名簿と評価・評定!AK20","v":0},{"$f":"学年名簿と評価・評定!AL20","v":0},{"$f":"学年名簿と評価・評定!AM20","v":1},{"$f":"学年名簿と評価・評定!AN20","v":3}]
[]
[null,null,null,null,null,null,null,null,null,null,null,"前　　期",null,null,null,null,null,null,null,null,null,"後　　期",null,null,null,null,null,null,null,null,null,"学　　年"]
[null,null,null,null,null,null,null,"番","氏　　名","性",null,"評定",{"$f":"基本情報!P14","v":"知技"},{"$f":"基本情報!P15","v":"思判"},{"$f":"基本情報!P16","v":"学び"},"評定","CHECK",null,null,null,null,"評定",{"$f":"M23","v":"知技"},{"$f":"N23","v":"思判"},"学び","評定","CHECK",null,null,null,null,"評定","知技","思判","学び","評定","CHECK"]
[null,null,null,null,{"$f":"$I$8*10000+$I$9*100+$H24","v":10601},null,null,1,{"$f":"IF(VLOOKUP($E24,学年名簿と評価・評定!$E$24:$K$573,5)=\"\",\"\",VLOOKUP($E24,学年名簿と評価・評定!$E$24:$K$573,5))","v":""},{"$f":"IF(VLOOKUP($E24,学年名簿と評価・評定!$E$24:$K$573,6)=\"\",\"\",VLOOKUP($E24,学年名簿と評価・評定!$E$24:$K$573,7))","v":""},null,{"$f":"P24","v":""},null,null,null,{"$f":"IF(OR($I24=\"\",COUNTA($M24:$O24)=0),\"\",IF(AND(M24=\"-\",N24=\"-\",O24=\"-\"),\"-\",VLOOKUP(COUNTIF($M24:$O24,\"A\")-COUNTIF($M24:$O24,\"C\"),基本情報!$R$4:$S$10,2)))","v":""},null,null,null,null,null,{"$f":"Z24","v":""},null,null,null,{"$f":"IF(OR($I24=\"\",COUNTA($W24:$Y24)=0),\"\",IF(AND(W24=\"-\",X24=\"-\",Y24=\"-\"),\"-\",VLOOKUP(COUNTIF($W24:$Y24,\"A\")-COUNTIF($W24:$Y24,\"C\"),基本情報!$R$4:$S$10,2)))","v":""},null,null,null,null,null,{"$f":"AJ24","v":""},null,null,null,{"$f":"IF(OR($I24=\"\",COUNTA($AG24:$AI24)=0),\"\",IF(AND(AG24=\"-\",AH24=\"-\",AI24=\"-\"),\"-\",VLOOKUP(COUNTIF($AG24:$AI24,\"A\")-COUNTIF($AG24:$AI24,\"C\"),基本情報!$R$4:$S$10,2)))","v":""}]
[null,null,null,null,10602,null,null,2,{"$f":"IF(VLOOKUP($E25,学年名簿と評価・評定!$E$24:$K$573,5)=\"\",\"\",VLOOKUP($E25,学年名簿と評価・評定!$E$24:$K$573,5))","v":""},{"$f":"IF(VLOOKUP($E25,学年名簿と評価・評定!$E$24:$K$573,6)=\"\",\"\",VLOOKUP($E25,学年名簿と評価・評定!$E$24:$K$573,7))","v":""},null,{"$f":"P25","v":""},null,null,null,{"$f":"IF(OR($I25=\"\",COUNTA($M25:$O25)=0),\"\",IF(AND(M25=\"-\",N25=\"-\",O25=\"-\"),\"-\",VLOOKUP(COUNTIF($M25:$O25,\"A\")-COUNTIF($M25:$O25,\"C\"),基本情報!$R$4:$S$10,2)))","v":""},null,null,null,null,null,{"$f":"Z25","v":""},null,null,null,{"$f":"IF(OR($I25=\"\",COUNTA($W25:$Y25)=0),\"\",IF(AND(W25=\"-\",X25=\"-\",Y25=\"-\"),\"-\",VLOOKUP(COUNTIF($W25:$Y25,\"A\")-COUNTIF($W25:$Y25,\"C\"),基本情報!$R$4:$S$10,2)))","v":""},null,null,null,null,null,{"$f":"AJ25","v":""},null,null,null,{"$f":"IF(OR($I25=\"\",COUNTA($AG25:$AI25)=0),\"\",IF(AND(AG25=\"-\",AH25=\"-\",AI25=\"-\"),\"-\",VLOOKUP(COUNTIF($AG25:$AI25,\"A\")-COUNTIF($AG25:$AI25,\"C\"),基本情報!$R$4:$S$10,2)))","v":""}]
[null,null,null,null,10603,null,null,3,{"$f":"IF(VLOOKUP($E26,学年名簿と評価・評定!$E$24:$K$573,5)=\"\",\"\",VLOOKUP($E26,学年名簿と評価・評定!$E$24:$K$573,5))","v":""},{"$f":"IF(VLOOKUP($E26,学年名簿と評価・評定!$E$24:$K$573,6)=\"\",\"\",VLOOKUP($E26,学年名簿と評価・評定!$E$24:$K$573,7))","v":""},null,"",null,null,null,{"$f":"IF(OR($I26=\"\",COUNTA($M26:$O26)=0),\"\",IF(AND(M26=\"-\",N26=\"-\",O26=\"-\"),\"-\",VLOOKUP(COUNTIF($M26:$O26,\"A\")-COUNTIF($M26:$O26,\"C\"),基本情報!$R$4:$S$10,2)))","v":""},null,null,null,null,null,{"$f":"Z26","v":""},null,null,null,{"$f":"IF(OR($I26=\"\",COUNTA($W26:$Y26)=0),\"\",IF(AND(W26=\"-\",X26=\"-\",Y26=\"-\"),\"-\",VLOOKUP(COUNTIF($W26:$Y26,\"A\")-COUNTIF($W26:$Y26,\"C\"),基本情報!$R$4:$S$10,2)))","v":""},null,null,null,null,null,"",null,null,null,{"$f":"IF(OR($I26=\"\",COUNTA($AG26:$AI26)=0),\"\",IF(AND(AG26=\"-\",AH26=\"-\",AI26=\"-\"),\"-\",VLOOKUP(COUNTIF($AG26:$AI26,\"A\")-COUNTIF($AG26:$AI26,\"C\"),基本情報!$R$4:$S$10,2)))","v":""}]
[null,null,null,null,10604,null,null,4,{"$f":"IF(VLOOKUP($E27,学年名簿と評価・評定!$E$24:$K$573,5)=\"\",\"\",VLOOKUP($E27,学年名簿と評価・評定!$E$24:$K$573,5))","v":""},{"$f":"IF(VLOOKUP($E27,学年名簿と評価・評定!$E$24:$K$573,6)=\"\",\"\",VLOOKUP($E27,学年名簿と評価・評定!$E$24:$K$573,7))","v":""},null,"",null,null,null,{"$f":"IF(OR($I27=\"\",COUNTA($M27:$O27)=0),\"\",IF(AND(M27=\"-\",N27=\"-\",O27=\"-\"),\"-\",VLOOKUP(COUNTIF($M27:$O27,\"A\")-COUNTIF($M27:$O27,\"C\"),基本情報!$R$4:$S$10,2)))","v":""},null,null,null,null,null,"",null,null,null,{"$f":"IF(OR($I27=\"\",COUNTA($W27:$Y27)=0),\"\",IF(AND(W27=\"-\",X27=\"-\",Y27=\"-\"),\"-\",VLOOKUP(COUNTIF($W27:$Y27,\"A\")-COUNTIF($W27:$Y27,\"C\"),基本情報!$R$4:$S$10,2)))","v":""},null,null,null,null,null,"",null,null,null,{"$f":"IF(OR($I27=\"\",COUNTA($AG27:$AI27)=0),\"\",IF(AND(AG27=\"-\",AH27=\"-\",AI27=\"-\"),\"-\",VLOOKUP(COUNTIF($AG27:$AI27,\"A\")-COUNTIF($AG27:$AI27,\"C\"),基本情報!$R$4:$S$10,2)))","v":""}]
[null,null,null,null,10605,null,null,5,{"$f":"IF(VLOOKUP($E28,学年名簿と評価・評定!$E$24:$K$573,5)=\"\",\"\",VLOOKUP($E28,学年名簿と評価・評定!$E$24:$K$573,5))","v":""},{"$f":"IF(VLOOKUP($E28,学年名簿と評価・評定!$E$24:$K$573,6)=\"\",\"\",VLOOKUP($E28,学年名簿と評価・評定!$E$24:$K$573,7))","v":""},null,"",null,null,null,{"$f":"IF(OR($I28=\"\",COUNTA($M28:$O28)=0),\"\",IF(AND(M28=\"-\",N28=\"-\",O28=\"-\"),\"-\",VLOOKUP(COUNTIF($M28:$O28,\"A\")-COUNTIF($M28:$O28,\"C\"),基本情報!$R$4:$S$10,2)))","v":""},null,null,null,null,null,"",null,null,null,{"$f":"IF(OR($I28=\"\",COUNTA($W28:$Y28)=0),\"\",IF(AND(W28=\"-\",X28=\"-\",Y28=\"-\"),\"-\",VLOOKUP(COUNTIF($W28:$Y28,\"A\")-COUNTIF($W28:$Y28,\"C\"),基本情報!$R$4:$S$10,2)))","v":""},null,null,null,null,null,"",null,null,null,{"$f":"IF(OR($I28=\"\",COUNTA($AG28:$AI28)=0),\"\",IF(AND(AG28=\"-\",AH28=\"-\",AI28=\"-\"),\"-\",VLOOKUP(COUNTIF($AG28:$AI28,\"A\")-COUNTIF($AG28:$AI28,\"C\"),基本情報!$R$4:$S$10,2)))","v":""}]
[null,null,null,null,10606,null,null,6,{"$f":"IF(VLOOKUP($E29,学年名簿と評価・評定!$E$24:$K$573,5)=\"\",\"\",VLOOKUP($E29,学年名簿と評価・評定!$E$24:$K$573,5))","v":""},{"$f":"IF(VLOOKUP($E29,学年名簿と評価・評定!$E$24:$K$573,6)=\"\",\"\",VLOOKUP($E29,学年名簿と評価・評定!$E$24:$K$573,7))","v":""},null,"",null,null,null,{"$f":"IF(OR($I29=\"\",COUNTA($M29:$O29)=0),\"\",IF(AND(M29=\"-\",N29=\"-\",O29=\"-\"),\"-\",VLOOKUP(COUNTIF($M29:$O29,\"A\")-COUNTIF($M29:$O29,\"C\"),基本情報!$R$4:$S$10,2)))","v":""},null,null,null,null,null,"",null,null,null,{"$f":"IF(OR($I29=\"\",COUNTA($W29:$Y29)=0),\"\",IF(AND(W29=\"-\",X29=\"-\",Y29=\"-\"),\"-\",VLOOKUP(COUNTIF($W29:$Y29,\"A\")-COUNTIF($W29:$Y29,\"C\"),基本情報!$R$4:$S$10,2)))","v":""},null,null,null,null,null,"",null,null,null,{"$f":"IF(OR($I29=\"\",COUNTA($AG29:$AI29)=0),\"\",IF(AND(AG29=\"-\",AH29=\"-\",AI29=\"-\"),\"-\",VLOOKUP(COUNTIF($AG29:$AI29,\"A\")-COUNTIF($AG29:$AI29,\"C\"),基本情報!$R$4:$S$10,2)))","v":""}]
[null,null,null,null,10607,null,null,7,{"$f":"IF(VLOOKUP($E30,学年名簿と評価・評定!$E$24:$K$573,5)=\"\",\"\",VLOOKUP($E30,学年名簿と評価・評定!$E$24:$K$573,5))","v":""},{"$f":"IF(VLOOKUP($E30,学年名簿と評価・評定!$E$24:$K$573,6)=\"\",\"\",VLOOKUP($E30,学年名簿と評価・評定!$E$24:$K$573,7))","v":""},null,"",null,null,null,{"$f":"IF(OR($I30=\"\",COUNTA($M30:$O30)=0),\"\",IF(AND(M30=\"-\",N30=\"-\",O30=\"-\"),\"-\",VLOOKUP(COUNTIF($M30:$O30,\"A\")-COUNTIF($M30:$O30,\"C\"),基本情報!$R$4:$S$10,2)))","v":""},null,null,null,null,null,"",null,null,null,{"$f":"IF(OR($I30=\"\",COUNTA($W30:$Y30)=0),\"\",IF(AND(W30=\"-\",X30=\"-\",Y30=\"-\"),\"-\",VLOOKUP(COUNTIF($W30:$Y30,\"A\")-COUNTIF($W30:$Y30,\"C\"),基本情報!$R$4:$S$10,2)))","v":""},null,null,null,null,null,"",null,null,null,{"$f":"IF(OR($I30=\"\",COUNTA($AG30:$AI30)=0),\"\",IF(AND(AG30=\"-\",AH30=\"-\",AI30=\"-\"),\"-\",VLOOKUP(COUNTIF($AG30:$AI30,\"A\")-COUNTIF($AG30:$AI30,\"C\"),基本情報!$R$4:$S$10,2)))","v":""}]
[null,null,null,null,10608,null,null,8,{"$f":"IF(VLOOKUP($E31,学年名簿と評価・評定!$E$24:$K$573,5)=\"\",\"\",VLOOKUP($E31,学年名簿と評価・評定!$E$24:$K$573,5))","v":""},{"$f":"IF(VLOOKUP($E31,学年名簿と評価・評定!$E$24:$K$573,6)=\"\",\"\",VLOOKUP($E31,学年名簿と評価・評定!$E$24:$K$573,7))","v":""},null,"",null,null,null,{"$f":"IF(OR($I31=\"\",COUNTA($M31:$O31)=0),\"\",IF(AND(M31=\"-\",N31=\"-\",O31=\"-\"),\"-\",VLOOKUP(COUNTIF($M31:$O31,\"A\")-COUNTIF($M31:$O31,\"C\"),基本情報!$R$4:$S$10,2)))","v":""},null,null,null,null,null,"",null,null,null,{"$f":"IF(OR($I31=\"\",COUNTA($W31:$Y31)=0),\"\",IF(AND(W31=\"-\",X31=\"-\",Y31=\"-\"),\"-\",VLOOKUP(COUNTIF($W31:$Y31,\"A\")-COUNTIF($W31:$Y31,\"C\"),基本情報!$R$4:$S$10,2)))","v":""},null,null,null,null,null,"",null,null,null,{"$f":"IF(OR($I31=\"\",COUNTA($AG31:$AI31)=0),\"\",IF(AND(AG31=\"-\",AH31=\"-\",AI31=\"-\"),\"-\",VLOOKUP(COUNTIF($AG31:$AI31,\"A\")-COUNTIF($AG31:$AI31,\"C\"),基本情報!$R$4:$S$10,2)))","v":""}]
[null,null,null,null,10609,null,null,9,{"$f":"IF(VLOOKUP($E32,学年名簿と評価・評定!$E$24:$K$573,5)=\"\",\"\",VLOOKUP($E32,学年名簿と評価・評定!$E$24:$K$573,5))","v":""},{"$f":"IF(VLOOKUP($E32,学年名簿と評価・評定!$E$24:$K$573,6)=\"\",\"\",VLOOKUP($E32,学年名簿と評価・評定!$E$24:$K$573,7))","v":""},null,"",null,null,null,{"$f":"IF(OR($I32=\"\",COUNTA($M32:$O32)=0),\"\",IF(AND(M32=\"-\",N32=\"-\",O32=\"-\"),\"-\",VLOOKUP(COUNTIF($M32:$O32,\"A\")-COUNTIF($M32:$O32,\"C\"),基本情報!$R$4:$S$10,2)))","v":""},null,null,null,null,null,"",null,null,null,{"$f":"IF(OR($I32=\"\",COUNTA($W32:$Y32)=0),\"\",IF(AND(W32=\"-\",X32=\"-\",Y32=\"-\"),\"-\",VLOOKUP(COUNTIF($W32:$Y32,\"A\")-COUNTIF($W32:$Y32,\"C\"),基本情報!$R$4:$S$10,2)))","v":""},null,null,null,null,null,"",null,null,null,{"$f":"IF(OR($I32=\"\",COUNTA($AG32:$AI32)=0),\"\",IF(AND(AG32=\"-\",AH32=\"-\",AI32=\"-\"),\"-\",VLOOKUP(COUNTIF($AG32:$AI32,\"A\")-COUNTIF($AG32:$AI32,\"C\"),基本情報!$R$4:$S$10,2)))","v":""}]
[null,null,null,null,10610,null,null,10,{"$f":"IF(VLOOKUP($E33,学年名簿と評価・評定!$E$24:$K$573,5)=\"\",\"\",VLOOKUP($E33,学年名簿と評価・評定!$E$24:$K$573,5))","v":""},{"$f":"IF(VLOOKUP($E33,学年名簿と評価・評定!$E$24:$K$573,6)=\"\",\"\",VLOOKUP($E33,学年名簿と評価・評定!$E$24:$K$573,7))","v":""},null,"",null,null,null,{"$f":"IF(OR($I33=\"\",COUNTA($M33:$O33)=0),\"\",IF(AND(M33=\"-\",N33=\"-\",O33=\"-\"),\"-\",VLOOKUP(COUNTIF($M33:$O33,\"A\")-COUNTIF($M33:$O33,\"C\"),基本情報!$R$4:$S$10,2)))","v":""},null,null,null,null,null,"",null,null,null,{"$f":"IF(OR($I33=\"\",COUNTA($W33:$Y33)=0),\"\",IF(AND(W33=\"-\",X33=\"-\",Y33=\"-\"),\"-\",VLOOKUP(COUNTIF($W33:$Y33,\"A\")-COUNTIF($W33:$Y33,\"C\"),基本情報!$R$4:$S$10,2)))","v":""},null,null,null,null,null,"",null,null,null,{"$f":"IF(OR($I33=\"\",COUNTA($AG33:$AI33)=0),\"\",IF(AND(AG33=\"-\",AH33=\"-\",AI33=\"-\"),\"-\",VLOOKUP(COUNTIF($AG33:$AI33,\"A\")-COUNTIF($AG33:$AI33,\"C\"),基本情報!$R$4:$S$10,2)))","v":""}]
[null,null,null,null,10611,null,null,11,{"$f":"IF(VLOOKUP($E34,学年名簿と評価・評定!$E$24:$K$573,5)=\"\",\"\",VLOOKUP($E34,学年名簿と評価・評定!$E$24:$K$573,5))","v":""},{"$f":"IF(VLOOKUP($E34,学年名簿と評価・評定!$E$24:$K$573,6)=\"\",\"\",VLOOKUP($E34,学年名簿と評価・評定!$E$24:$K$573,7))","v":""},null,"",null,null,null,{"$f":"IF(OR($I34=\"\",COUNTA($M34:$O34)=0),\"\",IF(AND(M34=\"-\",N34=\"-\",O34=\"-\"),\"-\",VLOOKUP(COUNTIF($M34:$O34,\"A\")-COUNTIF($M34:$O34,\"C\"),基本情報!$R$4:$S$10,2)))","v":""},null,null,null,null,null,"",null,null,null,{"$f":"IF(OR($I34=\"\",COUNTA($W34:$Y34)=0),\"\",IF(AND(W34=\"-\",X34=\"-\",Y34=\"-\"),\"-\",VLOOKUP(COUNTIF($W34:$Y34,\"A\")-COUNTIF($W34:$Y34,\"C\"),基本情報!$R$4:$S$10,2)))","v":""},null,null,null,null,null,"",null,null,null,{"$f":"IF(OR($I34=\"\",COUNTA($AG34:$AI34)=0),\"\",IF(AND(AG34=\"-\",AH34=\"-\",AI34=\"-\"),\"-\",VLOOKUP(COUNTIF($AG34:$AI34,\"A\")-COUNTIF($AG34:$AI34,\"C\"),基本情報!$R$4:$S$10,2)))","v":""}]
[null,null,null,null,10612,null,null,12,{"$f":"IF(VLOOKUP($E35,学年名簿と評価・評定!$E$24:$K$573,5)=\"\",\"\",VLOOKUP($E35,学年名簿と評価・評定!$E$24:$K$573,5))","v":""},{"$f":"IF(VLOOKUP($E35,学年名簿と評価・評定!$E$24:$K$573,6)=\"\",\"\",VLOOKUP($E35,学年名簿と評価・評定!$E$24:$K$573,7))","v":""},null,"",null,null,null,{"$f":"IF(OR($I35=\"\",COUNTA($M35:$O35)=0),\"\",IF(AND(M35=\"-\",N35=\"-\",O35=\"-\"),\"-\",VLOOKUP(COUNTIF($M35:$O35,\"A\")-COUNTIF($M35:$O35,\"C\"),基本情報!$R$4:$S$10,2)))","v":""},null,null,null,null,null,"",null,null,null,{"$f":"IF(OR($I35=\"\",COUNTA($W35:$Y35)=0),\"\",IF(AND(W35=\"-\",X35=\"-\",Y35=\"-\"),\"-\",VLOOKUP(COUNTIF($W35:$Y35,\"A\")-COUNTIF($W35:$Y35,\"C\"),基本情報!$R$4:$S$10,2)))","v":""},null,null,null,null,null,"",null,null,null,{"$f":"IF(OR($I35=\"\",COUNTA($AG35:$AI35)=0),\"\",IF(AND(AG35=\"-\",AH35=\"-\",AI35=\"-\"),\"-\",VLOOKUP(COUNTIF($AG35:$AI35,\"A\")-COUNTIF($AG35:$AI35,\"C\"),基本情報!$R$4:$S$10,2)))","v":""}]
[null,null,null,null,10613,null,null,13,{"$f":"IF(VLOOKUP($E36,学年名簿と評価・評定!$E$24:$K$573,5)=\"\",\"\",VLOOKUP($E36,学年名簿と評価・評定!$E$24:$K$573,5))","v":""},{"$f":"IF(VLOOKUP($E36,学年名簿と評価・評定!$E$24:$K$573,6)=\"\",\"\",VLOOKUP($E36,学年名簿と評価・評定!$E$24:$K$573,7))","v":""},null,"",null,null,null,{"$f":"IF(OR($I36=\"\",COUNTA($M36:$O36)=0),\"\",IF(AND(M36=\"-\",N36=\"-\",O36=\"-\"),\"-\",VLOOKUP(COUNTIF($M36:$O36,\"A\")-COUNTIF($M36:$O36,\"C\"),基本情報!$R$4:$S$10,2)))","v":""},null,null,null,null,null,"",null,null,null,{"$f":"IF(OR($I36=\"\",COUNTA($W36:$Y36)=0),\"\",IF(AND(W36=\"-\",X36=\"-\",Y36=\"-\"),\"-\",VLOOKUP(COUNTIF($W36:$Y36,\"A\")-COUNTIF($W36:$Y36,\"C\"),基本情報!$R$4:$S$10,2)))","v":""},null,null,null,null,null,"",null,null,null,{"$f":"IF(OR($I36=\"\",COUNTA($AG36:$AI36)=0),\"\",IF(AND(AG36=\"-\",AH36=\"-\",AI36=\"-\"),\"-\",VLOOKUP(COUNTIF($AG36:$AI36,\"A\")-COUNTIF($AG36:$AI36,\"C\"),基本情報!$R$4:$S$10,2)))","v":""}]
[null,null,null,null,10614,null,null,14,{"$f":"IF(VLOOKUP($E37,学年名簿と評価・評定!$E$24:$K$573,5)=\"\",\"\",VLOOKUP($E37,学年名簿と評価・評定!$E$24:$K$573,5))","v":""},{"$f":"IF(VLOOKUP($E37,学年名簿と評価・評定!$E$24:$K$573,6)=\"\",\"\",VLOOKUP($E37,学年名簿と評価・評定!$E$24:$K$573,7))","v":""},null,"",null,null,null,{"$f":"IF(OR($I37=\"\",COUNTA($M37:$O37)=0),\"\",IF(AND(M37=\"-\",N37=\"-\",O37=\"-\"),\"-\",VLOOKUP(COUNTIF($M37:$O37,\"A\")-COUNTIF($M37:$O37,\"C\"),基本情報!$R$4:$S$10,2)))","v":""},null,null,null,null,null,"",null,null,null,{"$f":"IF(OR($I37=\"\",COUNTA($W37:$Y37)=0),\"\",IF(AND(W37=\"-\",X37=\"-\",Y37=\"-\"),\"-\",VLOOKUP(COUNTIF($W37:$Y37,\"A\")-COUNTIF($W37:$Y37,\"C\"),基本情報!$R$4:$S$10,2)))","v":""},null,null,null,null,null,"",null,null,null,{"$f":"IF(OR($I37=\"\",COUNTA($AG37:$AI37)=0),\"\",IF(AND(AG37=\"-\",AH37=\"-\",AI37=\"-\"),\"-\",VLOOKUP(COUNTIF($AG37:$AI37,\"A\")-COUNTIF($AG37:$AI37,\"C\"),基本情報!$R$4:$S$10,2)))","v":""}]
[null,null,null,null,10615,null,null,15,{"$f":"IF(VLOOKUP($E38,学年名簿と評価・評定!$E$24:$K$573,5)=\"\",\"\",VLOOKUP($E38,学年名簿と評価・評定!$E$24:$K$573,5))","v":""},{"$f":"IF(VLOOKUP($E38,学年名簿と評価・評定!$E$24:$K$573,6)=\"\",\"\",VLOOKUP($E38,学年名簿と評価・評定!$E$24:$K$573,7))","v":""},null,"",null,null,null,{"$f":"IF(OR($I38=\"\",COUNTA($M38:$O38)=0),\"\",IF(AND(M38=\"-\",N38=\"-\",O38=\"-\"),\"-\",VLOOKUP(COUNTIF($M38:$O38,\"A\")-COUNTIF($M38:$O38,\"C\"),基本情報!$R$4:$S$10,2)))","v":""},null,null,null,null,null,"",null,null,null,{"$f":"IF(OR($I38=\"\",COUNTA($W38:$Y38)=0),\"\",IF(AND(W38=\"-\",X38=\"-\",Y38=\"-\"),\"-\",VLOOKUP(COUNTIF($W38:$Y38,\"A\")-COUNTIF($W38:$Y38,\"C\"),基本情報!$R$4:$S$10,2)))","v":""},null,null,null,null,null,"",null,null,null,{"$f":"IF(OR($I38=\"\",COUNTA($AG38:$AI38)=0),\"\",IF(AND(AG38=\"-\",AH38=\"-\",AI38=\"-\"),\"-\",VLOOKUP(COUNTIF($AG38:$AI38,\"A\")-COUNTIF($AG38:$AI38,\"C\"),基本情報!$R$4:$S$10,2)))","v":""}]
[null,null,null,null,10616,null,null,16,{"$f":"IF(VLOOKUP($E39,学年名簿と評価・評定!$E$24:$K$573,5)=\"\",\"\",VLOOKUP($E39,学年名簿と評価・評定!$E$24:$K$573,5))","v":""},{"$f":"IF(VLOOKUP($E39,学年名簿と評価・評定!$E$24:$K$573,6)=\"\",\"\",VLOOKUP($E39,学年名簿と評価・評定!$E$24:$K$573,7))","v":""},null,"",null,null,null,{"$f":"IF(OR($I39=\"\",COUNTA($M39:$O39)=0),\"\",IF(AND(M39=\"-\",N39=\"-\",O39=\"-\"),\"-\",VLOOKUP(COUNTIF($M39:$O39,\"A\")-COUNTIF($M39:$O39,\"C\"),基本情報!$R$4:$S$10,2)))","v":""},null,null,null,null,null,"",null,null,null,{"$f":"IF(OR($I39=\"\",COUNTA($W39:$Y39)=0),\"\",IF(AND(W39=\"-\",X39=\"-\",Y39=\"-\"),\"-\",VLOOKUP(COUNTIF($W39:$Y39,\"A\")-COUNTIF($W39:$Y39,\"C\"),基本情報!$R$4:$S$10,2)))","v":""},null,null,null,null,null,"",null,null,null,{"$f":"IF(OR($I39=\"\",COUNTA($AG39:$AI39)=0),\"\",IF(AND(AG39=\"-\",AH39=\"-\",AI39=\"-\"),\"-\",VLOOKUP(COUNTIF($AG39:$AI39,\"A\")-COUNTIF($AG39:$AI39,\"C\"),基本情報!$R$4:$S$10,2)))","v":""}]
[null,null,null,null,10617,null,null,17,{"$f":"IF(VLOOKUP($E40,学年名簿と評価・評定!$E$24:$K$573,5)=\"\",\"\",VLOOKUP($E40,学年名簿と評価・評定!$E$24:$K$573,5))","v":""},{"$f":"IF(VLOOKUP($E40,学年名簿と評価・評定!$E$24:$K$573,6)=\"\",\"\",VLOOKUP($E40,学年名簿と評価・評定!$E$24:$K$573,7))","v":""},null,"",null,null,null,{"$f":"IF(OR($I40=\"\",COUNTA($M40:$O40)=0),\"\",IF(AND(M40=\"-\",N40=\"-\",O40=\"-\"),\"-\",VLOOKUP(COUNTIF($M40:$O40,\"A\")-COUNTIF($M40:$O40,\"C\"),基本情報!$R$4:$S$10,2)))","v":""},null,null,null,null,null,"",null,null,null,{"$f":"IF(OR($I40=\"\",COUNTA($W40:$Y40)=0),\"\",IF(AND(W40=\"-\",X40=\"-\",Y40=\"-\"),\"-\",VLOOKUP(COUNTIF($W40:$Y40,\"A\")-COUNTIF($W40:$Y40,\"C\"),基本情報!$R$4:$S$10,2)))","v":""},null,null,null,null,null,"",null,null,null,{"$f":"IF(OR($I40=\"\",COUNTA($AG40:$AI40)=0),\"\",IF(AND(AG40=\"-\",AH40=\"-\",AI40=\"-\"),\"-\",VLOOKUP(COUNTIF($AG40:$AI40,\"A\")-COUNTIF($AG40:$AI40,\"C\"),基本情報!$R$4:$S$10,2)))","v":""}]
[null,null,null,null,10618,null,null,18,{"$f":"IF(VLOOKUP($E41,学年名簿と評価・評定!$E$24:$K$573,5)=\"\",\"\",VLOOKUP($E41,学年名簿と評価・評定!$E$24:$K$573,5))","v":""},{"$f":"IF(VLOOKUP($E41,学年名簿と評価・評定!$E$24:$K$573,6)=\"\",\"\",VLOOKUP($E41,学年名簿と評価・評定!$E$24:$K$573,7))","v":""},null,"",null,null,null,{"$f":"IF(OR($I41=\"\",COUNTA($M41:$O41)=0),\"\",IF(AND(M41=\"-\",N41=\"-\",O41=\"-\"),\"-\",VLOOKUP(COUNTIF($M41:$O41,\"A\")-COUNTIF($M41:$O41,\"C\"),基本情報!$R$4:$S$10,2)))","v":""},null,null,null,null,null,"",null,null,null,{"$f":"IF(OR($I41=\"\",COUNTA($W41:$Y41)=0),\"\",IF(AND(W41=\"-\",X41=\"-\",Y41=\"-\"),\"-\",VLOOKUP(COUNTIF($W41:$Y41,\"A\")-COUNTIF($W41:$Y41,\"C\"),基本情報!$R$4:$S$10,2)))","v":""},null,null,null,null,null,"",null,null,null,{"$f":"IF(OR($I41=\"\",COUNTA($AG41:$AI41)=0),\"\",IF(AND(AG41=\"-\",AH41=\"-\",AI41=\"-\"),\"-\",VLOOKUP(COUNTIF($AG41:$AI41,\"A\")-COUNTIF($AG41:$AI41,\"C\"),基本情報!$R$4:$S$10,2)))","v":""}]
[null,null,null,null,10619,null,null,19,{"$f":"IF(VLOOKUP($E42,学年名簿と評価・評定!$E$24:$K$573,5)=\"\",\"\",VLOOKUP($E42,学年名簿と評価・評定!$E$24:$K$573,5))","v":""},{"$f":"IF(VLOOKUP($E42,学年名簿と評価・評定!$E$24:$K$573,6)=\"\",\"\",VLOOKUP($E42,学年名簿と評価・評定!$E$24:$K$573,7))","v":""},null,"",null,null,null,{"$f":"IF(OR($I42=\"\",COUNTA($M42:$O42)=0),\"\",IF(AND(M42=\"-\",N42=\"-\",O42=\"-\"),\"-\",VLOOKUP(COUNTIF($M42:$O42,\"A\")-COUNTIF($M42:$O42,\"C\"),基本情報!$R$4:$S$10,2)))","v":""},null,null,null,null,null,"",null,null,null,{"$f":"IF(OR($I42=\"\",COUNTA($W42:$Y42)=0),\"\",IF(AND(W42=\"-\",X42=\"-\",Y42=\"-\"),\"-\",VLOOKUP(COUNTIF($W42:$Y42,\"A\")-COUNTIF($W42:$Y42,\"C\"),基本情報!$R$4:$S$10,2)))","v":""},null,null,null,null,null,"",null,null,null,{"$f":"IF(OR($I42=\"\",COUNTA($AG42:$AI42)=0),\"\",IF(AND(AG42=\"-\",AH42=\"-\",AI42=\"-\"),\"-\",VLOOKUP(COUNTIF($AG42:$AI42,\"A\")-COUNTIF($AG42:$AI42,\"C\"),基本情報!$R$4:$S$10,2)))","v":""}]
[null,null,null,null,10620,null,null,20,{"$f":"IF(VLOOKUP($E43,学年名簿と評価・評定!$E$24:$K$573,5)=\"\",\"\",VLOOKUP($E43,学年名簿と評価・評定!$E$24:$K$573,5))","v":""},{"$f":"IF(VLOOKUP($E43,学年名簿と評価・評定!$E$24:$K$573,6)=\"\",\"\",VLOOKUP($E43,学年名簿と評価・評定!$E$24:$K$573,7))","v":""},null,"",null,null,null,{"$f":"IF(OR($I43=\"\",COUNTA($M43:$O43)=0),\"\",IF(AND(M43=\"-\",N43=\"-\",O43=\"-\"),\"-\",VLOOKUP(COUNTIF($M43:$O43,\"A\")-COUNTIF($M43:$O43,\"C\"),基本情報!$R$4:$S$10,2)))","v":""},null,null,null,null,null,"",null,null,null,{"$f":"IF(OR($I43=\"\",COUNTA($W43:$Y43)=0),\"\",IF(AND(W43=\"-\",X43=\"-\",Y43=\"-\"),\"-\",VLOOKUP(COUNTIF($W43:$Y43,\"A\")-COUNTIF($W43:$Y43,\"C\"),基本情報!$R$4:$S$10,2)))","v":""},null,null,null,null,null,"",null,null,null,{"$f":"IF(OR($I43=\"\",COUNTA($AG43:$AI43)=0),\"\",IF(AND(AG43=\"-\",AH43=\"-\",AI43=\"-\"),\"-\",VLOOKUP(COUNTIF($AG43:$AI43,\"A\")-COUNTIF($AG43:$AI43,\"C\"),基本情報!$R$4:$S$10,2)))","v":""}]
[null,null,null,null,10621,null,null,21,{"$f":"IF(VLOOKUP($E44,学年名簿と評価・評定!$E$24:$K$573,5)=\"\",\"\",VLOOKUP($E44,学年名簿と評価・評定!$E$24:$K$573,5))","v":""},{"$f":"IF(VLOOKUP($E44,学年名簿と評価・評定!$E$24:$K$573,6)=\"\",\"\",VLOOKUP($E44,学年名簿と評価・評定!$E$24:$K$573,7))","v":""},null,"",null,null,null,{"$f":"IF(OR($I44=\"\",COUNTA($M44:$O44)=0),\"\",IF(AND(M44=\"-\",N44=\"-\",O44=\"-\"),\"-\",VLOOKUP(COUNTIF($M44:$O44,\"A\")-COUNTIF($M44:$O44,\"C\"),基本情報!$R$4:$S$10,2)))","v":""},null,null,null,null,null,"",null,null,null,{"$f":"IF(OR($I44=\"\",COUNTA($W44:$Y44)=0),\"\",IF(AND(W44=\"-\",X44=\"-\",Y44=\"-\"),\"-\",VLOOKUP(COUNTIF($W44:$Y44,\"A\")-COUNTIF($W44:$Y44,\"C\"),基本情報!$R$4:$S$10,2)))","v":""},null,null,null,null,null,"",null,null,null,{"$f":"IF(OR($I44=\"\",COUNTA($AG44:$AI44)=0),\"\",IF(AND(AG44=\"-\",AH44=\"-\",AI44=\"-\"),\"-\",VLOOKUP(COUNTIF($AG44:$AI44,\"A\")-COUNTIF($AG44:$AI44,\"C\"),基本情報!$R$4:$S$10,2)))","v":""}]
[null,null,null,null,10622,null,null,22,{"$f":"IF(VLOOKUP($E45,学年名簿と評価・評定!$E$24:$K$573,5)=\"\",\"\",VLOOKUP($E45,学年名簿と評価・評定!$E$24:$K$573,5))","v":""},{"$f":"IF(VLOOKUP($E45,学年名簿と評価・評定!$E$24:$K$573,6)=\"\",\"\",VLOOKUP($E45,学年名簿と評価・評定!$E$24:$K$573,7))","v":""},null,"",null,null,null,{"$f":"IF(OR($I45=\"\",COUNTA($M45:$O45)=0),\"\",IF(AND(M45=\"-\",N45=\"-\",O45=\"-\"),\"-\",VLOOKUP(COUNTIF($M45:$O45,\"A\")-COUNTIF($M45:$O45,\"C\"),基本情報!$R$4:$S$10,2)))","v":""},null,null,null,null,null,"",null,null,null,{"$f":"IF(OR($I45=\"\",COUNTA($W45:$Y45)=0),\"\",IF(AND(W45=\"-\",X45=\"-\",Y45=\"-\"),\"-\",VLOOKUP(COUNTIF($W45:$Y45,\"A\")-COUNTIF($W45:$Y45,\"C\"),基本情報!$R$4:$S$10,2)))","v":""},null,null,null,null,null,"",null,null,null,{"$f":"IF(OR($I45=\"\",COUNTA($AG45:$AI45)=0),\"\",IF(AND(AG45=\"-\",AH45=\"-\",AI45=\"-\"),\"-\",VLOOKUP(COUNTIF($AG45:$AI45,\"A\")-COUNTIF($AG45:$AI45,\"C\"),基本情報!$R$4:$S$10,2)))","v":""}]
[null,null,null,null,10623,null,null,23,{"$f":"IF(VLOOKUP($E46,学年名簿と評価・評定!$E$24:$K$573,5)=\"\",\"\",VLOOKUP($E46,学年名簿と評価・評定!$E$24:$K$573,5))","v":""},{"$f":"IF(VLOOKUP($E46,学年名簿と評価・評定!$E$24:$K$573,6)=\"\",\"\",VLOOKUP($E46,学年名簿と評価・評定!$E$24:$K$573,7))","v":""},null,"",null,null,null,{"$f":"IF(OR($I46=\"\",COUNTA($M46:$O46)=0),\"\",IF(AND(M46=\"-\",N46=\"-\",O46=\"-\"),\"-\",VLOOKUP(COUNTIF($M46:$O46,\"A\")-COUNTIF($M46:$O46,\"C\"),基本情報!$R$4:$S$10,2)))","v":""},null,null,null,null,null,"",null,null,null,{"$f":"IF(OR($I46=\"\",COUNTA($W46:$Y46)=0),\"\",IF(AND(W46=\"-\",X46=\"-\",Y46=\"-\"),\"-\",VLOOKUP(COUNTIF($W46:$Y46,\"A\")-COUNTIF($W46:$Y46,\"C\"),基本情報!$R$4:$S$10,2)))","v":""},null,null,null,null,null,"",null,null,null,{"$f":"IF(OR($I46=\"\",COUNTA($AG46:$AI46)=0),\"\",IF(AND(AG46=\"-\",AH46=\"-\",AI46=\"-\"),\"-\",VLOOKUP(COUNTIF($AG46:$AI46,\"A\")-COUNTIF($AG46:$AI46,\"C\"),基本情報!$R$4:$S$10,2)))","v":""}]
[null,null,null,null,10624,null,null,24,{"$f":"IF(VLOOKUP($E47,学年名簿と評価・評定!$E$24:$K$573,5)=\"\",\"\",VLOOKUP($E47,学年名簿と評価・評定!$E$24:$K$573,5))","v":""},{"$f":"IF(VLOOKUP($E47,学年名簿と評価・評定!$E$24:$K$573,6)=\"\",\"\",VLOOKUP($E47,学年名簿と評価・評定!$E$24:$K$573,7))","v":""},null,"",null,null,null,{"$f":"IF(OR($I47=\"\",COUNTA($M47:$O47)=0),\"\",IF(AND(M47=\"-\",N47=\"-\",O47=\"-\"),\"-\",VLOOKUP(COUNTIF($M47:$O47,\"A\")-COUNTIF($M47:$O47,\"C\"),基本情報!$R$4:$S$10,2)))","v":""},null,null,null,null,null,"",null,null,null,{"$f":"IF(OR($I47=\"\",COUNTA($W47:$Y47)=0),\"\",IF(AND(W47=\"-\",X47=\"-\",Y47=\"-\"),\"-\",VLOOKUP(COUNTIF($W47:$Y47,\"A\")-COUNTIF($W47:$Y47,\"C\"),基本情報!$R$4:$S$10,2)))","v":""},null,null,null,null,null,"",null,null,null,{"$f":"IF(OR($I47=\"\",COUNTA($AG47:$AI47)=0),\"\",IF(AND(AG47=\"-\",AH47=\"-\",AI47=\"-\"),\"-\",VLOOKUP(COUNTIF($AG47:$AI47,\"A\")-COUNTIF($AG47:$AI47,\"C\"),基本情報!$R$4:$S$10,2)))","v":""}]
[null,null,null,null,10625,null,null,25,{"$f":"IF(VLOOKUP($E48,学年名簿と評価・評定!$E$24:$K$573,5)=\"\",\"\",VLOOKUP($E48,学年名簿と評価・評定!$E$24:$K$573,5))","v":""},{"$f":"IF(VLOOKUP($E48,学年名簿と評価・評定!$E$24:$K$573,6)=\"\",\"\",VLOOKUP($E48,学年名簿と評価・評定!$E$24:$K$573,7))","v":""},null,"",null,null,null,{"$f":"IF(OR($I48=\"\",COUNTA($M48:$O48)=0),\"\",IF(AND(M48=\"-\",N48=\"-\",O48=\"-\"),\"-\",VLOOKUP(COUNTIF($M48:$O48,\"A\")-COUNTIF($M48:$O48,\"C\"),基本情報!$R$4:$S$10,2)))","v":""},null,null,null,null,null,"",null,null,null,{"$f":"IF(OR($I48=\"\",COUNTA($W48:$Y48)=0),\"\",IF(AND(W48=\"-\",X48=\"-\",Y48=\"-\"),\"-\",VLOOKUP(COUNTIF($W48:$Y48,\"A\")-COUNTIF($W48:$Y48,\"C\"),基本情報!$R$4:$S$10,2)))","v":""},null,null,null,null,null,"",null,null,null,{"$f":"IF(OR($I48=\"\",COUNTA($AG48:$AI48)=0),\"\",IF(AND(AG48=\"-\",AH48=\"-\",AI48=\"-\"),\"-\",VLOOKUP(COUNTIF($AG48:$AI48,\"A\")-COUNTIF($AG48:$AI48,\"C\"),基本情報!$R$4:$S$10,2)))","v":""}]
[null,null,null,null,10626,null,null,26,{"$f":"IF(VLOOKUP($E49,学年名簿と評価・評定!$E$24:$K$573,5)=\"\",\"\",VLOOKUP($E49,学年名簿と評価・評定!$E$24:$K$573,5))","v":""},{"$f":"IF(VLOOKUP($E49,学年名簿と評価・評定!$E$24:$K$573,6)=\"\",\"\",VLOOKUP($E49,学年名簿と評価・評定!$E$24:$K$573,7))","v":""},null,"",null,null,null,{"$f":"IF(OR($I49=\"\",COUNTA($M49:$O49)=0),\"\",IF(AND(M49=\"-\",N49=\"-\",O49=\"-\"),\"-\",VLOOKUP(COUNTIF($M49:$O49,\"A\")-COUNTIF($M49:$O49,\"C\"),基本情報!$R$4:$S$10,2)))","v":""},null,null,null,null,null,"",null,null,null,{"$f":"IF(OR($I49=\"\",COUNTA($W49:$Y49)=0),\"\",IF(AND(W49=\"-\",X49=\"-\",Y49=\"-\"),\"-\",VLOOKUP(COUNTIF($W49:$Y49,\"A\")-COUNTIF($W49:$Y49,\"C\"),基本情報!$R$4:$S$10,2)))","v":""},null,null,null,null,null,"",null,null,null,{"$f":"IF(OR($I49=\"\",COUNTA($AG49:$AI49)=0),\"\",IF(AND(AG49=\"-\",AH49=\"-\",AI49=\"-\"),\"-\",VLOOKUP(COUNTIF($AG49:$AI49,\"A\")-COUNTIF($AG49:$AI49,\"C\"),基本情報!$R$4:$S$10,2)))","v":""}]
[null,null,null,null,10627,null,null,27,{"$f":"IF(VLOOKUP($E50,学年名簿と評価・評定!$E$24:$K$573,5)=\"\",\"\",VLOOKUP($E50,学年名簿と評価・評定!$E$24:$K$573,5))","v":""},{"$f":"IF(VLOOKUP($E50,学年名簿と評価・評定!$E$24:$K$573,6)=\"\",\"\",VLOOKUP($E50,学年名簿と評価・評定!$E$24:$K$573,7))","v":""},null,"",null,null,null,{"$f":"IF(OR($I50=\"\",COUNTA($M50:$O50)=0),\"\",IF(AND(M50=\"-\",N50=\"-\",O50=\"-\"),\"-\",VLOOKUP(COUNTIF($M50:$O50,\"A\")-COUNTIF($M50:$O50,\"C\"),基本情報!$R$4:$S$10,2)))","v":""},null,null,null,null,null,"",null,null,null,{"$f":"IF(OR($I50=\"\",COUNTA($W50:$Y50)=0),\"\",IF(AND(W50=\"-\",X50=\"-\",Y50=\"-\"),\"-\",VLOOKUP(COUNTIF($W50:$Y50,\"A\")-COUNTIF($W50:$Y50,\"C\"),基本情報!$R$4:$S$10,2)))","v":""},null,null,null,null,null,"",null,null,null,{"$f":"IF(OR($I50=\"\",COUNTA($AG50:$AI50)=0),\"\",IF(AND(AG50=\"-\",AH50=\"-\",AI50=\"-\"),\"-\",VLOOKUP(COUNTIF($AG50:$AI50,\"A\")-COUNTIF($AG50:$AI50,\"C\"),基本情報!$R$4:$S$10,2)))","v":""}]
[null,null,null,null,10628,null,null,28,{"$f":"IF(VLOOKUP($E51,学年名簿と評価・評定!$E$24:$K$573,5)=\"\",\"\",VLOOKUP($E51,学年名簿と評価・評定!$E$24:$K$573,5))","v":""},{"$f":"IF(VLOOKUP($E51,学年名簿と評価・評定!$E$24:$K$573,6)=\"\",\"\",VLOOKUP($E51,学年名簿と評価・評定!$E$24:$K$573,7))","v":""},null,"",null,null,null,{"$f":"IF(OR($I51=\"\",COUNTA($M51:$O51)=0),\"\",IF(AND(M51=\"-\",N51=\"-\",O51=\"-\"),\"-\",VLOOKUP(COUNTIF($M51:$O51,\"A\")-COUNTIF($M51:$O51,\"C\"),基本情報!$R$4:$S$10,2)))","v":""},null,null,null,null,null,"",null,null,null,{"$f":"IF(OR($I51=\"\",COUNTA($W51:$Y51)=0),\"\",IF(AND(W51=\"-\",X51=\"-\",Y51=\"-\"),\"-\",VLOOKUP(COUNTIF($W51:$Y51,\"A\")-COUNTIF($W51:$Y51,\"C\"),基本情報!$R$4:$S$10,2)))","v":""},null,null,null,null,null,"",null,null,null,{"$f":"IF(OR($I51=\"\",COUNTA($AG51:$AI51)=0),\"\",IF(AND(AG51=\"-\",AH51=\"-\",AI51=\"-\"),\"-\",VLOOKUP(COUNTIF($AG51:$AI51,\"A\")-COUNTIF($AG51:$AI51,\"C\"),基本情報!$R$4:$S$10,2)))","v":""}]
[null,null,null,null,10629,null,null,29,{"$f":"IF(VLOOKUP($E52,学年名簿と評価・評定!$E$24:$K$573,5)=\"\",\"\",VLOOKUP($E52,学年名簿と評価・評定!$E$24:$K$573,5))","v":""},{"$f":"IF(VLOOKUP($E52,学年名簿と評価・評定!$E$24:$K$573,6)=\"\",\"\",VLOOKUP($E52,学年名簿と評価・評定!$E$24:$K$573,7))","v":""},null,"",null,null,null,{"$f":"IF(OR($I52=\"\",COUNTA($M52:$O52)=0),\"\",IF(AND(M52=\"-\",N52=\"-\",O52=\"-\"),\"-\",VLOOKUP(COUNTIF($M52:$O52,\"A\")-COUNTIF($M52:$O52,\"C\"),基本情報!$R$4:$S$10,2)))","v":""},null,null,null,null,null,"",null,null,null,{"$f":"IF(OR($I52=\"\",COUNTA($W52:$Y52)=0),\"\",IF(AND(W52=\"-\",X52=\"-\",Y52=\"-\"),\"-\",VLOOKUP(COUNTIF($W52:$Y52,\"A\")-COUNTIF($W52:$Y52,\"C\"),基本情報!$R$4:$S$10,2)))","v":""},null,null,null,null,null,"",null,null,null,{"$f":"IF(OR($I52=\"\",COUNTA($AG52:$AI52)=0),\"\",IF(AND(AG52=\"-\",AH52=\"-\",AI52=\"-\"),\"-\",VLOOKUP(COUNTIF($AG52:$AI52,\"A\")-COUNTIF($AG52:$AI52,\"C\"),基本情報!$R$4:$S$10,2)))","v":""}]
[null,null,null,null,10630,null,null,30,{"$f":"IF(VLOOKUP($E53,学年名簿と評価・評定!$E$24:$K$573,5)=\"\",\"\",VLOOKUP($E53,学年名簿と評価・評定!$E$24:$K$573,5))","v":""},{"$f":"IF(VLOOKUP($E53,学年名簿と評価・評定!$E$24:$K$573,6)=\"\",\"\",VLOOKUP($E53,学年名簿と評価・評定!$E$24:$K$573,7))","v":""},null,"",null,null,null,{"$f":"IF(OR($I53=\"\",COUNTA($M53:$O53)=0),\"\",IF(AND(M53=\"-\",N53=\"-\",O53=\"-\"),\"-\",VLOOKUP(COUNTIF($M53:$O53,\"A\")-COUNTIF($M53:$O53,\"C\"),基本情報!$R$4:$S$10,2)))","v":""},null,null,null,null,null,"",null,null,null,{"$f":"IF(OR($I53=\"\",COUNTA($W53:$Y53)=0),\"\",IF(AND(W53=\"-\",X53=\"-\",Y53=\"-\"),\"-\",VLOOKUP(COUNTIF($W53:$Y53,\"A\")-COUNTIF($W53:$Y53,\"C\"),基本情報!$R$4:$S$10,2)))","v":""},null,null,null,null,null,"",null,null,null,{"$f":"IF(OR($I53=\"\",COUNTA($AG53:$AI53)=0),\"\",IF(AND(AG53=\"-\",AH53=\"-\",AI53=\"-\"),\"-\",VLOOKUP(COUNTIF($AG53:$AI53,\"A\")-COUNTIF($AG53:$AI53,\"C\"),基本情報!$R$4:$S$10,2)))","v":""}]
[null,null,null,null,10631,null,null,31,{"$f":"IF(VLOOKUP($E54,学年名簿と評価・評定!$E$24:$K$573,5)=\"\",\"\",VLOOKUP($E54,学年名簿と評価・評定!$E$24:$K$573,5))","v":""},{"$f":"IF(VLOOKUP($E54,学年名簿と評価・評定!$E$24:$K$573,6)=\"\",\"\",VLOOKUP($E54,学年名簿と評価・評定!$E$24:$K$573,7))","v":""},null,"",null,null,null,{"$f":"IF(OR($I54=\"\",COUNTA($M54:$O54)=0),\"\",IF(AND(M54=\"-\",N54=\"-\",O54=\"-\"),\"-\",VLOOKUP(COUNTIF($M54:$O54,\"A\")-COUNTIF($M54:$O54,\"C\"),基本情報!$R$4:$S$10,2)))","v":""},null,null,null,null,null,"",null,null,null,{"$f":"IF(OR($I54=\"\",COUNTA($W54:$Y54)=0),\"\",IF(AND(W54=\"-\",X54=\"-\",Y54=\"-\"),\"-\",VLOOKUP(COUNTIF($W54:$Y54,\"A\")-COUNTIF($W54:$Y54,\"C\"),基本情報!$R$4:$S$10,2)))","v":""},null,null,null,null,null,"",null,null,null,{"$f":"IF(OR($I54=\"\",COUNTA($AG54:$AI54)=0),\"\",IF(AND(AG54=\"-\",AH54=\"-\",AI54=\"-\"),\"-\",VLOOKUP(COUNTIF($AG54:$AI54,\"A\")-COUNTIF($AG54:$AI54,\"C\"),基本情報!$R$4:$S$10,2)))","v":""}]
[null,null,null,null,10632,null,null,32,{"$f":"IF(VLOOKUP($E55,学年名簿と評価・評定!$E$24:$K$573,5)=\"\",\"\",VLOOKUP($E55,学年名簿と評価・評定!$E$24:$K$573,5))","v":""},{"$f":"IF(VLOOKUP($E55,学年名簿と評価・評定!$E$24:$K$573,6)=\"\",\"\",VLOOKUP($E55,学年名簿と評価・評定!$E$24:$K$573,7))","v":""},null,"",null,null,null,{"$f":"IF(OR($I55=\"\",COUNTA($M55:$O55)=0),\"\",IF(AND(M55=\"-\",N55=\"-\",O55=\"-\"),\"-\",VLOOKUP(COUNTIF($M55:$O55,\"A\")-COUNTIF($M55:$O55,\"C\"),基本情報!$R$4:$S$10,2)))","v":""},null,null,null,null,null,"",null,null,null,{"$f":"IF(OR($I55=\"\",COUNTA($W55:$Y55)=0),\"\",IF(AND(W55=\"-\",X55=\"-\",Y55=\"-\"),\"-\",VLOOKUP(COUNTIF($W55:$Y55,\"A\")-COUNTIF($W55:$Y55,\"C\"),基本情報!$R$4:$S$10,2)))","v":""},null,null,null,null,null,"",null,null,null,{"$f":"IF(OR($I55=\"\",COUNTA($AG55:$AI55)=0),\"\",IF(AND(AG55=\"-\",AH55=\"-\",AI55=\"-\"),\"-\",VLOOKUP(COUNTIF($AG55:$AI55,\"A\")-COUNTIF($AG55:$AI55,\"C\"),基本情報!$R$4:$S$10,2)))","v":""}]
[null,null,null,null,{"$f":"$I$8*10000+$I$9*100+$H56","v":10633},null,null,33,{"$f":"IF(VLOOKUP($E56,学年名簿と評価・評定!$E$24:$K$573,5)=\"\",\"\",VLOOKUP($E56,学年名簿と評価・評定!$E$24:$K$573,5))","v":""},{"$f":"IF(VLOOKUP($E56,学年名簿と評価・評定!$E$24:$K$573,6)=\"\",\"\",VLOOKUP($E56,学年名簿と評価・評定!$E$24:$K$573,7))","v":""},null,"",null,null,null,{"$f":"IF(OR($I56=\"\",COUNTA($M56:$O56)=0),\"\",IF(AND(M56=\"-\",N56=\"-\",O56=\"-\"),\"-\",VLOOKUP(COUNTIF($M56:$O56,\"A\")-COUNTIF($M56:$O56,\"C\"),基本情報!$R$4:$S$10,2)))","v":""},null,null,null,null,null,"",null,null,null,{"$f":"IF(OR($I56=\"\",COUNTA($W56:$Y56)=0),\"\",IF(AND(W56=\"-\",X56=\"-\",Y56=\"-\"),\"-\",VLOOKUP(COUNTIF($W56:$Y56,\"A\")-COUNTIF($W56:$Y56,\"C\"),基本情報!$R$4:$S$10,2)))","v":""},null,null,null,null,null,"",null,null,null,{"$f":"IF(OR($I56=\"\",COUNTA($AG56:$AI56)=0),\"\",IF(AND(AG56=\"-\",AH56=\"-\",AI56=\"-\"),\"-\",VLOOKUP(COUNTIF($AG56:$AI56,\"A\")-COUNTIF($AG56:$AI56,\"C\"),基本情報!$R$4:$S$10,2)))","v":""}]
[null,null,null,null,10634,null,null,34,{"$f":"IF(VLOOKUP($E57,学年名簿と評価・評定!$E$24:$K$573,5)=\"\",\"\",VLOOKUP($E57,学年名簿と評価・評定!$E$24:$K$573,5))","v":""},{"$f":"IF(VLOOKUP($E57,学年名簿と評価・評定!$E$24:$K$573,6)=\"\",\"\",VLOOKUP($E57,学年名簿と評価・評定!$E$24:$K$573,7))","v":""},null,"",null,null,null,{"$f":"IF(OR($I57=\"\",COUNTA($M57:$O57)=0),\"\",IF(AND(M57=\"-\",N57=\"-\",O57=\"-\"),\"-\",VLOOKUP(COUNTIF($M57:$O57,\"A\")-COUNTIF($M57:$O57,\"C\"),基本情報!$R$4:$S$10,2)))","v":""},null,null,null,null,null,"",null,null,null,{"$f":"IF(OR($I57=\"\",COUNTA($W57:$Y57)=0),\"\",IF(AND(W57=\"-\",X57=\"-\",Y57=\"-\"),\"-\",VLOOKUP(COUNTIF($W57:$Y57,\"A\")-COUNTIF($W57:$Y57,\"C\"),基本情報!$R$4:$S$10,2)))","v":""},null,null,null,null,null,"",null,null,null,{"$f":"IF(OR($I57=\"\",COUNTA($AG57:$AI57)=0),\"\",IF(AND(AG57=\"-\",AH57=\"-\",AI57=\"-\"),\"-\",VLOOKUP(COUNTIF($AG57:$AI57,\"A\")-COUNTIF($AG57:$AI57,\"C\"),基本情報!$R$4:$S$10,2)))","v":""}]
[null,null,null,null,10635,null,null,35,{"$f":"IF(VLOOKUP($E58,学年名簿と評価・評定!$E$24:$K$573,5)=\"\",\"\",VLOOKUP($E58,学年名簿と評価・評定!$E$24:$K$573,5))","v":""},{"$f":"IF(VLOOKUP($E58,学年名簿と評価・評定!$E$24:$K$573,6)=\"\",\"\",VLOOKUP($E58,学年名簿と評価・評定!$E$24:$K$573,7))","v":""},null,"",null,null,null,{"$f":"IF(OR($I58=\"\",COUNTA($M58:$O58)=0),\"\",IF(AND(M58=\"-\",N58=\"-\",O58=\"-\"),\"-\",VLOOKUP(COUNTIF($M58:$O58,\"A\")-COUNTIF($M58:$O58,\"C\"),基本情報!$R$4:$S$10,2)))","v":""},null,null,null,null,null,"",null,null,null,{"$f":"IF(OR($I58=\"\",COUNTA($W58:$Y58)=0),\"\",IF(AND(W58=\"-\",X58=\"-\",Y58=\"-\"),\"-\",VLOOKUP(COUNTIF($W58:$Y58,\"A\")-COUNTIF($W58:$Y58,\"C\"),基本情報!$R$4:$S$10,2)))","v":""},null,null,null,null,null,"",null,null,null,{"$f":"IF(OR($I58=\"\",COUNTA($AG58:$AI58)=0),\"\",IF(AND(AG58=\"-\",AH58=\"-\",AI58=\"-\"),\"-\",VLOOKUP(COUNTIF($AG58:$AI58,\"A\")-COUNTIF($AG58:$AI58,\"C\"),基本情報!$R$4:$S$10,2)))","v":""}]
[null,null,null,null,10636,null,null,36,{"$f":"IF(VLOOKUP($E59,学年名簿と評価・評定!$E$24:$K$573,5)=\"\",\"\",VLOOKUP($E59,学年名簿と評価・評定!$E$24:$K$573,5))","v":""},{"$f":"IF(VLOOKUP($E59,学年名簿と評価・評定!$E$24:$K$573,6)=\"\",\"\",VLOOKUP($E59,学年名簿と評価・評定!$E$24:$K$573,7))","v":""},null,"",null,null,null,{"$f":"IF(OR($I59=\"\",COUNTA($M59:$O59)=0),\"\",IF(AND(M59=\"-\",N59=\"-\",O59=\"-\"),\"-\",VLOOKUP(COUNTIF($M59:$O59,\"A\")-COUNTIF($M59:$O59,\"C\"),基本情報!$R$4:$S$10,2)))","v":""},null,null,null,null,null,"",null,null,null,{"$f":"IF(OR($I59=\"\",COUNTA($W59:$Y59)=0),\"\",IF(AND(W59=\"-\",X59=\"-\",Y59=\"-\"),\"-\",VLOOKUP(COUNTIF($W59:$Y59,\"A\")-COUNTIF($W59:$Y59,\"C\"),基本情報!$R$4:$S$10,2)))","v":""},null,null,null,null,null,"",null,null,null,{"$f":"IF(OR($I59=\"\",COUNTA($AG59:$AI59)=0),\"\",IF(AND(AG59=\"-\",AH59=\"-\",AI59=\"-\"),\"-\",VLOOKUP(COUNTIF($AG59:$AI59,\"A\")-COUNTIF($AG59:$AI59,\"C\"),基本情報!$R$4:$S$10,2)))","v":""}]
[null,null,null,null,10637,null,null,37,{"$f":"IF(VLOOKUP($E60,学年名簿と評価・評定!$E$24:$K$573,5)=\"\",\"\",VLOOKUP($E60,学年名簿と評価・評定!$E$24:$K$573,5))","v":""},{"$f":"IF(VLOOKUP($E60,学年名簿と評価・評定!$E$24:$K$573,6)=\"\",\"\",VLOOKUP($E60,学年名簿と評価・評定!$E$24:$K$573,7))","v":""},null,"",null,null,null,{"$f":"IF(OR($I60=\"\",COUNTA($M60:$O60)=0),\"\",IF(AND(M60=\"-\",N60=\"-\",O60=\"-\"),\"-\",VLOOKUP(COUNTIF($M60:$O60,\"A\")-COUNTIF($M60:$O60,\"C\"),基本情報!$R$4:$S$10,2)))","v":""},null,null,null,null,null,"",null,null,null,{"$f":"IF(OR($I60=\"\",COUNTA($W60:$Y60)=0),\"\",IF(AND(W60=\"-\",X60=\"-\",Y60=\"-\"),\"-\",VLOOKUP(COUNTIF($W60:$Y60,\"A\")-COUNTIF($W60:$Y60,\"C\"),基本情報!$R$4:$S$10,2)))","v":""},null,null,null,null,null,"",null,null,null,{"$f":"IF(OR($I60=\"\",COUNTA($AG60:$AI60)=0),\"\",IF(AND(AG60=\"-\",AH60=\"-\",AI60=\"-\"),\"-\",VLOOKUP(COUNTIF($AG60:$AI60,\"A\")-COUNTIF($AG60:$AI60,\"C\"),基本情報!$R$4:$S$10,2)))","v":""}]
[null,null,null,null,10638,null,null,38,{"$f":"IF(VLOOKUP($E61,学年名簿と評価・評定!$E$24:$K$573,5)=\"\",\"\",VLOOKUP($E61,学年名簿と評価・評定!$E$24:$K$573,5))","v":""},{"$f":"IF(VLOOKUP($E61,学年名簿と評価・評定!$E$24:$K$573,6)=\"\",\"\",VLOOKUP($E61,学年名簿と評価・評定!$E$24:$K$573,7))","v":""},null,"",null,null,null,{"$f":"IF(OR($I61=\"\",COUNTA($M61:$O61)=0),\"\",IF(AND(M61=\"-\",N61=\"-\",O61=\"-\"),\"-\",VLOOKUP(COUNTIF($M61:$O61,\"A\")-COUNTIF($M61:$O61,\"C\"),基本情報!$R$4:$S$10,2)))","v":""},null,null,null,null,null,"",null,null,null,{"$f":"IF(OR($I61=\"\",COUNTA($W61:$Y61)=0),\"\",IF(AND(W61=\"-\",X61=\"-\",Y61=\"-\"),\"-\",VLOOKUP(COUNTIF($W61:$Y61,\"A\")-COUNTIF($W61:$Y61,\"C\"),基本情報!$R$4:$S$10,2)))","v":""},null,null,null,null,null,"",null,null,null,{"$f":"IF(OR($I61=\"\",COUNTA($AG61:$AI61)=0),\"\",IF(AND(AG61=\"-\",AH61=\"-\",AI61=\"-\"),\"-\",VLOOKUP(COUNTIF($AG61:$AI61,\"A\")-COUNTIF($AG61:$AI61,\"C\"),基本情報!$R$4:$S$10,2)))","v":""}]
[null,null,null,null,10639,null,null,39,{"$f":"IF(VLOOKUP($E62,学年名簿と評価・評定!$E$24:$K$573,5)=\"\",\"\",VLOOKUP($E62,学年名簿と評価・評定!$E$24:$K$573,5))","v":""},{"$f":"IF(VLOOKUP($E62,学年名簿と評価・評定!$E$24:$K$573,6)=\"\",\"\",VLOOKUP($E62,学年名簿と評価・評定!$E$24:$K$573,7))","v":""},null,"",null,null,null,{"$f":"IF(OR($I62=\"\",COUNTA($M62:$O62)=0),\"\",IF(AND(M62=\"-\",N62=\"-\",O62=\"-\"),\"-\",VLOOKUP(COUNTIF($M62:$O62,\"A\")-COUNTIF($M62:$O62,\"C\"),基本情報!$R$4:$S$10,2)))","v":""},null,null,null,null,null,"",null,null,null,{"$f":"IF(OR($I62=\"\",COUNTA($W62:$Y62)=0),\"\",IF(AND(W62=\"-\",X62=\"-\",Y62=\"-\"),\"-\",VLOOKUP(COUNTIF($W62:$Y62,\"A\")-COUNTIF($W62:$Y62,\"C\"),基本情報!$R$4:$S$10,2)))","v":""},null,null,null,null,null,"",null,null,null,{"$f":"IF(OR($I62=\"\",COUNTA($AG62:$AI62)=0),\"\",IF(AND(AG62=\"-\",AH62=\"-\",AI62=\"-\"),\"-\",VLOOKUP(COUNTIF($AG62:$AI62,\"A\")-COUNTIF($AG62:$AI62,\"C\"),基本情報!$R$4:$S$10,2)))","v":""}]
[null,null,null,null,10640,null,null,40,{"$f":"IF(VLOOKUP($E63,学年名簿と評価・評定!$E$24:$K$573,5)=\"\",\"\",VLOOKUP($E63,学年名簿と評価・評定!$E$24:$K$573,5))","v":""},{"$f":"IF(VLOOKUP($E63,学年名簿と評価・評定!$E$24:$K$573,6)=\"\",\"\",VLOOKUP($E63,学年名簿と評価・評定!$E$24:$K$573,7))","v":""},null,"",null,null,null,{"$f":"IF(OR($I63=\"\",COUNTA($M63:$O63)=0),\"\",IF(AND(M63=\"-\",N63=\"-\",O63=\"-\"),\"-\",VLOOKUP(COUNTIF($M63:$O63,\"A\")-COUNTIF($M63:$O63,\"C\"),基本情報!$R$4:$S$10,2)))","v":""},null,null,null,null,null,"",null,null,null,{"$f":"IF(OR($I63=\"\",COUNTA($W63:$Y63)=0),\"\",IF(AND(W63=\"-\",X63=\"-\",Y63=\"-\"),\"-\",VLOOKUP(COUNTIF($W63:$Y63,\"A\")-COUNTIF($W63:$Y63,\"C\"),基本情報!$R$4:$S$10,2)))","v":""},null,null,null,null,null,"",null,null,null,{"$f":"IF(OR($I63=\"\",COUNTA($AG63:$AI63)=0),\"\",IF(AND(AG63=\"-\",AH63=\"-\",AI63=\"-\"),\"-\",VLOOKUP(COUNTIF($AG63:$AI63,\"A\")-COUNTIF($AG63:$AI63,\"C\"),基本情報!$R$4:$S$10,2)))","v":""}]
[null,null,null,null,10641,null,null,41,{"$f":"IF(VLOOKUP($E64,学年名簿と評価・評定!$E$24:$K$573,5)=\"\",\"\",VLOOKUP($E64,学年名簿と評価・評定!$E$24:$K$573,5))","v":""},{"$f":"IF(VLOOKUP($E64,学年名簿と評価・評定!$E$24:$K$573,6)=\"\",\"\",VLOOKUP($E64,学年名簿と評価・評定!$E$24:$K$573,7))","v":""},null,"",null,null,null,{"$f":"IF(OR($I64=\"\",COUNTA($M64:$O64)=0),\"\",IF(AND(M64=\"-\",N64=\"-\",O64=\"-\"),\"-\",VLOOKUP(COUNTIF($M64:$O64,\"A\")-COUNTIF($M64:$O64,\"C\"),基本情報!$R$4:$S$10,2)))","v":""},null,null,null,null,null,"",null,null,null,{"$f":"IF(OR($I64=\"\",COUNTA($W64:$Y64)=0),\"\",IF(AND(W64=\"-\",X64=\"-\",Y64=\"-\"),\"-\",VLOOKUP(COUNTIF($W64:$Y64,\"A\")-COUNTIF($W64:$Y64,\"C\"),基本情報!$R$4:$S$10,2)))","v":""},null,null,null,null,null,"",null,null,null,{"$f":"IF(OR($I64=\"\",COUNTA($AG64:$AI64)=0),\"\",IF(AND(AG64=\"-\",AH64=\"-\",AI64=\"-\"),\"-\",VLOOKUP(COUNTIF($AG64:$AI64,\"A\")-COUNTIF($AG64:$AI64,\"C\"),基本情報!$R$4:$S$10,2)))","v":""}]
[null,null,null,null,10642,null,null,42,{"$f":"IF(VLOOKUP($E65,学年名簿と評価・評定!$E$24:$K$573,5)=\"\",\"\",VLOOKUP($E65,学年名簿と評価・評定!$E$24:$K$573,5))","v":""},{"$f":"IF(VLOOKUP($E65,学年名簿と評価・評定!$E$24:$K$573,6)=\"\",\"\",VLOOKUP($E65,学年名簿と評価・評定!$E$24:$K$573,7))","v":""},null,"",null,null,null,{"$f":"IF(OR($I65=\"\",COUNTA($M65:$O65)=0),\"\",IF(AND(M65=\"-\",N65=\"-\",O65=\"-\"),\"-\",VLOOKUP(COUNTIF($M65:$O65,\"A\")-COUNTIF($M65:$O65,\"C\"),基本情報!$R$4:$S$10,2)))","v":""},null,null,null,null,null,"",null,null,null,{"$f":"IF(OR($I65=\"\",COUNTA($W65:$Y65)=0),\"\",IF(AND(W65=\"-\",X65=\"-\",Y65=\"-\"),\"-\",VLOOKUP(COUNTIF($W65:$Y65,\"A\")-COUNTIF($W65:$Y65,\"C\"),基本情報!$R$4:$S$10,2)))","v":""},null,null,null,null,null,"",null,null,null,{"$f":"IF(OR($I65=\"\",COUNTA($AG65:$AI65)=0),\"\",IF(AND(AG65=\"-\",AH65=\"-\",AI65=\"-\"),\"-\",VLOOKUP(COUNTIF($AG65:$AI65,\"A\")-COUNTIF($AG65:$AI65,\"C\"),基本情報!$R$4:$S$10,2)))","v":""}]
[null,null,null,null,10643,null,null,43,{"$f":"IF(VLOOKUP($E66,学年名簿と評価・評定!$E$24:$K$573,5)=\"\",\"\",VLOOKUP($E66,学年名簿と評価・評定!$E$24:$K$573,5))","v":""},{"$f":"IF(VLOOKUP($E66,学年名簿と評価・評定!$E$24:$K$573,6)=\"\",\"\",VLOOKUP($E66,学年名簿と評価・評定!$E$24:$K$573,7))","v":""},null,"",null,null,null,{"$f":"IF(OR($I66=\"\",COUNTA($M66:$O66)=0),\"\",IF(AND(M66=\"-\",N66=\"-\",O66=\"-\"),\"-\",VLOOKUP(COUNTIF($M66:$O66,\"A\")-COUNTIF($M66:$O66,\"C\"),基本情報!$R$4:$S$10,2)))","v":""},null,null,null,null,null,"",null,null,null,{"$f":"IF(OR($I66=\"\",COUNTA($W66:$Y66)=0),\"\",IF(AND(W66=\"-\",X66=\"-\",Y66=\"-\"),\"-\",VLOOKUP(COUNTIF($W66:$Y66,\"A\")-COUNTIF($W66:$Y66,\"C\"),基本情報!$R$4:$S$10,2)))","v":""},null,null,null,null,null,"",null,null,null,{"$f":"IF(OR($I66=\"\",COUNTA($AG66:$AI66)=0),\"\",IF(AND(AG66=\"-\",AH66=\"-\",AI66=\"-\"),\"-\",VLOOKUP(COUNTIF($AG66:$AI66,\"A\")-COUNTIF($AG66:$AI66,\"C\"),基本情報!$R$4:$S$10,2)))","v":""}]
[null,null,null,null,10644,null,null,44,{"$f":"IF(VLOOKUP($E67,学年名簿と評価・評定!$E$24:$K$573,5)=\"\",\"\",VLOOKUP($E67,学年名簿と評価・評定!$E$24:$K$573,5))","v":""},{"$f":"IF(VLOOKUP($E67,学年名簿と評価・評定!$E$24:$K$573,6)=\"\",\"\",VLOOKUP($E67,学年名簿と評価・評定!$E$24:$K$573,7))","v":""},null,"",null,null,null,{"$f":"IF(OR($I67=\"\",COUNTA($M67:$O67)=0),\"\",IF(AND(M67=\"-\",N67=\"-\",O67=\"-\"),\"-\",VLOOKUP(COUNTIF($M67:$O67,\"A\")-COUNTIF($M67:$O67,\"C\"),基本情報!$R$4:$S$10,2)))","v":""},null,null,null,null,null,"",null,null,null,{"$f":"IF(OR($I67=\"\",COUNTA($W67:$Y67)=0),\"\",IF(AND(W67=\"-\",X67=\"-\",Y67=\"-\"),\"-\",VLOOKUP(COUNTIF($W67:$Y67,\"A\")-COUNTIF($W67:$Y67,\"C\"),基本情報!$R$4:$S$10,2)))","v":""},null,null,null,null,null,"",null,null,null,{"$f":"IF(OR($I67=\"\",COUNTA($AG67:$AI67)=0),\"\",IF(AND(AG67=\"-\",AH67=\"-\",AI67=\"-\"),\"-\",VLOOKUP(COUNTIF($AG67:$AI67,\"A\")-COUNTIF($AG67:$AI67,\"C\"),基本情報!$R$4:$S$10,2)))","v":""}]
[null,null,null,null,10645,null,null,45,{"$f":"IF(VLOOKUP($E68,学年名簿と評価・評定!$E$24:$K$573,5)=\"\",\"\",VLOOKUP($E68,学年名簿と評価・評定!$E$24:$K$573,5))","v":""},{"$f":"IF(VLOOKUP($E68,学年名簿と評価・評定!$E$24:$K$573,6)=\"\",\"\",VLOOKUP($E68,学年名簿と評価・評定!$E$24:$K$573,7))","v":""},null,"",null,null,null,{"$f":"IF(OR($I68=\"\",COUNTA($M68:$O68)=0),\"\",IF(AND(M68=\"-\",N68=\"-\",O68=\"-\"),\"-\",VLOOKUP(COUNTIF($M68:$O68,\"A\")-COUNTIF($M68:$O68,\"C\"),基本情報!$R$4:$S$10,2)))","v":""},null,null,null,null,null,"",null,null,null,{"$f":"IF(OR($I68=\"\",COUNTA($W68:$Y68)=0),\"\",IF(AND(W68=\"-\",X68=\"-\",Y68=\"-\"),\"-\",VLOOKUP(COUNTIF($W68:$Y68,\"A\")-COUNTIF($W68:$Y68,\"C\"),基本情報!$R$4:$S$10,2)))","v":""},null,null,null,null,null,"",null,null,null,{"$f":"IF(OR($I68=\"\",COUNTA($AG68:$AI68)=0),\"\",IF(AND(AG68=\"-\",AH68=\"-\",AI68=\"-\"),\"-\",VLOOKUP(COUNTIF($AG68:$AI68,\"A\")-COUNTIF($AG68:$AI68,\"C\"),基本情報!$R$4:$S$10,2)))","v":""}]
[null,null,null,null,10646,null,null,46,{"$f":"IF(VLOOKUP($E69,学年名簿と評価・評定!$E$24:$K$573,5)=\"\",\"\",VLOOKUP($E69,学年名簿と評価・評定!$E$24:$K$573,5))","v":""},{"$f":"IF(VLOOKUP($E69,学年名簿と評価・評定!$E$24:$K$573,6)=\"\",\"\",VLOOKUP($E69,学年名簿と評価・評定!$E$24:$K$573,7))","v":""},null,"",null,null,null,{"$f":"IF(OR($I69=\"\",COUNTA($M69:$O69)=0),\"\",IF(AND(M69=\"-\",N69=\"-\",O69=\"-\"),\"-\",VLOOKUP(COUNTIF($M69:$O69,\"A\")-COUNTIF($M69:$O69,\"C\"),基本情報!$R$4:$S$10,2)))","v":""},null,null,null,null,null,"",null,null,null,{"$f":"IF(OR($I69=\"\",COUNTA($W69:$Y69)=0),\"\",IF(AND(W69=\"-\",X69=\"-\",Y69=\"-\"),\"-\",VLOOKUP(COUNTIF($W69:$Y69,\"A\")-COUNTIF($W69:$Y69,\"C\"),基本情報!$R$4:$S$10,2)))","v":""},null,null,null,null,null,"",null,null,null,{"$f":"IF(OR($I69=\"\",COUNTA($AG69:$AI69)=0),\"\",IF(AND(AG69=\"-\",AH69=\"-\",AI69=\"-\"),\"-\",VLOOKUP(COUNTIF($AG69:$AI69,\"A\")-COUNTIF($AG69:$AI69,\"C\"),基本情報!$R$4:$S$10,2)))","v":""}]
[null,null,null,null,10647,null,null,47,{"$f":"IF(VLOOKUP($E70,学年名簿と評価・評定!$E$24:$K$573,5)=\"\",\"\",VLOOKUP($E70,学年名簿と評価・評定!$E$24:$K$573,5))","v":""},{"$f":"IF(VLOOKUP($E70,学年名簿と評価・評定!$E$24:$K$573,6)=\"\",\"\",VLOOKUP($E70,学年名簿と評価・評定!$E$24:$K$573,7))","v":""},null,"",null,null,null,{"$f":"IF(OR($I70=\"\",COUNTA($M70:$O70)=0),\"\",IF(AND(M70=\"-\",N70=\"-\",O70=\"-\"),\"-\",VLOOKUP(COUNTIF($M70:$O70,\"A\")-COUNTIF($M70:$O70,\"C\"),基本情報!$R$4:$S$10,2)))","v":""},null,null,null,null,null,"",null,null,null,{"$f":"IF(OR($I70=\"\",COUNTA($W70:$Y70)=0),\"\",IF(AND(W70=\"-\",X70=\"-\",Y70=\"-\"),\"-\",VLOOKUP(COUNTIF($W70:$Y70,\"A\")-COUNTIF($W70:$Y70,\"C\"),基本情報!$R$4:$S$10,2)))","v":""},null,null,null,null,null,"",null,null,null,{"$f":"IF(OR($I70=\"\",COUNTA($AG70:$AI70)=0),\"\",IF(AND(AG70=\"-\",AH70=\"-\",AI70=\"-\"),\"-\",VLOOKUP(COUNTIF($AG70:$AI70,\"A\")-COUNTIF($AG70:$AI70,\"C\"),基本情報!$R$4:$S$10,2)))","v":""}]
[null,null,null,null,10648,null,null,48,{"$f":"IF(VLOOKUP($E71,学年名簿と評価・評定!$E$24:$K$573,5)=\"\",\"\",VLOOKUP($E71,学年名簿と評価・評定!$E$24:$K$573,5))","v":""},{"$f":"IF(VLOOKUP($E71,学年名簿と評価・評定!$E$24:$K$573,6)=\"\",\"\",VLOOKUP($E71,学年名簿と評価・評定!$E$24:$K$573,7))","v":""},null,"",null,null,null,{"$f":"IF(OR($I71=\"\",COUNTA($M71:$O71)=0),\"\",IF(AND(M71=\"-\",N71=\"-\",O71=\"-\"),\"-\",VLOOKUP(COUNTIF($M71:$O71,\"A\")-COUNTIF($M71:$O71,\"C\"),基本情報!$R$4:$S$10,2)))","v":""},null,null,null,null,null,"",null,null,null,{"$f":"IF(OR($I71=\"\",COUNTA($W71:$Y71)=0),\"\",IF(AND(W71=\"-\",X71=\"-\",Y71=\"-\"),\"-\",VLOOKUP(COUNTIF($W71:$Y71,\"A\")-COUNTIF($W71:$Y71,\"C\"),基本情報!$R$4:$S$10,2)))","v":""},null,null,null,null,null,"",null,null,null,{"$f":"IF(OR($I71=\"\",COUNTA($AG71:$AI71)=0),\"\",IF(AND(AG71=\"-\",AH71=\"-\",AI71=\"-\"),\"-\",VLOOKUP(COUNTIF($AG71:$AI71,\"A\")-COUNTIF($AG71:$AI71,\"C\"),基本情報!$R$4:$S$10,2)))","v":""}]
[null,null,null,null,10649,null,null,49,{"$f":"IF(VLOOKUP($E72,学年名簿と評価・評定!$E$24:$K$573,5)=\"\",\"\",VLOOKUP($E72,学年名簿と評価・評定!$E$24:$K$573,5))","v":""},{"$f":"IF(VLOOKUP($E72,学年名簿と評価・評定!$E$24:$K$573,6)=\"\",\"\",VLOOKUP($E72,学年名簿と評価・評定!$E$24:$K$573,7))","v":""},null,"",null,null,null,{"$f":"IF(OR($I72=\"\",COUNTA($M72:$O72)=0),\"\",IF(AND(M72=\"-\",N72=\"-\",O72=\"-\"),\"-\",VLOOKUP(COUNTIF($M72:$O72,\"A\")-COUNTIF($M72:$O72,\"C\"),基本情報!$R$4:$S$10,2)))","v":""},null,null,null,null,null,"",null,null,null,{"$f":"IF(OR($I72=\"\",COUNTA($W72:$Y72)=0),\"\",IF(AND(W72=\"-\",X72=\"-\",Y72=\"-\"),\"-\",VLOOKUP(COUNTIF($W72:$Y72,\"A\")-COUNTIF($W72:$Y72,\"C\"),基本情報!$R$4:$S$10,2)))","v":""},null,null,null,null,null,"",null,null,null,{"$f":"IF(OR($I72=\"\",COUNTA($AG72:$AI72)=0),\"\",IF(AND(AG72=\"-\",AH72=\"-\",AI72=\"-\"),\"-\",VLOOKUP(COUNTIF($AG72:$AI72,\"A\")-COUNTIF($AG72:$AI72,\"C\"),基本情報!$R$4:$S$10,2)))","v":""}]
[null,null,null,null,10650,null,null,50,{"$f":"IF(VLOOKUP($E73,学年名簿と評価・評定!$E$24:$K$573,5)=\"\",\"\",VLOOKUP($E73,学年名簿と評価・評定!$E$24:$K$573,5))","v":""},{"$f":"IF(VLOOKUP($E73,学年名簿と評価・評定!$E$24:$K$573,6)=\"\",\"\",VLOOKUP($E73,学年名簿と評価・評定!$E$24:$K$573,7))","v":""},null,"",null,null,null,{"$f":"IF(OR($I73=\"\",COUNTA($M73:$O73)=0),\"\",IF(AND(M73=\"-\",N73=\"-\",O73=\"-\"),\"-\",VLOOKUP(COUNTIF($M73:$O73,\"A\")-COUNTIF($M73:$O73,\"C\"),基本情報!$R$4:$S$10,2)))","v":""},null,null,null,null,null,"",null,null,null,{"$f":"IF(OR($I73=\"\",COUNTA($W73:$Y73)=0),\"\",IF(AND(W73=\"-\",X73=\"-\",Y73=\"-\"),\"-\",VLOOKUP(COUNTIF($W73:$Y73,\"A\")-COUNTIF($W73:$Y73,\"C\"),基本情報!$R$4:$S$10,2)))","v":""},null,null,null,null,null,"",null,null,null,{"$f":"IF(OR($I73=\"\",COUNTA($AG73:$AI73)=0),\"\",IF(AND(AG73=\"-\",AH73=\"-\",AI73=\"-\"),\"-\",VLOOKUP(COUNTIF($AG73:$AI73,\"A\")-COUNTIF($AG73:$AI73,\"C\"),基本情報!$R$4:$S$10,2)))","v":""}]

{"sheet":"7組","index":8,"n_rows":73,"n_cols":40,"rows_kept":73,"cut":false,"hidden":false,"merged":[[2,34,2,36],[2,37,2,39],[21,11,21,15],[21,21,21,25],[21,31,21,35],[2,11,2,13],[2,14,2,16],[2,17,2,19],[2,21,2,23],[2,24,2,26],[2,27,2,29],[2,31,2,33]]}
[]
[]
[null,null,null,null,null,null,null,null,null,null,null,"校長",null,null,"教頭",null,null,"教務",null,null,null,"校長",null,null,"教頭",null,null,"教務",null,null,null,"校長",null,null,"教頭",null,null,"教務"]
[]
[]
[]
[]
[null,null,null,null,null,null,null,null,{"$f":"基本情報!E4","v":1},null,null,null,1,2,3,4,5,"-",null,"平均",null,null,1,2,3,4,5,"-",null,"平均",null,null,1,2,3,4,5,"-",null,"平均"]
[null,null,null,null,null,null,null,null,7,null,null,1,{"$f":"学年名簿と評価・評定!M9","v":0},{"$f":"学年名簿と評価・評定!N9","v":0},{"$f":"学年名簿と評価・評定!O9","v":0},{"$f":"学年名簿と評価・評定!P9","v":0},{"$f":"学年名簿と評価・評定!Q9","v":1},{"$f":"学年名簿と評価・評定!R9","v":0},{"$f":"SUM(M9:R9)","v":1},{"$f":"学年名簿と評価・評定!T9","v":5},null,1,{"$f":"学年名簿と評価・評定!W9","v":1},{"$f":"学年名簿と評価・評定!X9","v":0},{"$f":"学年名簿と評価・評定!Y9","v":0},{"$f":"学年名簿と評価・評定!Z9","v":0},{"$f":"学年名簿と評価・評定!AA9","v":0},{"$f":"学年名簿と評価・評定!AB9","v":0},{"$f":"学年名簿と評価・評定!AC9","v":1},{"$f":"学年名簿と評価・評定!AD9","v":1},null,1,{"$f":"学年名簿と評価・評定!AG9","v":0},{"$f":"学年名簿と評価・評定!AH9","v":0},{"$f":"学年名簿と評価・評定!AI9","v":1},{"$f":"学年名簿と評価・評定!AJ9","v":0},{"$f":"学年名簿と評価・評定!AK9","v":0},{"$f":"学年名簿と評価・評定!AL9","v":0},{"$f":"学年名簿と評価・評定!AM9","v":1},{"$f":"学年名簿と評価・評定!AN9","v":3}]
[null,null,null,null,null,null,null,null,null,null,null,2,{"$f":"学年名簿と評価・評定!M10","v":0},{"$f":"学年名簿と評価・評定!N10","v":0},{"$f":"学年名簿と評価・評定!O10","v":0},{"$f":"学年名簿と評価・評定!P10","v":0},{"$f":"学年名簿と評価・評定!Q10","v":0},{"$f":"学年名簿と評価・評定!R10","v":0},{"$f":"SUM(M10:R10)","v":0},{"$f":"学年名簿と評価・評定!T10","v":""},null,2,{"$f":"学年名簿と評価・評定!W10","v":0},{"$f":"学年名簿と評価・評定!X10","v":0},{"$f":"学年名簿と評価・評定!Y10","v":0},{"$f":"学年名簿と評価・評定!Z10","v":0},{"$f":"学年名簿と評価・評定!AA10","v":0},{"$f":"学年名簿と評価・評定!AB10","v":0},{"$f":"学年名簿と評価・評定!AC10","v":0},{"$f":"学年名簿と評価・評定!AD10","v":""},null,2,{"$f":"学年名簿と評価・評定!AG10","v":0},{"$f":"学年名簿と評価・評定!AH10","v":0},{"$f":"学年名簿と評価・評定!AI10","v":0},{"$f":"学年名簿と評価・評定!AJ10","v":0},{"$f":"学年名簿と評価・評定!AK10","v":0},{"$f":"学年名簿と評価・評定!AL10","v":0},{"$f":"学年名簿と評価・評定!AM10","v":0},{"$f":"学年名簿と評価・評定!AN10","v":""}]
[null,null,null,null,null,null,null,null,null,null,null,3,{"$f":"学年名簿と評価・評定!M11","v":0},{"$f":"学年名簿と評価・評定!N11","v":0},{"$f":"学年名簿と評価・評定!O11","v":0},{"$f":"学年名簿と評価・評定!P11","v":0},{"$f":"学年名簿と評価・評定!Q11","v":0},{"$f":"学年名簿と評価・評定!R11","v":0},0,{"$f":"学年名簿と評価・評定!T11","v":""},null,3,{"$f":"学年名簿と評価・評定!W11","v":0},{"$f":"学年名簿と評価・評定!X11","v":0},{"$f":"学年名簿と評価・評定!Y11","v":0},{"$f":"学年名簿と評価・評定!Z11","v":0},{"$f":"学年名簿と評価・評定!AA11","v":0},{"$f":"学年名簿と評価・評定!AB11","v":0},{"$f":"学年名簿と評価・評定!AC11","v":0},{"$f":"学年名簿と評価・評定!AD11","v":""},null,3,{"$f":"学年名簿と評価・評定!AG11","v":0},{"$f":"学年名簿と評価・評定!AH11","v":0},{"$f":"学年名簿と評価・評定!AI11","v":0},{"$f":"学年名簿と評価・評定!AJ11","v":0},{"$f":"学年名簿と評価・評定!AK11","v":0},{"$f":"学年名簿と評価・評定!AL11","v":0},{"$f":"学年名簿と評価・評定!AM11","v":0},{"$f":"学年名簿と評価・評定!AN11","v":""}]
[null,null,null,null,null,null,null,null,null,null,null,4,{"$f":"学年名簿と評価・評定!M12","v":0},{"$f":"学年名簿と評価・評定!N12","v":0},{"$f":"学年名簿と評価・評定!O12","v":0},{"$f":"学年名簿と評価・評定!P12","v":0},{"$f":"学年名簿と評価・評定!Q12","v":0},{"$f":"学年名簿と評価・評定!R12","v":0},0,{"$f":"学年名簿と評価・評定!T12","v":""},null,4,{"$f":"学年名簿と評価・評定!W12","v":0},{"$f":"学年名簿と評価・評定!X12","v":0},{"$f":"学年名簿と評価・評定!Y12","v":0},{"$f":"学年名簿と評価・評定!Z12","v":0},{"$f":"学年名簿と評価・評定!AA12","v":0},{"$f":"学年名簿と評価・評定!AB12","v":0},{"$f":"学年名簿と評価・評定!AC12","v":0},{"$f":"学年名簿と評価・評定!AD12","v":""},null,4,{"$f":"学年名簿と評価・評定!AG12","v":0},{"$f":"学年名簿と評価・評定!AH12","v":0},{"$f":"学年名簿と評価・評定!AI12","v":0},{"$f":"学年名簿と評価・評定!AJ12","v":0},{"$f":"学年名簿と評価・評定!AK12","v":0},{"$f":"学年名簿と評価・評定!AL12","v":0},{"$f":"学年名簿と評価・評定!AM12","v":0},{"$f":"学年名簿と評価・評定!AN12","v":""}]
[null,null,null,null,null,null,null,null,null,null,null,5,{"$f":"学年名簿と評価・評定!M13","v":0},{"$f":"学年名簿と評価・評定!N13","v":0},{"$f":"学年名簿と評価・評定!O13","v":0},{"$f":"学年名簿と評価・評定!P13","v":0},{"$f":"学年名簿と評価・評定!Q13","v":0},{"$f":"学年名簿と評価・評定!R13","v":0},0,{"$f":"学年名簿と評価・評定!T13","v":""},null,5,{"$f":"学年名簿と評価・評定!W13","v":0},{"$f":"学年名簿と評価・評定!X13","v":0},{"$f":"学年名簿と評価・評定!Y13","v":0},{"$f":"学年名簿と評価・評定!Z13","v":0},{"$f":"学年名簿と評価・評定!AA13","v":0},{"$f":"学年名簿と評価・評定!AB13","v":0},{"$f":"学年名簿と評価・評定!AC13","v":0},{"$f":"学年名簿と評価・評定!AD13","v":""},null,5,{"$f":"学年名簿と評価・評定!AG13","v":0},{"$f":"学年名簿と評価・評定!AH13","v":0},{"$f":"学年名簿と評価・評定!AI13","v":0},{"$f":"学年名簿と評価・評定!AJ13","v":0},{"$f":"学年名簿と評価・評定!AK13","v":0},{"$f":"学年名簿と評価・評定!AL13","v":0},{"$f":"学年名簿と評価・評定!AM13","v":0},{"$f":"学年名簿と評価・評定!AN13","v":""}]
[null,null,null,null,null,null,null,null,null,null,null,6,{"$f":"学年名簿と評価・評定!M14","v":0},{"$f":"学年名簿と評価・評定!N14","v":0},{"$f":"学年名簿と評価・評定!O14","v":0},{"$f":"学年名簿と評価・評定!P14","v":0},{"$f":"学年名簿と評価・評定!Q14","v":0},{"$f":"学年名簿と評価・評定!R14","v":0},0,{"$f":"学年名簿と評価・評定!T14","v":""},null,6,{"$f":"学年名簿と評価・評定!W14","v":0},{"$f":"学年名簿と評価・評定!X14","v":0},{"$f":"学年名簿と評価・評定!Y14","v":0},{"$f":"学年名簿と評価・評定!Z14","v":0},{"$f":"学年名簿と評価・評定!AA14","v":0},{"$f":"学年名簿と評価・評定!AB14","v":0},{"$f":"学年名簿と評価・評定!AC14","v":0},{"$f":"学年名簿と評価・評定!AD14","v":""},null,6,{"$f":"学年名簿と評価・評定!AG14","v":0},{"$f":"学年名簿と評価・評定!AH14","v":0},{"$f":"学年名簿と評価・評定!AI14","v":0},{"$f":"学年名簿と評価・評定!AJ14","v":0},{"$f":"学年名簿と評価・評定!AK14","v":0},{"$f":"学年名簿と評価・評定!AL14","v":0},{"$f":"学年名簿と評価・評定!AM14","v":0},{"$f":"学年名簿と評価・評定!AN14","v":""}]
[null,null,null,null,null,null,null,null,null,null,null,7,{"$f":"学年名簿と評価・評定!M15","v":0},{"$f":"学年名簿と評価・評定!N15","v":0},{"$f":"学年名簿と評価・評定!O15","v":0},{"$f":"学年名簿と評価・評定!P15","v":0},{"$f":"学年名簿と評価・評定!Q15","v":0},{"$f":"学年名簿と評価・評定!R15","v":0},0,{"$f":"学年名簿と評価・評定!T15","v":""},null,7,{"$f":"学年名簿と評価・評定!W15","v":0},{"$f":"学年名簿と評価・評定!X15","v":0},{"$f":"学年名簿と評価・評定!Y15","v":0},{"$f":"学年名簿と評価・評定!Z15","v":0},{"$f":"学年名簿と評価・評定!AA15","v":0},{"$f":"学年名簿と評価・評定!AB15","v":0},{"$f":"学年名簿と評価・評定!AC15","v":0},{"$f":"学年名簿と評価・評定!AD15","v":""},null,7,{"$f":"学年名簿と評価・評定!AG15","v":0},{"$f":"学年名簿と評価・評定!AH15","v":0},{"$f":"学年名簿と評価・評定!AI15","v":0},{"$f":"学年名簿と評価・評定!AJ15","v":0},{"$f":"学年名簿と評価・評定!AK15","v":0},{"$f":"学年名簿と評価・評定!AL15","v":0},{"$f":"学年名簿と評価・評定!AM15","v":0},{"$f":"学年名簿と評価・評定!AN15","v":""}]
[null,null,null,null,null,null,null,null,null,null,null,8,{"$f":"学年名簿と評価・評定!M16","v":0},{"$f":"学年名簿と評価・評定!N16","v":0},{"$f":"学年名簿と評価・評定!O16","v":0},{"$f":"学年名簿と評価・評定!P16","v":0},{"$f":"学年名簿と評価・評定!Q16","v":0},{"$f":"学年名簿と評価・評定!R16","v":0},0,{"$f":"学年名簿と評価・評定!T16","v":""},null,8,{"$f":"学年名簿と評価・評定!W16","v":0},{"$f":"学年名簿と評価・評定!X16","v":0},{"$f":"学年名簿と評価・評定!Y16","v":0},{"$f":"学年名簿と評価・評定!Z16","v":0},{"$f":"学年名簿と評価・評定!AA16","v":0},{"$f":"学年名簿と評価・評定!AB16","v":0},{"$f":"学年名簿と評価・評定!AC16","v":0},{"$f":"学年名簿と評価・評定!AD16","v":""},null,8,{"$f":"学年名簿と評価・評定!AG16","v":0},{"$f":"学年名簿と評価・評定!AH16","v":0},{"$f":"学年名簿と評価・評定!AI16","v":0},{"$f":"学年名簿と評価・評定!AJ16","v":0},{"$f":"学年名簿と評価・評定!AK16","v":0},{"$f":"学年名簿と評価・評定!AL16","v":0},{"$f":"学年名簿と評価・評定!AM16","v":0},{"$f":"学年名簿と評価・評定!AN16","v":""}]
[null,null,null,null,null,null,null,null,null,null,null,9,{"$f":"学年名簿と評価・評定!M17","v":0},{"$f":"学年名簿と評価・評定!N17","v":0},{"$f":"学年名簿と評価・評定!O17","v":0},{"$f":"学年名簿と評価・評定!P17","v":0},{"$f":"学年名簿と評価・評定!Q17","v":0},{"$f":"学年名簿と評価・評定!R17","v":0},0,{"$f":"学年名簿と評価・評定!T17","v":""},null,9,{"$f":"学年名簿と評価・評定!W17","v":0},{"$f":"学年名簿と評価・評定!X17","v":0},{"$f":"学年名簿と評価・評定!Y17","v":0},{"$f":"学年名簿と評価・評定!Z17","v":0},{"$f":"学年名簿と評価・評定!AA17","v":0},{"$f":"学年名簿と評価・評定!AB17","v":0},{"$f":"学年名簿と評価・評定!AC17","v":0},{"$f":"学年名簿と評価・評定!AD17","v":""},null,9,{"$f":"学年名簿と評価・評定!AG17","v":0},{"$f":"学年名簿と評価・評定!AH17","v":0},{"$f":"学年名簿と評価・評定!AI17","v":0},{"$f":"学年名簿と評価・評定!AJ17","v":0},{"$f":"学年名簿と評価・評定!AK17","v":0},{"$f":"学年名簿と評価・評定!AL17","v":0},{"$f":"学年名簿と評価・評定!AM17","v":0},{"$f":"学年名簿と評価・評定!AN17","v":""}]
[null,null,null,null,null,null,null,null,null,null,null,10,{"$f":"学年名簿と評価・評定!M18","v":0},{"$f":"学年名簿と評価・評定!N18","v":0},{"$f":"学年名簿と評価・評定!O18","v":0},{"$f":"学年名簿と評価・評定!P18","v":0},{"$f":"学年名簿と評価・評定!Q18","v":0},{"$f":"学年名簿と評価・評定!R18","v":0},0,{"$f":"学年名簿と評価・評定!T18","v":""},null,10,{"$f":"学年名簿と評価・評定!W18","v":0},{"$f":"学年名簿と評価・評定!X18","v":0},{"$f":"学年名簿と評価・評定!Y18","v":0},{"$f":"学年名簿と評価・評定!Z18","v":0},{"$f":"学年名簿と評価・評定!AA18","v":0},{"$f":"学年名簿と評価・評定!AB18","v":0},{"$f":"学年名簿と評価・評定!AC18","v":0},{"$f":"学年名簿と評価・評定!AD18","v":""},null,10,{"$f":"学年名簿と評価・評定!AG18","v":0},{"$f":"学年名簿と評価・評定!AH18","v":0},{"$f":"学年名簿と評価・評定!AI18","v":0},{"$f":"学年名簿と評価・評定!AJ18","v":0},{"$f":"学年名簿と評価・評定!AK18","v":0},{"$f":"学年名簿と評価・評定!AL18","v":0},{"$f":"学年名簿と評価・評定!AM18","v":0},{"$f":"学年名簿と評価・評定!AN18","v":""}]
[null,null,null,null,null,null,null,null,null,null,null,11,{"$f":"学年名簿と評価・評定!M19","v":0},{"$f":"学年名簿と評価・評定!N19","v":0},{"$f":"学年名簿と評価・評定!O19","v":0},{"$f":"学年名簿と評価・評定!P19","v":0},{"$f":"学年名簿と評価・評定!Q19","v":0},{"$f":"学年名簿と評価・評定!R19","v":0},0,{"$f":"学年名簿と評価・評定!T19","v":""},null,11,{"$f":"学年名簿と評価・評定!W19","v":0},{"$f":"学年名簿と評価・評定!X19","v":0},{"$f":"学年名簿と評価・評定!Y19","v":0},{"$f":"学年名簿と評価・評定!Z19","v":0},{"$f":"学年名簿と評価・評定!AA19","v":0},{"$f":"学年名簿と評価・評定!AB19","v":0},{"$f":"学年名簿と評価・評定!AC19","v":0},{"$f":"学年名簿と評価・評定!AD19","v":""},null,11,{"$f":"学年名簿と評価・評定!AG19","v":0},{"$f":"学年名簿と評価・評定!AH19","v":0},{"$f":"学年名簿と評価・評定!AI19","v":0},{"$f":"学年名簿と評価・評定!AJ19","v":0},{"$f":"学年名簿と評価・評定!AK19","v":0},{"$f":"学年名簿と評価・評定!AL19","v":0},{"$f":"学年名簿と評価・評定!AM19","v":0},{"$f":"学年名簿と評価・評定!AN19","v":""}]
[null,null,null,null,null,null,null,null,{"$f":"基本情報!E6","v":"国語"},null,null,"計",{"$f":"学年名簿と評価・評定!M20","v":0},{"$f":"学年名簿と評価・評定!N20","v":0},{"$f":"学年名簿と評価・評定!O20","v":0},{"$f":"学年名簿と評価・評定!P20","v":0},{"$f":"学年名簿と評価・評定!Q20","v":1},{"$f":"学年名簿と評価・評定!R20","v":0},1,{"$f":"学年名簿と評価・評定!T20","v":5},null,"計",{"$f":"学年名簿と評価・評定!W20","v":1},{"$f":"学年名簿と評価・評定!X20","v":0},{"$f":"学年名簿と評価・評定!Y20","v":0},{"$f":"学年名簿と評価・評定!Z20","v":0},{"$f":"学年名簿と評価・評定!AA20","v":0},{"$f":"学年名簿と評価・評定!AB20","v":0},{"$f":"学年名簿と評価・評定!AC20","v":1},{"$f":"学年名簿と評価・評定!AD20","v":1},null,"計",{"$f":"学年名簿と評価・評定!AG20","v":0},{"$f":"学年名簿と評価・評定!AH20","v":0},{"$f":"学年名簿と評価・評定!AI20","v":1},{"$f":"学年名簿と評価・評定!AJ20","v":0},{"$f":"学年名簿と評価・評定!AK20","v":0},{"$f":"学年名簿と評価・評定!AL20","v":0},{"$f":"学年名簿と評価・評定!AM20","v":1},{"$f":"学年名簿と評価・評定!AN20","v":3}]
[]
[null,null,null,null,null,null,null,null,null,null,null,"前　　期",null,null,null,null,null,null,null,null,null,"後　　期",null,null,null,null,null,null,null,null,null,"学　　年"]
[null,null,null,null,null,null,null,"番","氏　　名","性",null,"評定",{"$f":"基本情報!P14","v":"知技"},{"$f":"基本情報!P15","v":"思判"},{"$f":"基本情報!P16","v":"学び"},"評定","CHECK",null,null,null,null,"評定",{"$f":"M23","v":"知技"},{"$f":"N23","v":"思判"},"学び","評定","CHECK",null,null,null,null,"評定","知技","思判","学び","評定","CHECK"]
[null,null,null,null,{"$f":"$I$8*10000+$I$9*100+$H24","v":10701},null,null,1,{"$f":"IF(VLOOKUP($E24,学年名簿と評価・評定!$E$24:$K$573,5)=\"\",\"\",VLOOKUP($E24,学年名簿と評価・評定!$E$24:$K$573,5))","v":""},{"$f":"IF(VLOOKUP($E24,学年名簿と評価・評定!$E$24:$K$573,6)=\"\",\"\",VLOOKUP($E24,学年名簿と評価・評定!$E$24:$K$573,7))","v":""},null,{"$f":"P24","v":""},null,null,null,{"$f":"IF(OR($I24=\"\",COUNTA($M24:$O24)=0),\"\",IF(AND(M24=\"-\",N24=\"-\",O24=\"-\"),\"-\",VLOOKUP(COUNTIF($M24:$O24,\"A\")-COUNTIF($M24:$O24,\"C\"),基本情報!$R$4:$S$10,2)))","v":""},null,null,null,null,null,{"$f":"Z24","v":""},null,null,null,{"$f":"IF(OR($I24=\"\",COUNTA($W24:$Y24)=0),\"\",IF(AND(W24=\"-\",X24=\"-\",Y24=\"-\"),\"-\",VLOOKUP(COUNTIF($W24:$Y24,\"A\")-COUNTIF($W24:$Y24,\"C\"),基本情報!$R$4:$S$10,2)))","v":""},null,null,null,null,null,{"$f":"AJ24","v":""},null,null,null,{"$f":"IF(OR($I24=\"\",COUNTA($AG24:$AI24)=0),\"\",IF(AND(AG24=\"-\",AH24=\"-\",AI24=\"-\"),\"-\",VLOOKUP(COUNTIF($AG24:$AI24,\"A\")-COUNTIF($AG24:$AI24,\"C\"),基本情報!$R$4:$S$10,2)))","v":""}]
[null,null,null,null,10702,null,null,2,{"$f":"IF(VLOOKUP($E25,学年名簿と評価・評定!$E$24:$K$573,5)=\"\",\"\",VLOOKUP($E25,学年名簿と評価・評定!$E$24:$K$573,5))","v":""},{"$f":"IF(VLOOKUP($E25,学年名簿と評価・評定!$E$24:$K$573,6)=\"\",\"\",VLOOKUP($E25,学年名簿と評価・評定!$E$24:$K$573,7))","v":""},null,{"$f":"P25","v":""},null,null,null,{"$f":"IF(OR($I25=\"\",COUNTA($M25:$O25)=0),\"\",IF(AND(M25=\"-\",N25=\"-\",O25=\"-\"),\"-\",VLOOKUP(COUNTIF($M25:$O25,\"A\")-COUNTIF($M25:$O25,\"C\"),基本情報!$R$4:$S$10,2)))","v":""},null,null,null,null,null,{"$f":"Z25","v":""},null,null,null,{"$f":"IF(OR($I25=\"\",COUNTA($W25:$Y25)=0),\"\",IF(AND(W25=\"-\",X25=\"-\",Y25=\"-\"),\"-\",VLOOKUP(COUNTIF($W25:$Y25,\"A\")-COUNTIF($W25:$Y25,\"C\"),基本情報!$R$4:$S$10,2)))","v":""},null,null,null,null,null,{"$f":"AJ25","v":""},null,null,null,{"$f":"IF(OR($I25=\"\",COUNTA($AG25:$AI25)=0),\"\",IF(AND(AG25=\"-\",AH25=\"-\",AI25=\"-\"),\"-\",VLOOKUP(COUNTIF($AG25:$AI25,\"A\")-COUNTIF($AG25:$AI25,\"C\"),基本情報!$R$4:$S$10,2)))","v":""}]
[null,null,null,null,10703,null,null,3,{"$f":"IF(VLOOKUP($E26,学年名簿と評価・評定!$E$24:$K$573,5)=\"\",\"\",VLOOKUP($E26,学年名簿と評価・評定!$E$24:$K$573,5))","v":""},{"$f":"IF(VLOOKUP($E26,学年名簿と評価・評定!$E$24:$K$573,6)=\"\",\"\",VLOOKUP($E26,学年名簿と評価・評定!$E$24:$K$573,7))","v":""},null,"",null,null,null,{"$f":"IF(OR($I26=\"\",COUNTA($M26:$O26)=0),\"\",IF(AND(M26=\"-\",N26=\"-\",O26=\"-\"),\"-\",VLOOKUP(COUNTIF($M26:$O26,\"A\")-COUNTIF($M26:$O26,\"C\"),基本情報!$R$4:$S$10,2)))","v":""},null,null,null,null,null,{"$f":"Z26","v":""},null,null,null,{"$f":"IF(OR($I26=\"\",COUNTA($W26:$Y26)=0),\"\",IF(AND(W26=\"-\",X26=\"-\",Y26=\"-\"),\"-\",VLOOKUP(COUNTIF($W26:$Y26,\"A\")-COUNTIF($W26:$Y26,\"C\"),基本情報!$R$4:$S$10,2)))","v":""},null,null,null,null,null,"",null,null,null,{"$f":"IF(OR($I26=\"\",COUNTA($AG26:$AI26)=0),\"\",IF(AND(AG26=\"-\",AH26=\"-\",AI26=\"-\"),\"-\",VLOOKUP(COUNTIF($AG26:$AI26,\"A\")-COUNTIF($AG26:$AI26,\"C\"),基本情報!$R$4:$S$10,2)))","v":""}]
[null,null,null,null,10704,null,null,4,{"$f":"IF(VLOOKUP($E27,学年名簿と評価・評定!$E$24:$K$573,5)=\"\",\"\",VLOOKUP($E27,学年名簿と評価・評定!$E$24:$K$573,5))","v":""},{"$f":"IF(VLOOKUP($E27,学年名簿と評価・評定!$E$24:$K$573,6)=\"\",\"\",VLOOKUP($E27,学年名簿と評価・評定!$E$24:$K$573,7))","v":""},null,"",null,null,null,{"$f":"IF(OR($I27=\"\",COUNTA($M27:$O27)=0),\"\",IF(AND(M27=\"-\",N27=\"-\",O27=\"-\"),\"-\",VLOOKUP(COUNTIF($M27:$O27,\"A\")-COUNTIF($M27:$O27,\"C\"),基本情報!$R$4:$S$10,2)))","v":""},null,null,null,null,null,"",null,null,null,{"$f":"IF(OR($I27=\"\",COUNTA($W27:$Y27)=0),\"\",IF(AND(W27=\"-\",X27=\"-\",Y27=\"-\"),\"-\",VLOOKUP(COUNTIF($W27:$Y27,\"A\")-COUNTIF($W27:$Y27,\"C\"),基本情報!$R$4:$S$10,2)))","v":""},null,null,null,null,null,"",null,null,null,{"$f":"IF(OR($I27=\"\",COUNTA($AG27:$AI27)=0),\"\",IF(AND(AG27=\"-\",AH27=\"-\",AI27=\"-\"),\"-\",VLOOKUP(COUNTIF($AG27:$AI27,\"A\")-COUNTIF($AG27:$AI27,\"C\"),基本情報!$R$4:$S$10,2)))","v":""}]
[null,null,null,null,10705,null,null,5,{"$f":"IF(VLOOKUP($E28,学年名簿と評価・評定!$E$24:$K$573,5)=\"\",\"\",VLOOKUP($E28,学年名簿と評価・評定!$E$24:$K$573,5))","v":""},{"$f":"IF(VLOOKUP($E28,学年名簿と評価・評定!$E$24:$K$573,6)=\"\",\"\",VLOOKUP($E28,学年名簿と評価・評定!$E$24:$K$573,7))","v":""},null,"",null,null,null,{"$f":"IF(OR($I28=\"\",COUNTA($M28:$O28)=0),\"\",IF(AND(M28=\"-\",N28=\"-\",O28=\"-\"),\"-\",VLOOKUP(COUNTIF($M28:$O28,\"A\")-COUNTIF($M28:$O28,\"C\"),基本情報!$R$4:$S$10,2)))","v":""},null,null,null,null,null,"",null,null,null,{"$f":"IF(OR($I28=\"\",COUNTA($W28:$Y28)=0),\"\",IF(AND(W28=\"-\",X28=\"-\",Y28=\"-\"),\"-\",VLOOKUP(COUNTIF($W28:$Y28,\"A\")-COUNTIF($W28:$Y28,\"C\"),基本情報!$R$4:$S$10,2)))","v":""},null,null,null,null,null,"",null,null,null,{"$f":"IF(OR($I28=\"\",COUNTA($AG28:$AI28)=0),\"\",IF(AND(AG28=\"-\",AH28=\"-\",AI28=\"-\"),\"-\",VLOOKUP(COUNTIF($AG28:$AI28,\"A\")-COUNTIF($AG28:$AI28,\"C\"),基本情報!$R$4:$S$10,2)))","v":""}]
[null,null,null,null,10706,null,null,6,{"$f":"IF(VLOOKUP($E29,学年名簿と評価・評定!$E$24:$K$573,5)=\"\",\"\",VLOOKUP($E29,学年名簿と評価・評定!$E$24:$K$573,5))","v":""},{"$f":"IF(VLOOKUP($E29,学年名簿と評価・評定!$E$24:$K$573,6)=\"\",\"\",VLOOKUP($E29,学年名簿と評価・評定!$E$24:$K$573,7))","v":""},null,"",null,null,null,{"$f":"IF(OR($I29=\"\",COUNTA($M29:$O29)=0),\"\",IF(AND(M29=\"-\",N29=\"-\",O29=\"-\"),\"-\",VLOOKUP(COUNTIF($M29:$O29,\"A\")-COUNTIF($M29:$O29,\"C\"),基本情報!$R$4:$S$10,2)))","v":""},null,null,null,null,null,"",null,null,null,{"$f":"IF(OR($I29=\"\",COUNTA($W29:$Y29)=0),\"\",IF(AND(W29=\"-\",X29=\"-\",Y29=\"-\"),\"-\",VLOOKUP(COUNTIF($W29:$Y29,\"A\")-COUNTIF($W29:$Y29,\"C\"),基本情報!$R$4:$S$10,2)))","v":""},null,null,null,null,null,"",null,null,null,{"$f":"IF(OR($I29=\"\",COUNTA($AG29:$AI29)=0),\"\",IF(AND(AG29=\"-\",AH29=\"-\",AI29=\"-\"),\"-\",VLOOKUP(COUNTIF($AG29:$AI29,\"A\")-COUNTIF($AG29:$AI29,\"C\"),基本情報!$R$4:$S$10,2)))","v":""}]
[null,null,null,null,10707,null,null,7,{"$f":"IF(VLOOKUP($E30,学年名簿と評価・評定!$E$24:$K$573,5)=\"\",\"\",VLOOKUP($E30,学年名簿と評価・評定!$E$24:$K$573,5))","v":""},{"$f":"IF(VLOOKUP($E30,学年名簿と評価・評定!$E$24:$K$573,6)=\"\",\"\",VLOOKUP($E30,学年名簿と評価・評定!$E$24:$K$573,7))","v":""},null,"",null,null,null,{"$f":"IF(OR($I30=\"\",COUNTA($M30:$O30)=0),\"\",IF(AND(M30=\"-\",N30=\"-\",O30=\"-\"),\"-\",VLOOKUP(COUNTIF($M30:$O30,\"A\")-COUNTIF($M30:$O30,\"C\"),基本情報!$R$4:$S$10,2)))","v":""},null,null,null,null,null,"",null,null,null,{"$f":"IF(OR($I30=\"\",COUNTA($W30:$Y30)=0),\"\",IF(AND(W30=\"-\",X30=\"-\",Y30=\"-\"),\"-\",VLOOKUP(COUNTIF($W30:$Y30,\"A\")-COUNTIF($W30:$Y30,\"C\"),基本情報!$R$4:$S$10,2)))","v":""},null,null,null,null,null,"",null,null,null,{"$f":"IF(OR($I30=\"\",COUNTA($AG30:$AI30)=0),\"\",IF(AND(AG30=\"-\",AH30=\"-\",AI30=\"-\"),\"-\",VLOOKUP(COUNTIF($AG30:$AI30,\"A\")-COUNTIF($AG30:$AI30,\"C\"),基本情報!$R$4:$S$10,2)))","v":""}]
[null,null,null,null,10708,null,null,8,{"$f":"IF(VLOOKUP($E31,学年名簿と評価・評定!$E$24:$K$573,5)=\"\",\"\",VLOOKUP($E31,学年名簿と評価・評定!$E$24:$K$573,5))","v":""},{"$f":"IF(VLOOKUP($E31,学年名簿と評価・評定!$E$24:$K$573,6)=\"\",\"\",VLOOKUP($E31,学年名簿と評価・評定!$E$24:$K$573,7))","v":""},null,"",null,null,null,{"$f":"IF(OR($I31=\"\",COUNTA($M31:$O31)=0),\"\",IF(AND(M31=\"-\",N31=\"-\",O31=\"-\"),\"-\",VLOOKUP(COUNTIF($M31:$O31,\"A\")-COUNTIF($M31:$O31,\"C\"),基本情報!$R$4:$S$10,2)))","v":""},null,null,null,null,null,"",null,null,null,{"$f":"IF(OR($I31=\"\",COUNTA($W31:$Y31)=0),\"\",IF(AND(W31=\"-\",X31=\"-\",Y31=\"-\"),\"-\",VLOOKUP(COUNTIF($W31:$Y31,\"A\")-COUNTIF($W31:$Y31,\"C\"),基本情報!$R$4:$S$10,2)))","v":""},null,null,null,null,null,"",null,null,null,{"$f":"IF(OR($I31=\"\",COUNTA($AG31:$AI31)=0),\"\",IF(AND(AG31=\"-\",AH31=\"-\",AI31=\"-\"),\"-\",VLOOKUP(COUNTIF($AG31:$AI31,\"A\")-COUNTIF($AG31:$AI31,\"C\"),基本情報!$R$4:$S$10,2)))","v":""}]
[null,null,null,null,10709,null,null,9,{"$f":"IF(VLOOKUP($E32,学年名簿と評価・評定!$E$24:$K$573,5)=\"\",\"\",VLOOKUP($E32,学年名簿と評価・評定!$E$24:$K$573,5))","v":""},{"$f":"IF(VLOOKUP($E32,学年名簿と評価・評定!$E$24:$K$573,6)=\"\",\"\",VLOOKUP($E32,学年名簿と評価・評定!$E$24:$K$573,7))","v":""},null,"",null,null,null,{"$f":"IF(OR($I32=\"\",COUNTA($M32:$O32)=0),\"\",IF(AND(M32=\"-\",N32=\"-\",O32=\"-\"),\"-\",VLOOKUP(COUNTIF($M32:$O32,\"A\")-COUNTIF($M32:$O32,\"C\"),基本情報!$R$4:$S$10,2)))","v":""},null,null,null,null,null,"",null,null,null,{"$f":"IF(OR($I32=\"\",COUNTA($W32:$Y32)=0),\"\",IF(AND(W32=\"-\",X32=\"-\",Y32=\"-\"),\"-\",VLOOKUP(COUNTIF($W32:$Y32,\"A\")-COUNTIF($W32:$Y32,\"C\"),基本情報!$R$4:$S$10,2)))","v":""},null,null,null,null,null,"",null,null,null,{"$f":"IF(OR($I32=\"\",COUNTA($AG32:$AI32)=0),\"\",IF(AND(AG32=\"-\",AH32=\"-\",AI32=\"-\"),\"-\",VLOOKUP(COUNTIF($AG32:$AI32,\"A\")-COUNTIF($AG32:$AI32,\"C\"),基本情報!$R$4:$S$10,2)))","v":""}]
[null,null,null,null,10710,null,null,10,{"$f":"IF(VLOOKUP($E33,学年名簿と評価・評定!$E$24:$K$573,5)=\"\",\"\",VLOOKUP($E33,学年名簿と評価・評定!$E$24:$K$573,5))","v":""},{"$f":"IF(VLOOKUP($E33,学年名簿と評価・評定!$E$24:$K$573,6)=\"\",\"\",VLOOKUP($E33,学年名簿と評価・評定!$E$24:$K$573,7))","v":""},null,"",null,null,null,{"$f":"IF(OR($I33=\"\",COUNTA($M33:$O33)=0),\"\",IF(AND(M33=\"-\",N33=\"-\",O33=\"-\"),\"-\",VLOOKUP(COUNTIF($M33:$O33,\"A\")-COUNTIF($M33:$O33,\"C\"),基本情報!$R$4:$S$10,2)))","v":""},null,null,null,null,null,"",null,null,null,{"$f":"IF(OR($I33=\"\",COUNTA($W33:$Y33)=0),\"\",IF(AND(W33=\"-\",X33=\"-\",Y33=\"-\"),\"-\",VLOOKUP(COUNTIF($W33:$Y33,\"A\")-COUNTIF($W33:$Y33,\"C\"),基本情報!$R$4:$S$10,2)))","v":""},null,null,null,null,null,"",null,null,null,{"$f":"IF(OR($I33=\"\",COUNTA($AG33:$AI33)=0),\"\",IF(AND(AG33=\"-\",AH33=\"-\",AI33=\"-\"),\"-\",VLOOKUP(COUNTIF($AG33:$AI33,\"A\")-COUNTIF($AG33:$AI33,\"C\"),基本情報!$R$4:$S$10,2)))","v":""}]
[null,null,null,null,10711,null,null,11,{"$f":"IF(VLOOKUP($E34,学年名簿と評価・評定!$E$24:$K$573,5)=\"\",\"\",VLOOKUP($E34,学年名簿と評価・評定!$E$24:$K$573,5))","v":""},{"$f":"IF(VLOOKUP($E34,学年名簿と評価・評定!$E$24:$K$573,6)=\"\",\"\",VLOOKUP($E34,学年名簿と評価・評定!$E$24:$K$573,7))","v":""},null,"",null,null,null,{"$f":"IF(OR($I34=\"\",COUNTA($M34:$O34)=0),\"\",IF(AND(M34=\"-\",N34=\"-\",O34=\"-\"),\"-\",VLOOKUP(COUNTIF($M34:$O34,\"A\")-COUNTIF($M34:$O34,\"C\"),基本情報!$R$4:$S$10,2)))","v":""},null,null,null,null,null,"",null,null,null,{"$f":"IF(OR($I34=\"\",COUNTA($W34:$Y34)=0),\"\",IF(AND(W34=\"-\",X34=\"-\",Y34=\"-\"),\"-\",VLOOKUP(COUNTIF($W34:$Y34,\"A\")-COUNTIF($W34:$Y34,\"C\"),基本情報!$R$4:$S$10,2)))","v":""},null,null,null,null,null,"",null,null,null,{"$f":"IF(OR($I34=\"\",COUNTA($AG34:$AI34)=0),\"\",IF(AND(AG34=\"-\",AH34=\"-\",AI34=\"-\"),\"-\",VLOOKUP(COUNTIF($AG34:$AI34,\"A\")-COUNTIF($AG34:$AI34,\"C\"),基本情報!$R$4:$S$10,2)))","v":""}]
[null,null,null,null,10712,null,null,12,{"$f":"IF(VLOOKUP($E35,学年名簿と評価・評定!$E$24:$K$573,5)=\"\",\"\",VLOOKUP($E35,学年名簿と評価・評定!$E$24:$K$573,5))","v":""},{"$f":"IF(VLOOKUP($E35,学年名簿と評価・評定!$E$24:$K$573,6)=\"\",\"\",VLOOKUP($E35,学年名簿と評価・評定!$E$24:$K$573,7))","v":""},null,"",null,null,null,{"$f":"IF(OR($I35=\"\",COUNTA($M35:$O35)=0),\"\",IF(AND(M35=\"-\",N35=\"-\",O35=\"-\"),\"-\",VLOOKUP(COUNTIF($M35:$O35,\"A\")-COUNTIF($M35:$O35,\"C\"),基本情報!$R$4:$S$10,2)))","v":""},null,null,null,null,null,"",null,null,null,{"$f":"IF(OR($I35=\"\",COUNTA($W35:$Y35)=0),\"\",IF(AND(W35=\"-\",X35=\"-\",Y35=\"-\"),\"-\",VLOOKUP(COUNTIF($W35:$Y35,\"A\")-COUNTIF($W35:$Y35,\"C\"),基本情報!$R$4:$S$10,2)))","v":""},null,null,null,null,null,"",null,null,null,{"$f":"IF(OR($I35=\"\",COUNTA($AG35:$AI35)=0),\"\",IF(AND(AG35=\"-\",AH35=\"-\",AI35=\"-\"),\"-\",VLOOKUP(COUNTIF($AG35:$AI35,\"A\")-COUNTIF($AG35:$AI35,\"C\"),基本情報!$R$4:$S$10,2)))","v":""}]
[null,null,null,null,10713,null,null,13,{"$f":"IF(VLOOKUP($E36,学年名簿と評価・評定!$E$24:$K$573,5)=\"\",\"\",VLOOKUP($E36,学年名簿と評価・評定!$E$24:$K$573,5))","v":""},{"$f":"IF(VLOOKUP($E36,学年名簿と評価・評定!$E$24:$K$573,6)=\"\",\"\",VLOOKUP($E36,学年名簿と評価・評定!$E$24:$K$573,7))","v":""},null,"",null,null,null,{"$f":"IF(OR($I36=\"\",COUNTA($M36:$O36)=0),\"\",IF(AND(M36=\"-\",N36=\"-\",O36=\"-\"),\"-\",VLOOKUP(COUNTIF($M36:$O36,\"A\")-COUNTIF($M36:$O36,\"C\"),基本情報!$R$4:$S$10,2)))","v":""},null,null,null,null,null,"",null,null,null,{"$f":"IF(OR($I36=\"\",COUNTA($W36:$Y36)=0),\"\",IF(AND(W36=\"-\",X36=\"-\",Y36=\"-\"),\"-\",VLOOKUP(COUNTIF($W36:$Y36,\"A\")-COUNTIF($W36:$Y36,\"C\"),基本情報!$R$4:$S$10,2)))","v":""},null,null,null,null,null,"",null,null,null,{"$f":"IF(OR($I36=\"\",COUNTA($AG36:$AI36)=0),\"\",IF(AND(AG36=\"-\",AH36=\"-\",AI36=\"-\"),\"-\",VLOOKUP(COUNTIF($AG36:$AI36,\"A\")-COUNTIF($AG36:$AI36,\"C\"),基本情報!$R$4:$S$10,2)))","v":""}]
[null,null,null,null,10714,null,null,14,{"$f":"IF(VLOOKUP($E37,学年名簿と評価・評定!$E$24:$K$573,5)=\"\",\"\",VLOOKUP($E37,学年名簿と評価・評定!$E$24:$K$573,5))","v":""},{"$f":"IF(VLOOKUP($E37,学年名簿と評価・評定!$E$24:$K$573,6)=\"\",\"\",VLOOKUP($E37,学年名簿と評価・評定!$E$24:$K$573,7))","v":""},null,"",null,null,null,{"$f":"IF(OR($I37=\"\",COUNTA($M37:$O37)=0),\"\",IF(AND(M37=\"-\",N37=\"-\",O37=\"-\"),\"-\",VLOOKUP(COUNTIF($M37:$O37,\"A\")-COUNTIF($M37:$O37,\"C\"),基本情報!$R$4:$S$10,2)))","v":""},null,null,null,null,null,"",null,null,null,{"$f":"IF(OR($I37=\"\",COUNTA($W37:$Y37)=0),\"\",IF(AND(W37=\"-\",X37=\"-\",Y37=\"-\"),\"-\",VLOOKUP(COUNTIF($W37:$Y37,\"A\")-COUNTIF($W37:$Y37,\"C\"),基本情報!$R$4:$S$10,2)))","v":""},null,null,null,null,null,"",null,null,null,{"$f":"IF(OR($I37=\"\",COUNTA($AG37:$AI37)=0),\"\",IF(AND(AG37=\"-\",AH37=\"-\",AI37=\"-\"),\"-\",VLOOKUP(COUNTIF($AG37:$AI37,\"A\")-COUNTIF($AG37:$AI37,\"C\"),基本情報!$R$4:$S$10,2)))","v":""}]
[null,null,null,null,10715,null,null,15,{"$f":"IF(VLOOKUP($E38,学年名簿と評価・評定!$E$24:$K$573,5)=\"\",\"\",VLOOKUP($E38,学年名簿と評価・評定!$E$24:$K$573,5))","v":""},{"$f":"IF(VLOOKUP($E38,学年名簿と評価・評定!$E$24:$K$573,6)=\"\",\"\",VLOOKUP($E38,学年名簿と評価・評定!$E$24:$K$573,7))","v":""},null,"",null,null,null,{"$f":"IF(OR($I38=\"\",COUNTA($M38:$O38)=0),\"\",IF(AND(M38=\"-\",N38=\"-\",O38=\"-\"),\"-\",VLOOKUP(COUNTIF($M38:$O38,\"A\")-COUNTIF($M38:$O38,\"C\"),基本情報!$R$4:$S$10,2)))","v":""},null,null,null,null,null,"",null,null,null,{"$f":"IF(OR($I38=\"\",COUNTA($W38:$Y38)=0),\"\",IF(AND(W38=\"-\",X38=\"-\",Y38=\"-\"),\"-\",VLOOKUP(COUNTIF($W38:$Y38,\"A\")-COUNTIF($W38:$Y38,\"C\"),基本情報!$R$4:$S$10,2)))","v":""},null,null,null,null,null,"",null,null,null,{"$f":"IF(OR($I38=\"\",COUNTA($AG38:$AI38)=0),\"\",IF(AND(AG38=\"-\",AH38=\"-\",AI38=\"-\"),\"-\",VLOOKUP(COUNTIF($AG38:$AI38,\"A\")-COUNTIF($AG38:$AI38,\"C\"),基本情報!$R$4:$S$10,2)))","v":""}]
[null,null,null,null,10716,null,null,16,{"$f":"IF(VLOOKUP($E39,学年名簿と評価・評定!$E$24:$K$573,5)=\"\",\"\",VLOOKUP($E39,学年名簿と評価・評定!$E$24:$K$573,5))","v":""},{"$f":"IF(VLOOKUP($E39,学年名簿と評価・評定!$E$24:$K$573,6)=\"\",\"\",VLOOKUP($E39,学年名簿と評価・評定!$E$24:$K$573,7))","v":""},null,"",null,null,null,{"$f":"IF(OR($I39=\"\",COUNTA($M39:$O39)=0),\"\",IF(AND(M39=\"-\",N39=\"-\",O39=\"-\"),\"-\",VLOOKUP(COUNTIF($M39:$O39,\"A\")-COUNTIF($M39:$O39,\"C\"),基本情報!$R$4:$S$10,2)))","v":""},null,null,null,null,null,"",null,null,null,{"$f":"IF(OR($I39=\"\",COUNTA($W39:$Y39)=0),\"\",IF(AND(W39=\"-\",X39=\"-\",Y39=\"-\"),\"-\",VLOOKUP(COUNTIF($W39:$Y39,\"A\")-COUNTIF($W39:$Y39,\"C\"),基本情報!$R$4:$S$10,2)))","v":""},null,null,null,null,null,"",null,null,null,{"$f":"IF(OR($I39=\"\",COUNTA($AG39:$AI39)=0),\"\",IF(AND(AG39=\"-\",AH39=\"-\",AI39=\"-\"),\"-\",VLOOKUP(COUNTIF($AG39:$AI39,\"A\")-COUNTIF($AG39:$AI39,\"C\"),基本情報!$R$4:$S$10,2)))","v":""}]
[null,null,null,null,10717,null,null,17,{"$f":"IF(VLOOKUP($E40,学年名簿と評価・評定!$E$24:$K$573,5)=\"\",\"\",VLOOKUP($E40,学年名簿と評価・評定!$E$24:$K$573,5))","v":""},{"$f":"IF(VLOOKUP($E40,学年名簿と評価・評定!$E$24:$K$573,6)=\"\",\"\",VLOOKUP($E40,学年名簿と評価・評定!$E$24:$K$573,7))","v":""},null,"",null,null,null,{"$f":"IF(OR($I40=\"\",COUNTA($M40:$O40)=0),\"\",IF(AND(M40=\"-\",N40=\"-\",O40=\"-\"),\"-\",VLOOKUP(COUNTIF($M40:$O40,\"A\")-COUNTIF($M40:$O40,\"C\"),基本情報!$R$4:$S$10,2)))","v":""},null,null,null,null,null,"",null,null,null,{"$f":"IF(OR($I40=\"\",COUNTA($W40:$Y40)=0),\"\",IF(AND(W40=\"-\",X40=\"-\",Y40=\"-\"),\"-\",VLOOKUP(COUNTIF($W40:$Y40,\"A\")-COUNTIF($W40:$Y40,\"C\"),基本情報!$R$4:$S$10,2)))","v":""},null,null,null,null,null,"",null,null,null,{"$f":"IF(OR($I40=\"\",COUNTA($AG40:$AI40)=0),\"\",IF(AND(AG40=\"-\",AH40=\"-\",AI40=\"-\"),\"-\",VLOOKUP(COUNTIF($AG40:$AI40,\"A\")-COUNTIF($AG40:$AI40,\"C\"),基本情報!$R$4:$S$10,2)))","v":""}]
[null,null,null,null,10718,null,null,18,{"$f":"IF(VLOOKUP($E41,学年名簿と評価・評定!$E$24:$K$573,5)=\"\",\"\",VLOOKUP($E41,学年名簿と評価・評定!$E$24:$K$573,5))","v":""},{"$f":"IF(VLOOKUP($E41,学年名簿と評価・評定!$E$24:$K$573,6)=\"\",\"\",VLOOKUP($E41,学年名簿と評価・評定!$E$24:$K$573,7))","v":""},null,"",null,null,null,{"$f":"IF(OR($I41=\"\",COUNTA($M41:$O41)=0),\"\",IF(AND(M41=\"-\",N41=\"-\",O41=\"-\"),\"-\",VLOOKUP(COUNTIF($M41:$O41,\"A\")-COUNTIF($M41:$O41,\"C\"),基本情報!$R$4:$S$10,2)))","v":""},null,null,null,null,null,"",null,null,null,{"$f":"IF(OR($I41=\"\",COUNTA($W41:$Y41)=0),\"\",IF(AND(W41=\"-\",X41=\"-\",Y41=\"-\"),\"-\",VLOOKUP(COUNTIF($W41:$Y41,\"A\")-COUNTIF($W41:$Y41,\"C\"),基本情報!$R$4:$S$10,2)))","v":""},null,null,null,null,null,"",null,null,null,{"$f":"IF(OR($I41=\"\",COUNTA($AG41:$AI41)=0),\"\",IF(AND(AG41=\"-\",AH41=\"-\",AI41=\"-\"),\"-\",VLOOKUP(COUNTIF($AG41:$AI41,\"A\")-COUNTIF($AG41:$AI41,\"C\"),基本情報!$R$4:$S$10,2)))","v":""}]
[null,null,null,null,10719,null,null,19,{"$f":"IF(VLOOKUP($E42,学年名簿と評価・評定!$E$24:$K$573,5)=\"\",\"\",VLOOKUP($E42,学年名簿と評価・評定!$E$24:$K$573,5))","v":""},{"$f":"IF(VLOOKUP($E42,学年名簿と評価・評定!$E$24:$K$573,6)=\"\",\"\",VLOOKUP($E42,学年名簿と評価・評定!$E$24:$K$573,7))","v":""},null,"",null,null,null,{"$f":"IF(OR($I42=\"\",COUNTA($M42:$O42)=0),\"\",IF(AND(M42=\"-\",N42=\"-\",O42=\"-\"),\"-\",VLOOKUP(COUNTIF($M42:$O42,\"A\")-COUNTIF($M42:$O42,\"C\"),基本情報!$R$4:$S$10,2)))","v":""},null,null,null,null,null,"",null,null,null,{"$f":"IF(OR($I42=\"\",COUNTA($W42:$Y42)=0),\"\",IF(AND(W42=\"-\",X42=\"-\",Y42=\"-\"),\"-\",VLOOKUP(COUNTIF($W42:$Y42,\"A\")-COUNTIF($W42:$Y42,\"C\"),基本情報!$R$4:$S$10,2)))","v":""},null,null,null,null,null,"",null,null,null,{"$f":"IF(OR($I42=\"\",COUNTA($AG42:$AI42)=0),\"\",IF(AND(AG42=\"-\",AH42=\"-\",AI42=\"-\"),\"-\",VLOOKUP(COUNTIF($AG42:$AI42,\"A\")-COUNTIF($AG42:$AI42,\"C\"),基本情報!$R$4:$S$10,2)))","v":""}]
[null,null,null,null,10720,null,null,20,{"$f":"IF(VLOOKUP($E43,学年名簿と評価・評定!$E$24:$K$573,5)=\"\",\"\",VLOOKUP($E43,学年名簿と評価・評定!$E$24:$K$573,5))","v":""},{"$f":"IF(VLOOKUP($E43,学年名簿と評価・評定!$E$24:$K$573,6)=\"\",\"\",VLOOKUP($E43,学年名簿と評価・評定!$E$24:$K$573,7))","v":""},null,"",null,null,null,{"$f":"IF(OR($I43=\"\",COUNTA($M43:$O43)=0),\"\",IF(AND(M43=\"-\",N43=\"-\",O43=\"-\"),\"-\",VLOOKUP(COUNTIF($M43:$O43,\"A\")-COUNTIF($M43:$O43,\"C\"),基本情報!$R$4:$S$10,2)))","v":""},null,null,null,null,null,"",null,null,null,{"$f":"IF(OR($I43=\"\",COUNTA($W43:$Y43)=0),\"\",IF(AND(W43=\"-\",X43=\"-\",Y43=\"-\"),\"-\",VLOOKUP(COUNTIF($W43:$Y43,\"A\")-COUNTIF($W43:$Y43,\"C\"),基本情報!$R$4:$S$10,2)))","v":""},null,null,null,null,null,"",null,null,null,{"$f":"IF(OR($I43=\"\",COUNTA($AG43:$AI43)=0),\"\",IF(AND(AG43=\"-\",AH43=\"-\",AI43=\"-\"),\"-\",VLOOKUP(COUNTIF($AG43:$AI43,\"A\")-COUNTIF($AG43:$AI43,\"C\"),基本情報!$R$4:$S$10,2)))","v":""}]
[null,null,null,null,10721,null,null,21,{"$f":"IF(VLOOKUP($E44,学年名簿と評価・評定!$E$24:$K$573,5)=\"\",\"\",VLOOKUP($E44,学年名簿と評価・評定!$E$24:$K$573,5))","v":""},{"$f":"IF(VLOOKUP($E44,学年名簿と評価・評定!$E$24:$K$573,6)=\"\",\"\",VLOOKUP($E44,学年名簿と評価・評定!$E$24:$K$573,7))","v":""},null,"",null,null,null,{"$f":"IF(OR($I44=\"\",COUNTA($M44:$O44)=0),\"\",IF(AND(M44=\"-\",N44=\"-\",O44=\"-\"),\"-\",VLOOKUP(COUNTIF($M44:$O44,\"A\")-COUNTIF($M44:$O44,\"C\"),基本情報!$R$4:$S$10,2)))","v":""},null,null,null,null,null,"",null,null,null,{"$f":"IF(OR($I44=\"\",COUNTA($W44:$Y44)=0),\"\",IF(AND(W44=\"-\",X44=\"-\",Y44=\"-\"),\"-\",VLOOKUP(COUNTIF($W44:$Y44,\"A\")-COUNTIF($W44:$Y44,\"C\"),基本情報!$R$4:$S$10,2)))","v":""},null,null,null,null,null,"",null,null,null,{"$f":"IF(OR($I44=\"\",COUNTA($AG44:$AI44)=0),\"\",IF(AND(AG44=\"-\",AH44=\"-\",AI44=\"-\"),\"-\",VLOOKUP(COUNTIF($AG44:$AI44,\"A\")-COUNTIF($AG44:$AI44,\"C\"),基本情報!$R$4:$S$10,2)))","v":""}]
[null,null,null,null,10722,null,null,22,{"$f":"IF(VLOOKUP($E45,学年名簿と評価・評定!$E$24:$K$573,5)=\"\",\"\",VLOOKUP($E45,学年名簿と評価・評定!$E$24:$K$573,5))","v":""},{"$f":"IF(VLOOKUP($E45,学年名簿と評価・評定!$E$24:$K$573,6)=\"\",\"\",VLOOKUP($E45,学年名簿と評価・評定!$E$24:$K$573,7))","v":""},null,"",null,null,null,{"$f":"IF(OR($I45=\"\",COUNTA($M45:$O45)=0),\"\",IF(AND(M45=\"-\",N45=\"-\",O45=\"-\"),\"-\",VLOOKUP(COUNTIF($M45:$O45,\"A\")-COUNTIF($M45:$O45,\"C\"),基本情報!$R$4:$S$10,2)))","v":""},null,null,null,null,null,"",null,null,null,{"$f":"IF(OR($I45=\"\",COUNTA($W45:$Y45)=0),\"\",IF(AND(W45=\"-\",X45=\"-\",Y45=\"-\"),\"-\",VLOOKUP(COUNTIF($W45:$Y45,\"A\")-COUNTIF($W45:$Y45,\"C\"),基本情報!$R$4:$S$10,2)))","v":""},null,null,null,null,null,"",null,null,null,{"$f":"IF(OR($I45=\"\",COUNTA($AG45:$AI45)=0),\"\",IF(AND(AG45=\"-\",AH45=\"-\",AI45=\"-\"),\"-\",VLOOKUP(COUNTIF($AG45:$AI45,\"A\")-COUNTIF($AG45:$AI45,\"C\"),基本情報!$R$4:$S$10,2)))","v":""}]
[null,null,null,null,10723,null,null,23,{"$f":"IF(VLOOKUP($E46,学年名簿と評価・評定!$E$24:$K$573,5)=\"\",\"\",VLOOKUP($E46,学年名簿と評価・評定!$E$24:$K$573,5))","v":""},{"$f":"IF(VLOOKUP($E46,学年名簿と評価・評定!$E$24:$K$573,6)=\"\",\"\",VLOOKUP($E46,学年名簿と評価・評定!$E$24:$K$573,7))","v":""},null,"",null,null,null,{"$f":"IF(OR($I46=\"\",COUNTA($M46:$O46)=0),\"\",IF(AND(M46=\"-\",N46=\"-\",O46=\"-\"),\"-\",VLOOKUP(COUNTIF($M46:$O46,\"A\")-COUNTIF($M46:$O46,\"C\"),基本情報!$R$4:$S$10,2)))","v":""},null,null,null,null,null,"",null,null,null,{"$f":"IF(OR($I46=\"\",COUNTA($W46:$Y46)=0),\"\",IF(AND(W46=\"-\",X46=\"-\",Y46=\"-\"),\"-\",VLOOKUP(COUNTIF($W46:$Y46,\"A\")-COUNTIF($W46:$Y46,\"C\"),基本情報!$R$4:$S$10,2)))","v":""},null,null,null,null,null,"",null,null,null,{"$f":"IF(OR($I46=\"\",COUNTA($AG46:$AI46)=0),\"\",IF(AND(AG46=\"-\",AH46=\"-\",AI46=\"-\"),\"-\",VLOOKUP(COUNTIF($AG46:$AI46,\"A\")-COUNTIF($AG46:$AI46,\"C\"),基本情報!$R$4:$S$10,2)))","v":""}]
[null,null,null,null,10724,null,null,24,{"$f":"IF(VLOOKUP($E47,学年名簿と評価・評定!$E$24:$K$573,5)=\"\",\"\",VLOOKUP($E47,学年名簿と評価・評定!$E$24:$K$573,5))","v":""},{"$f":"IF(VLOOKUP($E47,学年名簿と評価・評定!$E$24:$K$573,6)=\"\",\"\",VLOOKUP($E47,学年名簿と評価・評定!$E$24:$K$573,7))","v":""},null,"",null,null,null,{"$f":"IF(OR($I47=\"\",COUNTA($M47:$O47)=0),\"\",IF(AND(M47=\"-\",N47=\"-\",O47=\"-\"),\"-\",VLOOKUP(COUNTIF($M47:$O47,\"A\")-COUNTIF($M47:$O47,\"C\"),基本情報!$R$4:$S$10,2)))","v":""},null,null,null,null,null,"",null,null,null,{"$f":"IF(OR($I47=\"\",COUNTA($W47:$Y47)=0),\"\",IF(AND(W47=\"-\",X47=\"-\",Y47=\"-\"),\"-\",VLOOKUP(COUNTIF($W47:$Y47,\"A\")-COUNTIF($W47:$Y47,\"C\"),基本情報!$R$4:$S$10,2)))","v":""},null,null,null,null,null,"",null,null,null,{"$f":"IF(OR($I47=\"\",COUNTA($AG47:$AI47)=0),\"\",IF(AND(AG47=\"-\",AH47=\"-\",AI47=\"-\"),\"-\",VLOOKUP(COUNTIF($AG47:$AI47,\"A\")-COUNTIF($AG47:$AI47,\"C\"),基本情報!$R$4:$S$10,2)))","v":""}]
[null,null,null,null,10725,null,null,25,{"$f":"IF(VLOOKUP($E48,学年名簿と評価・評定!$E$24:$K$573,5)=\"\",\"\",VLOOKUP($E48,学年名簿と評価・評定!$E$24:$K$573,5))","v":""},{"$f":"IF(VLOOKUP($E48,学年名簿と評価・評定!$E$24:$K$573,6)=\"\",\"\",VLOOKUP($E48,学年名簿と評価・評定!$E$24:$K$573,7))","v":""},null,"",null,null,null,{"$f":"IF(OR($I48=\"\",COUNTA($M48:$O48)=0),\"\",IF(AND(M48=\"-\",N48=\"-\",O48=\"-\"),\"-\",VLOOKUP(COUNTIF($M48:$O48,\"A\")-COUNTIF($M48:$O48,\"C\"),基本情報!$R$4:$S$10,2)))","v":""},null,null,null,null,null,"",null,null,null,{"$f":"IF(OR($I48=\"\",COUNTA($W48:$Y48)=0),\"\",IF(AND(W48=\"-\",X48=\"-\",Y48=\"-\"),\"-\",VLOOKUP(COUNTIF($W48:$Y48,\"A\")-COUNTIF($W48:$Y48,\"C\"),基本情報!$R$4:$S$10,2)))","v":""},null,null,null,null,null,"",null,null,null,{"$f":"IF(OR($I48=\"\",COUNTA($AG48:$AI48)=0),\"\",IF(AND(AG48=\"-\",AH48=\"-\",AI48=\"-\"),\"-\",VLOOKUP(COUNTIF($AG48:$AI48,\"A\")-COUNTIF($AG48:$AI48,\"C\"),基本情報!$R$4:$S$10,2)))","v":""}]
[null,null,null,null,10726,null,null,26,{"$f":"IF(VLOOKUP($E49,学年名簿と評価・評定!$E$24:$K$573,5)=\"\",\"\",VLOOKUP($E49,学年名簿と評価・評定!$E$24:$K$573,5))","v":""},{"$f":"IF(VLOOKUP($E49,学年名簿と評価・評定!$E$24:$K$573,6)=\"\",\"\",VLOOKUP($E49,学年名簿と評価・評定!$E$24:$K$573,7))","v":""},null,"",null,null,null,{"$f":"IF(OR($I49=\"\",COUNTA($M49:$O49)=0),\"\",IF(AND(M49=\"-\",N49=\"-\",O49=\"-\"),\"-\",VLOOKUP(COUNTIF($M49:$O49,\"A\")-COUNTIF($M49:$O49,\"C\"),基本情報!$R$4:$S$10,2)))","v":""},null,null,null,null,null,"",null,null,null,{"$f":"IF(OR($I49=\"\",COUNTA($W49:$Y49)=0),\"\",IF(AND(W49=\"-\",X49=\"-\",Y49=\"-\"),\"-\",VLOOKUP(COUNTIF($W49:$Y49,\"A\")-COUNTIF($W49:$Y49,\"C\"),基本情報!$R$4:$S$10,2)))","v":""},null,null,null,null,null,"",null,null,null,{"$f":"IF(OR($I49=\"\",COUNTA($AG49:$AI49)=0),\"\",IF(AND(AG49=\"-\",AH49=\"-\",AI49=\"-\"),\"-\",VLOOKUP(COUNTIF($AG49:$AI49,\"A\")-COUNTIF($AG49:$AI49,\"C\"),基本情報!$R$4:$S$10,2)))","v":""}]
[null,null,null,null,10727,null,null,27,{"$f":"IF(VLOOKUP($E50,学年名簿と評価・評定!$E$24:$K$573,5)=\"\",\"\",VLOOKUP($E50,学年名簿と評価・評定!$E$24:$K$573,5))","v":""},{"$f":"IF(VLOOKUP($E50,学年名簿と評価・評定!$E$24:$K$573,6)=\"\",\"\",VLOOKUP($E50,学年名簿と評価・評定!$E$24:$K$573,7))","v":""},null,"",null,null,null,{"$f":"IF(OR($I50=\"\",COUNTA($M50:$O50)=0),\"\",IF(AND(M50=\"-\",N50=\"-\",O50=\"-\"),\"-\",VLOOKUP(COUNTIF($M50:$O50,\"A\")-COUNTIF($M50:$O50,\"C\"),基本情報!$R$4:$S$10,2)))","v":""},null,null,null,null,null,"",null,null,null,{"$f":"IF(OR($I50=\"\",COUNTA($W50:$Y50)=0),\"\",IF(AND(W50=\"-\",X50=\"-\",Y50=\"-\"),\"-\",VLOOKUP(COUNTIF($W50:$Y50,\"A\")-COUNTIF($W50:$Y50,\"C\"),基本情報!$R$4:$S$10,2)))","v":""},null,null,null,null,null,"",null,null,null,{"$f":"IF(OR($I50=\"\",COUNTA($AG50:$AI50)=0),\"\",IF(AND(AG50=\"-\",AH50=\"-\",AI50=\"-\"),\"-\",VLOOKUP(COUNTIF($AG50:$AI50,\"A\")-COUNTIF($AG50:$AI50,\"C\"),基本情報!$R$4:$S$10,2)))","v":""}]
[null,null,null,null,10728,null,null,28,{"$f":"IF(VLOOKUP($E51,学年名簿と評価・評定!$E$24:$K$573,5)=\"\",\"\",VLOOKUP($E51,学年名簿と評価・評定!$E$24:$K$573,5))","v":""},{"$f":"IF(VLOOKUP($E51,学年名簿と評価・評定!$E$24:$K$573,6)=\"\",\"\",VLOOKUP($E51,学年名簿と評価・評定!$E$24:$K$573,7))","v":""},null,"",null,null,null,{"$f":"IF(OR($I51=\"\",COUNTA($M51:$O51)=0),\"\",IF(AND(M51=\"-\",N51=\"-\",O51=\"-\"),\"-\",VLOOKUP(COUNTIF($M51:$O51,\"A\")-COUNTIF($M51:$O51,\"C\"),基本情報!$R$4:$S$10,2)))","v":""},null,null,null,null,null,"",null,null,null,{"$f":"IF(OR($I51=\"\",COUNTA($W51:$Y51)=0),\"\",IF(AND(W51=\"-\",X51=\"-\",Y51=\"-\"),\"-\",VLOOKUP(COUNTIF($W51:$Y51,\"A\")-COUNTIF($W51:$Y51,\"C\"),基本情報!$R$4:$S$10,2)))","v":""},null,null,null,null,null,"",null,null,null,{"$f":"IF(OR($I51=\"\",COUNTA($AG51:$AI51)=0),\"\",IF(AND(AG51=\"-\",AH51=\"-\",AI51=\"-\"),\"-\",VLOOKUP(COUNTIF($AG51:$AI51,\"A\")-COUNTIF($AG51:$AI51,\"C\"),基本情報!$R$4:$S$10,2)))","v":""}]
[null,null,null,null,10729,null,null,29,{"$f":"IF(VLOOKUP($E52,学年名簿と評価・評定!$E$24:$K$573,5)=\"\",\"\",VLOOKUP($E52,学年名簿と評価・評定!$E$24:$K$573,5))","v":""},{"$f":"IF(VLOOKUP($E52,学年名簿と評価・評定!$E$24:$K$573,6)=\"\",\"\",VLOOKUP($E52,学年名簿と評価・評定!$E$24:$K$573,7))","v":""},null,"",null,null,null,{"$f":"IF(OR($I52=\"\",COUNTA($M52:$O52)=0),\"\",IF(AND(M52=\"-\",N52=\"-\",O52=\"-\"),\"-\",VLOOKUP(COUNTIF($M52:$O52,\"A\")-COUNTIF($M52:$O52,\"C\"),基本情報!$R$4:$S$10,2)))","v":""},null,null,null,null,null,"",null,null,null,{"$f":"IF(OR($I52=\"\",COUNTA($W52:$Y52)=0),\"\",IF(AND(W52=\"-\",X52=\"-\",Y52=\"-\"),\"-\",VLOOKUP(COUNTIF($W52:$Y52,\"A\")-COUNTIF($W52:$Y52,\"C\"),基本情報!$R$4:$S$10,2)))","v":""},null,null,null,null,null,"",null,null,null,{"$f":"IF(OR($I52=\"\",COUNTA($AG52:$AI52)=0),\"\",IF(AND(AG52=\"-\",AH52=\"-\",AI52=\"-\"),\"-\",VLOOKUP(COUNTIF($AG52:$AI52,\"A\")-COUNTIF($AG52:$AI52,\"C\"),基本情報!$R$4:$S$10,2)))","v":""}]
[null,null,null,null,10730,null,null,30,{"$f":"IF(VLOOKUP($E53,学年名簿と評価・評定!$E$24:$K$573,5)=\"\",\"\",VLOOKUP($E53,学年名簿と評価・評定!$E$24:$K$573,5))","v":""},{"$f":"IF(VLOOKUP($E53,学年名簿と評価・評定!$E$24:$K$573,6)=\"\",\"\",VLOOKUP($E53,学年名簿と評価・評定!$E$24:$K$573,7))","v":""},null,"",null,null,null,{"$f":"IF(OR($I53=\"\",COUNTA($M53:$O53)=0),\"\",IF(AND(M53=\"-\",N53=\"-\",O53=\"-\"),\"-\",VLOOKUP(COUNTIF($M53:$O53,\"A\")-COUNTIF($M53:$O53,\"C\"),基本情報!$R$4:$S$10,2)))","v":""},null,null,null,null,null,"",null,null,null,{"$f":"IF(OR($I53=\"\",COUNTA($W53:$Y53)=0),\"\",IF(AND(W53=\"-\",X53=\"-\",Y53=\"-\"),\"-\",VLOOKUP(COUNTIF($W53:$Y53,\"A\")-COUNTIF($W53:$Y53,\"C\"),基本情報!$R$4:$S$10,2)))","v":""},null,null,null,null,null,"",null,null,null,{"$f":"IF(OR($I53=\"\",COUNTA($AG53:$AI53)=0),\"\",IF(AND(AG53=\"-\",AH53=\"-\",AI53=\"-\"),\"-\",VLOOKUP(COUNTIF($AG53:$AI53,\"A\")-COUNTIF($AG53:$AI53,\"C\"),基本情報!$R$4:$S$10,2)))","v":""}]
[null,null,null,null,10731,null,null,31,{"$f":"IF(VLOOKUP($E54,学年名簿と評価・評定!$E$24:$K$573,5)=\"\",\"\",VLOOKUP($E54,学年名簿と評価・評定!$E$24:$K$573,5))","v":""},{"$f":"IF(VLOOKUP($E54,学年名簿と評価・評定!$E$24:$K$573,6)=\"\",\"\",VLOOKUP($E54,学年名簿と評価・評定!$E$24:$K$573,7))","v":""},null,"",null,null,null,{"$f":"IF(OR($I54=\"\",COUNTA($M54:$O54)=0),\"\",IF(AND(M54=\"-\",N54=\"-\",O54=\"-\"),\"-\",VLOOKUP(COUNTIF($M54:$O54,\"A\")-COUNTIF($M54:$O54,\"C\"),基本情報!$R$4:$S$10,2)))","v":""},null,null,null,null,null,"",null,null,null,{"$f":"IF(OR($I54=\"\",COUNTA($W54:$Y54)=0),\"\",IF(AND(W54=\"-\",X54=\"-\",Y54=\"-\"),\"-\",VLOOKUP(COUNTIF($W54:$Y54,\"A\")-COUNTIF($W54:$Y54,\"C\"),基本情報!$R$4:$S$10,2)))","v":""},null,null,null,null,null,"",null,null,null,{"$f":"IF(OR($I54=\"\",COUNTA($AG54:$AI54)=0),\"\",IF(AND(AG54=\"-\",AH54=\"-\",AI54=\"-\"),\"-\",VLOOKUP(COUNTIF($AG54:$AI54,\"A\")-COUNTIF($AG54:$AI54,\"C\"),基本情報!$R$4:$S$10,2)))","v":""}]
[null,null,null,null,10732,null,null,32,{"$f":"IF(VLOOKUP($E55,学年名簿と評価・評定!$E$24:$K$573,5)=\"\",\"\",VLOOKUP($E55,学年名簿と評価・評定!$E$24:$K$573,5))","v":""},{"$f":"IF(VLOOKUP($E55,学年名簿と評価・評定!$E$24:$K$573,6)=\"\",\"\",VLOOKUP($E55,学年名簿と評価・評定!$E$24:$K$573,7))","v":""},null,"",null,null,null,{"$f":"IF(OR($I55=\"\",COUNTA($M55:$O55)=0),\"\",IF(AND(M55=\"-\",N55=\"-\",O55=\"-\"),\"-\",VLOOKUP(COUNTIF($M55:$O55,\"A\")-COUNTIF($M55:$O55,\"C\"),基本情報!$R$4:$S$10,2)))","v":""},null,null,null,null,null,"",null,null,null,{"$f":"IF(OR($I55=\"\",COUNTA($W55:$Y55)=0),\"\",IF(AND(W55=\"-\",X55=\"-\",Y55=\"-\"),\"-\",VLOOKUP(COUNTIF($W55:$Y55,\"A\")-COUNTIF($W55:$Y55,\"C\"),基本情報!$R$4:$S$10,2)))","v":""},null,null,null,null,null,"",null,null,null,{"$f":"IF(OR($I55=\"\",COUNTA($AG55:$AI55)=0),\"\",IF(AND(AG55=\"-\",AH55=\"-\",AI55=\"-\"),\"-\",VLOOKUP(COUNTIF($AG55:$AI55,\"A\")-COUNTIF($AG55:$AI55,\"C\"),基本情報!$R$4:$S$10,2)))","v":""}]
[null,null,null,null,{"$f":"$I$8*10000+$I$9*100+$H56","v":10733},null,null,33,{"$f":"IF(VLOOKUP($E56,学年名簿と評価・評定!$E$24:$K$573,5)=\"\",\"\",VLOOKUP($E56,学年名簿と評価・評定!$E$24:$K$573,5))","v":""},{"$f":"IF(VLOOKUP($E56,学年名簿と評価・評定!$E$24:$K$573,6)=\"\",\"\",VLOOKUP($E56,学年名簿と評価・評定!$E$24:$K$573,7))","v":""},null,"",null,null,null,{"$f":"IF(OR($I56=\"\",COUNTA($M56:$O56)=0),\"\",IF(AND(M56=\"-\",N56=\"-\",O56=\"-\"),\"-\",VLOOKUP(COUNTIF($M56:$O56,\"A\")-COUNTIF($M56:$O56,\"C\"),基本情報!$R$4:$S$10,2)))","v":""},null,null,null,null,null,"",null,null,null,{"$f":"IF(OR($I56=\"\",COUNTA($W56:$Y56)=0),\"\",IF(AND(W56=\"-\",X56=\"-\",Y56=\"-\"),\"-\",VLOOKUP(COUNTIF($W56:$Y56,\"A\")-COUNTIF($W56:$Y56,\"C\"),基本情報!$R$4:$S$10,2)))","v":""},null,null,null,null,null,"",null,null,null,{"$f":"IF(OR($I56=\"\",COUNTA($AG56:$AI56)=0),\"\",IF(AND(AG56=\"-\",AH56=\"-\",AI56=\"-\"),\"-\",VLOOKUP(COUNTIF($AG56:$AI56,\"A\")-COUNTIF($AG56:$AI56,\"C\"),基本情報!$R$4:$S$10,2)))","v":""}]
[null,null,null,null,10734,null,null,34,{"$f":"IF(VLOOKUP($E57,学年名簿と評価・評定!$E$24:$K$573,5)=\"\",\"\",VLOOKUP($E57,学年名簿と評価・評定!$E$24:$K$573,5))","v":""},{"$f":"IF(VLOOKUP($E57,学年名簿と評価・評定!$E$24:$K$573,6)=\"\",\"\",VLOOKUP($E57,学年名簿と評価・評定!$E$24:$K$573,7))","v":""},null,"",null,null,null,{"$f":"IF(OR($I57=\"\",COUNTA($M57:$O57)=0),\"\",IF(AND(M57=\"-\",N57=\"-\",O57=\"-\"),\"-\",VLOOKUP(COUNTIF($M57:$O57,\"A\")-COUNTIF($M57:$O57,\"C\"),基本情報!$R$4:$S$10,2)))","v":""},null,null,null,null,null,"",null,null,null,{"$f":"IF(OR($I57=\"\",COUNTA($W57:$Y57)=0),\"\",IF(AND(W57=\"-\",X57=\"-\",Y57=\"-\"),\"-\",VLOOKUP(COUNTIF($W57:$Y57,\"A\")-COUNTIF($W57:$Y57,\"C\"),基本情報!$R$4:$S$10,2)))","v":""},null,null,null,null,null,"",null,null,null,{"$f":"IF(OR($I57=\"\",COUNTA($AG57:$AI57)=0),\"\",IF(AND(AG57=\"-\",AH57=\"-\",AI57=\"-\"),\"-\",VLOOKUP(COUNTIF($AG57:$AI57,\"A\")-COUNTIF($AG57:$AI57,\"C\"),基本情報!$R$4:$S$10,2)))","v":""}]
[null,null,null,null,10735,null,null,35,{"$f":"IF(VLOOKUP($E58,学年名簿と評価・評定!$E$24:$K$573,5)=\"\",\"\",VLOOKUP($E58,学年名簿と評価・評定!$E$24:$K$573,5))","v":""},{"$f":"IF(VLOOKUP($E58,学年名簿と評価・評定!$E$24:$K$573,6)=\"\",\"\",VLOOKUP($E58,学年名簿と評価・評定!$E$24:$K$573,7))","v":""},null,"",null,null,null,{"$f":"IF(OR($I58=\"\",COUNTA($M58:$O58)=0),\"\",IF(AND(M58=\"-\",N58=\"-\",O58=\"-\"),\"-\",VLOOKUP(COUNTIF($M58:$O58,\"A\")-COUNTIF($M58:$O58,\"C\"),基本情報!$R$4:$S$10,2)))","v":""},null,null,null,null,null,"",null,null,null,{"$f":"IF(OR($I58=\"\",COUNTA($W58:$Y58)=0),\"\",IF(AND(W58=\"-\",X58=\"-\",Y58=\"-\"),\"-\",VLOOKUP(COUNTIF($W58:$Y58,\"A\")-COUNTIF($W58:$Y58,\"C\"),基本情報!$R$4:$S$10,2)))","v":""},null,null,null,null,null,"",null,null,null,{"$f":"IF(OR($I58=\"\",COUNTA($AG58:$AI58)=0),\"\",IF(AND(AG58=\"-\",AH58=\"-\",AI58=\"-\"),\"-\",VLOOKUP(COUNTIF($AG58:$AI58,\"A\")-COUNTIF($AG58:$AI58,\"C\"),基本情報!$R$4:$S$10,2)))","v":""}]
[null,null,null,null,10736,null,null,36,{"$f":"IF(VLOOKUP($E59,学年名簿と評価・評定!$E$24:$K$573,5)=\"\",\"\",VLOOKUP($E59,学年名簿と評価・評定!$E$24:$K$573,5))","v":""},{"$f":"IF(VLOOKUP($E59,学年名簿と評価・評定!$E$24:$K$573,6)=\"\",\"\",VLOOKUP($E59,学年名簿と評価・評定!$E$24:$K$573,7))","v":""},null,"",null,null,null,{"$f":"IF(OR($I59=\"\",COUNTA($M59:$O59)=0),\"\",IF(AND(M59=\"-\",N59=\"-\",O59=\"-\"),\"-\",VLOOKUP(COUNTIF($M59:$O59,\"A\")-COUNTIF($M59:$O59,\"C\"),基本情報!$R$4:$S$10,2)))","v":""},null,null,null,null,null,"",null,null,null,{"$f":"IF(OR($I59=\"\",COUNTA($W59:$Y59)=0),\"\",IF(AND(W59=\"-\",X59=\"-\",Y59=\"-\"),\"-\",VLOOKUP(COUNTIF($W59:$Y59,\"A\")-COUNTIF($W59:$Y59,\"C\"),基本情報!$R$4:$S$10,2)))","v":""},null,null,null,null,null,"",null,null,null,{"$f":"IF(OR($I59=\"\",COUNTA($AG59:$AI59)=0),\"\",IF(AND(AG59=\"-\",AH59=\"-\",AI59=\"-\"),\"-\",VLOOKUP(COUNTIF($AG59:$AI59,\"A\")-COUNTIF($AG59:$AI59,\"C\"),基本情報!$R$4:$S$10,2)))","v":""}]
[null,null,null,null,10737,null,null,37,{"$f":"IF(VLOOKUP($E60,学年名簿と評価・評定!$E$24:$K$573,5)=\"\",\"\",VLOOKUP($E60,学年名簿と評価・評定!$E$24:$K$573,5))","v":""},{"$f":"IF(VLOOKUP($E60,学年名簿と評価・評定!$E$24:$K$573,6)=\"\",\"\",VLOOKUP($E60,学年名簿と評価・評定!$E$24:$K$573,7))","v":""},null,"",null,null,null,{"$f":"IF(OR($I60=\"\",COUNTA($M60:$O60)=0),\"\",IF(AND(M60=\"-\",N60=\"-\",O60=\"-\"),\"-\",VLOOKUP(COUNTIF($M60:$O60,\"A\")-COUNTIF($M60:$O60,\"C\"),基本情報!$R$4:$S$10,2)))","v":""},null,null,null,null,null,"",null,null,null,{"$f":"IF(OR($I60=\"\",COUNTA($W60:$Y60)=0),\"\",IF(AND(W60=\"-\",X60=\"-\",Y60=\"-\"),\"-\",VLOOKUP(COUNTIF($W60:$Y60,\"A\")-COUNTIF($W60:$Y60,\"C\"),基本情報!$R$4:$S$10,2)))","v":""},null,null,null,null,null,"",null,null,null,{"$f":"IF(OR($I60=\"\",COUNTA($AG60:$AI60)=0),\"\",IF(AND(AG60=\"-\",AH60=\"-\",AI60=\"-\"),\"-\",VLOOKUP(COUNTIF($AG60:$AI60,\"A\")-COUNTIF($AG60:$AI60,\"C\"),基本情報!$R$4:$S$10,2)))","v":""}]
[null,null,null,null,10738,null,null,38,{"$f":"IF(VLOOKUP($E61,学年名簿と評価・評定!$E$24:$K$573,5)=\"\",\"\",VLOOKUP($E61,学年名簿と評価・評定!$E$24:$K$573,5))","v":""},{"$f":"IF(VLOOKUP($E61,学年名簿と評価・評定!$E$24:$K$573,6)=\"\",\"\",VLOOKUP($E61,学年名簿と評価・評定!$E$24:$K$573,7))","v":""},null,"",null,null,null,{"$f":"IF(OR($I61=\"\",COUNTA($M61:$O61)=0),\"\",IF(AND(M61=\"-\",N61=\"-\",O61=\"-\"),\"-\",VLOOKUP(COUNTIF($M61:$O61,\"A\")-COUNTIF($M61:$O61,\"C\"),基本情報!$R$4:$S$10,2)))","v":""},null,null,null,null,null,"",null,null,null,{"$f":"IF(OR($I61=\"\",COUNTA($W61:$Y61)=0),\"\",IF(AND(W61=\"-\",X61=\"-\",Y61=\"-\"),\"-\",VLOOKUP(COUNTIF($W61:$Y61,\"A\")-COUNTIF($W61:$Y61,\"C\"),基本情報!$R$4:$S$10,2)))","v":""},null,null,null,null,null,"",null,null,null,{"$f":"IF(OR($I61=\"\",COUNTA($AG61:$AI61)=0),\"\",IF(AND(AG61=\"-\",AH61=\"-\",AI61=\"-\"),\"-\",VLOOKUP(COUNTIF($AG61:$AI61,\"A\")-COUNTIF($AG61:$AI61,\"C\"),基本情報!$R$4:$S$10,2)))","v":""}]
[null,null,null,null,10739,null,null,39,{"$f":"IF(VLOOKUP($E62,学年名簿と評価・評定!$E$24:$K$573,5)=\"\",\"\",VLOOKUP($E62,学年名簿と評価・評定!$E$24:$K$573,5))","v":""},{"$f":"IF(VLOOKUP($E62,学年名簿と評価・評定!$E$24:$K$573,6)=\"\",\"\",VLOOKUP($E62,学年名簿と評価・評定!$E$24:$K$573,7))","v":""},null,"",null,null,null,{"$f":"IF(OR($I62=\"\",COUNTA($M62:$O62)=0),\"\",IF(AND(M62=\"-\",N62=\"-\",O62=\"-\"),\"-\",VLOOKUP(COUNTIF($M62:$O62,\"A\")-COUNTIF($M62:$O62,\"C\"),基本情報!$R$4:$S$10,2)))","v":""},null,null,null,null,null,"",null,null,null,{"$f":"IF(OR($I62=\"\",COUNTA($W62:$Y62)=0),\"\",IF(AND(W62=\"-\",X62=\"-\",Y62=\"-\"),\"-\",VLOOKUP(COUNTIF($W62:$Y62,\"A\")-COUNTIF($W62:$Y62,\"C\"),基本情報!$R$4:$S$10,2)))","v":""},null,null,null,null,null,"",null,null,null,{"$f":"IF(OR($I62=\"\",COUNTA($AG62:$AI62)=0),\"\",IF(AND(AG62=\"-\",AH62=\"-\",AI62=\"-\"),\"-\",VLOOKUP(COUNTIF($AG62:$AI62,\"A\")-COUNTIF($AG62:$AI62,\"C\"),基本情報!$R$4:$S$10,2)))","v":""}]
[null,null,null,null,10740,null,null,40,{"$f":"IF(VLOOKUP($E63,学年名簿と評価・評定!$E$24:$K$573,5)=\"\",\"\",VLOOKUP($E63,学年名簿と評価・評定!$E$24:$K$573,5))","v":""},{"$f":"IF(VLOOKUP($E63,学年名簿と評価・評定!$E$24:$K$573,6)=\"\",\"\",VLOOKUP($E63,学年名簿と評価・評定!$E$24:$K$573,7))","v":""},null,"",null,null,null,{"$f":"IF(OR($I63=\"\",COUNTA($M63:$O63)=0),\"\",IF(AND(M63=\"-\",N63=\"-\",O63=\"-\"),\"-\",VLOOKUP(COUNTIF($M63:$O63,\"A\")-COUNTIF($M63:$O63,\"C\"),基本情報!$R$4:$S$10,2)))","v":""},null,null,null,null,null,"",null,null,null,{"$f":"IF(OR($I63=\"\",COUNTA($W63:$Y63)=0),\"\",IF(AND(W63=\"-\",X63=\"-\",Y63=\"-\"),\"-\",VLOOKUP(COUNTIF($W63:$Y63,\"A\")-COUNTIF($W63:$Y63,\"C\"),基本情報!$R$4:$S$10,2)))","v":""},null,null,null,null,null,"",null,null,null,{"$f":"IF(OR($I63=\"\",COUNTA($AG63:$AI63)=0),\"\",IF(AND(AG63=\"-\",AH63=\"-\",AI63=\"-\"),\"-\",VLOOKUP(COUNTIF($AG63:$AI63,\"A\")-COUNTIF($AG63:$AI63,\"C\"),基本情報!$R$4:$S$10,2)))","v":""}]
[null,null,null,null,10741,null,null,41,{"$f":"IF(VLOOKUP($E64,学年名簿と評価・評定!$E$24:$K$573,5)=\"\",\"\",VLOOKUP($E64,学年名簿と評価・評定!$E$24:$K$573,5))","v":""},{"$f":"IF(VLOOKUP($E64,学年名簿と評価・評定!$E$24:$K$573,6)=\"\",\"\",VLOOKUP($E64,学年名簿と評価・評定!$E$24:$K$573,7))","v":""},null,"",null,null,null,{"$f":"IF(OR($I64=\"\",COUNTA($M64:$O64)=0),\"\",IF(AND(M64=\"-\",N64=\"-\",O64=\"-\"),\"-\",VLOOKUP(COUNTIF($M64:$O64,\"A\")-COUNTIF($M64:$O64,\"C\"),基本情報!$R$4:$S$10,2)))","v":""},null,null,null,null,null,"",null,null,null,{"$f":"IF(OR($I64=\"\",COUNTA($W64:$Y64)=0),\"\",IF(AND(W64=\"-\",X64=\"-\",Y64=\"-\"),\"-\",VLOOKUP(COUNTIF($W64:$Y64,\"A\")-COUNTIF($W64:$Y64,\"C\"),基本情報!$R$4:$S$10,2)))","v":""},null,null,null,null,null,"",null,null,null,{"$f":"IF(OR($I64=\"\",COUNTA($AG64:$AI64)=0),\"\",IF(AND(AG64=\"-\",AH64=\"-\",AI64=\"-\"),\"-\",VLOOKUP(COUNTIF($AG64:$AI64,\"A\")-COUNTIF($AG64:$AI64,\"C\"),基本情報!$R$4:$S$10,2)))","v":""}]
[null,null,null,null,10742,null,null,42,{"$f":"IF(VLOOKUP($E65,学年名簿と評価・評定!$E$24:$K$573,5)=\"\",\"\",VLOOKUP($E65,学年名簿と評価・評定!$E$24:$K$573,5))","v":""},{"$f":"IF(VLOOKUP($E65,学年名簿と評価・評定!$E$24:$K$573,6)=\"\",\"\",VLOOKUP($E65,学年名簿と評価・評定!$E$24:$K$573,7))","v":""},null,"",null,null,null,{"$f":"IF(OR($I65=\"\",COUNTA($M65:$O65)=0),\"\",IF(AND(M65=\"-\",N65=\"-\",O65=\"-\"),\"-\",VLOOKUP(COUNTIF($M65:$O65,\"A\")-COUNTIF($M65:$O65,\"C\"),基本情報!$R$4:$S$10,2)))","v":""},null,null,null,null,null,"",null,null,null,{"$f":"IF(OR($I65=\"\",COUNTA($W65:$Y65)=0),\"\",IF(AND(W65=\"-\",X65=\"-\",Y65=\"-\"),\"-\",VLOOKUP(COUNTIF($W65:$Y65,\"A\")-COUNTIF($W65:$Y65,\"C\"),基本情報!$R$4:$S$10,2)))","v":""},null,null,null,null,null,"",null,null,null,{"$f":"IF(OR($I65=\"\",COUNTA($AG65:$AI65)=0),\"\",IF(AND(AG65=\"-\",AH65=\"-\",AI65=\"-\"),\"-\",VLOOKUP(COUNTIF($AG65:$AI65,\"A\")-COUNTIF($AG65:$AI65,\"C\"),基本情報!$R$4:$S$10,2)))","v":""}]
[null,null,null,null,10743,null,null,43,{"$f":"IF(VLOOKUP($E66,学年名簿と評価・評定!$E$24:$K$573,5)=\"\",\"\",VLOOKUP($E66,学年名簿と評価・評定!$E$24:$K$573,5))","v":""},{"$f":"IF(VLOOKUP($E66,学年名簿と評価・評定!$E$24:$K$573,6)=\"\",\"\",VLOOKUP($E66,学年名簿と評価・評定!$E$24:$K$573,7))","v":""},null,"",null,null,null,{"$f":"IF(OR($I66=\"\",COUNTA($M66:$O66)=0),\"\",IF(AND(M66=\"-\",N66=\"-\",O66=\"-\"),\"-\",VLOOKUP(COUNTIF($M66:$O66,\"A\")-COUNTIF($M66:$O66,\"C\"),基本情報!$R$4:$S$10,2)))","v":""},null,null,null,null,null,"",null,null,null,{"$f":"IF(OR($I66=\"\",COUNTA($W66:$Y66)=0),\"\",IF(AND(W66=\"-\",X66=\"-\",Y66=\"-\"),\"-\",VLOOKUP(COUNTIF($W66:$Y66,\"A\")-COUNTIF($W66:$Y66,\"C\"),基本情報!$R$4:$S$10,2)))","v":""},null,null,null,null,null,"",null,null,null,{"$f":"IF(OR($I66=\"\",COUNTA($AG66:$AI66)=0),\"\",IF(AND(AG66=\"-\",AH66=\"-\",AI66=\"-\"),\"-\",VLOOKUP(COUNTIF($AG66:$AI66,\"A\")-COUNTIF($AG66:$AI66,\"C\"),基本情報!$R$4:$S$10,2)))","v":""}]
[null,null,null,null,10744,null,null,44,{"$f":"IF(VLOOKUP($E67,学年名簿と評価・評定!$E$24:$K$573,5)=\"\",\"\",VLOOKUP($E67,学年名簿と評価・評定!$E$24:$K$573,5))","v":""},{"$f":"IF(VLOOKUP($E67,学年名簿と評価・評定!$E$24:$K$573,6)=\"\",\"\",VLOOKUP($E67,学年名簿と評価・評定!$E$24:$K$573,7))","v":""},null,"",null,null,null,{"$f":"IF(OR($I67=\"\",COUNTA($M67:$O67)=0),\"\",IF(AND(M67=\"-\",N67=\"-\",O67=\"-\"),\"-\",VLOOKUP(COUNTIF($M67:$O67,\"A\")-COUNTIF($M67:$O67,\"C\"),基本情報!$R$4:$S$10,2)))","v":""},null,null,null,null,null,"",null,null,null,{"$f":"IF(OR($I67=\"\",COUNTA($W67:$Y67)=0),\"\",IF(AND(W67=\"-\",X67=\"-\",Y67=\"-\"),\"-\",VLOOKUP(COUNTIF($W67:$Y67,\"A\")-COUNTIF($W67:$Y67,\"C\"),基本情報!$R$4:$S$10,2)))","v":""},null,null,null,null,null,"",null,null,null,{"$f":"IF(OR($I67=\"\",COUNTA($AG67:$AI67)=0),\"\",IF(AND(AG67=\"-\",AH67=\"-\",AI67=\"-\"),\"-\",VLOOKUP(COUNTIF($AG67:$AI67,\"A\")-COUNTIF($AG67:$AI67,\"C\"),基本情報!$R$4:$S$10,2)))","v":""}]
[null,null,null,null,10745,null,null,45,{"$f":"IF(VLOOKUP($E68,学年名簿と評価・評定!$E$24:$K$573,5)=\"\",\"\",VLOOKUP($E68,学年名簿と評価・評定!$E$24:$K$573,5))","v":""},{"$f":"IF(VLOOKUP($E68,学年名簿と評価・評定!$E$24:$K$573,6)=\"\",\"\",VLOOKUP($E68,学年名簿と評価・評定!$E$24:$K$573,7))","v":""},null,"",null,null,null,{"$f":"IF(OR($I68=\"\",COUNTA($M68:$O68)=0),\"\",IF(AND(M68=\"-\",N68=\"-\",O68=\"-\"),\"-\",VLOOKUP(COUNTIF($M68:$O68,\"A\")-COUNTIF($M68:$O68,\"C\"),基本情報!$R$4:$S$10,2)))","v":""},null,null,null,null,null,"",null,null,null,{"$f":"IF(OR($I68=\"\",COUNTA($W68:$Y68)=0),\"\",IF(AND(W68=\"-\",X68=\"-\",Y68=\"-\"),\"-\",VLOOKUP(COUNTIF($W68:$Y68,\"A\")-COUNTIF($W68:$Y68,\"C\"),基本情報!$R$4:$S$10,2)))","v":""},null,null,null,null,null,"",null,null,null,{"$f":"IF(OR($I68=\"\",COUNTA($AG68:$AI68)=0),\"\",IF(AND(AG68=\"-\",AH68=\"-\",AI68=\"-\"),\"-\",VLOOKUP(COUNTIF($AG68:$AI68,\"A\")-COUNTIF($AG68:$AI68,\"C\"),基本情報!$R$4:$S$10,2)))","v":""}]
[null,null,null,null,10746,null,null,46,{"$f":"IF(VLOOKUP($E69,学年名簿と評価・評定!$E$24:$K$573,5)=\"\",\"\",VLOOKUP($E69,学年名簿と評価・評定!$E$24:$K$573,5))","v":""},{"$f":"IF(VLOOKUP($E69,学年名簿と評価・評定!$E$24:$K$573,6)=\"\",\"\",VLOOKUP($E69,学年名簿と評価・評定!$E$24:$K$573,7))","v":""},null,"",null,null,null,{"$f":"IF(OR($I69=\"\",COUNTA($M69:$O69)=0),\"\",IF(AND(M69=\"-\",N69=\"-\",O69=\"-\"),\"-\",VLOOKUP(COUNTIF($M69:$O69,\"A\")-COUNTIF($M69:$O69,\"C\"),基本情報!$R$4:$S$10,2)))","v":""},null,null,null,null,null,"",null,null,null,{"$f":"IF(OR($I69=\"\",COUNTA($W69:$Y69)=0),\"\",IF(AND(W69=\"-\",X69=\"-\",Y69=\"-\"),\"-\",VLOOKUP(COUNTIF($W69:$Y69,\"A\")-COUNTIF($W69:$Y69,\"C\"),基本情報!$R$4:$S$10,2)))","v":""},null,null,null,null,null,"",null,null,null,{"$f":"IF(OR($I69=\"\",COUNTA($AG69:$AI69)=0),\"\",IF(AND(AG69=\"-\",AH69=\"-\",AI69=\"-\"),\"-\",VLOOKUP(COUNTIF($AG69:$AI69,\"A\")-COUNTIF($AG69:$AI69,\"C\"),基本情報!$R$4:$S$10,2)))","v":""}]
[null,null,null,null,10747,null,null,47,{"$f":"IF(VLOOKUP($E70,学年名簿と評価・評定!$E$24:$K$573,5)=\"\",\"\",VLOOKUP($E70,学年名簿と評価・評定!$E$24:$K$573,5))","v":""},{"$f":"IF(VLOOKUP($E70,学年名簿と評価・評定!$E$24:$K$573,6)=\"\",\"\",VLOOKUP($E70,学年名簿と評価・評定!$E$24:$K$573,7))","v":""},null,"",null,null,null,{"$f":"IF(OR($I70=\"\",COUNTA($M70:$O70)=0),\"\",IF(AND(M70=\"-\",N70=\"-\",O70=\"-\"),\"-\",VLOOKUP(COUNTIF($M70:$O70,\"A\")-COUNTIF($M70:$O70,\"C\"),基本情報!$R$4:$S$10,2)))","v":""},null,null,null,null,null,"",null,null,null,{"$f":"IF(OR($I70=\"\",COUNTA($W70:$Y70)=0),\"\",IF(AND(W70=\"-\",X70=\"-\",Y70=\"-\"),\"-\",VLOOKUP(COUNTIF($W70:$Y70,\"A\")-COUNTIF($W70:$Y70,\"C\"),基本情報!$R$4:$S$10,2)))","v":""},null,null,null,null,null,"",null,null,null,{"$f":"IF(OR($I70=\"\",COUNTA($AG70:$AI70)=0),\"\",IF(AND(AG70=\"-\",AH70=\"-\",AI70=\"-\"),\"-\",VLOOKUP(COUNTIF($AG70:$AI70,\"A\")-COUNTIF($AG70:$AI70,\"C\"),基本情報!$R$4:$S$10,2)))","v":""}]
[null,null,null,null,10748,null,null,48,{"$f":"IF(VLOOKUP($E71,学年名簿と評価・評定!$E$24:$K$573,5)=\"\",\"\",VLOOKUP($E71,学年名簿と評価・評定!$E$24:$K$573,5))","v":""},{"$f":"IF(VLOOKUP($E71,学年名簿と評価・評定!$E$24:$K$573,6)=\"\",\"\",VLOOKUP($E71,学年名簿と評価・評定!$E$24:$K$573,7))","v":""},null,"",null,null,null,{"$f":"IF(OR($I71=\"\",COUNTA($M71:$O71)=0),\"\",IF(AND(M71=\"-\",N71=\"-\",O71=\"-\"),\"-\",VLOOKUP(COUNTIF($M71:$O71,\"A\")-COUNTIF($M71:$O71,\"C\"),基本情報!$R$4:$S$10,2)))","v":""},null,null,null,null,null,"",null,null,null,{"$f":"IF(OR($I71=\"\",COUNTA($W71:$Y71)=0),\"\",IF(AND(W71=\"-\",X71=\"-\",Y71=\"-\"),\"-\",VLOOKUP(COUNTIF($W71:$Y71,\"A\")-COUNTIF($W71:$Y71,\"C\"),基本情報!$R$4:$S$10,2)))","v":""},null,null,null,null,null,"",null,null,null,{"$f":"IF(OR($I71=\"\",COUNTA($AG71:$AI71)=0),\"\",IF(AND(AG71=\"-\",AH71=\"-\",AI71=\"-\"),\"-\",VLOOKUP(COUNTIF($AG71:$AI71,\"A\")-COUNTIF($AG71:$AI71,\"C\"),基本情報!$R$4:$S$10,2)))","v":""}]
[null,null,null,null,10749,null,null,49,{"$f":"IF(VLOOKUP($E72,学年名簿と評価・評定!$E$24:$K$573,5)=\"\",\"\",VLOOKUP($E72,学年名簿と評価・評定!$E$24:$K$573,5))","v":""},{"$f":"IF(VLOOKUP($E72,学年名簿と評価・評定!$E$24:$K$573,6)=\"\",\"\",VLOOKUP($E72,学年名簿と評価・評定!$E$24:$K$573,7))","v":""},null,"",null,null,null,{"$f":"IF(OR($I72=\"\",COUNTA($M72:$O72)=0),\"\",IF(AND(M72=\"-\",N72=\"-\",O72=\"-\"),\"-\",VLOOKUP(COUNTIF($M72:$O72,\"A\")-COUNTIF($M72:$O72,\"C\"),基本情報!$R$4:$S$10,2)))","v":""},null,null,null,null,null,"",null,null,null,{"$f":"IF(OR($I72=\"\",COUNTA($W72:$Y72)=0),\"\",IF(AND(W72=\"-\",X72=\"-\",Y72=\"-\"),\"-\",VLOOKUP(COUNTIF($W72:$Y72,\"A\")-COUNTIF($W72:$Y72,\"C\"),基本情報!$R$4:$S$10,2)))","v":""},null,null,null,null,null,"",null,null,null,{"$f":"IF(OR($I72=\"\",COUNTA($AG72:$AI72)=0),\"\",IF(AND(AG72=\"-\",AH72=\"-\",AI72=\"-\"),\"-\",VLOOKUP(COUNTIF($AG72:$AI72,\"A\")-COUNTIF($AG72:$AI72,\"C\"),基本情報!$R$4:$S$10,2)))","v":""}]
[null,null,null,null,10750,null,null,50,{"$f":"IF(VLOOKUP($E73,学年名簿と評価・評定!$E$24:$K$573,5)=\"\",\"\",VLOOKUP($E73,学年名簿と評価・評定!$E$24:$K$573,5))","v":""},{"$f":"IF(VLOOKUP($E73,学年名簿と評価・評定!$E$24:$K$573,6)=\"\",\"\",VLOOKUP($E73,学年名簿と評価・評定!$E$24:$K$573,7))","v":""},null,"",null,null,null,{"$f":"IF(OR($I73=\"\",COUNTA($M73:$O73)=0),\"\",IF(AND(M73=\"-\",N73=\"-\",O73=\"-\"),\"-\",VLOOKUP(COUNTIF($M73:$O73,\"A\")-COUNTIF($M73:$O73,\"C\"),基本情報!$R$4:$S$10,2)))","v":""},null,null,null,null,null,"",null,null,null,{"$f":"IF(OR($I73=\"\",COUNTA($W73:$Y73)=0),\"\",IF(AND(W73=\"-\",X73=\"-\",Y73=\"-\"),\"-\",VLOOKUP(COUNTIF($W73:$Y73,\"A\")-COUNTIF($W73:$Y73,\"C\"),基本情報!$R$4:$S$10,2)))","v":""},null,null,null,null,null,"",null,null,null,{"$f":"IF(OR($I73=\"\",COUNTA($AG73:$AI73)=0),\"\",IF(AND(AG73=\"-\",AH73=\"-\",AI73=\"-\"),\"-\",VLOOKUP(COUNTIF($AG73:$AI73,\"A\")-COUNTIF($AG73:$AI73,\"C\"),基本情報!$R$4:$S$10,2)))","v":""}]

{"sheet":"8組","index":9,"n_rows":73,"n_cols":40,"rows_kept":73,"cut":false,"hidden":false,"merged":[[2,34,2,36],[2,37,2,39],[21,11,21,15],[21,21,21,25],[21,31,21,35],[2,11,2,13],[2,14,2,16],[2,17,2,19],[2,21,2,23],[2,24,2,26],[2,27,2,29],[2,31,2,33]]}
[]
[]
[null,null,null,null,null,null,null,null,null,null,null,"校長",null,null,"教頭",null,null,"教務",null,null,null,"校長",null,null,"教頭",null,null,"教務",null,null,null,"校長",null,null,"教頭",null,null,"教務"]
[]
[]
[]
[]
[null,null,null,null,null,null,null,null,{"$f":"基本情報!E4","v":1},null,null,null,1,2,3,4,5,"-",null,"平均",null,null,1,2,3,4,5,"-",null,"平均",null,null,1,2,3,4,5,"-",null,"平均"]
[null,null,null,null,null,null,null,null,8,null,null,1,{"$f":"学年名簿と評価・評定!M9","v":0},{"$f":"学年名簿と評価・評定!N9","v":0},{"$f":"学年名簿と評価・評定!O9","v":0},{"$f":"学年名簿と評価・評定!P9","v":0},{"$f":"学年名簿と評価・評定!Q9","v":1},{"$f":"学年名簿と評価・評定!R9","v":0},{"$f":"SUM(M9:R9)","v":1},{"$f":"学年名簿と評価・評定!T9","v":5},null,1,{"$f":"学年名簿と評価・評定!W9","v":1},{"$f":"学年名簿と評価・評定!X9","v":0},{"$f":"学年名簿と評価・評定!Y9","v":0},{"$f":"学年名簿と評価・評定!Z9","v":0},{"$f":"学年名簿と評価・評定!AA9","v":0},{"$f":"学年名簿と評価・評定!AB9","v":0},{"$f":"学年名簿と評価・評定!AC9","v":1},{"$f":"学年名簿と評価・評定!AD9","v":1},null,1,{"$f":"学年名簿と評価・評定!AG9","v":0},{"$f":"学年名簿と評価・評定!AH9","v":0},{"$f":"学年名簿と評価・評定!AI9","v":1},{"$f":"学年名簿と評価・評定!AJ9","v":0},{"$f":"学年名簿と評価・評定!AK9","v":0},{"$f":"学年名簿と評価・評定!AL9","v":0},{"$f":"学年名簿と評価・評定!AM9","v":1},{"$f":"学年名簿と評価・評定!AN9","v":3}]
[null,null,null,null,null,null,null,null,null,null,null,2,{"$f":"学年名簿と評価・評定!M10","v":0},{"$f":"学年名簿と評価・評定!N10","v":0},{"$f":"学年名簿と評価・評定!O10","v":0},{"$f":"学年名簿と評価・評定!P10","v":0},{"$f":"学年名簿と評価・評定!Q10","v":0},{"$f":"学年名簿と評価・評定!R10","v":0},{"$f":"SUM(M10:R10)","v":0},{"$f":"学年名簿と評価・評定!T10","v":""},null,2,{"$f":"学年名簿と評価・評定!W10","v":0},{"$f":"学年名簿と評価・評定!X10","v":0},{"$f":"学年名簿と評価・評定!Y10","v":0},{"$f":"学年名簿と評価・評定!Z10","v":0},{"$f":"学年名簿と評価・評定!AA10","v":0},{"$f":"学年名簿と評価・評定!AB10","v":0},{"$f":"学年名簿と評価・評定!AC10","v":0},{"$f":"学年名簿と評価・評定!AD10","v":""},null,2,{"$f":"学年名簿と評価・評定!AG10","v":0},{"$f":"学年名簿と評価・評定!AH10","v":0},{"$f":"学年名簿と評価・評定!AI10","v":0},{"$f":"学年名簿と評価・評定!AJ10","v":0},{"$f":"学年名簿と評価・評定!AK10","v":0},{"$f":"学年名簿と評価・評定!AL10","v":0},{"$f":"学年名簿と評価・評定!AM10","v":0},{"$f":"学年名簿と評価・評定!AN10","v":""}]
[null,null,null,null,null,null,null,null,null,null,null,3,{"$f":"学年名簿と評価・評定!M11","v":0},{"$f":"学年名簿と評価・評定!N11","v":0},{"$f":"学年名簿と評価・評定!O11","v":0},{"$f":"学年名簿と評価・評定!P11","v":0},{"$f":"学年名簿と評価・評定!Q11","v":0},{"$f":"学年名簿と評価・評定!R11","v":0},0,{"$f":"学年名簿と評価・評定!T11","v":""},null,3,{"$f":"学年名簿と評価・評定!W11","v":0},{"$f":"学年名簿と評価・評定!X11","v":0},{"$f":"学年名簿と評価・評定!Y11","v":0},{"$f":"学年名簿と評価・評定!Z11","v":0},{"$f":"学年名簿と評価・評定!AA11","v":0},{"$f":"学年名簿と評価・評定!AB11","v":0},{"$f":"学年名簿と評価・評定!AC11","v":0},{"$f":"学年名簿と評価・評定!AD11","v":""},null,3,{"$f":"学年名簿と評価・評定!AG11","v":0},{"$f":"学年名簿と評価・評定!AH11","v":0},{"$f":"学年名簿と評価・評定!AI11","v":0},{"$f":"学年名簿と評価・評定!AJ11","v":0},{"$f":"学年名簿と評価・評定!AK11","v":0},{"$f":"学年名簿と評価・評定!AL11","v":0},{"$f":"学年名簿と評価・評定!AM11","v":0},{"$f":"学年名簿と評価・評定!AN11","v":""}]
[null,null,null,null,null,null,null,null,null,null,null,4,{"$f":"学年名簿と評価・評定!M12","v":0},{"$f":"学年名簿と評価・評定!N12","v":0},{"$f":"学年名簿と評価・評定!O12","v":0},{"$f":"学年名簿と評価・評定!P12","v":0},{"$f":"学年名簿と評価・評定!Q12","v":0},{"$f":"学年名簿と評価・評定!R12","v":0},0,{"$f":"学年名簿と評価・評定!T12","v":""},null,4,{"$f":"学年名簿と評価・評定!W12","v":0},{"$f":"学年名簿と評価・評定!X12","v":0},{"$f":"学年名簿と評価・評定!Y12","v":0},{"$f":"学年名簿と評価・評定!Z12","v":0},{"$f":"学年名簿と評価・評定!AA12","v":0},{"$f":"学年名簿と評価・評定!AB12","v":0},{"$f":"学年名簿と評価・評定!AC12","v":0},{"$f":"学年名簿と評価・評定!AD12","v":""},null,4,{"$f":"学年名簿と評価・評定!AG12","v":0},{"$f":"学年名簿と評価・評定!AH12","v":0},{"$f":"学年名簿と評価・評定!AI12","v":0},{"$f":"学年名簿と評価・評定!AJ12","v":0},{"$f":"学年名簿と評価・評定!AK12","v":0},{"$f":"学年名簿と評価・評定!AL12","v":0},{"$f":"学年名簿と評価・評定!AM12","v":0},{"$f":"学年名簿と評価・評定!AN12","v":""}]
[null,null,null,null,null,null,null,null,null,null,null,5,{"$f":"学年名簿と評価・評定!M13","v":0},{"$f":"学年名簿と評価・評定!N13","v":0},{"$f":"学年名簿と評価・評定!O13","v":0},{"$f":"学年名簿と評価・評定!P13","v":0},{"$f":"学年名簿と評価・評定!Q13","v":0},{"$f":"学年名簿と評価・評定!R13","v":0},0,{"$f":"学年名簿と評価・評定!T13","v":""},null,5,{"$f":"学年名簿と評価・評定!W13","v":0},{"$f":"学年名簿と評価・評定!X13","v":0},{"$f":"学年名簿と評価・評定!Y13","v":0},{"$f":"学年名簿と評価・評定!Z13","v":0},{"$f":"学年名簿と評価・評定!AA13","v":0},{"$f":"学年名簿と評価・評定!AB13","v":0},{"$f":"学年名簿と評価・評定!AC13","v":0},{"$f":"学年名簿と評価・評定!AD13","v":""},null,5,{"$f":"学年名簿と評価・評定!AG13","v":0},{"$f":"学年名簿と評価・評定!AH13","v":0},{"$f":"学年名簿と評価・評定!AI13","v":0},{"$f":"学年名簿と評価・評定!AJ13","v":0},{"$f":"学年名簿と評価・評定!AK13","v":0},{"$f":"学年名簿と評価・評定!AL13","v":0},{"$f":"学年名簿と評価・評定!AM13","v":0},{"$f":"学年名簿と評価・評定!AN13","v":""}]
[null,null,null,null,null,null,null,null,null,null,null,6,{"$f":"学年名簿と評価・評定!M14","v":0},{"$f":"学年名簿と評価・評定!N14","v":0},{"$f":"学年名簿と評価・評定!O14","v":0},{"$f":"学年名簿と評価・評定!P14","v":0},{"$f":"学年名簿と評価・評定!Q14","v":0},{"$f":"学年名簿と評価・評定!R14","v":0},0,{"$f":"学年名簿と評価・評定!T14","v":""},null,6,{"$f":"学年名簿と評価・評定!W14","v":0},{"$f":"学年名簿と評価・評定!X14","v":0},{"$f":"学年名簿と評価・評定!Y14","v":0},{"$f":"学年名簿と評価・評定!Z14","v":0},{"$f":"学年名簿と評価・評定!AA14","v":0},{"$f":"学年名簿と評価・評定!AB14","v":0},{"$f":"学年名簿と評価・評定!AC14","v":0},{"$f":"学年名簿と評価・評定!AD14","v":""},null,6,{"$f":"学年名簿と評価・評定!AG14","v":0},{"$f":"学年名簿と評価・評定!AH14","v":0},{"$f":"学年名簿と評価・評定!AI14","v":0},{"$f":"学年名簿と評価・評定!AJ14","v":0},{"$f":"学年名簿と評価・評定!AK14","v":0},{"$f":"学年名簿と評価・評定!AL14","v":0},{"$f":"学年名簿と評価・評定!AM14","v":0},{"$f":"学年名簿と評価・評定!AN14","v":""}]
[null,null,null,null,null,null,null,null,null,null,null,7,{"$f":"学年名簿と評価・評定!M15","v":0},{"$f":"学年名簿と評価・評定!N15","v":0},{"$f":"学年名簿と評価・評定!O15","v":0},{"$f":"学年名簿と評価・評定!P15","v":0},{"$f":"学年名簿と評価・評定!Q15","v":0},{"$f":"学年名簿と評価・評定!R15","v":0},0,{"$f":"学年名簿と評価・評定!T15","v":""},null,7,{"$f":"学年名簿と評価・評定!W15","v":0},{"$f":"学年名簿と評価・評定!X15","v":0},{"$f":"学年名簿と評価・評定!Y15","v":0},{"$f":"学年名簿と評価・評定!Z15","v":0},{"$f":"学年名簿と評価・評定!AA15","v":0},{"$f":"学年名簿と評価・評定!AB15","v":0},{"$f":"学年名簿と評価・評定!AC15","v":0},{"$f":"学年名簿と評価・評定!AD15","v":""},null,7,{"$f":"学年名簿と評価・評定!AG15","v":0},{"$f":"学年名簿と評価・評定!AH15","v":0},{"$f":"学年名簿と評価・評定!AI15","v":0},{"$f":"学年名簿と評価・評定!AJ15","v":0},{"$f":"学年名簿と評価・評定!AK15","v":0},{"$f":"学年名簿と評価・評定!AL15","v":0},{"$f":"学年名簿と評価・評定!AM15","v":0},{"$f":"学年名簿と評価・評定!AN15","v":""}]
[null,null,null,null,null,null,null,null,null,null,null,8,{"$f":"学年名簿と評価・評定!M16","v":0},{"$f":"学年名簿と評価・評定!N16","v":0},{"$f":"学年名簿と評価・評定!O16","v":0},{"$f":"学年名簿と評価・評定!P16","v":0},{"$f":"学年名簿と評価・評定!Q16","v":0},{"$f":"学年名簿と評価・評定!R16","v":0},0,{"$f":"学年名簿と評価・評定!T16","v":""},null,8,{"$f":"学年名簿と評価・評定!W16","v":0},{"$f":"学年名簿と評価・評定!X16","v":0},{"$f":"学年名簿と評価・評定!Y16","v":0},{"$f":"学年名簿と評価・評定!Z16","v":0},{"$f":"学年名簿と評価・評定!AA16","v":0},{"$f":"学年名簿と評価・評定!AB16","v":0},{"$f":"学年名簿と評価・評定!AC16","v":0},{"$f":"学年名簿と評価・評定!AD16","v":""},null,8,{"$f":"学年名簿と評価・評定!AG16","v":0},{"$f":"学年名簿と評価・評定!AH16","v":0},{"$f":"学年名簿と評価・評定!AI16","v":0},{"$f":"学年名簿と評価・評定!AJ16","v":0},{"$f":"学年名簿と評価・評定!AK16","v":0},{"$f":"学年名簿と評価・評定!AL16","v":0},{"$f":"学年名簿と評価・評定!AM16","v":0},{"$f":"学年名簿と評価・評定!AN16","v":""}]
[null,null,null,null,null,null,null,null,null,null,null,9,{"$f":"学年名簿と評価・評定!M17","v":0},{"$f":"学年名簿と評価・評定!N17","v":0},{"$f":"学年名簿と評価・評定!O17","v":0},{"$f":"学年名簿と評価・評定!P17","v":0},{"$f":"学年名簿と評価・評定!Q17","v":0},{"$f":"学年名簿と評価・評定!R17","v":0},0,{"$f":"学年名簿と評価・評定!T17","v":""},null,9,{"$f":"学年名簿と評価・評定!W17","v":0},{"$f":"学年名簿と評価・評定!X17","v":0},{"$f":"学年名簿と評価・評定!Y17","v":0},{"$f":"学年名簿と評価・評定!Z17","v":0},{"$f":"学年名簿と評価・評定!AA17","v":0},{"$f":"学年名簿と評価・評定!AB17","v":0},{"$f":"学年名簿と評価・評定!AC17","v":0},{"$f":"学年名簿と評価・評定!AD17","v":""},null,9,{"$f":"学年名簿と評価・評定!AG17","v":0},{"$f":"学年名簿と評価・評定!AH17","v":0},{"$f":"学年名簿と評価・評定!AI17","v":0},{"$f":"学年名簿と評価・評定!AJ17","v":0},{"$f":"学年名簿と評価・評定!AK17","v":0},{"$f":"学年名簿と評価・評定!AL17","v":0},{"$f":"学年名簿と評価・評定!AM17","v":0},{"$f":"学年名簿と評価・評定!AN17","v":""}]
[null,null,null,null,null,null,null,null,null,null,null,10,{"$f":"学年名簿と評価・評定!M18","v":0},{"$f":"学年名簿と評価・評定!N18","v":0},{"$f":"学年名簿と評価・評定!O18","v":0},{"$f":"学年名簿と評価・評定!P18","v":0},{"$f":"学年名簿と評価・評定!Q18","v":0},{"$f":"学年名簿と評価・評定!R18","v":0},0,{"$f":"学年名簿と評価・評定!T18","v":""},null,10,{"$f":"学年名簿と評価・評定!W18","v":0},{"$f":"学年名簿と評価・評定!X18","v":0},{"$f":"学年名簿と評価・評定!Y18","v":0},{"$f":"学年名簿と評価・評定!Z18","v":0},{"$f":"学年名簿と評価・評定!AA18","v":0},{"$f":"学年名簿と評価・評定!AB18","v":0},{"$f":"学年名簿と評価・評定!AC18","v":0},{"$f":"学年名簿と評価・評定!AD18","v":""},null,10,{"$f":"学年名簿と評価・評定!AG18","v":0},{"$f":"学年名簿と評価・評定!AH18","v":0},{"$f":"学年名簿と評価・評定!AI18","v":0},{"$f":"学年名簿と評価・評定!AJ18","v":0},{"$f":"学年名簿と評価・評定!AK18","v":0},{"$f":"学年名簿と評価・評定!AL18","v":0},{"$f":"学年名簿と評価・評定!AM18","v":0},{"$f":"学年名簿と評価・評定!AN18","v":""}]
[null,null,null,null,null,null,null,null,null,null,null,11,{"$f":"学年名簿と評価・評定!M19","v":0},{"$f":"学年名簿と評価・評定!N19","v":0},{"$f":"学年名簿と評価・評定!O19","v":0},{"$f":"学年名簿と評価・評定!P19","v":0},{"$f":"学年名簿と評価・評定!Q19","v":0},{"$f":"学年名簿と評価・評定!R19","v":0},0,{"$f":"学年名簿と評価・評定!T19","v":""},null,11,{"$f":"学年名簿と評価・評定!W19","v":0},{"$f":"学年名簿と評価・評定!X19","v":0},{"$f":"学年名簿と評価・評定!Y19","v":0},{"$f":"学年名簿と評価・評定!Z19","v":0},{"$f":"学年名簿と評価・評定!AA19","v":0},{"$f":"学年名簿と評価・評定!AB19","v":0},{"$f":"学年名簿と評価・評定!AC19","v":0},{"$f":"学年名簿と評価・評定!AD19","v":""},null,11,{"$f":"学年名簿と評価・評定!AG19","v":0},{"$f":"学年名簿と評価・評定!AH19","v":0},{"$f":"学年名簿と評価・評定!AI19","v":0},{"$f":"学年名簿と評価・評定!AJ19","v":0},{"$f":"学年名簿と評価・評定!AK19","v":0},{"$f":"学年名簿と評価・評定!AL19","v":0},{"$f":"学年名簿と評価・評定!AM19","v":0},{"$f":"学年名簿と評価・評定!AN19","v":""}]
[null,null,null,null,null,null,null,null,{"$f":"基本情報!E6","v":"国語"},null,null,"計",{"$f":"学年名簿と評価・評定!M20","v":0},{"$f":"学年名簿と評価・評定!N20","v":0},{"$f":"学年名簿と評価・評定!O20","v":0},{"$f":"学年名簿と評価・評定!P20","v":0},{"$f":"学年名簿と評価・評定!Q20","v":1},{"$f":"学年名簿と評価・評定!R20","v":0},1,{"$f":"学年名簿と評価・評定!T20","v":5},null,"計",{"$f":"学年名簿と評価・評定!W20","v":1},{"$f":"学年名簿と評価・評定!X20","v":0},{"$f":"学年名簿と評価・評定!Y20","v":0},{"$f":"学年名簿と評価・評定!Z20","v":0},{"$f":"学年名簿と評価・評定!AA20","v":0},{"$f":"学年名簿と評価・評定!AB20","v":0},{"$f":"学年名簿と評価・評定!AC20","v":1},{"$f":"学年名簿と評価・評定!AD20","v":1},null,"計",{"$f":"学年名簿と評価・評定!AG20","v":0},{"$f":"学年名簿と評価・評定!AH20","v":0},{"$f":"学年名簿と評価・評定!AI20","v":1},{"$f":"学年名簿と評価・評定!AJ20","v":0},{"$f":"学年名簿と評価・評定!AK20","v":0},{"$f":"学年名簿と評価・評定!AL20","v":0},{"$f":"学年名簿と評価・評定!AM20","v":1},{"$f":"学年名簿と評価・評定!AN20","v":3}]
[]
[null,null,null,null,null,null,null,null,null,null,null,"前　　期",null,null,null,null,null,null,null,null,null,"後　　期",null,null,null,null,null,null,null,null,null,"学　　年"]
[null,null,null,null,null,null,null,"番","氏　　名","性",null,"評定",{"$f":"基本情報!P14","v":"知技"},{"$f":"基本情報!P15","v":"思判"},{"$f":"基本情報!P16","v":"学び"},"評定","CHECK",null,null,null,null,"評定",{"$f":"M23","v":"知技"},{"$f":"N23","v":"思判"},"学び","評定","CHECK",null,null,null,null,"評定","知技","思判","学び","評定","CHECK"]
[null,null,null,null,{"$f":"$I$8*10000+$I$9*100+$H24","v":10801},null,null,1,{"$f":"IF(VLOOKUP($E24,学年名簿と評価・評定!$E$24:$K$573,5)=\"\",\"\",VLOOKUP($E24,学年名簿と評価・評定!$E$24:$K$573,5))","v":""},{"$f":"IF(VLOOKUP($E24,学年名簿と評価・評定!$E$24:$K$573,6)=\"\",\"\",VLOOKUP($E24,学年名簿と評価・評定!$E$24:$K$573,7))","v":""},null,{"$f":"P24","v":""},null,null,null,{"$f":"IF(OR($I24=\"\",COUNTA($M24:$O24)=0),\"\",IF(AND(M24=\"-\",N24=\"-\",O24=\"-\"),\"-\",VLOOKUP(COUNTIF($M24:$O24,\"A\")-COUNTIF($M24:$O24,\"C\"),基本情報!$R$4:$S$10,2)))","v":""},null,null,null,null,null,{"$f":"Z24","v":""},null,null,null,{"$f":"IF(OR($I24=\"\",COUNTA($W24:$Y24)=0),\"\",IF(AND(W24=\"-\",X24=\"-\",Y24=\"-\"),\"-\",VLOOKUP(COUNTIF($W24:$Y24,\"A\")-COUNTIF($W24:$Y24,\"C\"),基本情報!$R$4:$S$10,2)))","v":""},null,null,null,null,null,{"$f":"AJ24","v":""},null,null,null,{"$f":"IF(OR($I24=\"\",COUNTA($AG24:$AI24)=0),\"\",IF(AND(AG24=\"-\",AH24=\"-\",AI24=\"-\"),\"-\",VLOOKUP(COUNTIF($AG24:$AI24,\"A\")-COUNTIF($AG24:$AI24,\"C\"),基本情報!$R$4:$S$10,2)))","v":""}]
[null,null,null,null,10802,null,null,2,{"$f":"IF(VLOOKUP($E25,学年名簿と評価・評定!$E$24:$K$573,5)=\"\",\"\",VLOOKUP($E25,学年名簿と評価・評定!$E$24:$K$573,5))","v":""},{"$f":"IF(VLOOKUP($E25,学年名簿と評価・評定!$E$24:$K$573,6)=\"\",\"\",VLOOKUP($E25,学年名簿と評価・評定!$E$24:$K$573,7))","v":""},null,{"$f":"P25","v":""},null,null,null,{"$f":"IF(OR($I25=\"\",COUNTA($M25:$O25)=0),\"\",IF(AND(M25=\"-\",N25=\"-\",O25=\"-\"),\"-\",VLOOKUP(COUNTIF($M25:$O25,\"A\")-COUNTIF($M25:$O25,\"C\"),基本情報!$R$4:$S$10,2)))","v":""},null,null,null,null,null,{"$f":"Z25","v":""},null,null,null,{"$f":"IF(OR($I25=\"\",COUNTA($W25:$Y25)=0),\"\",IF(AND(W25=\"-\",X25=\"-\",Y25=\"-\"),\"-\",VLOOKUP(COUNTIF($W25:$Y25,\"A\")-COUNTIF($W25:$Y25,\"C\"),基本情報!$R$4:$S$10,2)))","v":""},null,null,null,null,null,{"$f":"AJ25","v":""},null,null,null,{"$f":"IF(OR($I25=\"\",COUNTA($AG25:$AI25)=0),\"\",IF(AND(AG25=\"-\",AH25=\"-\",AI25=\"-\"),\"-\",VLOOKUP(COUNTIF($AG25:$AI25,\"A\")-COUNTIF($AG25:$AI25,\"C\"),基本情報!$R$4:$S$10,2)))","v":""}]
[null,null,null,null,10803,null,null,3,{"$f":"IF(VLOOKUP($E26,学年名簿と評価・評定!$E$24:$K$573,5)=\"\",\"\",VLOOKUP($E26,学年名簿と評価・評定!$E$24:$K$573,5))","v":""},{"$f":"IF(VLOOKUP($E26,学年名簿と評価・評定!$E$24:$K$573,6)=\"\",\"\",VLOOKUP($E26,学年名簿と評価・評定!$E$24:$K$573,7))","v":""},null,"",null,null,null,{"$f":"IF(OR($I26=\"\",COUNTA($M26:$O26)=0),\"\",IF(AND(M26=\"-\",N26=\"-\",O26=\"-\"),\"-\",VLOOKUP(COUNTIF($M26:$O26,\"A\")-COUNTIF($M26:$O26,\"C\"),基本情報!$R$4:$S$10,2)))","v":""},null,null,null,null,null,{"$f":"Z26","v":""},null,null,null,{"$f":"IF(OR($I26=\"\",COUNTA($W26:$Y26)=0),\"\",IF(AND(W26=\"-\",X26=\"-\",Y26=\"-\"),\"-\",VLOOKUP(COUNTIF($W26:$Y26,\"A\")-COUNTIF($W26:$Y26,\"C\"),基本情報!$R$4:$S$10,2)))","v":""},null,null,null,null,null,"",null,null,null,{"$f":"IF(OR($I26=\"\",COUNTA($AG26:$AI26)=0),\"\",IF(AND(AG26=\"-\",AH26=\"-\",AI26=\"-\"),\"-\",VLOOKUP(COUNTIF($AG26:$AI26,\"A\")-COUNTIF($AG26:$AI26,\"C\"),基本情報!$R$4:$S$10,2)))","v":""}]
[null,null,null,null,10804,null,null,4,{"$f":"IF(VLOOKUP($E27,学年名簿と評価・評定!$E$24:$K$573,5)=\"\",\"\",VLOOKUP($E27,学年名簿と評価・評定!$E$24:$K$573,5))","v":""},{"$f":"IF(VLOOKUP($E27,学年名簿と評価・評定!$E$24:$K$573,6)=\"\",\"\",VLOOKUP($E27,学年名簿と評価・評定!$E$24:$K$573,7))","v":""},null,"",null,null,null,{"$f":"IF(OR($I27=\"\",COUNTA($M27:$O27)=0),\"\",IF(AND(M27=\"-\",N27=\"-\",O27=\"-\"),\"-\",VLOOKUP(COUNTIF($M27:$O27,\"A\")-COUNTIF($M27:$O27,\"C\"),基本情報!$R$4:$S$10,2)))","v":""},null,null,null,null,null,"",null,null,null,{"$f":"IF(OR($I27=\"\",COUNTA($W27:$Y27)=0),\"\",IF(AND(W27=\"-\",X27=\"-\",Y27=\"-\"),\"-\",VLOOKUP(COUNTIF($W27:$Y27,\"A\")-COUNTIF($W27:$Y27,\"C\"),基本情報!$R$4:$S$10,2)))","v":""},null,null,null,null,null,"",null,null,null,{"$f":"IF(OR($I27=\"\",COUNTA($AG27:$AI27)=0),\"\",IF(AND(AG27=\"-\",AH27=\"-\",AI27=\"-\"),\"-\",VLOOKUP(COUNTIF($AG27:$AI27,\"A\")-COUNTIF($AG27:$AI27,\"C\"),基本情報!$R$4:$S$10,2)))","v":""}]
[null,null,null,null,10805,null,null,5,{"$f":"IF(VLOOKUP($E28,学年名簿と評価・評定!$E$24:$K$573,5)=\"\",\"\",VLOOKUP($E28,学年名簿と評価・評定!$E$24:$K$573,5))","v":""},{"$f":"IF(VLOOKUP($E28,学年名簿と評価・評定!$E$24:$K$573,6)=\"\",\"\",VLOOKUP($E28,学年名簿と評価・評定!$E$24:$K$573,7))","v":""},null,"",null,null,null,{"$f":"IF(OR($I28=\"\",COUNTA($M28:$O28)=0),\"\",IF(AND(M28=\"-\",N28=\"-\",O28=\"-\"),\"-\",VLOOKUP(COUNTIF($M28:$O28,\"A\")-COUNTIF($M28:$O28,\"C\"),基本情報!$R$4:$S$10,2)))","v":""},null,null,null,null,null,"",null,null,null,{"$f":"IF(OR($I28=\"\",COUNTA($W28:$Y28)=0),\"\",IF(AND(W28=\"-\",X28=\"-\",Y28=\"-\"),\"-\",VLOOKUP(COUNTIF($W28:$Y28,\"A\")-COUNTIF($W28:$Y28,\"C\"),基本情報!$R$4:$S$10,2)))","v":""},null,null,null,null,null,"",null,null,null,{"$f":"IF(OR($I28=\"\",COUNTA($AG28:$AI28)=0),\"\",IF(AND(AG28=\"-\",AH28=\"-\",AI28=\"-\"),\"-\",VLOOKUP(COUNTIF($AG28:$AI28,\"A\")-COUNTIF($AG28:$AI28,\"C\"),基本情報!$R$4:$S$10,2)))","v":""}]
[null,null,null,null,10806,null,null,6,{"$f":"IF(VLOOKUP($E29,学年名簿と評価・評定!$E$24:$K$573,5)=\"\",\"\",VLOOKUP($E29,学年名簿と評価・評定!$E$24:$K$573,5))","v":""},{"$f":"IF(VLOOKUP($E29,学年名簿と評価・評定!$E$24:$K$573,6)=\"\",\"\",VLOOKUP($E29,学年名簿と評価・評定!$E$24:$K$573,7))","v":""},null,"",null,null,null,{"$f":"IF(OR($I29=\"\",COUNTA($M29:$O29)=0),\"\",IF(AND(M29=\"-\",N29=\"-\",O29=\"-\"),\"-\",VLOOKUP(COUNTIF($M29:$O29,\"A\")-COUNTIF($M29:$O29,\"C\"),基本情報!$R$4:$S$10,2)))","v":""},null,null,null,null,null,"",null,null,null,{"$f":"IF(OR($I29=\"\",COUNTA($W29:$Y29)=0),\"\",IF(AND(W29=\"-\",X29=\"-\",Y29=\"-\"),\"-\",VLOOKUP(COUNTIF($W29:$Y29,\"A\")-COUNTIF($W29:$Y29,\"C\"),基本情報!$R$4:$S$10,2)))","v":""},null,null,null,null,null,"",null,null,null,{"$f":"IF(OR($I29=\"\",COUNTA($AG29:$AI29)=0),\"\",IF(AND(AG29=\"-\",AH29=\"-\",AI29=\"-\"),\"-\",VLOOKUP(COUNTIF($AG29:$AI29,\"A\")-COUNTIF($AG29:$AI29,\"C\"),基本情報!$R$4:$S$10,2)))","v":""}]
[null,null,null,null,10807,null,null,7,{"$f":"IF(VLOOKUP($E30,学年名簿と評価・評定!$E$24:$K$573,5)=\"\",\"\",VLOOKUP($E30,学年名簿と評価・評定!$E$24:$K$573,5))","v":""},{"$f":"IF(VLOOKUP($E30,学年名簿と評価・評定!$E$24:$K$573,6)=\"\",\"\",VLOOKUP($E30,学年名簿と評価・評定!$E$24:$K$573,7))","v":""},null,"",null,null,null,{"$f":"IF(OR($I30=\"\",COUNTA($M30:$O30)=0),\"\",IF(AND(M30=\"-\",N30=\"-\",O30=\"-\"),\"-\",VLOOKUP(COUNTIF($M30:$O30,\"A\")-COUNTIF($M30:$O30,\"C\"),基本情報!$R$4:$S$10,2)))","v":""},null,null,null,null,null,"",null,null,null,{"$f":"IF(OR($I30=\"\",COUNTA($W30:$Y30)=0),\"\",IF(AND(W30=\"-\",X30=\"-\",Y30=\"-\"),\"-\",VLOOKUP(COUNTIF($W30:$Y30,\"A\")-COUNTIF($W30:$Y30,\"C\"),基本情報!$R$4:$S$10,2)))","v":""},null,null,null,null,null,"",null,null,null,{"$f":"IF(OR($I30=\"\",COUNTA($AG30:$AI30)=0),\"\",IF(AND(AG30=\"-\",AH30=\"-\",AI30=\"-\"),\"-\",VLOOKUP(COUNTIF($AG30:$AI30,\"A\")-COUNTIF($AG30:$AI30,\"C\"),基本情報!$R$4:$S$10,2)))","v":""}]
[null,null,null,null,10808,null,null,8,{"$f":"IF(VLOOKUP($E31,学年名簿と評価・評定!$E$24:$K$573,5)=\"\",\"\",VLOOKUP($E31,学年名簿と評価・評定!$E$24:$K$573,5))","v":""},{"$f":"IF(VLOOKUP($E31,学年名簿と評価・評定!$E$24:$K$573,6)=\"\",\"\",VLOOKUP($E31,学年名簿と評価・評定!$E$24:$K$573,7))","v":""},null,"",null,null,null,{"$f":"IF(OR($I31=\"\",COUNTA($M31:$O31)=0),\"\",IF(AND(M31=\"-\",N31=\"-\",O31=\"-\"),\"-\",VLOOKUP(COUNTIF($M31:$O31,\"A\")-COUNTIF($M31:$O31,\"C\"),基本情報!$R$4:$S$10,2)))","v":""},null,null,null,null,null,"",null,null,null,{"$f":"IF(OR($I31=\"\",COUNTA($W31:$Y31)=0),\"\",IF(AND(W31=\"-\",X31=\"-\",Y31=\"-\"),\"-\",VLOOKUP(COUNTIF($W31:$Y31,\"A\")-COUNTIF($W31:$Y31,\"C\"),基本情報!$R$4:$S$10,2)))","v":""},null,null,null,null,null,"",null,null,null,{"$f":"IF(OR($I31=\"\",COUNTA($AG31:$AI31)=0),\"\",IF(AND(AG31=\"-\",AH31=\"-\",AI31=\"-\"),\"-\",VLOOKUP(COUNTIF($AG31:$AI31,\"A\")-COUNTIF($AG31:$AI31,\"C\"),基本情報!$R$4:$S$10,2)))","v":""}]
[null,null,null,null,10809,null,null,9,{"$f":"IF(VLOOKUP($E32,学年名簿と評価・評定!$E$24:$K$573,5)=\"\",\"\",VLOOKUP($E32,学年名簿と評価・評定!$E$24:$K$573,5))","v":""},{"$f":"IF(VLOOKUP($E32,学年名簿と評価・評定!$E$24:$K$573,6)=\"\",\"\",VLOOKUP($E32,学年名簿と評価・評定!$E$24:$K$573,7))","v":""},null,"",null,null,null,{"$f":"IF(OR($I32=\"\",COUNTA($M32:$O32)=0),\"\",IF(AND(M32=\"-\",N32=\"-\",O32=\"-\"),\"-\",VLOOKUP(COUNTIF($M32:$O32,\"A\")-COUNTIF($M32:$O32,\"C\"),基本情報!$R$4:$S$10,2)))","v":""},null,null,null,null,null,"",null,null,null,{"$f":"IF(OR($I32=\"\",COUNTA($W32:$Y32)=0),\"\",IF(AND(W32=\"-\",X32=\"-\",Y32=\"-\"),\"-\",VLOOKUP(COUNTIF($W32:$Y32,\"A\")-COUNTIF($W32:$Y32,\"C\"),基本情報!$R$4:$S$10,2)))","v":""},null,null,null,null,null,"",null,null,null,{"$f":"IF(OR($I32=\"\",COUNTA($AG32:$AI32)=0),\"\",IF(AND(AG32=\"-\",AH32=\"-\",AI32=\"-\"),\"-\",VLOOKUP(COUNTIF($AG32:$AI32,\"A\")-COUNTIF($AG32:$AI32,\"C\"),基本情報!$R$4:$S$10,2)))","v":""}]
[null,null,null,null,10810,null,null,10,{"$f":"IF(VLOOKUP($E33,学年名簿と評価・評定!$E$24:$K$573,5)=\"\",\"\",VLOOKUP($E33,学年名簿と評価・評定!$E$24:$K$573,5))","v":""},{"$f":"IF(VLOOKUP($E33,学年名簿と評価・評定!$E$24:$K$573,6)=\"\",\"\",VLOOKUP($E33,学年名簿と評価・評定!$E$24:$K$573,7))","v":""},null,"",null,null,null,{"$f":"IF(OR($I33=\"\",COUNTA($M33:$O33)=0),\"\",IF(AND(M33=\"-\",N33=\"-\",O33=\"-\"),\"-\",VLOOKUP(COUNTIF($M33:$O33,\"A\")-COUNTIF($M33:$O33,\"C\"),基本情報!$R$4:$S$10,2)))","v":""},null,null,null,null,null,"",null,null,null,{"$f":"IF(OR($I33=\"\",COUNTA($W33:$Y33)=0),\"\",IF(AND(W33=\"-\",X33=\"-\",Y33=\"-\"),\"-\",VLOOKUP(COUNTIF($W33:$Y33,\"A\")-COUNTIF($W33:$Y33,\"C\"),基本情報!$R$4:$S$10,2)))","v":""},null,null,null,null,null,"",null,null,null,{"$f":"IF(OR($I33=\"\",COUNTA($AG33:$AI33)=0),\"\",IF(AND(AG33=\"-\",AH33=\"-\",AI33=\"-\"),\"-\",VLOOKUP(COUNTIF($AG33:$AI33,\"A\")-COUNTIF($AG33:$AI33,\"C\"),基本情報!$R$4:$S$10,2)))","v":""}]
[null,null,null,null,10811,null,null,11,{"$f":"IF(VLOOKUP($E34,学年名簿と評価・評定!$E$24:$K$573,5)=\"\",\"\",VLOOKUP($E34,学年名簿と評価・評定!$E$24:$K$573,5))","v":""},{"$f":"IF(VLOOKUP($E34,学年名簿と評価・評定!$E$24:$K$573,6)=\"\",\"\",VLOOKUP($E34,学年名簿と評価・評定!$E$24:$K$573,7))","v":""},null,"",null,null,null,{"$f":"IF(OR($I34=\"\",COUNTA($M34:$O34)=0),\"\",IF(AND(M34=\"-\",N34=\"-\",O34=\"-\"),\"-\",VLOOKUP(COUNTIF($M34:$O34,\"A\")-COUNTIF($M34:$O34,\"C\"),基本情報!$R$4:$S$10,2)))","v":""},null,null,null,null,null,"",null,null,null,{"$f":"IF(OR($I34=\"\",COUNTA($W34:$Y34)=0),\"\",IF(AND(W34=\"-\",X34=\"-\",Y34=\"-\"),\"-\",VLOOKUP(COUNTIF($W34:$Y34,\"A\")-COUNTIF($W34:$Y34,\"C\"),基本情報!$R$4:$S$10,2)))","v":""},null,null,null,null,null,"",null,null,null,{"$f":"IF(OR($I34=\"\",COUNTA($AG34:$AI34)=0),\"\",IF(AND(AG34=\"-\",AH34=\"-\",AI34=\"-\"),\"-\",VLOOKUP(COUNTIF($AG34:$AI34,\"A\")-COUNTIF($AG34:$AI34,\"C\"),基本情報!$R$4:$S$10,2)))","v":""}]
[null,null,null,null,10812,null,null,12,{"$f":"IF(VLOOKUP($E35,学年名簿と評価・評定!$E$24:$K$573,5)=\"\",\"\",VLOOKUP($E35,学年名簿と評価・評定!$E$24:$K$573,5))","v":""},{"$f":"IF(VLOOKUP($E35,学年名簿と評価・評定!$E$24:$K$573,6)=\"\",\"\",VLOOKUP($E35,学年名簿と評価・評定!$E$24:$K$573,7))","v":""},null,"",null,null,null,{"$f":"IF(OR($I35=\"\",COUNTA($M35:$O35)=0),\"\",IF(AND(M35=\"-\",N35=\"-\",O35=\"-\"),\"-\",VLOOKUP(COUNTIF($M35:$O35,\"A\")-COUNTIF($M35:$O35,\"C\"),基本情報!$R$4:$S$10,2)))","v":""},null,null,null,null,null,"",null,null,null,{"$f":"IF(OR($I35=\"\",COUNTA($W35:$Y35)=0),\"\",IF(AND(W35=\"-\",X35=\"-\",Y35=\"-\"),\"-\",VLOOKUP(COUNTIF($W35:$Y35,\"A\")-COUNTIF($W35:$Y35,\"C\"),基本情報!$R$4:$S$10,2)))","v":""},null,null,null,null,null,"",null,null,null,{"$f":"IF(OR($I35=\"\",COUNTA($AG35:$AI35)=0),\"\",IF(AND(AG35=\"-\",AH35=\"-\",AI35=\"-\"),\"-\",VLOOKUP(COUNTIF($AG35:$AI35,\"A\")-COUNTIF($AG35:$AI35,\"C\"),基本情報!$R$4:$S$10,2)))","v":""}]
[null,null,null,null,10813,null,null,13,{"$f":"IF(VLOOKUP($E36,学年名簿と評価・評定!$E$24:$K$573,5)=\"\",\"\",VLOOKUP($E36,学年名簿と評価・評定!$E$24:$K$573,5))","v":""},{"$f":"IF(VLOOKUP($E36,学年名簿と評価・評定!$E$24:$K$573,6)=\"\",\"\",VLOOKUP($E36,学年名簿と評価・評定!$E$24:$K$573,7))","v":""},null,"",null,null,null,{"$f":"IF(OR($I36=\"\",COUNTA($M36:$O36)=0),\"\",IF(AND(M36=\"-\",N36=\"-\",O36=\"-\"),\"-\",VLOOKUP(COUNTIF($M36:$O36,\"A\")-COUNTIF($M36:$O36,\"C\"),基本情報!$R$4:$S$10,2)))","v":""},null,null,null,null,null,"",null,null,null,{"$f":"IF(OR($I36=\"\",COUNTA($W36:$Y36)=0),\"\",IF(AND(W36=\"-\",X36=\"-\",Y36=\"-\"),\"-\",VLOOKUP(COUNTIF($W36:$Y36,\"A\")-COUNTIF($W36:$Y36,\"C\"),基本情報!$R$4:$S$10,2)))","v":""},null,null,null,null,null,"",null,null,null,{"$f":"IF(OR($I36=\"\",COUNTA($AG36:$AI36)=0),\"\",IF(AND(AG36=\"-\",AH36=\"-\",AI36=\"-\"),\"-\",VLOOKUP(COUNTIF($AG36:$AI36,\"A\")-COUNTIF($AG36:$AI36,\"C\"),基本情報!$R$4:$S$10,2)))","v":""}]
[null,null,null,null,10814,null,null,14,{"$f":"IF(VLOOKUP($E37,学年名簿と評価・評定!$E$24:$K$573,5)=\"\",\"\",VLOOKUP($E37,学年名簿と評価・評定!$E$24:$K$573,5))","v":""},{"$f":"IF(VLOOKUP($E37,学年名簿と評価・評定!$E$24:$K$573,6)=\"\",\"\",VLOOKUP($E37,学年名簿と評価・評定!$E$24:$K$573,7))","v":""},null,"",null,null,null,{"$f":"IF(OR($I37=\"\",COUNTA($M37:$O37)=0),\"\",IF(AND(M37=\"-\",N37=\"-\",O37=\"-\"),\"-\",VLOOKUP(COUNTIF($M37:$O37,\"A\")-COUNTIF($M37:$O37,\"C\"),基本情報!$R$4:$S$10,2)))","v":""},null,null,null,null,null,"",null,null,null,{"$f":"IF(OR($I37=\"\",COUNTA($W37:$Y37)=0),\"\",IF(AND(W37=\"-\",X37=\"-\",Y37=\"-\"),\"-\",VLOOKUP(COUNTIF($W37:$Y37,\"A\")-COUNTIF($W37:$Y37,\"C\"),基本情報!$R$4:$S$10,2)))","v":""},null,null,null,null,null,"",null,null,null,{"$f":"IF(OR($I37=\"\",COUNTA($AG37:$AI37)=0),\"\",IF(AND(AG37=\"-\",AH37=\"-\",AI37=\"-\"),\"-\",VLOOKUP(COUNTIF($AG37:$AI37,\"A\")-COUNTIF($AG37:$AI37,\"C\"),基本情報!$R$4:$S$10,2)))","v":""}]
[null,null,null,null,10815,null,null,15,{"$f":"IF(VLOOKUP($E38,学年名簿と評価・評定!$E$24:$K$573,5)=\"\",\"\",VLOOKUP($E38,学年名簿と評価・評定!$E$24:$K$573,5))","v":""},{"$f":"IF(VLOOKUP($E38,学年名簿と評価・評定!$E$24:$K$573,6)=\"\",\"\",VLOOKUP($E38,学年名簿と評価・評定!$E$24:$K$573,7))","v":""},null,"",null,null,null,{"$f":"IF(OR($I38=\"\",COUNTA($M38:$O38)=0),\"\",IF(AND(M38=\"-\",N38=\"-\",O38=\"-\"),\"-\",VLOOKUP(COUNTIF($M38:$O38,\"A\")-COUNTIF($M38:$O38,\"C\"),基本情報!$R$4:$S$10,2)))","v":""},null,null,null,null,null,"",null,null,null,{"$f":"IF(OR($I38=\"\",COUNTA($W38:$Y38)=0),\"\",IF(AND(W38=\"-\",X38=\"-\",Y38=\"-\"),\"-\",VLOOKUP(COUNTIF($W38:$Y38,\"A\")-COUNTIF($W38:$Y38,\"C\"),基本情報!$R$4:$S$10,2)))","v":""},null,null,null,null,null,"",null,null,null,{"$f":"IF(OR($I38=\"\",COUNTA($AG38:$AI38)=0),\"\",IF(AND(AG38=\"-\",AH38=\"-\",AI38=\"-\"),\"-\",VLOOKUP(COUNTIF($AG38:$AI38,\"A\")-COUNTIF($AG38:$AI38,\"C\"),基本情報!$R$4:$S$10,2)))","v":""}]
[null,null,null,null,10816,null,null,16,{"$f":"IF(VLOOKUP($E39,学年名簿と評価・評定!$E$24:$K$573,5)=\"\",\"\",VLOOKUP($E39,学年名簿と評価・評定!$E$24:$K$573,5))","v":""},{"$f":"IF(VLOOKUP($E39,学年名簿と評価・評定!$E$24:$K$573,6)=\"\",\"\",VLOOKUP($E39,学年名簿と評価・評定!$E$24:$K$573,7))","v":""},null,"",null,null,null,{"$f":"IF(OR($I39=\"\",COUNTA($M39:$O39)=0),\"\",IF(AND(M39=\"-\",N39=\"-\",O39=\"-\"),\"-\",VLOOKUP(COUNTIF($M39:$O39,\"A\")-COUNTIF($M39:$O39,\"C\"),基本情報!$R$4:$S$10,2)))","v":""},null,null,null,null,null,"",null,null,null,{"$f":"IF(OR($I39=\"\",COUNTA($W39:$Y39)=0),\"\",IF(AND(W39=\"-\",X39=\"-\",Y39=\"-\"),\"-\",VLOOKUP(COUNTIF($W39:$Y39,\"A\")-COUNTIF($W39:$Y39,\"C\"),基本情報!$R$4:$S$10,2)))","v":""},null,null,null,null,null,"",null,null,null,{"$f":"IF(OR($I39=\"\",COUNTA($AG39:$AI39)=0),\"\",IF(AND(AG39=\"-\",AH39=\"-\",AI39=\"-\"),\"-\",VLOOKUP(COUNTIF($AG39:$AI39,\"A\")-COUNTIF($AG39:$AI39,\"C\"),基本情報!$R$4:$S$10,2)))","v":""}]
[null,null,null,null,10817,null,null,17,{"$f":"IF(VLOOKUP($E40,学年名簿と評価・評定!$E$24:$K$573,5)=\"\",\"\",VLOOKUP($E40,学年名簿と評価・評定!$E$24:$K$573,5))","v":""},{"$f":"IF(VLOOKUP($E40,学年名簿と評価・評定!$E$24:$K$573,6)=\"\",\"\",VLOOKUP($E40,学年名簿と評価・評定!$E$24:$K$573,7))","v":""},null,"",null,null,null,{"$f":"IF(OR($I40=\"\",COUNTA($M40:$O40)=0),\"\",IF(AND(M40=\"-\",N40=\"-\",O40=\"-\"),\"-\",VLOOKUP(COUNTIF($M40:$O40,\"A\")-COUNTIF($M40:$O40,\"C\"),基本情報!$R$4:$S$10,2)))","v":""},null,null,null,null,null,"",null,null,null,{"$f":"IF(OR($I40=\"\",COUNTA($W40:$Y40)=0),\"\",IF(AND(W40=\"-\",X40=\"-\",Y40=\"-\"),\"-\",VLOOKUP(COUNTIF($W40:$Y40,\"A\")-COUNTIF($W40:$Y40,\"C\"),基本情報!$R$4:$S$10,2)))","v":""},null,null,null,null,null,"",null,null,null,{"$f":"IF(OR($I40=\"\",COUNTA($AG40:$AI40)=0),\"\",IF(AND(AG40=\"-\",AH40=\"-\",AI40=\"-\"),\"-\",VLOOKUP(COUNTIF($AG40:$AI40,\"A\")-COUNTIF($AG40:$AI40,\"C\"),基本情報!$R$4:$S$10,2)))","v":""}]
[null,null,null,null,10818,null,null,18,{"$f":"IF(VLOOKUP($E41,学年名簿と評価・評定!$E$24:$K$573,5)=\"\",\"\",VLOOKUP($E41,学年名簿と評価・評定!$E$24:$K$573,5))","v":""},{"$f":"IF(VLOOKUP($E41,学年名簿と評価・評定!$E$24:$K$573,6)=\"\",\"\",VLOOKUP($E41,学年名簿と評価・評定!$E$24:$K$573,7))","v":""},null,"",null,null,null,{"$f":"IF(OR($I41=\"\",COUNTA($M41:$O41)=0),\"\",IF(AND(M41=\"-\",N41=\"-\",O41=\"-\"),\"-\",VLOOKUP(COUNTIF($M41:$O41,\"A\")-COUNTIF($M41:$O41,\"C\"),基本情報!$R$4:$S$10,2)))","v":""},null,null,null,null,null,"",null,null,null,{"$f":"IF(OR($I41=\"\",COUNTA($W41:$Y41)=0),\"\",IF(AND(W41=\"-\",X41=\"-\",Y41=\"-\"),\"-\",VLOOKUP(COUNTIF($W41:$Y41,\"A\")-COUNTIF($W41:$Y41,\"C\"),基本情報!$R$4:$S$10,2)))","v":""},null,null,null,null,null,"",null,null,null,{"$f":"IF(OR($I41=\"\",COUNTA($AG41:$AI41)=0),\"\",IF(AND(AG41=\"-\",AH41=\"-\",AI41=\"-\"),\"-\",VLOOKUP(COUNTIF($AG41:$AI41,\"A\")-COUNTIF($AG41:$AI41,\"C\"),基本情報!$R$4:$S$10,2)))","v":""}]
[null,null,null,null,10819,null,null,19,{"$f":"IF(VLOOKUP($E42,学年名簿と評価・評定!$E$24:$K$573,5)=\"\",\"\",VLOOKUP($E42,学年名簿と評価・評定!$E$24:$K$573,5))","v":""},{"$f":"IF(VLOOKUP($E42,学年名簿と評価・評定!$E$24:$K$573,6)=\"\",\"\",VLOOKUP($E42,学年名簿と評価・評定!$E$24:$K$573,7))","v":""},null,"",null,null,null,{"$f":"IF(OR($I42=\"\",COUNTA($M42:$O42)=0),\"\",IF(AND(M42=\"-\",N42=\"-\",O42=\"-\"),\"-\",VLOOKUP(COUNTIF($M42:$O42,\"A\")-COUNTIF($M42:$O42,\"C\"),基本情報!$R$4:$S$10,2)))","v":""},null,null,null,null,null,"",null,null,null,{"$f":"IF(OR($I42=\"\",COUNTA($W42:$Y42)=0),\"\",IF(AND(W42=\"-\",X42=\"-\",Y42=\"-\"),\"-\",VLOOKUP(COUNTIF($W42:$Y42,\"A\")-COUNTIF($W42:$Y42,\"C\"),基本情報!$R$4:$S$10,2)))","v":""},null,null,null,null,null,"",null,null,null,{"$f":"IF(OR($I42=\"\",COUNTA($AG42:$AI42)=0),\"\",IF(AND(AG42=\"-\",AH42=\"-\",AI42=\"-\"),\"-\",VLOOKUP(COUNTIF($AG42:$AI42,\"A\")-COUNTIF($AG42:$AI42,\"C\"),基本情報!$R$4:$S$10,2)))","v":""}]
[null,null,null,null,10820,null,null,20,{"$f":"IF(VLOOKUP($E43,学年名簿と評価・評定!$E$24:$K$573,5)=\"\",\"\",VLOOKUP($E43,学年名簿と評価・評定!$E$24:$K$573,5))","v":""},{"$f":"IF(VLOOKUP($E43,学年名簿と評価・評定!$E$24:$K$573,6)=\"\",\"\",VLOOKUP($E43,学年名簿と評価・評定!$E$24:$K$573,7))","v":""},null,"",null,null,null,{"$f":"IF(OR($I43=\"\",COUNTA($M43:$O43)=0),\"\",IF(AND(M43=\"-\",N43=\"-\",O43=\"-\"),\"-\",VLOOKUP(COUNTIF($M43:$O43,\"A\")-COUNTIF($M43:$O43,\"C\"),基本情報!$R$4:$S$10,2)))","v":""},null,null,null,null,null,"",null,null,null,{"$f":"IF(OR($I43=\"\",COUNTA($W43:$Y43)=0),\"\",IF(AND(W43=\"-\",X43=\"-\",Y43=\"-\"),\"-\",VLOOKUP(COUNTIF($W43:$Y43,\"A\")-COUNTIF($W43:$Y43,\"C\"),基本情報!$R$4:$S$10,2)))","v":""},null,null,null,null,null,"",null,null,null,{"$f":"IF(OR($I43=\"\",COUNTA($AG43:$AI43)=0),\"\",IF(AND(AG43=\"-\",AH43=\"-\",AI43=\"-\"),\"-\",VLOOKUP(COUNTIF($AG43:$AI43,\"A\")-COUNTIF($AG43:$AI43,\"C\"),基本情報!$R$4:$S$10,2)))","v":""}]
[null,null,null,null,10821,null,null,21,{"$f":"IF(VLOOKUP($E44,学年名簿と評価・評定!$E$24:$K$573,5)=\"\",\"\",VLOOKUP($E44,学年名簿と評価・評定!$E$24:$K$573,5))","v":""},{"$f":"IF(VLOOKUP($E44,学年名簿と評価・評定!$E$24:$K$573,6)=\"\",\"\",VLOOKUP($E44,学年名簿と評価・評定!$E$24:$K$573,7))","v":""},null,"",null,null,null,{"$f":"IF(OR($I44=\"\",COUNTA($M44:$O44)=0),\"\",IF(AND(M44=\"-\",N44=\"-\",O44=\"-\"),\"-\",VLOOKUP(COUNTIF($M44:$O44,\"A\")-COUNTIF($M44:$O44,\"C\"),基本情報!$R$4:$S$10,2)))","v":""},null,null,null,null,null,"",null,null,null,{"$f":"IF(OR($I44=\"\",COUNTA($W44:$Y44)=0),\"\",IF(AND(W44=\"-\",X44=\"-\",Y44=\"-\"),\"-\",VLOOKUP(COUNTIF($W44:$Y44,\"A\")-COUNTIF($W44:$Y44,\"C\"),基本情報!$R$4:$S$10,2)))","v":""},null,null,null,null,null,"",null,null,null,{"$f":"IF(OR($I44=\"\",COUNTA($AG44:$AI44)=0),\"\",IF(AND(AG44=\"-\",AH44=\"-\",AI44=\"-\"),\"-\",VLOOKUP(COUNTIF($AG44:$AI44,\"A\")-COUNTIF($AG44:$AI44,\"C\"),基本情報!$R$4:$S$10,2)))","v":""}]
[null,null,null,null,10822,null,null,22,{"$f":"IF(VLOOKUP($E45,学年名簿と評価・評定!$E$24:$K$573,5)=\"\",\"\",VLOOKUP($E45,学年名簿と評価・評定!$E$24:$K$573,5))","v":""},{"$f":"IF(VLOOKUP($E45,学年名簿と評価・評定!$E$24:$K$573,6)=\"\",\"\",VLOOKUP($E45,学年名簿と評価・評定!$E$24:$K$573,7))","v":""},null,"",null,null,null,{"$f":"IF(OR($I45=\"\",COUNTA($M45:$O45)=0),\"\",IF(AND(M45=\"-\",N45=\"-\",O45=\"-\"),\"-\",VLOOKUP(COUNTIF($M45:$O45,\"A\")-COUNTIF($M45:$O45,\"C\"),基本情報!$R$4:$S$10,2)))","v":""},null,null,null,null,null,"",null,null,null,{"$f":"IF(OR($I45=\"\",COUNTA($W45:$Y45)=0),\"\",IF(AND(W45=\"-\",X45=\"-\",Y45=\"-\"),\"-\",VLOOKUP(COUNTIF($W45:$Y45,\"A\")-COUNTIF($W45:$Y45,\"C\"),基本情報!$R$4:$S$10,2)))","v":""},null,null,null,null,null,"",null,null,null,{"$f":"IF(OR($I45=\"\",COUNTA($AG45:$AI45)=0),\"\",IF(AND(AG45=\"-\",AH45=\"-\",AI45=\"-\"),\"-\",VLOOKUP(COUNTIF($AG45:$AI45,\"A\")-COUNTIF($AG45:$AI45,\"C\"),基本情報!$R$4:$S$10,2)))","v":""}]
[null,null,null,null,10823,null,null,23,{"$f":"IF(VLOOKUP($E46,学年名簿と評価・評定!$E$24:$K$573,5)=\"\",\"\",VLOOKUP($E46,学年名簿と評価・評定!$E$24:$K$573,5))","v":""},{"$f":"IF(VLOOKUP($E46,学年名簿と評価・評定!$E$24:$K$573,6)=\"\",\"\",VLOOKUP($E46,学年名簿と評価・評定!$E$24:$K$573,7))","v":""},null,"",null,null,null,{"$f":"IF(OR($I46=\"\",COUNTA($M46:$O46)=0),\"\",IF(AND(M46=\"-\",N46=\"-\",O46=\"-\"),\"-\",VLOOKUP(COUNTIF($M46:$O46,\"A\")-COUNTIF($M46:$O46,\"C\"),基本情報!$R$4:$S$10,2)))","v":""},null,null,null,null,null,"",null,null,null,{"$f":"IF(OR($I46=\"\",COUNTA($W46:$Y46)=0),\"\",IF(AND(W46=\"-\",X46=\"-\",Y46=\"-\"),\"-\",VLOOKUP(COUNTIF($W46:$Y46,\"A\")-COUNTIF($W46:$Y46,\"C\"),基本情報!$R$4:$S$10,2)))","v":""},null,null,null,null,null,"",null,null,null,{"$f":"IF(OR($I46=\"\",COUNTA($AG46:$AI46)=0),\"\",IF(AND(AG46=\"-\",AH46=\"-\",AI46=\"-\"),\"-\",VLOOKUP(COUNTIF($AG46:$AI46,\"A\")-COUNTIF($AG46:$AI46,\"C\"),基本情報!$R$4:$S$10,2)))","v":""}]
[null,null,null,null,10824,null,null,24,{"$f":"IF(VLOOKUP($E47,学年名簿と評価・評定!$E$24:$K$573,5)=\"\",\"\",VLOOKUP($E47,学年名簿と評価・評定!$E$24:$K$573,5))","v":""},{"$f":"IF(VLOOKUP($E47,学年名簿と評価・評定!$E$24:$K$573,6)=\"\",\"\",VLOOKUP($E47,学年名簿と評価・評定!$E$24:$K$573,7))","v":""},null,"",null,null,null,{"$f":"IF(OR($I47=\"\",COUNTA($M47:$O47)=0),\"\",IF(AND(M47=\"-\",N47=\"-\",O47=\"-\"),\"-\",VLOOKUP(COUNTIF($M47:$O47,\"A\")-COUNTIF($M47:$O47,\"C\"),基本情報!$R$4:$S$10,2)))","v":""},null,null,null,null,null,"",null,null,null,{"$f":"IF(OR($I47=\"\",COUNTA($W47:$Y47)=0),\"\",IF(AND(W47=\"-\",X47=\"-\",Y47=\"-\"),\"-\",VLOOKUP(COUNTIF($W47:$Y47,\"A\")-COUNTIF($W47:$Y47,\"C\"),基本情報!$R$4:$S$10,2)))","v":""},null,null,null,null,null,"",null,null,null,{"$f":"IF(OR($I47=\"\",COUNTA($AG47:$AI47)=0),\"\",IF(AND(AG47=\"-\",AH47=\"-\",AI47=\"-\"),\"-\",VLOOKUP(COUNTIF($AG47:$AI47,\"A\")-COUNTIF($AG47:$AI47,\"C\"),基本情報!$R$4:$S$10,2)))","v":""}]
[null,null,null,null,10825,null,null,25,{"$f":"IF(VLOOKUP($E48,学年名簿と評価・評定!$E$24:$K$573,5)=\"\",\"\",VLOOKUP($E48,学年名簿と評価・評定!$E$24:$K$573,5))","v":""},{"$f":"IF(VLOOKUP($E48,学年名簿と評価・評定!$E$24:$K$573,6)=\"\",\"\",VLOOKUP($E48,学年名簿と評価・評定!$E$24:$K$573,7))","v":""},null,"",null,null,null,{"$f":"IF(OR($I48=\"\",COUNTA($M48:$O48)=0),\"\",IF(AND(M48=\"-\",N48=\"-\",O48=\"-\"),\"-\",VLOOKUP(COUNTIF($M48:$O48,\"A\")-COUNTIF($M48:$O48,\"C\"),基本情報!$R$4:$S$10,2)))","v":""},null,null,null,null,null,"",null,null,null,{"$f":"IF(OR($I48=\"\",COUNTA($W48:$Y48)=0),\"\",IF(AND(W48=\"-\",X48=\"-\",Y48=\"-\"),\"-\",VLOOKUP(COUNTIF($W48:$Y48,\"A\")-COUNTIF($W48:$Y48,\"C\"),基本情報!$R$4:$S$10,2)))","v":""},null,null,null,null,null,"",null,null,null,{"$f":"IF(OR($I48=\"\",COUNTA($AG48:$AI48)=0),\"\",IF(AND(AG48=\"-\",AH48=\"-\",AI48=\"-\"),\"-\",VLOOKUP(COUNTIF($AG48:$AI48,\"A\")-COUNTIF($AG48:$AI48,\"C\"),基本情報!$R$4:$S$10,2)))","v":""}]
[null,null,null,null,10826,null,null,26,{"$f":"IF(VLOOKUP($E49,学年名簿と評価・評定!$E$24:$K$573,5)=\"\",\"\",VLOOKUP($E49,学年名簿と評価・評定!$E$24:$K$573,5))","v":""},{"$f":"IF(VLOOKUP($E49,学年名簿と評価・評定!$E$24:$K$573,6)=\"\",\"\",VLOOKUP($E49,学年名簿と評価・評定!$E$24:$K$573,7))","v":""},null,"",null,null,null,{"$f":"IF(OR($I49=\"\",COUNTA($M49:$O49)=0),\"\",IF(AND(M49=\"-\",N49=\"-\",O49=\"-\"),\"-\",VLOOKUP(COUNTIF($M49:$O49,\"A\")-COUNTIF($M49:$O49,\"C\"),基本情報!$R$4:$S$10,2)))","v":""},null,null,null,null,null,"",null,null,null,{"$f":"IF(OR($I49=\"\",COUNTA($W49:$Y49)=0),\"\",IF(AND(W49=\"-\",X49=\"-\",Y49=\"-\"),\"-\",VLOOKUP(COUNTIF($W49:$Y49,\"A\")-COUNTIF($W49:$Y49,\"C\"),基本情報!$R$4:$S$10,2)))","v":""},null,null,null,null,null,"",null,null,null,{"$f":"IF(OR($I49=\"\",COUNTA($AG49:$AI49)=0),\"\",IF(AND(AG49=\"-\",AH49=\"-\",AI49=\"-\"),\"-\",VLOOKUP(COUNTIF($AG49:$AI49,\"A\")-COUNTIF($AG49:$AI49,\"C\"),基本情報!$R$4:$S$10,2)))","v":""}]
[null,null,null,null,10827,null,null,27,{"$f":"IF(VLOOKUP($E50,学年名簿と評価・評定!$E$24:$K$573,5)=\"\",\"\",VLOOKUP($E50,学年名簿と評価・評定!$E$24:$K$573,5))","v":""},{"$f":"IF(VLOOKUP($E50,学年名簿と評価・評定!$E$24:$K$573,6)=\"\",\"\",VLOOKUP($E50,学年名簿と評価・評定!$E$24:$K$573,7))","v":""},null,"",null,null,null,{"$f":"IF(OR($I50=\"\",COUNTA($M50:$O50)=0),\"\",IF(AND(M50=\"-\",N50=\"-\",O50=\"-\"),\"-\",VLOOKUP(COUNTIF($M50:$O50,\"A\")-COUNTIF($M50:$O50,\"C\"),基本情報!$R$4:$S$10,2)))","v":""},null,null,null,null,null,"",null,null,null,{"$f":"IF(OR($I50=\"\",COUNTA($W50:$Y50)=0),\"\",IF(AND(W50=\"-\",X50=\"-\",Y50=\"-\"),\"-\",VLOOKUP(COUNTIF($W50:$Y50,\"A\")-COUNTIF($W50:$Y50,\"C\"),基本情報!$R$4:$S$10,2)))","v":""},null,null,null,null,null,"",null,null,null,{"$f":"IF(OR($I50=\"\",COUNTA($AG50:$AI50)=0),\"\",IF(AND(AG50=\"-\",AH50=\"-\",AI50=\"-\"),\"-\",VLOOKUP(COUNTIF($AG50:$AI50,\"A\")-COUNTIF($AG50:$AI50,\"C\"),基本情報!$R$4:$S$10,2)))","v":""}]
[null,null,null,null,10828,null,null,28,{"$f":"IF(VLOOKUP($E51,学年名簿と評価・評定!$E$24:$K$573,5)=\"\",\"\",VLOOKUP($E51,学年名簿と評価・評定!$E$24:$K$573,5))","v":""},{"$f":"IF(VLOOKUP($E51,学年名簿と評価・評定!$E$24:$K$573,6)=\"\",\"\",VLOOKUP($E51,学年名簿と評価・評定!$E$24:$K$573,7))","v":""},null,"",null,null,null,{"$f":"IF(OR($I51=\"\",COUNTA($M51:$O51)=0),\"\",IF(AND(M51=\"-\",N51=\"-\",O51=\"-\"),\"-\",VLOOKUP(COUNTIF($M51:$O51,\"A\")-COUNTIF($M51:$O51,\"C\"),基本情報!$R$4:$S$10,2)))","v":""},null,null,null,null,null,"",null,null,null,{"$f":"IF(OR($I51=\"\",COUNTA($W51:$Y51)=0),\"\",IF(AND(W51=\"-\",X51=\"-\",Y51=\"-\"),\"-\",VLOOKUP(COUNTIF($W51:$Y51,\"A\")-COUNTIF($W51:$Y51,\"C\"),基本情報!$R$4:$S$10,2)))","v":""},null,null,null,null,null,"",null,null,null,{"$f":"IF(OR($I51=\"\",COUNTA($AG51:$AI51)=0),\"\",IF(AND(AG51=\"-\",AH51=\"-\",AI51=\"-\"),\"-\",VLOOKUP(COUNTIF($AG51:$AI51,\"A\")-COUNTIF($AG51:$AI51,\"C\"),基本情報!$R$4:$S$10,2)))","v":""}]
[null,null,null,null,10829,null,null,29,{"$f":"IF(VLOOKUP($E52,学年名簿と評価・評定!$E$24:$K$573,5)=\"\",\"\",VLOOKUP($E52,学年名簿と評価・評定!$E$24:$K$573,5))","v":""},{"$f":"IF(VLOOKUP($E52,学年名簿と評価・評定!$E$24:$K$573,6)=\"\",\"\",VLOOKUP($E52,学年名簿と評価・評定!$E$24:$K$573,7))","v":""},null,"",null,null,null,{"$f":"IF(OR($I52=\"\",COUNTA($M52:$O52)=0),\"\",IF(AND(M52=\"-\",N52=\"-\",O52=\"-\"),\"-\",VLOOKUP(COUNTIF($M52:$O52,\"A\")-COUNTIF($M52:$O52,\"C\"),基本情報!$R$4:$S$10,2)))","v":""},null,null,null,null,null,"",null,null,null,{"$f":"IF(OR($I52=\"\",COUNTA($W52:$Y52)=0),\"\",IF(AND(W52=\"-\",X52=\"-\",Y52=\"-\"),\"-\",VLOOKUP(COUNTIF($W52:$Y52,\"A\")-COUNTIF($W52:$Y52,\"C\"),基本情報!$R$4:$S$10,2)))","v":""},null,null,null,null,null,"",null,null,null,{"$f":"IF(OR($I52=\"\",COUNTA($AG52:$AI52)=0),\"\",IF(AND(AG52=\"-\",AH52=\"-\",AI52=\"-\"),\"-\",VLOOKUP(COUNTIF($AG52:$AI52,\"A\")-COUNTIF($AG52:$AI52,\"C\"),基本情報!$R$4:$S$10,2)))","v":""}]
[null,null,null,null,10830,null,null,30,{"$f":"IF(VLOOKUP($E53,学年名簿と評価・評定!$E$24:$K$573,5)=\"\",\"\",VLOOKUP($E53,学年名簿と評価・評定!$E$24:$K$573,5))","v":""},{"$f":"IF(VLOOKUP($E53,学年名簿と評価・評定!$E$24:$K$573,6)=\"\",\"\",VLOOKUP($E53,学年名簿と評価・評定!$E$24:$K$573,7))","v":""},null,"",null,null,null,{"$f":"IF(OR($I53=\"\",COUNTA($M53:$O53)=0),\"\",IF(AND(M53=\"-\",N53=\"-\",O53=\"-\"),\"-\",VLOOKUP(COUNTIF($M53:$O53,\"A\")-COUNTIF($M53:$O53,\"C\"),基本情報!$R$4:$S$10,2)))","v":""},null,null,null,null,null,"",null,null,null,{"$f":"IF(OR($I53=\"\",COUNTA($W53:$Y53)=0),\"\",IF(AND(W53=\"-\",X53=\"-\",Y53=\"-\"),\"-\",VLOOKUP(COUNTIF($W53:$Y53,\"A\")-COUNTIF($W53:$Y53,\"C\"),基本情報!$R$4:$S$10,2)))","v":""},null,null,null,null,null,"",null,null,null,{"$f":"IF(OR($I53=\"\",COUNTA($AG53:$AI53)=0),\"\",IF(AND(AG53=\"-\",AH53=\"-\",AI53=\"-\"),\"-\",VLOOKUP(COUNTIF($AG53:$AI53,\"A\")-COUNTIF($AG53:$AI53,\"C\"),基本情報!$R$4:$S$10,2)))","v":""}]
[null,null,null,null,10831,null,null,31,{"$f":"IF(VLOOKUP($E54,学年名簿と評価・評定!$E$24:$K$573,5)=\"\",\"\",VLOOKUP($E54,学年名簿と評価・評定!$E$24:$K$573,5))","v":""},{"$f":"IF(VLOOKUP($E54,学年名簿と評価・評定!$E$24:$K$573,6)=\"\",\"\",VLOOKUP($E54,学年名簿と評価・評定!$E$24:$K$573,7))","v":""},null,"",null,null,null,{"$f":"IF(OR($I54=\"\",COUNTA($M54:$O54)=0),\"\",IF(AND(M54=\"-\",N54=\"-\",O54=\"-\"),\"-\",VLOOKUP(COUNTIF($M54:$O54,\"A\")-COUNTIF($M54:$O54,\"C\"),基本情報!$R$4:$S$10,2)))","v":""},null,null,null,null,null,"",null,null,null,{"$f":"IF(OR($I54=\"\",COUNTA($W54:$Y54)=0),\"\",IF(AND(W54=\"-\",X54=\"-\",Y54=\"-\"),\"-\",VLOOKUP(COUNTIF($W54:$Y54,\"A\")-COUNTIF($W54:$Y54,\"C\"),基本情報!$R$4:$S$10,2)))","v":""},null,null,null,null,null,"",null,null,null,{"$f":"IF(OR($I54=\"\",COUNTA($AG54:$AI54)=0),\"\",IF(AND(AG54=\"-\",AH54=\"-\",AI54=\"-\"),\"-\",VLOOKUP(COUNTIF($AG54:$AI54,\"A\")-COUNTIF($AG54:$AI54,\"C\"),基本情報!$R$4:$S$10,2)))","v":""}]
[null,null,null,null,10832,null,null,32,{"$f":"IF(VLOOKUP($E55,学年名簿と評価・評定!$E$24:$K$573,5)=\"\",\"\",VLOOKUP($E55,学年名簿と評価・評定!$E$24:$K$573,5))","v":""},{"$f":"IF(VLOOKUP($E55,学年名簿と評価・評定!$E$24:$K$573,6)=\"\",\"\",VLOOKUP($E55,学年名簿と評価・評定!$E$24:$K$573,7))","v":""},null,"",null,null,null,{"$f":"IF(OR($I55=\"\",COUNTA($M55:$O55)=0),\"\",IF(AND(M55=\"-\",N55=\"-\",O55=\"-\"),\"-\",VLOOKUP(COUNTIF($M55:$O55,\"A\")-COUNTIF($M55:$O55,\"C\"),基本情報!$R$4:$S$10,2)))","v":""},null,null,null,null,null,"",null,null,null,{"$f":"IF(OR($I55=\"\",COUNTA($W55:$Y55)=0),\"\",IF(AND(W55=\"-\",X55=\"-\",Y55=\"-\"),\"-\",VLOOKUP(COUNTIF($W55:$Y55,\"A\")-COUNTIF($W55:$Y55,\"C\"),基本情報!$R$4:$S$10,2)))","v":""},null,null,null,null,null,"",null,null,null,{"$f":"IF(OR($I55=\"\",COUNTA($AG55:$AI55)=0),\"\",IF(AND(AG55=\"-\",AH55=\"-\",AI55=\"-\"),\"-\",VLOOKUP(COUNTIF($AG55:$AI55,\"A\")-COUNTIF($AG55:$AI55,\"C\"),基本情報!$R$4:$S$10,2)))","v":""}]
[null,null,null,null,{"$f":"$I$8*10000+$I$9*100+$H56","v":10833},null,null,33,{"$f":"IF(VLOOKUP($E56,学年名簿と評価・評定!$E$24:$K$573,5)=\"\",\"\",VLOOKUP($E56,学年名簿と評価・評定!$E$24:$K$573,5))","v":""},{"$f":"IF(VLOOKUP($E56,学年名簿と評価・評定!$E$24:$K$573,6)=\"\",\"\",VLOOKUP($E56,学年名簿と評価・評定!$E$24:$K$573,7))","v":""},null,"",null,null,null,{"$f":"IF(OR($I56=\"\",COUNTA($M56:$O56)=0),\"\",IF(AND(M56=\"-\",N56=\"-\",O56=\"-\"),\"-\",VLOOKUP(COUNTIF($M56:$O56,\"A\")-COUNTIF($M56:$O56,\"C\"),基本情報!$R$4:$S$10,2)))","v":""},null,null,null,null,null,"",null,null,null,{"$f":"IF(OR($I56=\"\",COUNTA($W56:$Y56)=0),\"\",IF(AND(W56=\"-\",X56=\"-\",Y56=\"-\"),\"-\",VLOOKUP(COUNTIF($W56:$Y56,\"A\")-COUNTIF($W56:$Y56,\"C\"),基本情報!$R$4:$S$10,2)))","v":""},null,null,null,null,null,"",null,null,null,{"$f":"IF(OR($I56=\"\",COUNTA($AG56:$AI56)=0),\"\",IF(AND(AG56=\"-\",AH56=\"-\",AI56=\"-\"),\"-\",VLOOKUP(COUNTIF($AG56:$AI56,\"A\")-COUNTIF($AG56:$AI56,\"C\"),基本情報!$R$4:$S$10,2)))","v":""}]
[null,null,null,null,10834,null,null,34,{"$f":"IF(VLOOKUP($E57,学年名簿と評価・評定!$E$24:$K$573,5)=\"\",\"\",VLOOKUP($E57,学年名簿と評価・評定!$E$24:$K$573,5))","v":""},{"$f":"IF(VLOOKUP($E57,学年名簿と評価・評定!$E$24:$K$573,6)=\"\",\"\",VLOOKUP($E57,学年名簿と評価・評定!$E$24:$K$573,7))","v":""},null,"",null,null,null,{"$f":"IF(OR($I57=\"\",COUNTA($M57:$O57)=0),\"\",IF(AND(M57=\"-\",N57=\"-\",O57=\"-\"),\"-\",VLOOKUP(COUNTIF($M57:$O57,\"A\")-COUNTIF($M57:$O57,\"C\"),基本情報!$R$4:$S$10,2)))","v":""},null,null,null,null,null,"",null,null,null,{"$f":"IF(OR($I57=\"\",COUNTA($W57:$Y57)=0),\"\",IF(AND(W57=\"-\",X57=\"-\",Y57=\"-\"),\"-\",VLOOKUP(COUNTIF($W57:$Y57,\"A\")-COUNTIF($W57:$Y57,\"C\"),基本情報!$R$4:$S$10,2)))","v":""},null,null,null,null,null,"",null,null,null,{"$f":"IF(OR($I57=\"\",COUNTA($AG57:$AI57)=0),\"\",IF(AND(AG57=\"-\",AH57=\"-\",AI57=\"-\"),\"-\",VLOOKUP(COUNTIF($AG57:$AI57,\"A\")-COUNTIF($AG57:$AI57,\"C\"),基本情報!$R$4:$S$10,2)))","v":""}]
[null,null,null,null,10835,null,null,35,{"$f":"IF(VLOOKUP($E58,学年名簿と評価・評定!$E$24:$K$573,5)=\"\",\"\",VLOOKUP($E58,学年名簿と評価・評定!$E$24:$K$573,5))","v":""},{"$f":"IF(VLOOKUP($E58,学年名簿と評価・評定!$E$24:$K$573,6)=\"\",\"\",VLOOKUP($E58,学年名簿と評価・評定!$E$24:$K$573,7))","v":""},null,"",null,null,null,{"$f":"IF(OR($I58=\"\",COUNTA($M58:$O58)=0),\"\",IF(AND(M58=\"-\",N58=\"-\",O58=\"-\"),\"-\",VLOOKUP(COUNTIF($M58:$O58,\"A\")-COUNTIF($M58:$O58,\"C\"),基本情報!$R$4:$S$10,2)))","v":""},null,null,null,null,null,"",null,null,null,{"$f":"IF(OR($I58=\"\",COUNTA($W58:$Y58)=0),\"\",IF(AND(W58=\"-\",X58=\"-\",Y58=\"-\"),\"-\",VLOOKUP(COUNTIF($W58:$Y58,\"A\")-COUNTIF($W58:$Y58,\"C\"),基本情報!$R$4:$S$10,2)))","v":""},null,null,null,null,null,"",null,null,null,{"$f":"IF(OR($I58=\"\",COUNTA($AG58:$AI58)=0),\"\",IF(AND(AG58=\"-\",AH58=\"-\",AI58=\"-\"),\"-\",VLOOKUP(COUNTIF($AG58:$AI58,\"A\")-COUNTIF($AG58:$AI58,\"C\"),基本情報!$R$4:$S$10,2)))","v":""}]
[null,null,null,null,10836,null,null,36,{"$f":"IF(VLOOKUP($E59,学年名簿と評価・評定!$E$24:$K$573,5)=\"\",\"\",VLOOKUP($E59,学年名簿と評価・評定!$E$24:$K$573,5))","v":""},{"$f":"IF(VLOOKUP($E59,学年名簿と評価・評定!$E$24:$K$573,6)=\"\",\"\",VLOOKUP($E59,学年名簿と評価・評定!$E$24:$K$573,7))","v":""},null,"",null,null,null,{"$f":"IF(OR($I59=\"\",COUNTA($M59:$O59)=0),\"\",IF(AND(M59=\"-\",N59=\"-\",O59=\"-\"),\"-\",VLOOKUP(COUNTIF($M59:$O59,\"A\")-COUNTIF($M59:$O59,\"C\"),基本情報!$R$4:$S$10,2)))","v":""},null,null,null,null,null,"",null,null,null,{"$f":"IF(OR($I59=\"\",COUNTA($W59:$Y59)=0),\"\",IF(AND(W59=\"-\",X59=\"-\",Y59=\"-\"),\"-\",VLOOKUP(COUNTIF($W59:$Y59,\"A\")-COUNTIF($W59:$Y59,\"C\"),基本情報!$R$4:$S$10,2)))","v":""},null,null,null,null,null,"",null,null,null,{"$f":"IF(OR($I59=\"\",COUNTA($AG59:$AI59)=0),\"\",IF(AND(AG59=\"-\",AH59=\"-\",AI59=\"-\"),\"-\",VLOOKUP(COUNTIF($AG59:$AI59,\"A\")-COUNTIF($AG59:$AI59,\"C\"),基本情報!$R$4:$S$10,2)))","v":""}]
[null,null,null,null,10837,null,null,37,{"$f":"IF(VLOOKUP($E60,学年名簿と評価・評定!$E$24:$K$573,5)=\"\",\"\",VLOOKUP($E60,学年名簿と評価・評定!$E$24:$K$573,5))","v":""},{"$f":"IF(VLOOKUP($E60,学年名簿と評価・評定!$E$24:$K$573,6)=\"\",\"\",VLOOKUP($E60,学年名簿と評価・評定!$E$24:$K$573,7))","v":""},null,"",null,null,null,{"$f":"IF(OR($I60=\"\",COUNTA($M60:$O60)=0),\"\",IF(AND(M60=\"-\",N60=\"-\",O60=\"-\"),\"-\",VLOOKUP(COUNTIF($M60:$O60,\"A\")-COUNTIF($M60:$O60,\"C\"),基本情報!$R$4:$S$10,2)))","v":""},null,null,null,null,null,"",null,null,null,{"$f":"IF(OR($I60=\"\",COUNTA($W60:$Y60)=0),\"\",IF(AND(W60=\"-\",X60=\"-\",Y60=\"-\"),\"-\",VLOOKUP(COUNTIF($W60:$Y60,\"A\")-COUNTIF($W60:$Y60,\"C\"),基本情報!$R$4:$S$10,2)))","v":""},null,null,null,null,null,"",null,null,null,{"$f":"IF(OR($I60=\"\",COUNTA($AG60:$AI60)=0),\"\",IF(AND(AG60=\"-\",AH60=\"-\",AI60=\"-\"),\"-\",VLOOKUP(COUNTIF($AG60:$AI60,\"A\")-COUNTIF($AG60:$AI60,\"C\"),基本情報!$R$4:$S$10,2)))","v":""}]
[null,null,null,null,10838,null,null,38,{"$f":"IF(VLOOKUP($E61,学年名簿と評価・評定!$E$24:$K$573,5)=\"\",\"\",VLOOKUP($E61,学年名簿と評価・評定!$E$24:$K$573,5))","v":""},{"$f":"IF(VLOOKUP($E61,学年名簿と評価・評定!$E$24:$K$573,6)=\"\",\"\",VLOOKUP($E61,学年名簿と評価・評定!$E$24:$K$573,7))","v":""},null,"",null,null,null,{"$f":"IF(OR($I61=\"\",COUNTA($M61:$O61)=0),\"\",IF(AND(M61=\"-\",N61=\"-\",O61=\"-\"),\"-\",VLOOKUP(COUNTIF($M61:$O61,\"A\")-COUNTIF($M61:$O61,\"C\"),基本情報!$R$4:$S$10,2)))","v":""},null,null,null,null,null,"",null,null,null,{"$f":"IF(OR($I61=\"\",COUNTA($W61:$Y61)=0),\"\",IF(AND(W61=\"-\",X61=\"-\",Y61=\"-\"),\"-\",VLOOKUP(COUNTIF($W61:$Y61,\"A\")-COUNTIF($W61:$Y61,\"C\"),基本情報!$R$4:$S$10,2)))","v":""},null,null,null,null,null,"",null,null,null,{"$f":"IF(OR($I61=\"\",COUNTA($AG61:$AI61)=0),\"\",IF(AND(AG61=\"-\",AH61=\"-\",AI61=\"-\"),\"-\",VLOOKUP(COUNTIF($AG61:$AI61,\"A\")-COUNTIF($AG61:$AI61,\"C\"),基本情報!$R$4:$S$10,2)))","v":""}]
[null,null,null,null,10839,null,null,39,{"$f":"IF(VLOOKUP($E62,学年名簿と評価・評定!$E$24:$K$573,5)=\"\",\"\",VLOOKUP($E62,学年名簿と評価・評定!$E$24:$K$573,5))","v":""},{"$f":"IF(VLOOKUP($E62,学年名簿と評価・評定!$E$24:$K$573,6)=\"\",\"\",VLOOKUP($E62,学年名簿と評価・評定!$E$24:$K$573,7))","v":""},null,"",null,null,null,{"$f":"IF(OR($I62=\"\",COUNTA($M62:$O62)=0),\"\",IF(AND(M62=\"-\",N62=\"-\",O62=\"-\"),\"-\",VLOOKUP(COUNTIF($M62:$O62,\"A\")-COUNTIF($M62:$O62,\"C\"),基本情報!$R$4:$S$10,2)))","v":""},null,null,null,null,null,"",null,null,null,{"$f":"IF(OR($I62=\"\",COUNTA($W62:$Y62)=0),\"\",IF(AND(W62=\"-\",X62=\"-\",Y62=\"-\"),\"-\",VLOOKUP(COUNTIF($W62:$Y62,\"A\")-COUNTIF($W62:$Y62,\"C\"),基本情報!$R$4:$S$10,2)))","v":""},null,null,null,null,null,"",null,null,null,{"$f":"IF(OR($I62=\"\",COUNTA($AG62:$AI62)=0),\"\",IF(AND(AG62=\"-\",AH62=\"-\",AI62=\"-\"),\"-\",VLOOKUP(COUNTIF($AG62:$AI62,\"A\")-COUNTIF($AG62:$AI62,\"C\"),基本情報!$R$4:$S$10,2)))","v":""}]
[null,null,null,null,10840,null,null,40,{"$f":"IF(VLOOKUP($E63,学年名簿と評価・評定!$E$24:$K$573,5)=\"\",\"\",VLOOKUP($E63,学年名簿と評価・評定!$E$24:$K$573,5))","v":""},{"$f":"IF(VLOOKUP($E63,学年名簿と評価・評定!$E$24:$K$573,6)=\"\",\"\",VLOOKUP($E63,学年名簿と評価・評定!$E$24:$K$573,7))","v":""},null,"",null,null,null,{"$f":"IF(OR($I63=\"\",COUNTA($M63:$O63)=0),\"\",IF(AND(M63=\"-\",N63=\"-\",O63=\"-\"),\"-\",VLOOKUP(COUNTIF($M63:$O63,\"A\")-COUNTIF($M63:$O63,\"C\"),基本情報!$R$4:$S$10,2)))","v":""},null,null,null,null,null,"",null,null,null,{"$f":"IF(OR($I63=\"\",COUNTA($W63:$Y63)=0),\"\",IF(AND(W63=\"-\",X63=\"-\",Y63=\"-\"),\"-\",VLOOKUP(COUNTIF($W63:$Y63,\"A\")-COUNTIF($W63:$Y63,\"C\"),基本情報!$R$4:$S$10,2)))","v":""},null,null,null,null,null,"",null,null,null,{"$f":"IF(OR($I63=\"\",COUNTA($AG63:$AI63)=0),\"\",IF(AND(AG63=\"-\",AH63=\"-\",AI63=\"-\"),\"-\",VLOOKUP(COUNTIF($AG63:$AI63,\"A\")-COUNTIF($AG63:$AI63,\"C\"),基本情報!$R$4:$S$10,2)))","v":""}]
[null,null,null,null,10841,null,null,41,{"$f":"IF(VLOOKUP($E64,学年名簿と評価・評定!$E$24:$K$573,5)=\"\",\"\",VLOOKUP($E64,学年名簿と評価・評定!$E$24:$K$573,5))","v":""},{"$f":"IF(VLOOKUP($E64,学年名簿と評価・評定!$E$24:$K$573,6)=\"\",\"\",VLOOKUP($E64,学年名簿と評価・評定!$E$24:$K$573,7))","v":""},null,"",null,null,null,{"$f":"IF(OR($I64=\"\",COUNTA($M64:$O64)=0),\"\",IF(AND(M64=\"-\",N64=\"-\",O64=\"-\"),\"-\",VLOOKUP(COUNTIF($M64:$O64,\"A\")-COUNTIF($M64:$O64,\"C\"),基本情報!$R$4:$S$10,2)))","v":""},null,null,null,null,null,"",null,null,null,{"$f":"IF(OR($I64=\"\",COUNTA($W64:$Y64)=0),\"\",IF(AND(W64=\"-\",X64=\"-\",Y64=\"-\"),\"-\",VLOOKUP(COUNTIF($W64:$Y64,\"A\")-COUNTIF($W64:$Y64,\"C\"),基本情報!$R$4:$S$10,2)))","v":""},null,null,null,null,null,"",null,null,null,{"$f":"IF(OR($I64=\"\",COUNTA($AG64:$AI64)=0),\"\",IF(AND(AG64=\"-\",AH64=\"-\",AI64=\"-\"),\"-\",VLOOKUP(COUNTIF($AG64:$AI64,\"A\")-COUNTIF($AG64:$AI64,\"C\"),基本情報!$R$4:$S$10,2)))","v":""}]
[null,null,null,null,10842,null,null,42,{"$f":"IF(VLOOKUP($E65,学年名簿と評価・評定!$E$24:$K$573,5)=\"\",\"\",VLOOKUP($E65,学年名簿と評価・評定!$E$24:$K$573,5))","v":""},{"$f":"IF(VLOOKUP($E65,学年名簿と評価・評定!$E$24:$K$573,6)=\"\",\"\",VLOOKUP($E65,学年名簿と評価・評定!$E$24:$K$573,7))","v":""},null,"",null,null,null,{"$f":"IF(OR($I65=\"\",COUNTA($M65:$O65)=0),\"\",IF(AND(M65=\"-\",N65=\"-\",O65=\"-\"),\"-\",VLOOKUP(COUNTIF($M65:$O65,\"A\")-COUNTIF($M65:$O65,\"C\"),基本情報!$R$4:$S$10,2)))","v":""},null,null,null,null,null,"",null,null,null,{"$f":"IF(OR($I65=\"\",COUNTA($W65:$Y65)=0),\"\",IF(AND(W65=\"-\",X65=\"-\",Y65=\"-\"),\"-\",VLOOKUP(COUNTIF($W65:$Y65,\"A\")-COUNTIF($W65:$Y65,\"C\"),基本情報!$R$4:$S$10,2)))","v":""},null,null,null,null,null,"",null,null,null,{"$f":"IF(OR($I65=\"\",COUNTA($AG65:$AI65)=0),\"\",IF(AND(AG65=\"-\",AH65=\"-\",AI65=\"-\"),\"-\",VLOOKUP(COUNTIF($AG65:$AI65,\"A\")-COUNTIF($AG65:$AI65,\"C\"),基本情報!$R$4:$S$10,2)))","v":""}]
[null,null,null,null,10843,null,null,43,{"$f":"IF(VLOOKUP($E66,学年名簿と評価・評定!$E$24:$K$573,5)=\"\",\"\",VLOOKUP($E66,学年名簿と評価・評定!$E$24:$K$573,5))","v":""},{"$f":"IF(VLOOKUP($E66,学年名簿と評価・評定!$E$24:$K$573,6)=\"\",\"\",VLOOKUP($E66,学年名簿と評価・評定!$E$24:$K$573,7))","v":""},null,"",null,null,null,{"$f":"IF(OR($I66=\"\",COUNTA($M66:$O66)=0),\"\",IF(AND(M66=\"-\",N66=\"-\",O66=\"-\"),\"-\",VLOOKUP(COUNTIF($M66:$O66,\"A\")-COUNTIF($M66:$O66,\"C\"),基本情報!$R$4:$S$10,2)))","v":""},null,null,null,null,null,"",null,null,null,{"$f":"IF(OR($I66=\"\",COUNTA($W66:$Y66)=0),\"\",IF(AND(W66=\"-\",X66=\"-\",Y66=\"-\"),\"-\",VLOOKUP(COUNTIF($W66:$Y66,\"A\")-COUNTIF($W66:$Y66,\"C\"),基本情報!$R$4:$S$10,2)))","v":""},null,null,null,null,null,"",null,null,null,{"$f":"IF(OR($I66=\"\",COUNTA($AG66:$AI66)=0),\"\",IF(AND(AG66=\"-\",AH66=\"-\",AI66=\"-\"),\"-\",VLOOKUP(COUNTIF($AG66:$AI66,\"A\")-COUNTIF($AG66:$AI66,\"C\"),基本情報!$R$4:$S$10,2)))","v":""}]
[null,null,null,null,10844,null,null,44,{"$f":"IF(VLOOKUP($E67,学年名簿と評価・評定!$E$24:$K$573,5)=\"\",\"\",VLOOKUP($E67,学年名簿と評価・評定!$E$24:$K$573,5))","v":""},{"$f":"IF(VLOOKUP($E67,学年名簿と評価・評定!$E$24:$K$573,6)=\"\",\"\",VLOOKUP($E67,学年名簿と評価・評定!$E$24:$K$573,7))","v":""},null,"",null,null,null,{"$f":"IF(OR($I67=\"\",COUNTA($M67:$O67)=0),\"\",IF(AND(M67=\"-\",N67=\"-\",O67=\"-\"),\"-\",VLOOKUP(COUNTIF($M67:$O67,\"A\")-COUNTIF($M67:$O67,\"C\"),基本情報!$R$4:$S$10,2)))","v":""},null,null,null,null,null,"",null,null,null,{"$f":"IF(OR($I67=\"\",COUNTA($W67:$Y67)=0),\"\",IF(AND(W67=\"-\",X67=\"-\",Y67=\"-\"),\"-\",VLOOKUP(COUNTIF($W67:$Y67,\"A\")-COUNTIF($W67:$Y67,\"C\"),基本情報!$R$4:$S$10,2)))","v":""},null,null,null,null,null,"",null,null,null,{"$f":"IF(OR($I67=\"\",COUNTA($AG67:$AI67)=0),\"\",IF(AND(AG67=\"-\",AH67=\"-\",AI67=\"-\"),\"-\",VLOOKUP(COUNTIF($AG67:$AI67,\"A\")-COUNTIF($AG67:$AI67,\"C\"),基本情報!$R$4:$S$10,2)))","v":""}]
[null,null,null,null,10845,null,null,45,{"$f":"IF(VLOOKUP($E68,学年名簿と評価・評定!$E$24:$K$573,5)=\"\",\"\",VLOOKUP($E68,学年名簿と評価・評定!$E$24:$K$573,5))","v":""},{"$f":"IF(VLOOKUP($E68,学年名簿と評価・評定!$E$24:$K$573,6)=\"\",\"\",VLOOKUP($E68,学年名簿と評価・評定!$E$24:$K$573,7))","v":""},null,"",null,null,null,{"$f":"IF(OR($I68=\"\",COUNTA($M68:$O68)=0),\"\",IF(AND(M68=\"-\",N68=\"-\",O68=\"-\"),\"-\",VLOOKUP(COUNTIF($M68:$O68,\"A\")-COUNTIF($M68:$O68,\"C\"),基本情報!$R$4:$S$10,2)))","v":""},null,null,null,null,null,"",null,null,null,{"$f":"IF(OR($I68=\"\",COUNTA($W68:$Y68)=0),\"\",IF(AND(W68=\"-\",X68=\"-\",Y68=\"-\"),\"-\",VLOOKUP(COUNTIF($W68:$Y68,\"A\")-COUNTIF($W68:$Y68,\"C\"),基本情報!$R$4:$S$10,2)))","v":""},null,null,null,null,null,"",null,null,null,{"$f":"IF(OR($I68=\"\",COUNTA($AG68:$AI68)=0),\"\",IF(AND(AG68=\"-\",AH68=\"-\",AI68=\"-\"),\"-\",VLOOKUP(COUNTIF($AG68:$AI68,\"A\")-COUNTIF($AG68:$AI68,\"C\"),基本情報!$R$4:$S$10,2)))","v":""}]
[null,null,null,null,10846,null,null,46,{"$f":"IF(VLOOKUP($E69,学年名簿と評価・評定!$E$24:$K$573,5)=\"\",\"\",VLOOKUP($E69,学年名簿と評価・評定!$E$24:$K$573,5))","v":""},{"$f":"IF(VLOOKUP($E69,学年名簿と評価・評定!$E$24:$K$573,6)=\"\",\"\",VLOOKUP($E69,学年名簿と評価・評定!$E$24:$K$573,7))","v":""},null,"",null,null,null,{"$f":"IF(OR($I69=\"\",COUNTA($M69:$O69)=0),\"\",IF(AND(M69=\"-\",N69=\"-\",O69=\"-\"),\"-\",VLOOKUP(COUNTIF($M69:$O69,\"A\")-COUNTIF($M69:$O69,\"C\"),基本情報!$R$4:$S$10,2)))","v":""},null,null,null,null,null,"",null,null,null,{"$f":"IF(OR($I69=\"\",COUNTA($W69:$Y69)=0),\"\",IF(AND(W69=\"-\",X69=\"-\",Y69=\"-\"),\"-\",VLOOKUP(COUNTIF($W69:$Y69,\"A\")-COUNTIF($W69:$Y69,\"C\"),基本情報!$R$4:$S$10,2)))","v":""},null,null,null,null,null,"",null,null,null,{"$f":"IF(OR($I69=\"\",COUNTA($AG69:$AI69)=0),\"\",IF(AND(AG69=\"-\",AH69=\"-\",AI69=\"-\"),\"-\",VLOOKUP(COUNTIF($AG69:$AI69,\"A\")-COUNTIF($AG69:$AI69,\"C\"),基本情報!$R$4:$S$10,2)))","v":""}]
[null,null,null,null,10847,null,null,47,{"$f":"IF(VLOOKUP($E70,学年名簿と評価・評定!$E$24:$K$573,5)=\"\",\"\",VLOOKUP($E70,学年名簿と評価・評定!$E$24:$K$573,5))","v":""},{"$f":"IF(VLOOKUP($E70,学年名簿と評価・評定!$E$24:$K$573,6)=\"\",\"\",VLOOKUP($E70,学年名簿と評価・評定!$E$24:$K$573,7))","v":""},null,"",null,null,null,{"$f":"IF(OR($I70=\"\",COUNTA($M70:$O70)=0),\"\",IF(AND(M70=\"-\",N70=\"-\",O70=\"-\"),\"-\",VLOOKUP(COUNTIF($M70:$O70,\"A\")-COUNTIF($M70:$O70,\"C\"),基本情報!$R$4:$S$10,2)))","v":""},null,null,null,null,null,"",null,null,null,{"$f":"IF(OR($I70=\"\",COUNTA($W70:$Y70)=0),\"\",IF(AND(W70=\"-\",X70=\"-\",Y70=\"-\"),\"-\",VLOOKUP(COUNTIF($W70:$Y70,\"A\")-COUNTIF($W70:$Y70,\"C\"),基本情報!$R$4:$S$10,2)))","v":""},null,null,null,null,null,"",null,null,null,{"$f":"IF(OR($I70=\"\",COUNTA($AG70:$AI70)=0),\"\",IF(AND(AG70=\"-\",AH70=\"-\",AI70=\"-\"),\"-\",VLOOKUP(COUNTIF($AG70:$AI70,\"A\")-COUNTIF($AG70:$AI70,\"C\"),基本情報!$R$4:$S$10,2)))","v":""}]
[null,null,null,null,10848,null,null,48,{"$f":"IF(VLOOKUP($E71,学年名簿と評価・評定!$E$24:$K$573,5)=\"\",\"\",VLOOKUP($E71,学年名簿と評価・評定!$E$24:$K$573,5))","v":""},{"$f":"IF(VLOOKUP($E71,学年名簿と評価・評定!$E$24:$K$573,6)=\"\",\"\",VLOOKUP($E71,学年名簿と評価・評定!$E$24:$K$573,7))","v":""},null,"",null,null,null,{"$f":"IF(OR($I71=\"\",COUNTA($M71:$O71)=0),\"\",IF(AND(M71=\"-\",N71=\"-\",O71=\"-\"),\"-\",VLOOKUP(COUNTIF($M71:$O71,\"A\")-COUNTIF($M71:$O71,\"C\"),基本情報!$R$4:$S$10,2)))","v":""},null,null,null,null,null,"",null,null,null,{"$f":"IF(OR($I71=\"\",COUNTA($W71:$Y71)=0),\"\",IF(AND(W71=\"-\",X71=\"-\",Y71=\"-\"),\"-\",VLOOKUP(COUNTIF($W71:$Y71,\"A\")-COUNTIF($W71:$Y71,\"C\"),基本情報!$R$4:$S$10,2)))","v":""},null,null,null,null,null,"",null,null,null,{"$f":"IF(OR($I71=\"\",COUNTA($AG71:$AI71)=0),\"\",IF(AND(AG71=\"-\",AH71=\"-\",AI71=\"-\"),\"-\",VLOOKUP(COUNTIF($AG71:$AI71,\"A\")-COUNTIF($AG71:$AI71,\"C\"),基本情報!$R$4:$S$10,2)))","v":""}]
[null,null,null,null,10849,null,null,49,{"$f":"IF(VLOOKUP($E72,学年名簿と評価・評定!$E$24:$K$573,5)=\"\",\"\",VLOOKUP($E72,学年名簿と評価・評定!$E$24:$K$573,5))","v":""},{"$f":"IF(VLOOKUP($E72,学年名簿と評価・評定!$E$24:$K$573,6)=\"\",\"\",VLOOKUP($E72,学年名簿と評価・評定!$E$24:$K$573,7))","v":""},null,"",null,null,null,{"$f":"IF(OR($I72=\"\",COUNTA($M72:$O72)=0),\"\",IF(AND(M72=\"-\",N72=\"-\",O72=\"-\"),\"-\",VLOOKUP(COUNTIF($M72:$O72,\"A\")-COUNTIF($M72:$O72,\"C\"),基本情報!$R$4:$S$10,2)))","v":""},null,null,null,null,null,"",null,null,null,{"$f":"IF(OR($I72=\"\",COUNTA($W72:$Y72)=0),\"\",IF(AND(W72=\"-\",X72=\"-\",Y72=\"-\"),\"-\",VLOOKUP(COUNTIF($W72:$Y72,\"A\")-COUNTIF($W72:$Y72,\"C\"),基本情報!$R$4:$S$10,2)))","v":""},null,null,null,null,null,"",null,null,null,{"$f":"IF(OR($I72=\"\",COUNTA($AG72:$AI72)=0),\"\",IF(AND(AG72=\"-\",AH72=\"-\",AI72=\"-\"),\"-\",VLOOKUP(COUNTIF($AG72:$AI72,\"A\")-COUNTIF($AG72:$AI72,\"C\"),基本情報!$R$4:$S$10,2)))","v":""}]
[null,null,null,null,10850,null,null,50,{"$f":"IF(VLOOKUP($E73,学年名簿と評価・評定!$E$24:$K$573,5)=\"\",\"\",VLOOKUP($E73,学年名簿と評価・評定!$E$24:$K$573,5))","v":""},{"$f":"IF(VLOOKUP($E73,学年名簿と評価・評定!$E$24:$K$573,6)=\"\",\"\",VLOOKUP($E73,学年名簿と評価・評定!$E$24:$K$573,7))","v":""},null,"",null,null,null,{"$f":"IF(OR($I73=\"\",COUNTA($M73:$O73)=0),\"\",IF(AND(M73=\"-\",N73=\"-\",O73=\"-\"),\"-\",VLOOKUP(COUNTIF($M73:$O73,\"A\")-COUNTIF($M73:$O73,\"C\"),基本情報!$R$4:$S$10,2)))","v":""},null,null,null,null,null,"",null,null,null,{"$f":"IF(OR($I73=\"\",COUNTA($W73:$Y73)=0),\"\",IF(AND(W73=\"-\",X73=\"-\",Y73=\"-\"),\"-\",VLOOKUP(COUNTIF($W73:$Y73,\"A\")-COUNTIF($W73:$Y73,\"C\"),基本情報!$R$4:$S$10,2)))","v":""},null,null,null,null,null,"",null,null,null,{"$f":"IF(OR($I73=\"\",COUNTA($AG73:$AI73)=0),\"\",IF(AND(AG73=\"-\",AH73=\"-\",AI73=\"-\"),\"-\",VLOOKUP(COUNTIF($AG73:$AI73,\"A\")-COUNTIF($AG73:$AI73,\"C\"),基本情報!$R$4:$S$10,2)))","v":""}]

{"sheet":"9組","index":10,"n_rows":73,"n_cols":40,"rows_kept":73,"cut":false,"hidden":false,"merged":[[2,34,2,36],[2,37,2,39],[21,11,21,15],[21,21,21,25],[21,31,21,35],[2,11,2,13],[2,14,2,16],[2,17,2,19],[2,21,2,23],[2,24,2,26],[2,27,2,29],[2,31,2,33]]}
[]
[]
[null,null,null,null,null,null,null,null,null,null,null,"校長",null,null,"教頭",null,null,"教務",null,null,null,"校長",null,null,"教頭",null,null,"教務",null,null,null,"校長",null,null,"教頭",null,null,"教務"]
[]
[]
[]
[]
[null,null,null,null,null,null,null,null,{"$f":"基本情報!E4","v":1},null,null,null,1,2,3,4,5,"-",null,"平均",null,null,1,2,3,4,5,"-",null,"平均",null,null,1,2,3,4,5,"-",null,"平均"]
[null,null,null,null,null,null,null,null,9,null,null,1,{"$f":"学年名簿と評価・評定!M9","v":0},{"$f":"学年名簿と評価・評定!N9","v":0},{"$f":"学年名簿と評価・評定!O9","v":0},{"$f":"学年名簿と評価・評定!P9","v":0},{"$f":"学年名簿と評価・評定!Q9","v":1},{"$f":"学年名簿と評価・評定!R9","v":0},{"$f":"SUM(M9:R9)","v":1},{"$f":"学年名簿と評価・評定!T9","v":5},null,1,{"$f":"学年名簿と評価・評定!W9","v":1},{"$f":"学年名簿と評価・評定!X9","v":0},{"$f":"学年名簿と評価・評定!Y9","v":0},{"$f":"学年名簿と評価・評定!Z9","v":0},{"$f":"学年名簿と評価・評定!AA9","v":0},{"$f":"学年名簿と評価・評定!AB9","v":0},{"$f":"学年名簿と評価・評定!AC9","v":1},{"$f":"学年名簿と評価・評定!AD9","v":1},null,1,{"$f":"学年名簿と評価・評定!AG9","v":0},{"$f":"学年名簿と評価・評定!AH9","v":0},{"$f":"学年名簿と評価・評定!AI9","v":1},{"$f":"学年名簿と評価・評定!AJ9","v":0},{"$f":"学年名簿と評価・評定!AK9","v":0},{"$f":"学年名簿と評価・評定!AL9","v":0},{"$f":"学年名簿と評価・評定!AM9","v":1},{"$f":"学年名簿と評価・評定!AN9","v":3}]
[null,null,null,null,null,null,null,null,null,null,null,2,{"$f":"学年名簿と評価・評定!M10","v":0},{"$f":"学年名簿と評価・評定!N10","v":0},{"$f":"学年名簿と評価・評定!O10","v":0},{"$f":"学年名簿と評価・評定!P10","v":0},{"$f":"学年名簿と評価・評定!Q10","v":0},{"$f":"学年名簿と評価・評定!R10","v":0},{"$f":"SUM(M10:R10)","v":0},{"$f":"学年名簿と評価・評定!T10","v":""},null,2,{"$f":"学年名簿と評価・評定!W10","v":0},{"$f":"学年名簿と評価・評定!X10","v":0},{"$f":"学年名簿と評価・評定!Y10","v":0},{"$f":"学年名簿と評価・評定!Z10","v":0},{"$f":"学年名簿と評価・評定!AA10","v":0},{"$f":"学年名簿と評価・評定!AB10","v":0},{"$f":"学年名簿と評価・評定!AC10","v":0},{"$f":"学年名簿と評価・評定!AD10","v":""},null,2,{"$f":"学年名簿と評価・評定!AG10","v":0},{"$f":"学年名簿と評価・評定!AH10","v":0},{"$f":"学年名簿と評価・評定!AI10","v":0},{"$f":"学年名簿と評価・評定!AJ10","v":0},{"$f":"学年名簿と評価・評定!AK10","v":0},{"$f":"学年名簿と評価・評定!AL10","v":0},{"$f":"学年名簿と評価・評定!AM10","v":0},{"$f":"学年名簿と評価・評定!AN10","v":""}]
[null,null,null,null,null,null,null,null,null,null,null,3,{"$f":"学年名簿と評価・評定!M11","v":0},{"$f":"学年名簿と評価・評定!N11","v":0},{"$f":"学年名簿と評価・評定!O11","v":0},{"$f":"学年名簿と評価・評定!P11","v":0},{"$f":"学年名簿と評価・評定!Q11","v":0},{"$f":"学年名簿と評価・評定!R11","v":0},0,{"$f":"学年名簿と評価・評定!T11","v":""},null,3,{"$f":"学年名簿と評価・評定!W11","v":0},{"$f":"学年名簿と評価・評定!X11","v":0},{"$f":"学年名簿と評価・評定!Y11","v":0},{"$f":"学年名簿と評価・評定!Z11","v":0},{"$f":"学年名簿と評価・評定!AA11","v":0},{"$f":"学年名簿と評価・評定!AB11","v":0},{"$f":"学年名簿と評価・評定!AC11","v":0},{"$f":"学年名簿と評価・評定!AD11","v":""},null,3,{"$f":"学年名簿と評価・評定!AG11","v":0},{"$f":"学年名簿と評価・評定!AH11","v":0},{"$f":"学年名簿と評価・評定!AI11","v":0},{"$f":"学年名簿と評価・評定!AJ11","v":0},{"$f":"学年名簿と評価・評定!AK11","v":0},{"$f":"学年名簿と評価・評定!AL11","v":0},{"$f":"学年名簿と評価・評定!AM11","v":0},{"$f":"学年名簿と評価・評定!AN11","v":""}]
[null,null,null,null,null,null,null,null,null,null,null,4,{"$f":"学年名簿と評価・評定!M12","v":0},{"$f":"学年名簿と評価・評定!N12","v":0},{"$f":"学年名簿と評価・評定!O12","v":0},{"$f":"学年名簿と評価・評定!P12","v":0},{"$f":"学年名簿と評価・評定!Q12","v":0},{"$f":"学年名簿と評価・評定!R12","v":0},0,{"$f":"学年名簿と評価・評定!T12","v":""},null,4,{"$f":"学年名簿と評価・評定!W12","v":0},{"$f":"学年名簿と評価・評定!X12","v":0},{"$f":"学年名簿と評価・評定!Y12","v":0},{"$f":"学年名簿と評価・評定!Z12","v":0},{"$f":"学年名簿と評価・評定!AA12","v":0},{"$f":"学年名簿と評価・評定!AB12","v":0},{"$f":"学年名簿と評価・評定!AC12","v":0},{"$f":"学年名簿と評価・評定!AD12","v":""},null,4,{"$f":"学年名簿と評価・評定!AG12","v":0},{"$f":"学年名簿と評価・評定!AH12","v":0},{"$f":"学年名簿と評価・評定!AI12","v":0},{"$f":"学年名簿と評価・評定!AJ12","v":0},{"$f":"学年名簿と評価・評定!AK12","v":0},{"$f":"学年名簿と評価・評定!AL12","v":0},{"$f":"学年名簿と評価・評定!AM12","v":0},{"$f":"学年名簿と評価・評定!AN12","v":""}]
[null,null,null,null,null,null,null,null,null,null,null,5,{"$f":"学年名簿と評価・評定!M13","v":0},{"$f":"学年名簿と評価・評定!N13","v":0},{"$f":"学年名簿と評価・評定!O13","v":0},{"$f":"学年名簿と評価・評定!P13","v":0},{"$f":"学年名簿と評価・評定!Q13","v":0},{"$f":"学年名簿と評価・評定!R13","v":0},0,{"$f":"学年名簿と評価・評定!T13","v":""},null,5,{"$f":"学年名簿と評価・評定!W13","v":0},{"$f":"学年名簿と評価・評定!X13","v":0},{"$f":"学年名簿と評価・評定!Y13","v":0},{"$f":"学年名簿と評価・評定!Z13","v":0},{"$f":"学年名簿と評価・評定!AA13","v":0},{"$f":"学年名簿と評価・評定!AB13","v":0},{"$f":"学年名簿と評価・評定!AC13","v":0},{"$f":"学年名簿と評価・評定!AD13","v":""},null,5,{"$f":"学年名簿と評価・評定!AG13","v":0},{"$f":"学年名簿と評価・評定!AH13","v":0},{"$f":"学年名簿と評価・評定!AI13","v":0},{"$f":"学年名簿と評価・評定!AJ13","v":0},{"$f":"学年名簿と評価・評定!AK13","v":0},{"$f":"学年名簿と評価・評定!AL13","v":0},{"$f":"学年名簿と評価・評定!AM13","v":0},{"$f":"学年名簿と評価・評定!AN13","v":""}]
[null,null,null,null,null,null,null,null,null,null,null,6,{"$f":"学年名簿と評価・評定!M14","v":0},{"$f":"学年名簿と評価・評定!N14","v":0},{"$f":"学年名簿と評価・評定!O14","v":0},{"$f":"学年名簿と評価・評定!P14","v":0},{"$f":"学年名簿と評価・評定!Q14","v":0},{"$f":"学年名簿と評価・評定!R14","v":0},0,{"$f":"学年名簿と評価・評定!T14","v":""},null,6,{"$f":"学年名簿と評価・評定!W14","v":0},{"$f":"学年名簿と評価・評定!X14","v":0},{"$f":"学年名簿と評価・評定!Y14","v":0},{"$f":"学年名簿と評価・評定!Z14","v":0},{"$f":"学年名簿と評価・評定!AA14","v":0},{"$f":"学年名簿と評価・評定!AB14","v":0},{"$f":"学年名簿と評価・評定!AC14","v":0},{"$f":"学年名簿と評価・評定!AD14","v":""},null,6,{"$f":"学年名簿と評価・評定!AG14","v":0},{"$f":"学年名簿と評価・評定!AH14","v":0},{"$f":"学年名簿と評価・評定!AI14","v":0},{"$f":"学年名簿と評価・評定!AJ14","v":0},{"$f":"学年名簿と評価・評定!AK14","v":0},{"$f":"学年名簿と評価・評定!AL14","v":0},{"$f":"学年名簿と評価・評定!AM14","v":0},{"$f":"学年名簿と評価・評定!AN14","v":""}]
[null,null,null,null,null,null,null,null,null,null,null,7,{"$f":"学年名簿と評価・評定!M15","v":0},{"$f":"学年名簿と評価・評定!N15","v":0},{"$f":"学年名簿と評価・評定!O15","v":0},{"$f":"学年名簿と評価・評定!P15","v":0},{"$f":"学年名簿と評価・評定!Q15","v":0},{"$f":"学年名簿と評価・評定!R15","v":0},0,{"$f":"学年名簿と評価・評定!T15","v":""},null,7,{"$f":"学年名簿と評価・評定!W15","v":0},{"$f":"学年名簿と評価・評定!X15","v":0},{"$f":"学年名簿と評価・評定!Y15","v":0},{"$f":"学年名簿と評価・評定!Z15","v":0},{"$f":"学年名簿と評価・評定!AA15","v":0},{"$f":"学年名簿と評価・評定!AB15","v":0},{"$f":"学年名簿と評価・評定!AC15","v":0},{"$f":"学年名簿と評価・評定!AD15","v":""},null,7,{"$f":"学年名簿と評価・評定!AG15","v":0},{"$f":"学年名簿と評価・評定!AH15","v":0},{"$f":"学年名簿と評価・評定!AI15","v":0},{"$f":"学年名簿と評価・評定!AJ15","v":0},{"$f":"学年名簿と評価・評定!AK15","v":0},{"$f":"学年名簿と評価・評定!AL15","v":0},{"$f":"学年名簿と評価・評定!AM15","v":0},{"$f":"学年名簿と評価・評定!AN15","v":""}]
[null,null,null,null,null,null,null,null,null,null,null,8,{"$f":"学年名簿と評価・評定!M16","v":0},{"$f":"学年名簿と評価・評定!N16","v":0},{"$f":"学年名簿と評価・評定!O16","v":0},{"$f":"学年名簿と評価・評定!P16","v":0},{"$f":"学年名簿と評価・評定!Q16","v":0},{"$f":"学年名簿と評価・評定!R16","v":0},0,{"$f":"学年名簿と評価・評定!T16","v":""},null,8,{"$f":"学年名簿と評価・評定!W16","v":0},{"$f":"学年名簿と評価・評定!X16","v":0},{"$f":"学年名簿と評価・評定!Y16","v":0},{"$f":"学年名簿と評価・評定!Z16","v":0},{"$f":"学年名簿と評価・評定!AA16","v":0},{"$f":"学年名簿と評価・評定!AB16","v":0},{"$f":"学年名簿と評価・評定!AC16","v":0},{"$f":"学年名簿と評価・評定!AD16","v":""},null,8,{"$f":"学年名簿と評価・評定!AG16","v":0},{"$f":"学年名簿と評価・評定!AH16","v":0},{"$f":"学年名簿と評価・評定!AI16","v":0},{"$f":"学年名簿と評価・評定!AJ16","v":0},{"$f":"学年名簿と評価・評定!AK16","v":0},{"$f":"学年名簿と評価・評定!AL16","v":0},{"$f":"学年名簿と評価・評定!AM16","v":0},{"$f":"学年名簿と評価・評定!AN16","v":""}]
[null,null,null,null,null,null,null,null,null,null,null,9,{"$f":"学年名簿と評価・評定!M17","v":0},{"$f":"学年名簿と評価・評定!N17","v":0},{"$f":"学年名簿と評価・評定!O17","v":0},{"$f":"学年名簿と評価・評定!P17","v":0},{"$f":"学年名簿と評価・評定!Q17","v":0},{"$f":"学年名簿と評価・評定!R17","v":0},0,{"$f":"学年名簿と評価・評定!T17","v":""},null,9,{"$f":"学年名簿と評価・評定!W17","v":0},{"$f":"学年名簿と評価・評定!X17","v":0},{"$f":"学年名簿と評価・評定!Y17","v":0},{"$f":"学年名簿と評価・評定!Z17","v":0},{"$f":"学年名簿と評価・評定!AA17","v":0},{"$f":"学年名簿と評価・評定!AB17","v":0},{"$f":"学年名簿と評価・評定!AC17","v":0},{"$f":"学年名簿と評価・評定!AD17","v":""},null,9,{"$f":"学年名簿と評価・評定!AG17","v":0},{"$f":"学年名簿と評価・評定!AH17","v":0},{"$f":"学年名簿と評価・評定!AI17","v":0},{"$f":"学年名簿と評価・評定!AJ17","v":0},{"$f":"学年名簿と評価・評定!AK17","v":0},{"$f":"学年名簿と評価・評定!AL17","v":0},{"$f":"学年名簿と評価・評定!AM17","v":0},{"$f":"学年名簿と評価・評定!AN17","v":""}]
[null,null,null,null,null,null,null,null,null,null,null,10,{"$f":"学年名簿と評価・評定!M18","v":0},{"$f":"学年名簿と評価・評定!N18","v":0},{"$f":"学年名簿と評価・評定!O18","v":0},{"$f":"学年名簿と評価・評定!P18","v":0},{"$f":"学年名簿と評価・評定!Q18","v":0},{"$f":"学年名簿と評価・評定!R18","v":0},0,{"$f":"学年名簿と評価・評定!T18","v":""},null,10,{"$f":"学年名簿と評価・評定!W18","v":0},{"$f":"学年名簿と評価・評定!X18","v":0},{"$f":"学年名簿と評価・評定!Y18","v":0},{"$f":"学年名簿と評価・評定!Z18","v":0},{"$f":"学年名簿と評価・評定!AA18","v":0},{"$f":"学年名簿と評価・評定!AB18","v":0},{"$f":"学年名簿と評価・評定!AC18","v":0},{"$f":"学年名簿と評価・評定!AD18","v":""},null,10,{"$f":"学年名簿と評価・評定!AG18","v":0},{"$f":"学年名簿と評価・評定!AH18","v":0},{"$f":"学年名簿と評価・評定!AI18","v":0},{"$f":"学年名簿と評価・評定!AJ18","v":0},{"$f":"学年名簿と評価・評定!AK18","v":0},{"$f":"学年名簿と評価・評定!AL18","v":0},{"$f":"学年名簿と評価・評定!AM18","v":0},{"$f":"学年名簿と評価・評定!AN18","v":""}]
[null,null,null,null,null,null,null,null,null,null,null,11,{"$f":"学年名簿と評価・評定!M19","v":0},{"$f":"学年名簿と評価・評定!N19","v":0},{"$f":"学年名簿と評価・評定!O19","v":0},{"$f":"学年名簿と評価・評定!P19","v":0},{"$f":"学年名簿と評価・評定!Q19","v":0},{"$f":"学年名簿と評価・評定!R19","v":0},0,{"$f":"学年名簿と評価・評定!T19","v":""},null,11,{"$f":"学年名簿と評価・評定!W19","v":0},{"$f":"学年名簿と評価・評定!X19","v":0},{"$f":"学年名簿と評価・評定!Y19","v":0},{"$f":"学年名簿と評価・評定!Z19","v":0},{"$f":"学年名簿と評価・評定!AA19","v":0},{"$f":"学年名簿と評価・評定!AB19","v":0},{"$f":"学年名簿と評価・評定!AC19","v":0},{"$f":"学年名簿と評価・評定!AD19","v":""},null,11,{"$f":"学年名簿と評価・評定!AG19","v":0},{"$f":"学年名簿と評価・評定!AH19","v":0},{"$f":"学年名簿と評価・評定!AI19","v":0},{"$f":"学年名簿と評価・評定!AJ19","v":0},{"$f":"学年名簿と評価・評定!AK19","v":0},{"$f":"学年名簿と評価・評定!AL19","v":0},{"$f":"学年名簿と評価・評定!AM19","v":0},{"$f":"学年名簿と評価・評定!AN19","v":""}]
[null,null,null,null,null,null,null,null,{"$f":"基本情報!E6","v":"国語"},null,null,"計",{"$f":"学年名簿と評価・評定!M20","v":0},{"$f":"学年名簿と評価・評定!N20","v":0},{"$f":"学年名簿と評価・評定!O20","v":0},{"$f":"学年名簿と評価・評定!P20","v":0},{"$f":"学年名簿と評価・評定!Q20","v":1},{"$f":"学年名簿と評価・評定!R20","v":0},1,{"$f":"学年名簿と評価・評定!T20","v":5},null,"計",{"$f":"学年名簿と評価・評定!W20","v":1},{"$f":"学年名簿と評価・評定!X20","v":0},{"$f":"学年名簿と評価・評定!Y20","v":0},{"$f":"学年名簿と評価・評定!Z20","v":0},{"$f":"学年名簿と評価・評定!AA20","v":0},{"$f":"学年名簿と評価・評定!AB20","v":0},{"$f":"学年名簿と評価・評定!AC20","v":1},{"$f":"学年名簿と評価・評定!AD20","v":1},null,"計",{"$f":"学年名簿と評価・評定!AG20","v":0},{"$f":"学年名簿と評価・評定!AH20","v":0},{"$f":"学年名簿と評価・評定!AI20","v":1},{"$f":"学年名簿と評価・評定!AJ20","v":0},{"$f":"学年名簿と評価・評定!AK20","v":0},{"$f":"学年名簿と評価・評定!AL20","v":0},{"$f":"学年名簿と評価・評定!AM20","v":1},{"$f":"学年名簿と評価・評定!AN20","v":3}]
[]
[null,null,null,null,null,null,null,null,null,null,null,"前　　期",null,null,null,null,null,null,null,null,null,"後　　期",null,null,null,null,null,null,null,null,null,"学　　年"]
[null,null,null,null,null,null,null,"番","氏　　名","性",null,"評定",{"$f":"基本情報!P14","v":"知技"},{"$f":"基本情報!P15","v":"思判"},{"$f":"基本情報!P16","v":"学び"},"評定","CHECK",null,null,null,null,"評定",{"$f":"M23","v":"知技"},{"$f":"N23","v":"思判"},"学び","評定","CHECK",null,null,null,null,"評定","知技","思判","学び","評定","CHECK"]
[null,null,null,null,{"$f":"$I$8*10000+$I$9*100+$H24","v":10901},null,null,1,{"$f":"IF(VLOOKUP($E24,学年名簿と評価・評定!$E$24:$K$573,5)=\"\",\"\",VLOOKUP($E24,学年名簿と評価・評定!$E$24:$K$573,5))","v":""},{"$f":"IF(VLOOKUP($E24,学年名簿と評価・評定!$E$24:$K$573,6)=\"\",\"\",VLOOKUP($E24,学年名簿と評価・評定!$E$24:$K$573,7))","v":""},null,{"$f":"P24","v":""},null,null,null,{"$f":"IF(OR($I24=\"\",COUNTA($M24:$O24)=0),\"\",IF(AND(M24=\"-\",N24=\"-\",O24=\"-\"),\"-\",VLOOKUP(COUNTIF($M24:$O24,\"A\")-COUNTIF($M24:$O24,\"C\"),基本情報!$R$4:$S$10,2)))","v":""},null,null,null,null,null,{"$f":"Z24","v":""},null,null,null,{"$f":"IF(OR($I24=\"\",COUNTA($W24:$Y24)=0),\"\",IF(AND(W24=\"-\",X24=\"-\",Y24=\"-\"),\"-\",VLOOKUP(COUNTIF($W24:$Y24,\"A\")-COUNTIF($W24:$Y24,\"C\"),基本情報!$R$4:$S$10,2)))","v":""},null,null,null,null,null,{"$f":"AJ24","v":""},null,null,null,{"$f":"IF(OR($I24=\"\",COUNTA($AG24:$AI24)=0),\"\",IF(AND(AG24=\"-\",AH24=\"-\",AI24=\"-\"),\"-\",VLOOKUP(COUNTIF($AG24:$AI24,\"A\")-COUNTIF($AG24:$AI24,\"C\"),基本情報!$R$4:$S$10,2)))","v":""}]
[null,null,null,null,10902,null,null,2,{"$f":"IF(VLOOKUP($E25,学年名簿と評価・評定!$E$24:$K$573,5)=\"\",\"\",VLOOKUP($E25,学年名簿と評価・評定!$E$24:$K$573,5))","v":""},{"$f":"IF(VLOOKUP($E25,学年名簿と評価・評定!$E$24:$K$573,6)=\"\",\"\",VLOOKUP($E25,学年名簿と評価・評定!$E$24:$K$573,7))","v":""},null,{"$f":"P25","v":""},null,null,null,{"$f":"IF(OR($I25=\"\",COUNTA($M25:$O25)=0),\"\",IF(AND(M25=\"-\",N25=\"-\",O25=\"-\"),\"-\",VLOOKUP(COUNTIF($M25:$O25,\"A\")-COUNTIF($M25:$O25,\"C\"),基本情報!$R$4:$S$10,2)))","v":""},null,null,null,null,null,{"$f":"Z25","v":""},null,null,null,{"$f":"IF(OR($I25=\"\",COUNTA($W25:$Y25)=0),\"\",IF(AND(W25=\"-\",X25=\"-\",Y25=\"-\"),\"-\",VLOOKUP(COUNTIF($W25:$Y25,\"A\")-COUNTIF($W25:$Y25,\"C\"),基本情報!$R$4:$S$10,2)))","v":""},null,null,null,null,null,{"$f":"AJ25","v":""},null,null,null,{"$f":"IF(OR($I25=\"\",COUNTA($AG25:$AI25)=0),\"\",IF(AND(AG25=\"-\",AH25=\"-\",AI25=\"-\"),\"-\",VLOOKUP(COUNTIF($AG25:$AI25,\"A\")-COUNTIF($AG25:$AI25,\"C\"),基本情報!$R$4:$S$10,2)))","v":""}]
[null,null,null,null,10903,null,null,3,{"$f":"IF(VLOOKUP($E26,学年名簿と評価・評定!$E$24:$K$573,5)=\"\",\"\",VLOOKUP($E26,学年名簿と評価・評定!$E$24:$K$573,5))","v":""},{"$f":"IF(VLOOKUP($E26,学年名簿と評価・評定!$E$24:$K$573,6)=\"\",\"\",VLOOKUP($E26,学年名簿と評価・評定!$E$24:$K$573,7))","v":""},null,"",null,null,null,{"$f":"IF(OR($I26=\"\",COUNTA($M26:$O26)=0),\"\",IF(AND(M26=\"-\",N26=\"-\",O26=\"-\"),\"-\",VLOOKUP(COUNTIF($M26:$O26,\"A\")-COUNTIF($M26:$O26,\"C\"),基本情報!$R$4:$S$10,2)))","v":""},null,null,null,null,null,{"$f":"Z26","v":""},null,null,null,{"$f":"IF(OR($I26=\"\",COUNTA($W26:$Y26)=0),\"\",IF(AND(W26=\"-\",X26=\"-\",Y26=\"-\"),\"-\",VLOOKUP(COUNTIF($W26:$Y26,\"A\")-COUNTIF($W26:$Y26,\"C\"),基本情報!$R$4:$S$10,2)))","v":""},null,null,null,null,null,"",null,null,null,{"$f":"IF(OR($I26=\"\",COUNTA($AG26:$AI26)=0),\"\",IF(AND(AG26=\"-\",AH26=\"-\",AI26=\"-\"),\"-\",VLOOKUP(COUNTIF($AG26:$AI26,\"A\")-COUNTIF($AG26:$AI26,\"C\"),基本情報!$R$4:$S$10,2)))","v":""}]
[null,null,null,null,10904,null,null,4,{"$f":"IF(VLOOKUP($E27,学年名簿と評価・評定!$E$24:$K$573,5)=\"\",\"\",VLOOKUP($E27,学年名簿と評価・評定!$E$24:$K$573,5))","v":""},{"$f":"IF(VLOOKUP($E27,学年名簿と評価・評定!$E$24:$K$573,6)=\"\",\"\",VLOOKUP($E27,学年名簿と評価・評定!$E$24:$K$573,7))","v":""},null,"",null,null,null,{"$f":"IF(OR($I27=\"\",COUNTA($M27:$O27)=0),\"\",IF(AND(M27=\"-\",N27=\"-\",O27=\"-\"),\"-\",VLOOKUP(COUNTIF($M27:$O27,\"A\")-COUNTIF($M27:$O27,\"C\"),基本情報!$R$4:$S$10,2)))","v":""},null,null,null,null,null,"",null,null,null,{"$f":"IF(OR($I27=\"\",COUNTA($W27:$Y27)=0),\"\",IF(AND(W27=\"-\",X27=\"-\",Y27=\"-\"),\"-\",VLOOKUP(COUNTIF($W27:$Y27,\"A\")-COUNTIF($W27:$Y27,\"C\"),基本情報!$R$4:$S$10,2)))","v":""},null,null,null,null,null,"",null,null,null,{"$f":"IF(OR($I27=\"\",COUNTA($AG27:$AI27)=0),\"\",IF(AND(AG27=\"-\",AH27=\"-\",AI27=\"-\"),\"-\",VLOOKUP(COUNTIF($AG27:$AI27,\"A\")-COUNTIF($AG27:$AI27,\"C\"),基本情報!$R$4:$S$10,2)))","v":""}]
[null,null,null,null,10905,null,null,5,{"$f":"IF(VLOOKUP($E28,学年名簿と評価・評定!$E$24:$K$573,5)=\"\",\"\",VLOOKUP($E28,学年名簿と評価・評定!$E$24:$K$573,5))","v":""},{"$f":"IF(VLOOKUP($E28,学年名簿と評価・評定!$E$24:$K$573,6)=\"\",\"\",VLOOKUP($E28,学年名簿と評価・評定!$E$24:$K$573,7))","v":""},null,"",null,null,null,{"$f":"IF(OR($I28=\"\",COUNTA($M28:$O28)=0),\"\",IF(AND(M28=\"-\",N28=\"-\",O28=\"-\"),\"-\",VLOOKUP(COUNTIF($M28:$O28,\"A\")-COUNTIF($M28:$O28,\"C\"),基本情報!$R$4:$S$10,2)))","v":""},null,null,null,null,null,"",null,null,null,{"$f":"IF(OR($I28=\"\",COUNTA($W28:$Y28)=0),\"\",IF(AND(W28=\"-\",X28=\"-\",Y28=\"-\"),\"-\",VLOOKUP(COUNTIF($W28:$Y28,\"A\")-COUNTIF($W28:$Y28,\"C\"),基本情報!$R$4:$S$10,2)))","v":""},null,null,null,null,null,"",null,null,null,{"$f":"IF(OR($I28=\"\",COUNTA($AG28:$AI28)=0),\"\",IF(AND(AG28=\"-\",AH28=\"-\",AI28=\"-\"),\"-\",VLOOKUP(COUNTIF($AG28:$AI28,\"A\")-COUNTIF($AG28:$AI28,\"C\"),基本情報!$R$4:$S$10,2)))","v":""}]
[null,null,null,null,10906,null,null,6,{"$f":"IF(VLOOKUP($E29,学年名簿と評価・評定!$E$24:$K$573,5)=\"\",\"\",VLOOKUP($E29,学年名簿と評価・評定!$E$24:$K$573,5))","v":""},{"$f":"IF(VLOOKUP($E29,学年名簿と評価・評定!$E$24:$K$573,6)=\"\",\"\",VLOOKUP($E29,学年名簿と評価・評定!$E$24:$K$573,7))","v":""},null,"",null,null,null,{"$f":"IF(OR($I29=\"\",COUNTA($M29:$O29)=0),\"\",IF(AND(M29=\"-\",N29=\"-\",O29=\"-\"),\"-\",VLOOKUP(COUNTIF($M29:$O29,\"A\")-COUNTIF($M29:$O29,\"C\"),基本情報!$R$4:$S$10,2)))","v":""},null,null,null,null,null,"",null,null,null,{"$f":"IF(OR($I29=\"\",COUNTA($W29:$Y29)=0),\"\",IF(AND(W29=\"-\",X29=\"-\",Y29=\"-\"),\"-\",VLOOKUP(COUNTIF($W29:$Y29,\"A\")-COUNTIF($W29:$Y29,\"C\"),基本情報!$R$4:$S$10,2)))","v":""},null,null,null,null,null,"",null,null,null,{"$f":"IF(OR($I29=\"\",COUNTA($AG29:$AI29)=0),\"\",IF(AND(AG29=\"-\",AH29=\"-\",AI29=\"-\"),\"-\",VLOOKUP(COUNTIF($AG29:$AI29,\"A\")-COUNTIF($AG29:$AI29,\"C\"),基本情報!$R$4:$S$10,2)))","v":""}]
[null,null,null,null,10907,null,null,7,{"$f":"IF(VLOOKUP($E30,学年名簿と評価・評定!$E$24:$K$573,5)=\"\",\"\",VLOOKUP($E30,学年名簿と評価・評定!$E$24:$K$573,5))","v":""},{"$f":"IF(VLOOKUP($E30,学年名簿と評価・評定!$E$24:$K$573,6)=\"\",\"\",VLOOKUP($E30,学年名簿と評価・評定!$E$24:$K$573,7))","v":""},null,"",null,null,null,{"$f":"IF(OR($I30=\"\",COUNTA($M30:$O30)=0),\"\",IF(AND(M30=\"-\",N30=\"-\",O30=\"-\"),\"-\",VLOOKUP(COUNTIF($M30:$O30,\"A\")-COUNTIF($M30:$O30,\"C\"),基本情報!$R$4:$S$10,2)))","v":""},null,null,null,null,null,"",null,null,null,{"$f":"IF(OR($I30=\"\",COUNTA($W30:$Y30)=0),\"\",IF(AND(W30=\"-\",X30=\"-\",Y30=\"-\"),\"-\",VLOOKUP(COUNTIF($W30:$Y30,\"A\")-COUNTIF($W30:$Y30,\"C\"),基本情報!$R$4:$S$10,2)))","v":""},null,null,null,null,null,"",null,null,null,{"$f":"IF(OR($I30=\"\",COUNTA($AG30:$AI30)=0),\"\",IF(AND(AG30=\"-\",AH30=\"-\",AI30=\"-\"),\"-\",VLOOKUP(COUNTIF($AG30:$AI30,\"A\")-COUNTIF($AG30:$AI30,\"C\"),基本情報!$R$4:$S$10,2)))","v":""}]
[null,null,null,null,10908,null,null,8,{"$f":"IF(VLOOKUP($E31,学年名簿と評価・評定!$E$24:$K$573,5)=\"\",\"\",VLOOKUP($E31,学年名簿と評価・評定!$E$24:$K$573,5))","v":""},{"$f":"IF(VLOOKUP($E31,学年名簿と評価・評定!$E$24:$K$573,6)=\"\",\"\",VLOOKUP($E31,学年名簿と評価・評定!$E$24:$K$573,7))","v":""},null,"",null,null,null,{"$f":"IF(OR($I31=\"\",COUNTA($M31:$O31)=0),\"\",IF(AND(M31=\"-\",N31=\"-\",O31=\"-\"),\"-\",VLOOKUP(COUNTIF($M31:$O31,\"A\")-COUNTIF($M31:$O31,\"C\"),基本情報!$R$4:$S$10,2)))","v":""},null,null,null,null,null,"",null,null,null,{"$f":"IF(OR($I31=\"\",COUNTA($W31:$Y31)=0),\"\",IF(AND(W31=\"-\",X31=\"-\",Y31=\"-\"),\"-\",VLOOKUP(COUNTIF($W31:$Y31,\"A\")-COUNTIF($W31:$Y31,\"C\"),基本情報!$R$4:$S$10,2)))","v":""},null,null,null,null,null,"",null,null,null,{"$f":"IF(OR($I31=\"\",COUNTA($AG31:$AI31)=0),\"\",IF(AND(AG31=\"-\",AH31=\"-\",AI31=\"-\"),\"-\",VLOOKUP(COUNTIF($AG31:$AI31,\"A\")-COUNTIF($AG31:$AI31,\"C\"),基本情報!$R$4:$S$10,2)))","v":""}]
[null,null,null,null,10909,null,null,9,{"$f":"IF(VLOOKUP($E32,学年名簿と評価・評定!$E$24:$K$573,5)=\"\",\"\",VLOOKUP($E32,学年名簿と評価・評定!$E$24:$K$573,5))","v":""},{"$f":"IF(VLOOKUP($E32,学年名簿と評価・評定!$E$24:$K$573,6)=\"\",\"\",VLOOKUP($E32,学年名簿と評価・評定!$E$24:$K$573,7))","v":""},null,"",null,null,null,{"$f":"IF(OR($I32=\"\",COUNTA($M32:$O32)=0),\"\",IF(AND(M32=\"-\",N32=\"-\",O32=\"-\"),\"-\",VLOOKUP(COUNTIF($M32:$O32,\"A\")-COUNTIF($M32:$O32,\"C\"),基本情報!$R$4:$S$10,2)))","v":""},null,null,null,null,null,"",null,null,null,{"$f":"IF(OR($I32=\"\",COUNTA($W32:$Y32)=0),\"\",IF(AND(W32=\"-\",X32=\"-\",Y32=\"-\"),\"-\",VLOOKUP(COUNTIF($W32:$Y32,\"A\")-COUNTIF($W32:$Y32,\"C\"),基本情報!$R$4:$S$10,2)))","v":""},null,null,null,null,null,"",null,null,null,{"$f":"IF(OR($I32=\"\",COUNTA($AG32:$AI32)=0),\"\",IF(AND(AG32=\"-\",AH32=\"-\",AI32=\"-\"),\"-\",VLOOKUP(COUNTIF($AG32:$AI32,\"A\")-COUNTIF($AG32:$AI32,\"C\"),基本情報!$R$4:$S$10,2)))","v":""}]
[null,null,null,null,10910,null,null,10,{"$f":"IF(VLOOKUP($E33,学年名簿と評価・評定!$E$24:$K$573,5)=\"\",\"\",VLOOKUP($E33,学年名簿と評価・評定!$E$24:$K$573,5))","v":""},{"$f":"IF(VLOOKUP($E33,学年名簿と評価・評定!$E$24:$K$573,6)=\"\",\"\",VLOOKUP($E33,学年名簿と評価・評定!$E$24:$K$573,7))","v":""},null,"",null,null,null,{"$f":"IF(OR($I33=\"\",COUNTA($M33:$O33)=0),\"\",IF(AND(M33=\"-\",N33=\"-\",O33=\"-\"),\"-\",VLOOKUP(COUNTIF($M33:$O33,\"A\")-COUNTIF($M33:$O33,\"C\"),基本情報!$R$4:$S$10,2)))","v":""},null,null,null,null,null,"",null,null,null,{"$f":"IF(OR($I33=\"\",COUNTA($W33:$Y33)=0),\"\",IF(AND(W33=\"-\",X33=\"-\",Y33=\"-\"),\"-\",VLOOKUP(COUNTIF($W33:$Y33,\"A\")-COUNTIF($W33:$Y33,\"C\"),基本情報!$R$4:$S$10,2)))","v":""},null,null,null,null,null,"",null,null,null,{"$f":"IF(OR($I33=\"\",COUNTA($AG33:$AI33)=0),\"\",IF(AND(AG33=\"-\",AH33=\"-\",AI33=\"-\"),\"-\",VLOOKUP(COUNTIF($AG33:$AI33,\"A\")-COUNTIF($AG33:$AI33,\"C\"),基本情報!$R$4:$S$10,2)))","v":""}]
[null,null,null,null,10911,null,null,11,{"$f":"IF(VLOOKUP($E34,学年名簿と評価・評定!$E$24:$K$573,5)=\"\",\"\",VLOOKUP($E34,学年名簿と評価・評定!$E$24:$K$573,5))","v":""},{"$f":"IF(VLOOKUP($E34,学年名簿と評価・評定!$E$24:$K$573,6)=\"\",\"\",VLOOKUP($E34,学年名簿と評価・評定!$E$24:$K$573,7))","v":""},null,"",null,null,null,{"$f":"IF(OR($I34=\"\",COUNTA($M34:$O34)=0),\"\",IF(AND(M34=\"-\",N34=\"-\",O34=\"-\"),\"-\",VLOOKUP(COUNTIF($M34:$O34,\"A\")-COUNTIF($M34:$O34,\"C\"),基本情報!$R$4:$S$10,2)))","v":""},null,null,null,null,null,"",null,null,null,{"$f":"IF(OR($I34=\"\",COUNTA($W34:$Y34)=0),\"\",IF(AND(W34=\"-\",X34=\"-\",Y34=\"-\"),\"-\",VLOOKUP(COUNTIF($W34:$Y34,\"A\")-COUNTIF($W34:$Y34,\"C\"),基本情報!$R$4:$S$10,2)))","v":""},null,null,null,null,null,"",null,null,null,{"$f":"IF(OR($I34=\"\",COUNTA($AG34:$AI34)=0),\"\",IF(AND(AG34=\"-\",AH34=\"-\",AI34=\"-\"),\"-\",VLOOKUP(COUNTIF($AG34:$AI34,\"A\")-COUNTIF($AG34:$AI34,\"C\"),基本情報!$R$4:$S$10,2)))","v":""}]
[null,null,null,null,10912,null,null,12,{"$f":"IF(VLOOKUP($E35,学年名簿と評価・評定!$E$24:$K$573,5)=\"\",\"\",VLOOKUP($E35,学年名簿と評価・評定!$E$24:$K$573,5))","v":""},{"$f":"IF(VLOOKUP($E35,学年名簿と評価・評定!$E$24:$K$573,6)=\"\",\"\",VLOOKUP($E35,学年名簿と評価・評定!$E$24:$K$573,7))","v":""},null,"",null,null,null,{"$f":"IF(OR($I35=\"\",COUNTA($M35:$O35)=0),\"\",IF(AND(M35=\"-\",N35=\"-\",O35=\"-\"),\"-\",VLOOKUP(COUNTIF($M35:$O35,\"A\")-COUNTIF($M35:$O35,\"C\"),基本情報!$R$4:$S$10,2)))","v":""},null,null,null,null,null,"",null,null,null,{"$f":"IF(OR($I35=\"\",COUNTA($W35:$Y35)=0),\"\",IF(AND(W35=\"-\",X35=\"-\",Y35=\"-\"),\"-\",VLOOKUP(COUNTIF($W35:$Y35,\"A\")-COUNTIF($W35:$Y35,\"C\"),基本情報!$R$4:$S$10,2)))","v":""},null,null,null,null,null,"",null,null,null,{"$f":"IF(OR($I35=\"\",COUNTA($AG35:$AI35)=0),\"\",IF(AND(AG35=\"-\",AH35=\"-\",AI35=\"-\"),\"-\",VLOOKUP(COUNTIF($AG35:$AI35,\"A\")-COUNTIF($AG35:$AI35,\"C\"),基本情報!$R$4:$S$10,2)))","v":""}]
[null,null,null,null,10913,null,null,13,{"$f":"IF(VLOOKUP($E36,学年名簿と評価・評定!$E$24:$K$573,5)=\"\",\"\",VLOOKUP($E36,学年名簿と評価・評定!$E$24:$K$573,5))","v":""},{"$f":"IF(VLOOKUP($E36,学年名簿と評価・評定!$E$24:$K$573,6)=\"\",\"\",VLOOKUP($E36,学年名簿と評価・評定!$E$24:$K$573,7))","v":""},null,"",null,null,null,{"$f":"IF(OR($I36=\"\",COUNTA($M36:$O36)=0),\"\",IF(AND(M36=\"-\",N36=\"-\",O36=\"-\"),\"-\",VLOOKUP(COUNTIF($M36:$O36,\"A\")-COUNTIF($M36:$O36,\"C\"),基本情報!$R$4:$S$10,2)))","v":""},null,null,null,null,null,"",null,null,null,{"$f":"IF(OR($I36=\"\",COUNTA($W36:$Y36)=0),\"\",IF(AND(W36=\"-\",X36=\"-\",Y36=\"-\"),\"-\",VLOOKUP(COUNTIF($W36:$Y36,\"A\")-COUNTIF($W36:$Y36,\"C\"),基本情報!$R$4:$S$10,2)))","v":""},null,null,null,null,null,"",null,null,null,{"$f":"IF(OR($I36=\"\",COUNTA($AG36:$AI36)=0),\"\",IF(AND(AG36=\"-\",AH36=\"-\",AI36=\"-\"),\"-\",VLOOKUP(COUNTIF($AG36:$AI36,\"A\")-COUNTIF($AG36:$AI36,\"C\"),基本情報!$R$4:$S$10,2)))","v":""}]
[null,null,null,null,10914,null,null,14,{"$f":"IF(VLOOKUP($E37,学年名簿と評価・評定!$E$24:$K$573,5)=\"\",\"\",VLOOKUP($E37,学年名簿と評価・評定!$E$24:$K$573,5))","v":""},{"$f":"IF(VLOOKUP($E37,学年名簿と評価・評定!$E$24:$K$573,6)=\"\",\"\",VLOOKUP($E37,学年名簿と評価・評定!$E$24:$K$573,7))","v":""},null,"",null,null,null,{"$f":"IF(OR($I37=\"\",COUNTA($M37:$O37)=0),\"\",IF(AND(M37=\"-\",N37=\"-\",O37=\"-\"),\"-\",VLOOKUP(COUNTIF($M37:$O37,\"A\")-COUNTIF($M37:$O37,\"C\"),基本情報!$R$4:$S$10,2)))","v":""},null,null,null,null,null,"",null,null,null,{"$f":"IF(OR($I37=\"\",COUNTA($W37:$Y37)=0),\"\",IF(AND(W37=\"-\",X37=\"-\",Y37=\"-\"),\"-\",VLOOKUP(COUNTIF($W37:$Y37,\"A\")-COUNTIF($W37:$Y37,\"C\"),基本情報!$R$4:$S$10,2)))","v":""},null,null,null,null,null,"",null,null,null,{"$f":"IF(OR($I37=\"\",COUNTA($AG37:$AI37)=0),\"\",IF(AND(AG37=\"-\",AH37=\"-\",AI37=\"-\"),\"-\",VLOOKUP(COUNTIF($AG37:$AI37,\"A\")-COUNTIF($AG37:$AI37,\"C\"),基本情報!$R$4:$S$10,2)))","v":""}]
[null,null,null,null,10915,null,null,15,{"$f":"IF(VLOOKUP($E38,学年名簿と評価・評定!$E$24:$K$573,5)=\"\",\"\",VLOOKUP($E38,学年名簿と評価・評定!$E$24:$K$573,5))","v":""},{"$f":"IF(VLOOKUP($E38,学年名簿と評価・評定!$E$24:$K$573,6)=\"\",\"\",VLOOKUP($E38,学年名簿と評価・評定!$E$24:$K$573,7))","v":""},null,"",null,null,null,{"$f":"IF(OR($I38=\"\",COUNTA($M38:$O38)=0),\"\",IF(AND(M38=\"-\",N38=\"-\",O38=\"-\"),\"-\",VLOOKUP(COUNTIF($M38:$O38,\"A\")-COUNTIF($M38:$O38,\"C\"),基本情報!$R$4:$S$10,2)))","v":""},null,null,null,null,null,"",null,null,null,{"$f":"IF(OR($I38=\"\",COUNTA($W38:$Y38)=0),\"\",IF(AND(W38=\"-\",X38=\"-\",Y38=\"-\"),\"-\",VLOOKUP(COUNTIF($W38:$Y38,\"A\")-COUNTIF($W38:$Y38,\"C\"),基本情報!$R$4:$S$10,2)))","v":""},null,null,null,null,null,"",null,null,null,{"$f":"IF(OR($I38=\"\",COUNTA($AG38:$AI38)=0),\"\",IF(AND(AG38=\"-\",AH38=\"-\",AI38=\"-\"),\"-\",VLOOKUP(COUNTIF($AG38:$AI38,\"A\")-COUNTIF($AG38:$AI38,\"C\"),基本情報!$R$4:$S$10,2)))","v":""}]
[null,null,null,null,10916,null,null,16,{"$f":"IF(VLOOKUP($E39,学年名簿と評価・評定!$E$24:$K$573,5)=\"\",\"\",VLOOKUP($E39,学年名簿と評価・評定!$E$24:$K$573,5))","v":""},{"$f":"IF(VLOOKUP($E39,学年名簿と評価・評定!$E$24:$K$573,6)=\"\",\"\",VLOOKUP($E39,学年名簿と評価・評定!$E$24:$K$573,7))","v":""},null,"",null,null,null,{"$f":"IF(OR($I39=\"\",COUNTA($M39:$O39)=0),\"\",IF(AND(M39=\"-\",N39=\"-\",O39=\"-\"),\"-\",VLOOKUP(COUNTIF($M39:$O39,\"A\")-COUNTIF($M39:$O39,\"C\"),基本情報!$R$4:$S$10,2)))","v":""},null,null,null,null,null,"",null,null,null,{"$f":"IF(OR($I39=\"\",COUNTA($W39:$Y39)=0),\"\",IF(AND(W39=\"-\",X39=\"-\",Y39=\"-\"),\"-\",VLOOKUP(COUNTIF($W39:$Y39,\"A\")-COUNTIF($W39:$Y39,\"C\"),基本情報!$R$4:$S$10,2)))","v":""},null,null,null,null,null,"",null,null,null,{"$f":"IF(OR($I39=\"\",COUNTA($AG39:$AI39)=0),\"\",IF(AND(AG39=\"-\",AH39=\"-\",AI39=\"-\"),\"-\",VLOOKUP(COUNTIF($AG39:$AI39,\"A\")-COUNTIF($AG39:$AI39,\"C\"),基本情報!$R$4:$S$10,2)))","v":""}]
[null,null,null,null,10917,null,null,17,{"$f":"IF(VLOOKUP($E40,学年名簿と評価・評定!$E$24:$K$573,5)=\"\",\"\",VLOOKUP($E40,学年名簿と評価・評定!$E$24:$K$573,5))","v":""},{"$f":"IF(VLOOKUP($E40,学年名簿と評価・評定!$E$24:$K$573,6)=\"\",\"\",VLOOKUP($E40,学年名簿と評価・評定!$E$24:$K$573,7))","v":""},null,"",null,null,null,{"$f":"IF(OR($I40=\"\",COUNTA($M40:$O40)=0),\"\",IF(AND(M40=\"-\",N40=\"-\",O40=\"-\"),\"-\",VLOOKUP(COUNTIF($M40:$O40,\"A\")-COUNTIF($M40:$O40,\"C\"),基本情報!$R$4:$S$10,2)))","v":""},null,null,null,null,null,"",null,null,null,{"$f":"IF(OR($I40=\"\",COUNTA($W40:$Y40)=0),\"\",IF(AND(W40=\"-\",X40=\"-\",Y40=\"-\"),\"-\",VLOOKUP(COUNTIF($W40:$Y40,\"A\")-COUNTIF($W40:$Y40,\"C\"),基本情報!$R$4:$S$10,2)))","v":""},null,null,null,null,null,"",null,null,null,{"$f":"IF(OR($I40=\"\",COUNTA($AG40:$AI40)=0),\"\",IF(AND(AG40=\"-\",AH40=\"-\",AI40=\"-\"),\"-\",VLOOKUP(COUNTIF($AG40:$AI40,\"A\")-COUNTIF($AG40:$AI40,\"C\"),基本情報!$R$4:$S$10,2)))","v":""}]
[null,null,null,null,10918,null,null,18,{"$f":"IF(VLOOKUP($E41,学年名簿と評価・評定!$E$24:$K$573,5)=\"\",\"\",VLOOKUP($E41,学年名簿と評価・評定!$E$24:$K$573,5))","v":""},{"$f":"IF(VLOOKUP($E41,学年名簿と評価・評定!$E$24:$K$573,6)=\"\",\"\",VLOOKUP($E41,学年名簿と評価・評定!$E$24:$K$573,7))","v":""},null,"",null,null,null,{"$f":"IF(OR($I41=\"\",COUNTA($M41:$O41)=0),\"\",IF(AND(M41=\"-\",N41=\"-\",O41=\"-\"),\"-\",VLOOKUP(COUNTIF($M41:$O41,\"A\")-COUNTIF($M41:$O41,\"C\"),基本情報!$R$4:$S$10,2)))","v":""},null,null,null,null,null,"",null,null,null,{"$f":"IF(OR($I41=\"\",COUNTA($W41:$Y41)=0),\"\",IF(AND(W41=\"-\",X41=\"-\",Y41=\"-\"),\"-\",VLOOKUP(COUNTIF($W41:$Y41,\"A\")-COUNTIF($W41:$Y41,\"C\"),基本情報!$R$4:$S$10,2)))","v":""},null,null,null,null,null,"",null,null,null,{"$f":"IF(OR($I41=\"\",COUNTA($AG41:$AI41)=0),\"\",IF(AND(AG41=\"-\",AH41=\"-\",AI41=\"-\"),\"-\",VLOOKUP(COUNTIF($AG41:$AI41,\"A\")-COUNTIF($AG41:$AI41,\"C\"),基本情報!$R$4:$S$10,2)))","v":""}]
[null,null,null,null,10919,null,null,19,{"$f":"IF(VLOOKUP($E42,学年名簿と評価・評定!$E$24:$K$573,5)=\"\",\"\",VLOOKUP($E42,学年名簿と評価・評定!$E$24:$K$573,5))","v":""},{"$f":"IF(VLOOKUP($E42,学年名簿と評価・評定!$E$24:$K$573,6)=\"\",\"\",VLOOKUP($E42,学年名簿と評価・評定!$E$24:$K$573,7))","v":""},null,"",null,null,null,{"$f":"IF(OR($I42=\"\",COUNTA($M42:$O42)=0),\"\",IF(AND(M42=\"-\",N42=\"-\",O42=\"-\"),\"-\",VLOOKUP(COUNTIF($M42:$O42,\"A\")-COUNTIF($M42:$O42,\"C\"),基本情報!$R$4:$S$10,2)))","v":""},null,null,null,null,null,"",null,null,null,{"$f":"IF(OR($I42=\"\",COUNTA($W42:$Y42)=0),\"\",IF(AND(W42=\"-\",X42=\"-\",Y42=\"-\"),\"-\",VLOOKUP(COUNTIF($W42:$Y42,\"A\")-COUNTIF($W42:$Y42,\"C\"),基本情報!$R$4:$S$10,2)))","v":""},null,null,null,null,null,"",null,null,null,{"$f":"IF(OR($I42=\"\",COUNTA($AG42:$AI42)=0),\"\",IF(AND(AG42=\"-\",AH42=\"-\",AI42=\"-\"),\"-\",VLOOKUP(COUNTIF($AG42:$AI42,\"A\")-COUNTIF($AG42:$AI42,\"C\"),基本情報!$R$4:$S$10,2)))","v":""}]
[null,null,null,null,10920,null,null,20,{"$f":"IF(VLOOKUP($E43,学年名簿と評価・評定!$E$24:$K$573,5)=\"\",\"\",VLOOKUP($E43,学年名簿と評価・評定!$E$24:$K$573,5))","v":""},{"$f":"IF(VLOOKUP($E43,学年名簿と評価・評定!$E$24:$K$573,6)=\"\",\"\",VLOOKUP($E43,学年名簿と評価・評定!$E$24:$K$573,7))","v":""},null,"",null,null,null,{"$f":"IF(OR($I43=\"\",COUNTA($M43:$O43)=0),\"\",IF(AND(M43=\"-\",N43=\"-\",O43=\"-\"),\"-\",VLOOKUP(COUNTIF($M43:$O43,\"A\")-COUNTIF($M43:$O43,\"C\"),基本情報!$R$4:$S$10,2)))","v":""},null,null,null,null,null,"",null,null,null,{"$f":"IF(OR($I43=\"\",COUNTA($W43:$Y43)=0),\"\",IF(AND(W43=\"-\",X43=\"-\",Y43=\"-\"),\"-\",VLOOKUP(COUNTIF($W43:$Y43,\"A\")-COUNTIF($W43:$Y43,\"C\"),基本情報!$R$4:$S$10,2)))","v":""},null,null,null,null,null,"",null,null,null,{"$f":"IF(OR($I43=\"\",COUNTA($AG43:$AI43)=0),\"\",IF(AND(AG43=\"-\",AH43=\"-\",AI43=\"-\"),\"-\",VLOOKUP(COUNTIF($AG43:$AI43,\"A\")-COUNTIF($AG43:$AI43,\"C\"),基本情報!$R$4:$S$10,2)))","v":""}]
[null,null,null,null,10921,null,null,21,{"$f":"IF(VLOOKUP($E44,学年名簿と評価・評定!$E$24:$K$573,5)=\"\",\"\",VLOOKUP($E44,学年名簿と評価・評定!$E$24:$K$573,5))","v":""},{"$f":"IF(VLOOKUP($E44,学年名簿と評価・評定!$E$24:$K$573,6)=\"\",\"\",VLOOKUP($E44,学年名簿と評価・評定!$E$24:$K$573,7))","v":""},null,"",null,null,null,{"$f":"IF(OR($I44=\"\",COUNTA($M44:$O44)=0),\"\",IF(AND(M44=\"-\",N44=\"-\",O44=\"-\"),\"-\",VLOOKUP(COUNTIF($M44:$O44,\"A\")-COUNTIF($M44:$O44,\"C\"),基本情報!$R$4:$S$10,2)))","v":""},null,null,null,null,null,"",null,null,null,{"$f":"IF(OR($I44=\"\",COUNTA($W44:$Y44)=0),\"\",IF(AND(W44=\"-\",X44=\"-\",Y44=\"-\"),\"-\",VLOOKUP(COUNTIF($W44:$Y44,\"A\")-COUNTIF($W44:$Y44,\"C\"),基本情報!$R$4:$S$10,2)))","v":""},null,null,null,null,null,"",null,null,null,{"$f":"IF(OR($I44=\"\",COUNTA($AG44:$AI44)=0),\"\",IF(AND(AG44=\"-\",AH44=\"-\",AI44=\"-\"),\"-\",VLOOKUP(COUNTIF($AG44:$AI44,\"A\")-COUNTIF($AG44:$AI44,\"C\"),基本情報!$R$4:$S$10,2)))","v":""}]
[null,null,null,null,10922,null,null,22,{"$f":"IF(VLOOKUP($E45,学年名簿と評価・評定!$E$24:$K$573,5)=\"\",\"\",VLOOKUP($E45,学年名簿と評価・評定!$E$24:$K$573,5))","v":""},{"$f":"IF(VLOOKUP($E45,学年名簿と評価・評定!$E$24:$K$573,6)=\"\",\"\",VLOOKUP($E45,学年名簿と評価・評定!$E$24:$K$573,7))","v":""},null,"",null,null,null,{"$f":"IF(OR($I45=\"\",COUNTA($M45:$O45)=0),\"\",IF(AND(M45=\"-\",N45=\"-\",O45=\"-\"),\"-\",VLOOKUP(COUNTIF($M45:$O45,\"A\")-COUNTIF($M45:$O45,\"C\"),基本情報!$R$4:$S$10,2)))","v":""},null,null,null,null,null,"",null,null,null,{"$f":"IF(OR($I45=\"\",COUNTA($W45:$Y45)=0),\"\",IF(AND(W45=\"-\",X45=\"-\",Y45=\"-\"),\"-\",VLOOKUP(COUNTIF($W45:$Y45,\"A\")-COUNTIF($W45:$Y45,\"C\"),基本情報!$R$4:$S$10,2)))","v":""},null,null,null,null,null,"",null,null,null,{"$f":"IF(OR($I45=\"\",COUNTA($AG45:$AI45)=0),\"\",IF(AND(AG45=\"-\",AH45=\"-\",AI45=\"-\"),\"-\",VLOOKUP(COUNTIF($AG45:$AI45,\"A\")-COUNTIF($AG45:$AI45,\"C\"),基本情報!$R$4:$S$10,2)))","v":""}]
[null,null,null,null,10923,null,null,23,{"$f":"IF(VLOOKUP($E46,学年名簿と評価・評定!$E$24:$K$573,5)=\"\",\"\",VLOOKUP($E46,学年名簿と評価・評定!$E$24:$K$573,5))","v":""},{"$f":"IF(VLOOKUP($E46,学年名簿と評価・評定!$E$24:$K$573,6)=\"\",\"\",VLOOKUP($E46,学年名簿と評価・評定!$E$24:$K$573,7))","v":""},null,"",null,null,null,{"$f":"IF(OR($I46=\"\",COUNTA($M46:$O46)=0),\"\",IF(AND(M46=\"-\",N46=\"-\",O46=\"-\"),\"-\",VLOOKUP(COUNTIF($M46:$O46,\"A\")-COUNTIF($M46:$O46,\"C\"),基本情報!$R$4:$S$10,2)))","v":""},null,null,null,null,null,"",null,null,null,{"$f":"IF(OR($I46=\"\",COUNTA($W46:$Y46)=0),\"\",IF(AND(W46=\"-\",X46=\"-\",Y46=\"-\"),\"-\",VLOOKUP(COUNTIF($W46:$Y46,\"A\")-COUNTIF($W46:$Y46,\"C\"),基本情報!$R$4:$S$10,2)))","v":""},null,null,null,null,null,"",null,null,null,{"$f":"IF(OR($I46=\"\",COUNTA($AG46:$AI46)=0),\"\",IF(AND(AG46=\"-\",AH46=\"-\",AI46=\"-\"),\"-\",VLOOKUP(COUNTIF($AG46:$AI46,\"A\")-COUNTIF($AG46:$AI46,\"C\"),基本情報!$R$4:$S$10,2)))","v":""}]
[null,null,null,null,10924,null,null,24,{"$f":"IF(VLOOKUP($E47,学年名簿と評価・評定!$E$24:$K$573,5)=\"\",\"\",VLOOKUP($E47,学年名簿と評価・評定!$E$24:$K$573,5))","v":""},{"$f":"IF(VLOOKUP($E47,学年名簿と評価・評定!$E$24:$K$573,6)=\"\",\"\",VLOOKUP($E47,学年名簿と評価・評定!$E$24:$K$573,7))","v":""},null,"",null,null,null,{"$f":"IF(OR($I47=\"\",COUNTA($M47:$O47)=0),\"\",IF(AND(M47=\"-\",N47=\"-\",O47=\"-\"),\"-\",VLOOKUP(COUNTIF($M47:$O47,\"A\")-COUNTIF($M47:$O47,\"C\"),基本情報!$R$4:$S$10,2)))","v":""},null,null,null,null,null,"",null,null,null,{"$f":"IF(OR($I47=\"\",COUNTA($W47:$Y47)=0),\"\",IF(AND(W47=\"-\",X47=\"-\",Y47=\"-\"),\"-\",VLOOKUP(COUNTIF($W47:$Y47,\"A\")-COUNTIF($W47:$Y47,\"C\"),基本情報!$R$4:$S$10,2)))","v":""},null,null,null,null,null,"",null,null,null,{"$f":"IF(OR($I47=\"\",COUNTA($AG47:$AI47)=0),\"\",IF(AND(AG47=\"-\",AH47=\"-\",AI47=\"-\"),\"-\",VLOOKUP(COUNTIF($AG47:$AI47,\"A\")-COUNTIF($AG47:$AI47,\"C\"),基本情報!$R$4:$S$10,2)))","v":""}]
[null,null,null,null,10925,null,null,25,{"$f":"IF(VLOOKUP($E48,学年名簿と評価・評定!$E$24:$K$573,5)=\"\",\"\",VLOOKUP($E48,学年名簿と評価・評定!$E$24:$K$573,5))","v":""},{"$f":"IF(VLOOKUP($E48,学年名簿と評価・評定!$E$24:$K$573,6)=\"\",\"\",VLOOKUP($E48,学年名簿と評価・評定!$E$24:$K$573,7))","v":""},null,"",null,null,null,{"$f":"IF(OR($I48=\"\",COUNTA($M48:$O48)=0),\"\",IF(AND(M48=\"-\",N48=\"-\",O48=\"-\"),\"-\",VLOOKUP(COUNTIF($M48:$O48,\"A\")-COUNTIF($M48:$O48,\"C\"),基本情報!$R$4:$S$10,2)))","v":""},null,null,null,null,null,"",null,null,null,{"$f":"IF(OR($I48=\"\",COUNTA($W48:$Y48)=0),\"\",IF(AND(W48=\"-\",X48=\"-\",Y48=\"-\"),\"-\",VLOOKUP(COUNTIF($W48:$Y48,\"A\")-COUNTIF($W48:$Y48,\"C\"),基本情報!$R$4:$S$10,2)))","v":""},null,null,null,null,null,"",null,null,null,{"$f":"IF(OR($I48=\"\",COUNTA($AG48:$AI48)=0),\"\",IF(AND(AG48=\"-\",AH48=\"-\",AI48=\"-\"),\"-\",VLOOKUP(COUNTIF($AG48:$AI48,\"A\")-COUNTIF($AG48:$AI48,\"C\"),基本情報!$R$4:$S$10,2)))","v":""}]
[null,null,null,null,10926,null,null,26,{"$f":"IF(VLOOKUP($E49,学年名簿と評価・評定!$E$24:$K$573,5)=\"\",\"\",VLOOKUP($E49,学年名簿と評価・評定!$E$24:$K$573,5))","v":""},{"$f":"IF(VLOOKUP($E49,学年名簿と評価・評定!$E$24:$K$573,6)=\"\",\"\",VLOOKUP($E49,学年名簿と評価・評定!$E$24:$K$573,7))","v":""},null,"",null,null,null,{"$f":"IF(OR($I49=\"\",COUNTA($M49:$O49)=0),\"\",IF(AND(M49=\"-\",N49=\"-\",O49=\"-\"),\"-\",VLOOKUP(COUNTIF($M49:$O49,\"A\")-COUNTIF($M49:$O49,\"C\"),基本情報!$R$4:$S$10,2)))","v":""},null,null,null,null,null,"",null,null,null,{"$f":"IF(OR($I49=\"\",COUNTA($W49:$Y49)=0),\"\",IF(AND(W49=\"-\",X49=\"-\",Y49=\"-\"),\"-\",VLOOKUP(COUNTIF($W49:$Y49,\"A\")-COUNTIF($W49:$Y49,\"C\"),基本情報!$R$4:$S$10,2)))","v":""},null,null,null,null,null,"",null,null,null,{"$f":"IF(OR($I49=\"\",COUNTA($AG49:$AI49)=0),\"\",IF(AND(AG49=\"-\",AH49=\"-\",AI49=\"-\"),\"-\",VLOOKUP(COUNTIF($AG49:$AI49,\"A\")-COUNTIF($AG49:$AI49,\"C\"),基本情報!$R$4:$S$10,2)))","v":""}]
[null,null,null,null,10927,null,null,27,{"$f":"IF(VLOOKUP($E50,学年名簿と評価・評定!$E$24:$K$573,5)=\"\",\"\",VLOOKUP($E50,学年名簿と評価・評定!$E$24:$K$573,5))","v":""},{"$f":"IF(VLOOKUP($E50,学年名簿と評価・評定!$E$24:$K$573,6)=\"\",\"\",VLOOKUP($E50,学年名簿と評価・評定!$E$24:$K$573,7))","v":""},null,"",null,null,null,{"$f":"IF(OR($I50=\"\",COUNTA($M50:$O50)=0),\"\",IF(AND(M50=\"-\",N50=\"-\",O50=\"-\"),\"-\",VLOOKUP(COUNTIF($M50:$O50,\"A\")-COUNTIF($M50:$O50,\"C\"),基本情報!$R$4:$S$10,2)))","v":""},null,null,null,null,null,"",null,null,null,{"$f":"IF(OR($I50=\"\",COUNTA($W50:$Y50)=0),\"\",IF(AND(W50=\"-\",X50=\"-\",Y50=\"-\"),\"-\",VLOOKUP(COUNTIF($W50:$Y50,\"A\")-COUNTIF($W50:$Y50,\"C\"),基本情報!$R$4:$S$10,2)))","v":""},null,null,null,null,null,"",null,null,null,{"$f":"IF(OR($I50=\"\",COUNTA($AG50:$AI50)=0),\"\",IF(AND(AG50=\"-\",AH50=\"-\",AI50=\"-\"),\"-\",VLOOKUP(COUNTIF($AG50:$AI50,\"A\")-COUNTIF($AG50:$AI50,\"C\"),基本情報!$R$4:$S$10,2)))","v":""}]
[null,null,null,null,10928,null,null,28,{"$f":"IF(VLOOKUP($E51,学年名簿と評価・評定!$E$24:$K$573,5)=\"\",\"\",VLOOKUP($E51,学年名簿と評価・評定!$E$24:$K$573,5))","v":""},{"$f":"IF(VLOOKUP($E51,学年名簿と評価・評定!$E$24:$K$573,6)=\"\",\"\",VLOOKUP($E51,学年名簿と評価・評定!$E$24:$K$573,7))","v":""},null,"",null,null,null,{"$f":"IF(OR($I51=\"\",COUNTA($M51:$O51)=0),\"\",IF(AND(M51=\"-\",N51=\"-\",O51=\"-\"),\"-\",VLOOKUP(COUNTIF($M51:$O51,\"A\")-COUNTIF($M51:$O51,\"C\"),基本情報!$R$4:$S$10,2)))","v":""},null,null,null,null,null,"",null,null,null,{"$f":"IF(OR($I51=\"\",COUNTA($W51:$Y51)=0),\"\",IF(AND(W51=\"-\",X51=\"-\",Y51=\"-\"),\"-\",VLOOKUP(COUNTIF($W51:$Y51,\"A\")-COUNTIF($W51:$Y51,\"C\"),基本情報!$R$4:$S$10,2)))","v":""},null,null,null,null,null,"",null,null,null,{"$f":"IF(OR($I51=\"\",COUNTA($AG51:$AI51)=0),\"\",IF(AND(AG51=\"-\",AH51=\"-\",AI51=\"-\"),\"-\",VLOOKUP(COUNTIF($AG51:$AI51,\"A\")-COUNTIF($AG51:$AI51,\"C\"),基本情報!$R$4:$S$10,2)))","v":""}]
[null,null,null,null,10929,null,null,29,{"$f":"IF(VLOOKUP($E52,学年名簿と評価・評定!$E$24:$K$573,5)=\"\",\"\",VLOOKUP($E52,学年名簿と評価・評定!$E$24:$K$573,5))","v":""},{"$f":"IF(VLOOKUP($E52,学年名簿と評価・評定!$E$24:$K$573,6)=\"\",\"\",VLOOKUP($E52,学年名簿と評価・評定!$E$24:$K$573,7))","v":""},null,"",null,null,null,{"$f":"IF(OR($I52=\"\",COUNTA($M52:$O52)=0),\"\",IF(AND(M52=\"-\",N52=\"-\",O52=\"-\"),\"-\",VLOOKUP(COUNTIF($M52:$O52,\"A\")-COUNTIF($M52:$O52,\"C\"),基本情報!$R$4:$S$10,2)))","v":""},null,null,null,null,null,"",null,null,null,{"$f":"IF(OR($I52=\"\",COUNTA($W52:$Y52)=0),\"\",IF(AND(W52=\"-\",X52=\"-\",Y52=\"-\"),\"-\",VLOOKUP(COUNTIF($W52:$Y52,\"A\")-COUNTIF($W52:$Y52,\"C\"),基本情報!$R$4:$S$10,2)))","v":""},null,null,null,null,null,"",null,null,null,{"$f":"IF(OR($I52=\"\",COUNTA($AG52:$AI52)=0),\"\",IF(AND(AG52=\"-\",AH52=\"-\",AI52=\"-\"),\"-\",VLOOKUP(COUNTIF($AG52:$AI52,\"A\")-COUNTIF($AG52:$AI52,\"C\"),基本情報!$R$4:$S$10,2)))","v":""}]
[null,null,null,null,10930,null,null,30,{"$f":"IF(VLOOKUP($E53,学年名簿と評価・評定!$E$24:$K$573,5)=\"\",\"\",VLOOKUP($E53,学年名簿と評価・評定!$E$24:$K$573,5))","v":""},{"$f":"IF(VLOOKUP($E53,学年名簿と評価・評定!$E$24:$K$573,6)=\"\",\"\",VLOOKUP($E53,学年名簿と評価・評定!$E$24:$K$573,7))","v":""},null,"",null,null,null,{"$f":"IF(OR($I53=\"\",COUNTA($M53:$O53)=0),\"\",IF(AND(M53=\"-\",N53=\"-\",O53=\"-\"),\"-\",VLOOKUP(COUNTIF($M53:$O53,\"A\")-COUNTIF($M53:$O53,\"C\"),基本情報!$R$4:$S$10,2)))","v":""},null,null,null,null,null,"",null,null,null,{"$f":"IF(OR($I53=\"\",COUNTA($W53:$Y53)=0),\"\",IF(AND(W53=\"-\",X53=\"-\",Y53=\"-\"),\"-\",VLOOKUP(COUNTIF($W53:$Y53,\"A\")-COUNTIF($W53:$Y53,\"C\"),基本情報!$R$4:$S$10,2)))","v":""},null,null,null,null,null,"",null,null,null,{"$f":"IF(OR($I53=\"\",COUNTA($AG53:$AI53)=0),\"\",IF(AND(AG53=\"-\",AH53=\"-\",AI53=\"-\"),\"-\",VLOOKUP(COUNTIF($AG53:$AI53,\"A\")-COUNTIF($AG53:$AI53,\"C\"),基本情報!$R$4:$S$10,2)))","v":""}]
[null,null,null,null,10931,null,null,31,{"$f":"IF(VLOOKUP($E54,学年名簿と評価・評定!$E$24:$K$573,5)=\"\",\"\",VLOOKUP($E54,学年名簿と評価・評定!$E$24:$K$573,5))","v":""},{"$f":"IF(VLOOKUP($E54,学年名簿と評価・評定!$E$24:$K$573,6)=\"\",\"\",VLOOKUP($E54,学年名簿と評価・評定!$E$24:$K$573,7))","v":""},null,"",null,null,null,{"$f":"IF(OR($I54=\"\",COUNTA($M54:$O54)=0),\"\",IF(AND(M54=\"-\",N54=\"-\",O54=\"-\"),\"-\",VLOOKUP(COUNTIF($M54:$O54,\"A\")-COUNTIF($M54:$O54,\"C\"),基本情報!$R$4:$S$10,2)))","v":""},null,null,null,null,null,"",null,null,null,{"$f":"IF(OR($I54=\"\",COUNTA($W54:$Y54)=0),\"\",IF(AND(W54=\"-\",X54=\"-\",Y54=\"-\"),\"-\",VLOOKUP(COUNTIF($W54:$Y54,\"A\")-COUNTIF($W54:$Y54,\"C\"),基本情報!$R$4:$S$10,2)))","v":""},null,null,null,null,null,"",null,null,null,{"$f":"IF(OR($I54=\"\",COUNTA($AG54:$AI54)=0),\"\",IF(AND(AG54=\"-\",AH54=\"-\",AI54=\"-\"),\"-\",VLOOKUP(COUNTIF($AG54:$AI54,\"A\")-COUNTIF($AG54:$AI54,\"C\"),基本情報!$R$4:$S$10,2)))","v":""}]
[null,null,null,null,10932,null,null,32,{"$f":"IF(VLOOKUP($E55,学年名簿と評価・評定!$E$24:$K$573,5)=\"\",\"\",VLOOKUP($E55,学年名簿と評価・評定!$E$24:$K$573,5))","v":""},{"$f":"IF(VLOOKUP($E55,学年名簿と評価・評定!$E$24:$K$573,6)=\"\",\"\",VLOOKUP($E55,学年名簿と評価・評定!$E$24:$K$573,7))","v":""},null,"",null,null,null,{"$f":"IF(OR($I55=\"\",COUNTA($M55:$O55)=0),\"\",IF(AND(M55=\"-\",N55=\"-\",O55=\"-\"),\"-\",VLOOKUP(COUNTIF($M55:$O55,\"A\")-COUNTIF($M55:$O55,\"C\"),基本情報!$R$4:$S$10,2)))","v":""},null,null,null,null,null,"",null,null,null,{"$f":"IF(OR($I55=\"\",COUNTA($W55:$Y55)=0),\"\",IF(AND(W55=\"-\",X55=\"-\",Y55=\"-\"),\"-\",VLOOKUP(COUNTIF($W55:$Y55,\"A\")-COUNTIF($W55:$Y55,\"C\"),基本情報!$R$4:$S$10,2)))","v":""},null,null,null,null,null,"",null,null,null,{"$f":"IF(OR($I55=\"\",COUNTA($AG55:$AI55)=0),\"\",IF(AND(AG55=\"-\",AH55=\"-\",AI55=\"-\"),\"-\",VLOOKUP(COUNTIF($AG55:$AI55,\"A\")-COUNTIF($AG55:$AI55,\"C\"),基本情報!$R$4:$S$10,2)))","v":""}]
[null,null,null,null,{"$f":"$I$8*10000+$I$9*100+$H56","v":10933},null,null,33,{"$f":"IF(VLOOKUP($E56,学年名簿と評価・評定!$E$24:$K$573,5)=\"\",\"\",VLOOKUP($E56,学年名簿と評価・評定!$E$24:$K$573,5))","v":""},{"$f":"IF(VLOOKUP($E56,学年名簿と評価・評定!$E$24:$K$573,6)=\"\",\"\",VLOOKUP($E56,学年名簿と評価・評定!$E$24:$K$573,7))","v":""},null,"",null,null,null,{"$f":"IF(OR($I56=\"\",COUNTA($M56:$O56)=0),\"\",IF(AND(M56=\"-\",N56=\"-\",O56=\"-\"),\"-\",VLOOKUP(COUNTIF($M56:$O56,\"A\")-COUNTIF($M56:$O56,\"C\"),基本情報!$R$4:$S$10,2)))","v":""},null,null,null,null,null,"",null,null,null,{"$f":"IF(OR($I56=\"\",COUNTA($W56:$Y56)=0),\"\",IF(AND(W56=\"-\",X56=\"-\",Y56=\"-\"),\"-\",VLOOKUP(COUNTIF($W56:$Y56,\"A\")-COUNTIF($W56:$Y56,\"C\"),基本情報!$R$4:$S$10,2)))","v":""},null,null,null,null,null,"",null,null,null,{"$f":"IF(OR($I56=\"\",COUNTA($AG56:$AI56)=0),\"\",IF(AND(AG56=\"-\",AH56=\"-\",AI56=\"-\"),\"-\",VLOOKUP(COUNTIF($AG56:$AI56,\"A\")-COUNTIF($AG56:$AI56,\"C\"),基本情報!$R$4:$S$10,2)))","v":""}]
[null,null,null,null,10934,null,null,34,{"$f":"IF(VLOOKUP($E57,学年名簿と評価・評定!$E$24:$K$573,5)=\"\",\"\",VLOOKUP($E57,学年名簿と評価・評定!$E$24:$K$573,5))","v":""},{"$f":"IF(VLOOKUP($E57,学年名簿と評価・評定!$E$24:$K$573,6)=\"\",\"\",VLOOKUP($E57,学年名簿と評価・評定!$E$24:$K$573,7))","v":""},null,"",null,null,null,{"$f":"IF(OR($I57=\"\",COUNTA($M57:$O57)=0),\"\",IF(AND(M57=\"-\",N57=\"-\",O57=\"-\"),\"-\",VLOOKUP(COUNTIF($M57:$O57,\"A\")-COUNTIF($M57:$O57,\"C\"),基本情報!$R$4:$S$10,2)))","v":""},null,null,null,null,null,"",null,null,null,{"$f":"IF(OR($I57=\"\",COUNTA($W57:$Y57)=0),\"\",IF(AND(W57=\"-\",X57=\"-\",Y57=\"-\"),\"-\",VLOOKUP(COUNTIF($W57:$Y57,\"A\")-COUNTIF($W57:$Y57,\"C\"),基本情報!$R$4:$S$10,2)))","v":""},null,null,null,null,null,"",null,null,null,{"$f":"IF(OR($I57=\"\",COUNTA($AG57:$AI57)=0),\"\",IF(AND(AG57=\"-\",AH57=\"-\",AI57=\"-\"),\"-\",VLOOKUP(COUNTIF($AG57:$AI57,\"A\")-COUNTIF($AG57:$AI57,\"C\"),基本情報!$R$4:$S$10,2)))","v":""}]
[null,null,null,null,10935,null,null,35,{"$f":"IF(VLOOKUP($E58,学年名簿と評価・評定!$E$24:$K$573,5)=\"\",\"\",VLOOKUP($E58,学年名簿と評価・評定!$E$24:$K$573,5))","v":""},{"$f":"IF(VLOOKUP($E58,学年名簿と評価・評定!$E$24:$K$573,6)=\"\",\"\",VLOOKUP($E58,学年名簿と評価・評定!$E$24:$K$573,7))","v":""},null,"",null,null,null,{"$f":"IF(OR($I58=\"\",COUNTA($M58:$O58)=0),\"\",IF(AND(M58=\"-\",N58=\"-\",O58=\"-\"),\"-\",VLOOKUP(COUNTIF($M58:$O58,\"A\")-COUNTIF($M58:$O58,\"C\"),基本情報!$R$4:$S$10,2)))","v":""},null,null,null,null,null,"",null,null,null,{"$f":"IF(OR($I58=\"\",COUNTA($W58:$Y58)=0),\"\",IF(AND(W58=\"-\",X58=\"-\",Y58=\"-\"),\"-\",VLOOKUP(COUNTIF($W58:$Y58,\"A\")-COUNTIF($W58:$Y58,\"C\"),基本情報!$R$4:$S$10,2)))","v":""},null,null,null,null,null,"",null,null,null,{"$f":"IF(OR($I58=\"\",COUNTA($AG58:$AI58)=0),\"\",IF(AND(AG58=\"-\",AH58=\"-\",AI58=\"-\"),\"-\",VLOOKUP(COUNTIF($AG58:$AI58,\"A\")-COUNTIF($AG58:$AI58,\"C\"),基本情報!$R$4:$S$10,2)))","v":""}]
[null,null,null,null,10936,null,null,36,{"$f":"IF(VLOOKUP($E59,学年名簿と評価・評定!$E$24:$K$573,5)=\"\",\"\",VLOOKUP($E59,学年名簿と評価・評定!$E$24:$K$573,5))","v":""},{"$f":"IF(VLOOKUP($E59,学年名簿と評価・評定!$E$24:$K$573,6)=\"\",\"\",VLOOKUP($E59,学年名簿と評価・評定!$E$24:$K$573,7))","v":""},null,"",null,null,null,{"$f":"IF(OR($I59=\"\",COUNTA($M59:$O59)=0),\"\",IF(AND(M59=\"-\",N59=\"-\",O59=\"-\"),\"-\",VLOOKUP(COUNTIF($M59:$O59,\"A\")-COUNTIF($M59:$O59,\"C\"),基本情報!$R$4:$S$10,2)))","v":""},null,null,null,null,null,"",null,null,null,{"$f":"IF(OR($I59=\"\",COUNTA($W59:$Y59)=0),\"\",IF(AND(W59=\"-\",X59=\"-\",Y59=\"-\"),\"-\",VLOOKUP(COUNTIF($W59:$Y59,\"A\")-COUNTIF($W59:$Y59,\"C\"),基本情報!$R$4:$S$10,2)))","v":""},null,null,null,null,null,"",null,null,null,{"$f":"IF(OR($I59=\"\",COUNTA($AG59:$AI59)=0),\"\",IF(AND(AG59=\"-\",AH59=\"-\",AI59=\"-\"),\"-\",VLOOKUP(COUNTIF($AG59:$AI59,\"A\")-COUNTIF($AG59:$AI59,\"C\"),基本情報!$R$4:$S$10,2)))","v":""}]
[null,null,null,null,10937,null,null,37,{"$f":"IF(VLOOKUP($E60,学年名簿と評価・評定!$E$24:$K$573,5)=\"\",\"\",VLOOKUP($E60,学年名簿と評価・評定!$E$24:$K$573,5))","v":""},{"$f":"IF(VLOOKUP($E60,学年名簿と評価・評定!$E$24:$K$573,6)=\"\",\"\",VLOOKUP($E60,学年名簿と評価・評定!$E$24:$K$573,7))","v":""},null,"",null,null,null,{"$f":"IF(OR($I60=\"\",COUNTA($M60:$O60)=0),\"\",IF(AND(M60=\"-\",N60=\"-\",O60=\"-\"),\"-\",VLOOKUP(COUNTIF($M60:$O60,\"A\")-COUNTIF($M60:$O60,\"C\"),基本情報!$R$4:$S$10,2)))","v":""},null,null,null,null,null,"",null,null,null,{"$f":"IF(OR($I60=\"\",COUNTA($W60:$Y60)=0),\"\",IF(AND(W60=\"-\",X60=\"-\",Y60=\"-\"),\"-\",VLOOKUP(COUNTIF($W60:$Y60,\"A\")-COUNTIF($W60:$Y60,\"C\"),基本情報!$R$4:$S$10,2)))","v":""},null,null,null,null,null,"",null,null,null,{"$f":"IF(OR($I60=\"\",COUNTA($AG60:$AI60)=0),\"\",IF(AND(AG60=\"-\",AH60=\"-\",AI60=\"-\"),\"-\",VLOOKUP(COUNTIF($AG60:$AI60,\"A\")-COUNTIF($AG60:$AI60,\"C\"),基本情報!$R$4:$S$10,2)))","v":""}]
[null,null,null,null,10938,null,null,38,{"$f":"IF(VLOOKUP($E61,学年名簿と評価・評定!$E$24:$K$573,5)=\"\",\"\",VLOOKUP($E61,学年名簿と評価・評定!$E$24:$K$573,5))","v":""},{"$f":"IF(VLOOKUP($E61,学年名簿と評価・評定!$E$24:$K$573,6)=\"\",\"\",VLOOKUP($E61,学年名簿と評価・評定!$E$24:$K$573,7))","v":""},null,"",null,null,null,{"$f":"IF(OR($I61=\"\",COUNTA($M61:$O61)=0),\"\",IF(AND(M61=\"-\",N61=\"-\",O61=\"-\"),\"-\",VLOOKUP(COUNTIF($M61:$O61,\"A\")-COUNTIF($M61:$O61,\"C\"),基本情報!$R$4:$S$10,2)))","v":""},null,null,null,null,null,"",null,null,null,{"$f":"IF(OR($I61=\"\",COUNTA($W61:$Y61)=0),\"\",IF(AND(W61=\"-\",X61=\"-\",Y61=\"-\"),\"-\",VLOOKUP(COUNTIF($W61:$Y61,\"A\")-COUNTIF($W61:$Y61,\"C\"),基本情報!$R$4:$S$10,2)))","v":""},null,null,null,null,null,"",null,null,null,{"$f":"IF(OR($I61=\"\",COUNTA($AG61:$AI61)=0),\"\",IF(AND(AG61=\"-\",AH61=\"-\",AI61=\"-\"),\"-\",VLOOKUP(COUNTIF($AG61:$AI61,\"A\")-COUNTIF($AG61:$AI61,\"C\"),基本情報!$R$4:$S$10,2)))","v":""}]
[null,null,null,null,10939,null,null,39,{"$f":"IF(VLOOKUP($E62,学年名簿と評価・評定!$E$24:$K$573,5)=\"\",\"\",VLOOKUP($E62,学年名簿と評価・評定!$E$24:$K$573,5))","v":""},{"$f":"IF(VLOOKUP($E62,学年名簿と評価・評定!$E$24:$K$573,6)=\"\",\"\",VLOOKUP($E62,学年名簿と評価・評定!$E$24:$K$573,7))","v":""},null,"",null,null,null,{"$f":"IF(OR($I62=\"\",COUNTA($M62:$O62)=0),\"\",IF(AND(M62=\"-\",N62=\"-\",O62=\"-\"),\"-\",VLOOKUP(COUNTIF($M62:$O62,\"A\")-COUNTIF($M62:$O62,\"C\"),基本情報!$R$4:$S$10,2)))","v":""},null,null,null,null,null,"",null,null,null,{"$f":"IF(OR($I62=\"\",COUNTA($W62:$Y62)=0),\"\",IF(AND(W62=\"-\",X62=\"-\",Y62=\"-\"),\"-\",VLOOKUP(COUNTIF($W62:$Y62,\"A\")-COUNTIF($W62:$Y62,\"C\"),基本情報!$R$4:$S$10,2)))","v":""},null,null,null,null,null,"",null,null,null,{"$f":"IF(OR($I62=\"\",COUNTA($AG62:$AI62)=0),\"\",IF(AND(AG62=\"-\",AH62=\"-\",AI62=\"-\"),\"-\",VLOOKUP(COUNTIF($AG62:$AI62,\"A\")-COUNTIF($AG62:$AI62,\"C\"),基本情報!$R$4:$S$10,2)))","v":""}]
[null,null,null,null,10940,null,null,40,{"$f":"IF(VLOOKUP($E63,学年名簿と評価・評定!$E$24:$K$573,5)=\"\",\"\",VLOOKUP($E63,学年名簿と評価・評定!$E$24:$K$573,5))","v":""},{"$f":"IF(VLOOKUP($E63,学年名簿と評価・評定!$E$24:$K$573,6)=\"\",\"\",VLOOKUP($E63,学年名簿と評価・評定!$E$24:$K$573,7))","v":""},null,"",null,null,null,{"$f":"IF(OR($I63=\"\",COUNTA($M63:$O63)=0),\"\",IF(AND(M63=\"-\",N63=\"-\",O63=\"-\"),\"-\",VLOOKUP(COUNTIF($M63:$O63,\"A\")-COUNTIF($M63:$O63,\"C\"),基本情報!$R$4:$S$10,2)))","v":""},null,null,null,null,null,"",null,null,null,{"$f":"IF(OR($I63=\"\",COUNTA($W63:$Y63)=0),\"\",IF(AND(W63=\"-\",X63=\"-\",Y63=\"-\"),\"-\",VLOOKUP(COUNTIF($W63:$Y63,\"A\")-COUNTIF($W63:$Y63,\"C\"),基本情報!$R$4:$S$10,2)))","v":""},null,null,null,null,null,"",null,null,null,{"$f":"IF(OR($I63=\"\",COUNTA($AG63:$AI63)=0),\"\",IF(AND(AG63=\"-\",AH63=\"-\",AI63=\"-\"),\"-\",VLOOKUP(COUNTIF($AG63:$AI63,\"A\")-COUNTIF($AG63:$AI63,\"C\"),基本情報!$R$4:$S$10,2)))","v":""}]
[null,null,null,null,10941,null,null,41,{"$f":"IF(VLOOKUP($E64,学年名簿と評価・評定!$E$24:$K$573,5)=\"\",\"\",VLOOKUP($E64,学年名簿と評価・評定!$E$24:$K$573,5))","v":""},{"$f":"IF(VLOOKUP($E64,学年名簿と評価・評定!$E$24:$K$573,6)=\"\",\"\",VLOOKUP($E64,学年名簿と評価・評定!$E$24:$K$573,7))","v":""},null,"",null,null,null,{"$f":"IF(OR($I64=\"\",COUNTA($M64:$O64)=0),\"\",IF(AND(M64=\"-\",N64=\"-\",O64=\"-\"),\"-\",VLOOKUP(COUNTIF($M64:$O64,\"A\")-COUNTIF($M64:$O64,\"C\"),基本情報!$R$4:$S$10,2)))","v":""},null,null,null,null,null,"",null,null,null,{"$f":"IF(OR($I64=\"\",COUNTA($W64:$Y64)=0),\"\",IF(AND(W64=\"-\",X64=\"-\",Y64=\"-\"),\"-\",VLOOKUP(COUNTIF($W64:$Y64,\"A\")-COUNTIF($W64:$Y64,\"C\"),基本情報!$R$4:$S$10,2)))","v":""},null,null,null,null,null,"",null,null,null,{"$f":"IF(OR($I64=\"\",COUNTA($AG64:$AI64)=0),\"\",IF(AND(AG64=\"-\",AH64=\"-\",AI64=\"-\"),\"-\",VLOOKUP(COUNTIF($AG64:$AI64,\"A\")-COUNTIF($AG64:$AI64,\"C\"),基本情報!$R$4:$S$10,2)))","v":""}]
[null,null,null,null,10942,null,null,42,{"$f":"IF(VLOOKUP($E65,学年名簿と評価・評定!$E$24:$K$573,5)=\"\",\"\",VLOOKUP($E65,学年名簿と評価・評定!$E$24:$K$573,5))","v":""},{"$f":"IF(VLOOKUP($E65,学年名簿と評価・評定!$E$24:$K$573,6)=\"\",\"\",VLOOKUP($E65,学年名簿と評価・評定!$E$24:$K$573,7))","v":""},null,"",null,null,null,{"$f":"IF(OR($I65=\"\",COUNTA($M65:$O65)=0),\"\",IF(AND(M65=\"-\",N65=\"-\",O65=\"-\"),\"-\",VLOOKUP(COUNTIF($M65:$O65,\"A\")-COUNTIF($M65:$O65,\"C\"),基本情報!$R$4:$S$10,2)))","v":""},null,null,null,null,null,"",null,null,null,{"$f":"IF(OR($I65=\"\",COUNTA($W65:$Y65)=0),\"\",IF(AND(W65=\"-\",X65=\"-\",Y65=\"-\"),\"-\",VLOOKUP(COUNTIF($W65:$Y65,\"A\")-COUNTIF($W65:$Y65,\"C\"),基本情報!$R$4:$S$10,2)))","v":""},null,null,null,null,null,"",null,null,null,{"$f":"IF(OR($I65=\"\",COUNTA($AG65:$AI65)=0),\"\",IF(AND(AG65=\"-\",AH65=\"-\",AI65=\"-\"),\"-\",VLOOKUP(COUNTIF($AG65:$AI65,\"A\")-COUNTIF($AG65:$AI65,\"C\"),基本情報!$R$4:$S$10,2)))","v":""}]
[null,null,null,null,10943,null,null,43,{"$f":"IF(VLOOKUP($E66,学年名簿と評価・評定!$E$24:$K$573,5)=\"\",\"\",VLOOKUP($E66,学年名簿と評価・評定!$E$24:$K$573,5))","v":""},{"$f":"IF(VLOOKUP($E66,学年名簿と評価・評定!$E$24:$K$573,6)=\"\",\"\",VLOOKUP($E66,学年名簿と評価・評定!$E$24:$K$573,7))","v":""},null,"",null,null,null,{"$f":"IF(OR($I66=\"\",COUNTA($M66:$O66)=0),\"\",IF(AND(M66=\"-\",N66=\"-\",O66=\"-\"),\"-\",VLOOKUP(COUNTIF($M66:$O66,\"A\")-COUNTIF($M66:$O66,\"C\"),基本情報!$R$4:$S$10,2)))","v":""},null,null,null,null,null,"",null,null,null,{"$f":"IF(OR($I66=\"\",COUNTA($W66:$Y66)=0),\"\",IF(AND(W66=\"-\",X66=\"-\",Y66=\"-\"),\"-\",VLOOKUP(COUNTIF($W66:$Y66,\"A\")-COUNTIF($W66:$Y66,\"C\"),基本情報!$R$4:$S$10,2)))","v":""},null,null,null,null,null,"",null,null,null,{"$f":"IF(OR($I66=\"\",COUNTA($AG66:$AI66)=0),\"\",IF(AND(AG66=\"-\",AH66=\"-\",AI66=\"-\"),\"-\",VLOOKUP(COUNTIF($AG66:$AI66,\"A\")-COUNTIF($AG66:$AI66,\"C\"),基本情報!$R$4:$S$10,2)))","v":""}]
[null,null,null,null,10944,null,null,44,{"$f":"IF(VLOOKUP($E67,学年名簿と評価・評定!$E$24:$K$573,5)=\"\",\"\",VLOOKUP($E67,学年名簿と評価・評定!$E$24:$K$573,5))","v":""},{"$f":"IF(VLOOKUP($E67,学年名簿と評価・評定!$E$24:$K$573,6)=\"\",\"\",VLOOKUP($E67,学年名簿と評価・評定!$E$24:$K$573,7))","v":""},null,"",null,null,null,{"$f":"IF(OR($I67=\"\",COUNTA($M67:$O67)=0),\"\",IF(AND(M67=\"-\",N67=\"-\",O67=\"-\"),\"-\",VLOOKUP(COUNTIF($M67:$O67,\"A\")-COUNTIF($M67:$O67,\"C\"),基本情報!$R$4:$S$10,2)))","v":""},null,null,null,null,null,"",null,null,null,{"$f":"IF(OR($I67=\"\",COUNTA($W67:$Y67)=0),\"\",IF(AND(W67=\"-\",X67=\"-\",Y67=\"-\"),\"-\",VLOOKUP(COUNTIF($W67:$Y67,\"A\")-COUNTIF($W67:$Y67,\"C\"),基本情報!$R$4:$S$10,2)))","v":""},null,null,null,null,null,"",null,null,null,{"$f":"IF(OR($I67=\"\",COUNTA($AG67:$AI67)=0),\"\",IF(AND(AG67=\"-\",AH67=\"-\",AI67=\"-\"),\"-\",VLOOKUP(COUNTIF($AG67:$AI67,\"A\")-COUNTIF($AG67:$AI67,\"C\"),基本情報!$R$4:$S$10,2)))","v":""}]
[null,null,null,null,10945,null,null,45,{"$f":"IF(VLOOKUP($E68,学年名簿と評価・評定!$E$24:$K$573,5)=\"\",\"\",VLOOKUP($E68,学年名簿と評価・評定!$E$24:$K$573,5))","v":""},{"$f":"IF(VLOOKUP($E68,学年名簿と評価・評定!$E$24:$K$573,6)=\"\",\"\",VLOOKUP($E68,学年名簿と評価・評定!$E$24:$K$573,7))","v":""},null,"",null,null,null,{"$f":"IF(OR($I68=\"\",COUNTA($M68:$O68)=0),\"\",IF(AND(M68=\"-\",N68=\"-\",O68=\"-\"),\"-\",VLOOKUP(COUNTIF($M68:$O68,\"A\")-COUNTIF($M68:$O68,\"C\"),基本情報!$R$4:$S$10,2)))","v":""},null,null,null,null,null,"",null,null,null,{"$f":"IF(OR($I68=\"\",COUNTA($W68:$Y68)=0),\"\",IF(AND(W68=\"-\",X68=\"-\",Y68=\"-\"),\"-\",VLOOKUP(COUNTIF($W68:$Y68,\"A\")-COUNTIF($W68:$Y68,\"C\"),基本情報!$R$4:$S$10,2)))","v":""},null,null,null,null,null,"",null,null,null,{"$f":"IF(OR($I68=\"\",COUNTA($AG68:$AI68)=0),\"\",IF(AND(AG68=\"-\",AH68=\"-\",AI68=\"-\"),\"-\",VLOOKUP(COUNTIF($AG68:$AI68,\"A\")-COUNTIF($AG68:$AI68,\"C\"),基本情報!$R$4:$S$10,2)))","v":""}]
[null,null,null,null,10946,null,null,46,{"$f":"IF(VLOOKUP($E69,学年名簿と評価・評定!$E$24:$K$573,5)=\"\",\"\",VLOOKUP($E69,学年名簿と評価・評定!$E$24:$K$573,5))","v":""},{"$f":"IF(VLOOKUP($E69,学年名簿と評価・評定!$E$24:$K$573,6)=\"\",\"\",VLOOKUP($E69,学年名簿と評価・評定!$E$24:$K$573,7))","v":""},null,"",null,null,null,{"$f":"IF(OR($I69=\"\",COUNTA($M69:$O69)=0),\"\",IF(AND(M69=\"-\",N69=\"-\",O69=\"-\"),\"-\",VLOOKUP(COUNTIF($M69:$O69,\"A\")-COUNTIF($M69:$O69,\"C\"),基本情報!$R$4:$S$10,2)))","v":""},null,null,null,null,null,"",null,null,null,{"$f":"IF(OR($I69=\"\",COUNTA($W69:$Y69)=0),\"\",IF(AND(W69=\"-\",X69=\"-\",Y69=\"-\"),\"-\",VLOOKUP(COUNTIF($W69:$Y69,\"A\")-COUNTIF($W69:$Y69,\"C\"),基本情報!$R$4:$S$10,2)))","v":""},null,null,null,null,null,"",null,null,null,{"$f":"IF(OR($I69=\"\",COUNTA($AG69:$AI69)=0),\"\",IF(AND(AG69=\"-\",AH69=\"-\",AI69=\"-\"),\"-\",VLOOKUP(COUNTIF($AG69:$AI69,\"A\")-COUNTIF($AG69:$AI69,\"C\"),基本情報!$R$4:$S$10,2)))","v":""}]
[null,null,null,null,10947,null,null,47,{"$f":"IF(VLOOKUP($E70,学年名簿と評価・評定!$E$24:$K$573,5)=\"\",\"\",VLOOKUP($E70,学年名簿と評価・評定!$E$24:$K$573,5))","v":""},{"$f":"IF(VLOOKUP($E70,学年名簿と評価・評定!$E$24:$K$573,6)=\"\",\"\",VLOOKUP($E70,学年名簿と評価・評定!$E$24:$K$573,7))","v":""},null,"",null,null,null,{"$f":"IF(OR($I70=\"\",COUNTA($M70:$O70)=0),\"\",IF(AND(M70=\"-\",N70=\"-\",O70=\"-\"),\"-\",VLOOKUP(COUNTIF($M70:$O70,\"A\")-COUNTIF($M70:$O70,\"C\"),基本情報!$R$4:$S$10,2)))","v":""},null,null,null,null,null,"",null,null,null,{"$f":"IF(OR($I70=\"\",COUNTA($W70:$Y70)=0),\"\",IF(AND(W70=\"-\",X70=\"-\",Y70=\"-\"),\"-\",VLOOKUP(COUNTIF($W70:$Y70,\"A\")-COUNTIF($W70:$Y70,\"C\"),基本情報!$R$4:$S$10,2)))","v":""},null,null,null,null,null,"",null,null,null,{"$f":"IF(OR($I70=\"\",COUNTA($AG70:$AI70)=0),\"\",IF(AND(AG70=\"-\",AH70=\"-\",AI70=\"-\"),\"-\",VLOOKUP(COUNTIF($AG70:$AI70,\"A\")-COUNTIF($AG70:$AI70,\"C\"),基本情報!$R$4:$S$10,2)))","v":""}]
[null,null,null,null,10948,null,null,48,{"$f":"IF(VLOOKUP($E71,学年名簿と評価・評定!$E$24:$K$573,5)=\"\",\"\",VLOOKUP($E71,学年名簿と評価・評定!$E$24:$K$573,5))","v":""},{"$f":"IF(VLOOKUP($E71,学年名簿と評価・評定!$E$24:$K$573,6)=\"\",\"\",VLOOKUP($E71,学年名簿と評価・評定!$E$24:$K$573,7))","v":""},null,"",null,null,null,{"$f":"IF(OR($I71=\"\",COUNTA($M71:$O71)=0),\"\",IF(AND(M71=\"-\",N71=\"-\",O71=\"-\"),\"-\",VLOOKUP(COUNTIF($M71:$O71,\"A\")-COUNTIF($M71:$O71,\"C\"),基本情報!$R$4:$S$10,2)))","v":""},null,null,null,null,null,"",null,null,null,{"$f":"IF(OR($I71=\"\",COUNTA($W71:$Y71)=0),\"\",IF(AND(W71=\"-\",X71=\"-\",Y71=\"-\"),\"-\",VLOOKUP(COUNTIF($W71:$Y71,\"A\")-COUNTIF($W71:$Y71,\"C\"),基本情報!$R$4:$S$10,2)))","v":""},null,null,null,null,null,"",null,null,null,{"$f":"IF(OR($I71=\"\",COUNTA($AG71:$AI71)=0),\"\",IF(AND(AG71=\"-\",AH71=\"-\",AI71=\"-\"),\"-\",VLOOKUP(COUNTIF($AG71:$AI71,\"A\")-COUNTIF($AG71:$AI71,\"C\"),基本情報!$R$4:$S$10,2)))","v":""}]
[null,null,null,null,10949,null,null,49,{"$f":"IF(VLOOKUP($E72,学年名簿と評価・評定!$E$24:$K$573,5)=\"\",\"\",VLOOKUP($E72,学年名簿と評価・評定!$E$24:$K$573,5))","v":""},{"$f":"IF(VLOOKUP($E72,学年名簿と評価・評定!$E$24:$K$573,6)=\"\",\"\",VLOOKUP($E72,学年名簿と評価・評定!$E$24:$K$573,7))","v":""},null,"",null,null,null,{"$f":"IF(OR($I72=\"\",COUNTA($M72:$O72)=0),\"\",IF(AND(M72=\"-\",N72=\"-\",O72=\"-\"),\"-\",VLOOKUP(COUNTIF($M72:$O72,\"A\")-COUNTIF($M72:$O72,\"C\"),基本情報!$R$4:$S$10,2)))","v":""},null,null,null,null,null,"",null,null,null,{"$f":"IF(OR($I72=\"\",COUNTA($W72:$Y72)=0),\"\",IF(AND(W72=\"-\",X72=\"-\",Y72=\"-\"),\"-\",VLOOKUP(COUNTIF($W72:$Y72,\"A\")-COUNTIF($W72:$Y72,\"C\"),基本情報!$R$4:$S$10,2)))","v":""},null,null,null,null,null,"",null,null,null,{"$f":"IF(OR($I72=\"\",COUNTA($AG72:$AI72)=0),\"\",IF(AND(AG72=\"-\",AH72=\"-\",AI72=\"-\"),\"-\",VLOOKUP(COUNTIF($AG72:$AI72,\"A\")-COUNTIF($AG72:$AI72,\"C\"),基本情報!$R$4:$S$10,2)))","v":""}]
[null,null,null,null,10950,null,null,50,{"$f":"IF(VLOOKUP($E73,学年名簿と評価・評定!$E$24:$K$573,5)=\"\",\"\",VLOOKUP($E73,学年名簿と評価・評定!$E$24:$K$573,5))","v":""},{"$f":"IF(VLOOKUP($E73,学年名簿と評価・評定!$E$24:$K$573,6)=\"\",\"\",VLOOKUP($E73,学年名簿と評価・評定!$E$24:$K$573,7))","v":""},null,"",null,null,null,{"$f":"IF(OR($I73=\"\",COUNTA($M73:$O73)=0),\"\",IF(AND(M73=\"-\",N73=\"-\",O73=\"-\"),\"-\",VLOOKUP(COUNTIF($M73:$O73,\"A\")-COUNTIF($M73:$O73,\"C\"),基本情報!$R$4:$S$10,2)))","v":""},null,null,null,null,null,"",null,null,null,{"$f":"IF(OR($I73=\"\",COUNTA($W73:$Y73)=0),\"\",IF(AND(W73=\"-\",X73=\"-\",Y73=\"-\"),\"-\",VLOOKUP(COUNTIF($W73:$Y73,\"A\")-COUNTIF($W73:$Y73,\"C\"),基本情報!$R$4:$S$10,2)))","v":""},null,null,null,null,null,"",null,null,null,{"$f":"IF(OR($I73=\"\",COUNTA($AG73:$AI73)=0),\"\",IF(AND(AG73=\"-\",AH73=\"-\",AI73=\"-\"),\"-\",VLOOKUP(COUNTIF($AG73:$AI73,\"A\")-COUNTIF($AG73:$AI73,\"C\"),基本情報!$R$4:$S$10,2)))","v":""}]

{"sheet":"10組","index":11,"n_rows":73,"n_cols":40,"rows_kept":73,"cut":false,"hidden":false,"merged":[[2,34,2,36],[2,37,2,39],[21,11,21,15],[21,21,21,25],[21,31,21,35],[2,11,2,13],[2,14,2,16],[2,17,2,19],[2,21,2,23],[2,24,2,26],[2,27,2,29],[2,31,2,33]]}
[]
[]
[null,null,null,null,null,null,null,null,null,null,null,"校長",null,null,"教頭",null,null,"教務",null,null,null,"校長",null,null,"教頭",null,null,"教務",null,null,null,"校長",null,null,"教頭",null,null,"教務"]
[]
[]
[]
[]
[null,null,null,null,null,null,null,null,{"$f":"基本情報!E4","v":1},null,null,null,1,2,3,4,5,"-",null,"平均",null,null,1,2,3,4,5,"-",null,"平均",null,null,1,2,3,4,5,"-",null,"平均"]
[null,null,null,null,null,null,null,null,10,null,null,1,{"$f":"学年名簿と評価・評定!M9","v":0},{"$f":"学年名簿と評価・評定!N9","v":0},{"$f":"学年名簿と評価・評定!O9","v":0},{"$f":"学年名簿と評価・評定!P9","v":0},{"$f":"学年名簿と評価・評定!Q9","v":1},{"$f":"学年名簿と評価・評定!R9","v":0},{"$f":"SUM(M9:R9)","v":1},{"$f":"学年名簿と評価・評定!T9","v":5},null,1,{"$f":"学年名簿と評価・評定!W9","v":1},{"$f":"学年名簿と評価・評定!X9","v":0},{"$f":"学年名簿と評価・評定!Y9","v":0},{"$f":"学年名簿と評価・評定!Z9","v":0},{"$f":"学年名簿と評価・評定!AA9","v":0},{"$f":"学年名簿と評価・評定!AB9","v":0},{"$f":"学年名簿と評価・評定!AC9","v":1},{"$f":"学年名簿と評価・評定!AD9","v":1},null,1,{"$f":"学年名簿と評価・評定!AG9","v":0},{"$f":"学年名簿と評価・評定!AH9","v":0},{"$f":"学年名簿と評価・評定!AI9","v":1},{"$f":"学年名簿と評価・評定!AJ9","v":0},{"$f":"学年名簿と評価・評定!AK9","v":0},{"$f":"学年名簿と評価・評定!AL9","v":0},{"$f":"学年名簿と評価・評定!AM9","v":1},{"$f":"学年名簿と評価・評定!AN9","v":3}]
[null,null,null,null,null,null,null,null,null,null,null,2,{"$f":"学年名簿と評価・評定!M10","v":0},{"$f":"学年名簿と評価・評定!N10","v":0},{"$f":"学年名簿と評価・評定!O10","v":0},{"$f":"学年名簿と評価・評定!P10","v":0},{"$f":"学年名簿と評価・評定!Q10","v":0},{"$f":"学年名簿と評価・評定!R10","v":0},{"$f":"SUM(M10:R10)","v":0},{"$f":"学年名簿と評価・評定!T10","v":""},null,2,{"$f":"学年名簿と評価・評定!W10","v":0},{"$f":"学年名簿と評価・評定!X10","v":0},{"$f":"学年名簿と評価・評定!Y10","v":0},{"$f":"学年名簿と評価・評定!Z10","v":0},{"$f":"学年名簿と評価・評定!AA10","v":0},{"$f":"学年名簿と評価・評定!AB10","v":0},{"$f":"学年名簿と評価・評定!AC10","v":0},{"$f":"学年名簿と評価・評定!AD10","v":""},null,2,{"$f":"学年名簿と評価・評定!AG10","v":0},{"$f":"学年名簿と評価・評定!AH10","v":0},{"$f":"学年名簿と評価・評定!AI10","v":0},{"$f":"学年名簿と評価・評定!AJ10","v":0},{"$f":"学年名簿と評価・評定!AK10","v":0},{"$f":"学年名簿と評価・評定!AL10","v":0},{"$f":"学年名簿と評価・評定!AM10","v":0},{"$f":"学年名簿と評価・評定!AN10","v":""}]
[null,null,null,null,null,null,null,null,null,null,null,3,{"$f":"学年名簿と評価・評定!M11","v":0},{"$f":"学年名簿と評価・評定!N11","v":0},{"$f":"学年名簿と評価・評定!O11","v":0},{"$f":"学年名簿と評価・評定!P11","v":0},{"$f":"学年名簿と評価・評定!Q11","v":0},{"$f":"学年名簿と評価・評定!R11","v":0},0,{"$f":"学年名簿と評価・評定!T11","v":""},null,3,{"$f":"学年名簿と評価・評定!W11","v":0},{"$f":"学年名簿と評価・評定!X11","v":0},{"$f":"学年名簿と評価・評定!Y11","v":0},{"$f":"学年名簿と評価・評定!Z11","v":0},{"$f":"学年名簿と評価・評定!AA11","v":0},{"$f":"学年名簿と評価・評定!AB11","v":0},{"$f":"学年名簿と評価・評定!AC11","v":0},{"$f":"学年名簿と評価・評定!AD11","v":""},null,3,{"$f":"学年名簿と評価・評定!AG11","v":0},{"$f":"学年名簿と評価・評定!AH11","v":0},{"$f":"学年名簿と評価・評定!AI11","v":0},{"$f":"学年名簿と評価・評定!AJ11","v":0},{"$f":"学年名簿と評価・評定!AK11","v":0},{"$f":"学年名簿と評価・評定!AL11","v":0},{"$f":"学年名簿と評価・評定!AM11","v":0},{"$f":"学年名簿と評価・評定!AN11","v":""}]
[null,null,null,null,null,null,null,null,null,null,null,4,{"$f":"学年名簿と評価・評定!M12","v":0},{"$f":"学年名簿と評価・評定!N12","v":0},{"$f":"学年名簿と評価・評定!O12","v":0},{"$f":"学年名簿と評価・評定!P12","v":0},{"$f":"学年名簿と評価・評定!Q12","v":0},{"$f":"学年名簿と評価・評定!R12","v":0},0,{"$f":"学年名簿と評価・評定!T12","v":""},null,4,{"$f":"学年名簿と評価・評定!W12","v":0},{"$f":"学年名簿と評価・評定!X12","v":0},{"$f":"学年名簿と評価・評定!Y12","v":0},{"$f":"学年名簿と評価・評定!Z12","v":0},{"$f":"学年名簿と評価・評定!AA12","v":0},{"$f":"学年名簿と評価・評定!AB12","v":0},{"$f":"学年名簿と評価・評定!AC12","v":0},{"$f":"学年名簿と評価・評定!AD12","v":""},null,4,{"$f":"学年名簿と評価・評定!AG12","v":0},{"$f":"学年名簿と評価・評定!AH12","v":0},{"$f":"学年名簿と評価・評定!AI12","v":0},{"$f":"学年名簿と評価・評定!AJ12","v":0},{"$f":"学年名簿と評価・評定!AK12","v":0},{"$f":"学年名簿と評価・評定!AL12","v":0},{"$f":"学年名簿と評価・評定!AM12","v":0},{"$f":"学年名簿と評価・評定!AN12","v":""}]
[null,null,null,null,null,null,null,null,null,null,null,5,{"$f":"学年名簿と評価・評定!M13","v":0},{"$f":"学年名簿と評価・評定!N13","v":0},{"$f":"学年名簿と評価・評定!O13","v":0},{"$f":"学年名簿と評価・評定!P13","v":0},{"$f":"学年名簿と評価・評定!Q13","v":0},{"$f":"学年名簿と評価・評定!R13","v":0},0,{"$f":"学年名簿と評価・評定!T13","v":""},null,5,{"$f":"学年名簿と評価・評定!W13","v":0},{"$f":"学年名簿と評価・評定!X13","v":0},{"$f":"学年名簿と評価・評定!Y13","v":0},{"$f":"学年名簿と評価・評定!Z13","v":0},{"$f":"学年名簿と評価・評定!AA13","v":0},{"$f":"学年名簿と評価・評定!AB13","v":0},{"$f":"学年名簿と評価・評定!AC13","v":0},{"$f":"学年名簿と評価・評定!AD13","v":""},null,5,{"$f":"学年名簿と評価・評定!AG13","v":0},{"$f":"学年名簿と評価・評定!AH13","v":0},{"$f":"学年名簿と評価・評定!AI13","v":0},{"$f":"学年名簿と評価・評定!AJ13","v":0},{"$f":"学年名簿と評価・評定!AK13","v":0},{"$f":"学年名簿と評価・評定!AL13","v":0},{"$f":"学年名簿と評価・評定!AM13","v":0},{"$f":"学年名簿と評価・評定!AN13","v":""}]
[null,null,null,null,null,null,null,null,null,null,null,6,{"$f":"学年名簿と評価・評定!M14","v":0},{"$f":"学年名簿と評価・評定!N14","v":0},{"$f":"学年名簿と評価・評定!O14","v":0},{"$f":"学年名簿と評価・評定!P14","v":0},{"$f":"学年名簿と評価・評定!Q14","v":0},{"$f":"学年名簿と評価・評定!R14","v":0},0,{"$f":"学年名簿と評価・評定!T14","v":""},null,6,{"$f":"学年名簿と評価・評定!W14","v":0},{"$f":"学年名簿と評価・評定!X14","v":0},{"$f":"学年名簿と評価・評定!Y14","v":0},{"$f":"学年名簿と評価・評定!Z14","v":0},{"$f":"学年名簿と評価・評定!AA14","v":0},{"$f":"学年名簿と評価・評定!AB14","v":0},{"$f":"学年名簿と評価・評定!AC14","v":0},{"$f":"学年名簿と評価・評定!AD14","v":""},null,6,{"$f":"学年名簿と評価・評定!AG14","v":0},{"$f":"学年名簿と評価・評定!AH14","v":0},{"$f":"学年名簿と評価・評定!AI14","v":0},{"$f":"学年名簿と評価・評定!AJ14","v":0},{"$f":"学年名簿と評価・評定!AK14","v":0},{"$f":"学年名簿と評価・評定!AL14","v":0},{"$f":"学年名簿と評価・評定!AM14","v":0},{"$f":"学年名簿と評価・評定!AN14","v":""}]
[null,null,null,null,null,null,null,null,null,null,null,7,{"$f":"学年名簿と評価・評定!M15","v":0},{"$f":"学年名簿と評価・評定!N15","v":0},{"$f":"学年名簿と評価・評定!O15","v":0},{"$f":"学年名簿と評価・評定!P15","v":0},{"$f":"学年名簿と評価・評定!Q15","v":0},{"$f":"学年名簿と評価・評定!R15","v":0},0,{"$f":"学年名簿と評価・評定!T15","v":""},null,7,{"$f":"学年名簿と評価・評定!W15","v":0},{"$f":"学年名簿と評価・評定!X15","v":0},{"$f":"学年名簿と評価・評定!Y15","v":0},{"$f":"学年名簿と評価・評定!Z15","v":0},{"$f":"学年名簿と評価・評定!AA15","v":0},{"$f":"学年名簿と評価・評定!AB15","v":0},{"$f":"学年名簿と評価・評定!AC15","v":0},{"$f":"学年名簿と評価・評定!AD15","v":""},null,7,{"$f":"学年名簿と評価・評定!AG15","v":0},{"$f":"学年名簿と評価・評定!AH15","v":0},{"$f":"学年名簿と評価・評定!AI15","v":0},{"$f":"学年名簿と評価・評定!AJ15","v":0},{"$f":"学年名簿と評価・評定!AK15","v":0},{"$f":"学年名簿と評価・評定!AL15","v":0},{"$f":"学年名簿と評価・評定!AM15","v":0},{"$f":"学年名簿と評価・評定!AN15","v":""}]
[null,null,null,null,null,null,null,null,null,null,null,8,{"$f":"学年名簿と評価・評定!M16","v":0},{"$f":"学年名簿と評価・評定!N16","v":0},{"$f":"学年名簿と評価・評定!O16","v":0},{"$f":"学年名簿と評価・評定!P16","v":0},{"$f":"学年名簿と評価・評定!Q16","v":0},{"$f":"学年名簿と評価・評定!R16","v":0},0,{"$f":"学年名簿と評価・評定!T16","v":""},null,8,{"$f":"学年名簿と評価・評定!W16","v":0},{"$f":"学年名簿と評価・評定!X16","v":0},{"$f":"学年名簿と評価・評定!Y16","v":0},{"$f":"学年名簿と評価・評定!Z16","v":0},{"$f":"学年名簿と評価・評定!AA16","v":0},{"$f":"学年名簿と評価・評定!AB16","v":0},{"$f":"学年名簿と評価・評定!AC16","v":0},{"$f":"学年名簿と評価・評定!AD16","v":""},null,8,{"$f":"学年名簿と評価・評定!AG16","v":0},{"$f":"学年名簿と評価・評定!AH16","v":0},{"$f":"学年名簿と評価・評定!AI16","v":0},{"$f":"学年名簿と評価・評定!AJ16","v":0},{"$f":"学年名簿と評価・評定!AK16","v":0},{"$f":"学年名簿と評価・評定!AL16","v":0},{"$f":"学年名簿と評価・評定!AM16","v":0},{"$f":"学年名簿と評価・評定!AN16","v":""}]
[null,null,null,null,null,null,null,null,null,null,null,9,{"$f":"学年名簿と評価・評定!M17","v":0},{"$f":"学年名簿と評価・評定!N17","v":0},{"$f":"学年名簿と評価・評定!O17","v":0},{"$f":"学年名簿と評価・評定!P17","v":0},{"$f":"学年名簿と評価・評定!Q17","v":0},{"$f":"学年名簿と評価・評定!R17","v":0},0,{"$f":"学年名簿と評価・評定!T17","v":""},null,9,{"$f":"学年名簿と評価・評定!W17","v":0},{"$f":"学年名簿と評価・評定!X17","v":0},{"$f":"学年名簿と評価・評定!Y17","v":0},{"$f":"学年名簿と評価・評定!Z17","v":0},{"$f":"学年名簿と評価・評定!AA17","v":0},{"$f":"学年名簿と評価・評定!AB17","v":0},{"$f":"学年名簿と評価・評定!AC17","v":0},{"$f":"学年名簿と評価・評定!AD17","v":""},null,9,{"$f":"学年名簿と評価・評定!AG17","v":0},{"$f":"学年名簿と評価・評定!AH17","v":0},{"$f":"学年名簿と評価・評定!AI17","v":0},{"$f":"学年名簿と評価・評定!AJ17","v":0},{"$f":"学年名簿と評価・評定!AK17","v":0},{"$f":"学年名簿と評価・評定!AL17","v":0},{"$f":"学年名簿と評価・評定!AM17","v":0},{"$f":"学年名簿と評価・評定!AN17","v":""}]
[null,null,null,null,null,null,null,null,null,null,null,10,{"$f":"学年名簿と評価・評定!M18","v":0},{"$f":"学年名簿と評価・評定!N18","v":0},{"$f":"学年名簿と評価・評定!O18","v":0},{"$f":"学年名簿と評価・評定!P18","v":0},{"$f":"学年名簿と評価・評定!Q18","v":0},{"$f":"学年名簿と評価・評定!R18","v":0},0,{"$f":"学年名簿と評価・評定!T18","v":""},null,10,{"$f":"学年名簿と評価・評定!W18","v":0},{"$f":"学年名簿と評価・評定!X18","v":0},{"$f":"学年名簿と評価・評定!Y18","v":0},{"$f":"学年名簿と評価・評定!Z18","v":0},{"$f":"学年名簿と評価・評定!AA18","v":0},{"$f":"学年名簿と評価・評定!AB18","v":0},{"$f":"学年名簿と評価・評定!AC18","v":0},{"$f":"学年名簿と評価・評定!AD18","v":""},null,10,{"$f":"学年名簿と評価・評定!AG18","v":0},{"$f":"学年名簿と評価・評定!AH18","v":0},{"$f":"学年名簿と評価・評定!AI18","v":0},{"$f":"学年名簿と評価・評定!AJ18","v":0},{"$f":"学年名簿と評価・評定!AK18","v":0},{"$f":"学年名簿と評価・評定!AL18","v":0},{"$f":"学年名簿と評価・評定!AM18","v":0},{"$f":"学年名簿と評価・評定!AN18","v":""}]
[null,null,null,null,null,null,null,null,null,null,null,11,{"$f":"学年名簿と評価・評定!M19","v":0},{"$f":"学年名簿と評価・評定!N19","v":0},{"$f":"学年名簿と評価・評定!O19","v":0},{"$f":"学年名簿と評価・評定!P19","v":0},{"$f":"学年名簿と評価・評定!Q19","v":0},{"$f":"学年名簿と評価・評定!R19","v":0},0,{"$f":"学年名簿と評価・評定!T19","v":""},null,11,{"$f":"学年名簿と評価・評定!W19","v":0},{"$f":"学年名簿と評価・評定!X19","v":0},{"$f":"学年名簿と評価・評定!Y19","v":0},{"$f":"学年名簿と評価・評定!Z19","v":0},{"$f":"学年名簿と評価・評定!AA19","v":0},{"$f":"学年名簿と評価・評定!AB19","v":0},{"$f":"学年名簿と評価・評定!AC19","v":0},{"$f":"学年名簿と評価・評定!AD19","v":""},null,11,{"$f":"学年名簿と評価・評定!AG19","v":0},{"$f":"学年名簿と評価・評定!AH19","v":0},{"$f":"学年名簿と評価・評定!AI19","v":0},{"$f":"学年名簿と評価・評定!AJ19","v":0},{"$f":"学年名簿と評価・評定!AK19","v":0},{"$f":"学年名簿と評価・評定!AL19","v":0},{"$f":"学年名簿と評価・評定!AM19","v":0},{"$f":"学年名簿と評価・評定!AN19","v":""}]
[null,null,null,null,null,null,null,null,{"$f":"基本情報!E6","v":"国語"},null,null,"計",{"$f":"学年名簿と評価・評定!M20","v":0},{"$f":"学年名簿と評価・評定!N20","v":0},{"$f":"学年名簿と評価・評定!O20","v":0},{"$f":"学年名簿と評価・評定!P20","v":0},{"$f":"学年名簿と評価・評定!Q20","v":1},{"$f":"学年名簿と評価・評定!R20","v":0},1,{"$f":"学年名簿と評価・評定!T20","v":5},null,"計",{"$f":"学年名簿と評価・評定!W20","v":1},{"$f":"学年名簿と評価・評定!X20","v":0},{"$f":"学年名簿と評価・評定!Y20","v":0},{"$f":"学年名簿と評価・評定!Z20","v":0},{"$f":"学年名簿と評価・評定!AA20","v":0},{"$f":"学年名簿と評価・評定!AB20","v":0},{"$f":"学年名簿と評価・評定!AC20","v":1},{"$f":"学年名簿と評価・評定!AD20","v":1},null,"計",{"$f":"学年名簿と評価・評定!AG20","v":0},{"$f":"学年名簿と評価・評定!AH20","v":0},{"$f":"学年名簿と評価・評定!AI20","v":1},{"$f":"学年名簿と評価・評定!AJ20","v":0},{"$f":"学年名簿と評価・評定!AK20","v":0},{"$f":"学年名簿と評価・評定!AL20","v":0},{"$f":"学年名簿と評価・評定!AM20","v":1},{"$f":"学年名簿と評価・評定!AN20","v":3}]
[]
[null,null,null,null,null,null,null,null,null,null,null,"前　　期",null,null,null,null,null,null,null,null,null,"後　　期",null,null,null,null,null,null,null,null,null,"学　　年"]
[null,null,null,null,null,null,null,"番","氏　　名","性",null,"評定",{"$f":"基本情報!P14","v":"知技"},{"$f":"基本情報!P15","v":"思判"},{"$f":"基本情報!P16","v":"学び"},"評定","CHECK",null,null,null,null,"評定",{"$f":"M23","v":"知技"},{"$f":"N23","v":"思判"},"学び","評定","CHECK",null,null,null,null,"評定","知技","思判","学び","評定","CHECK"]
[null,null,null,null,{"$f":"$I$8*10000+$I$9*100+$H24","v":11001},null,null,1,{"$f":"IF(VLOOKUP($E24,学年名簿と評価・評定!$E$24:$K$573,5)=\"\",\"\",VLOOKUP($E24,学年名簿と評価・評定!$E$24:$K$573,5))","v":""},{"$f":"IF(VLOOKUP($E24,学年名簿と評価・評定!$E$24:$K$573,6)=\"\",\"\",VLOOKUP($E24,学年名簿と評価・評定!$E$24:$K$573,7))","v":""},null,{"$f":"P24","v":""},null,null,null,{"$f":"IF(OR($I24=\"\",COUNTA($M24:$O24)=0),\"\",IF(AND(M24=\"-\",N24=\"-\",O24=\"-\"),\"-\",VLOOKUP(COUNTIF($M24:$O24,\"A\")-COUNTIF($M24:$O24,\"C\"),基本情報!$R$4:$S$10,2)))","v":""},null,null,null,null,null,{"$f":"Z24","v":""},null,null,null,{"$f":"IF(OR($I24=\"\",COUNTA($W24:$Y24)=0),\"\",IF(AND(W24=\"-\",X24=\"-\",Y24=\"-\"),\"-\",VLOOKUP(COUNTIF($W24:$Y24,\"A\")-COUNTIF($W24:$Y24,\"C\"),基本情報!$R$4:$S$10,2)))","v":""},null,null,null,null,null,{"$f":"AJ24","v":""},null,null,null,{"$f":"IF(OR($I24=\"\",COUNTA($AG24:$AI24)=0),\"\",IF(AND(AG24=\"-\",AH24=\"-\",AI24=\"-\"),\"-\",VLOOKUP(COUNTIF($AG24:$AI24,\"A\")-COUNTIF($AG24:$AI24,\"C\"),基本情報!$R$4:$S$10,2)))","v":""}]
[null,null,null,null,11002,null,null,2,{"$f":"IF(VLOOKUP($E25,学年名簿と評価・評定!$E$24:$K$573,5)=\"\",\"\",VLOOKUP($E25,学年名簿と評価・評定!$E$24:$K$573,5))","v":""},{"$f":"IF(VLOOKUP($E25,学年名簿と評価・評定!$E$24:$K$573,6)=\"\",\"\",VLOOKUP($E25,学年名簿と評価・評定!$E$24:$K$573,7))","v":""},null,{"$f":"P25","v":""},null,null,null,{"$f":"IF(OR($I25=\"\",COUNTA($M25:$O25)=0),\"\",IF(AND(M25=\"-\",N25=\"-\",O25=\"-\"),\"-\",VLOOKUP(COUNTIF($M25:$O25,\"A\")-COUNTIF($M25:$O25,\"C\"),基本情報!$R$4:$S$10,2)))","v":""},null,null,null,null,null,{"$f":"Z25","v":""},null,null,null,{"$f":"IF(OR($I25=\"\",COUNTA($W25:$Y25)=0),\"\",IF(AND(W25=\"-\",X25=\"-\",Y25=\"-\"),\"-\",VLOOKUP(COUNTIF($W25:$Y25,\"A\")-COUNTIF($W25:$Y25,\"C\"),基本情報!$R$4:$S$10,2)))","v":""},null,null,null,null,null,{"$f":"AJ25","v":""},null,null,null,{"$f":"IF(OR($I25=\"\",COUNTA($AG25:$AI25)=0),\"\",IF(AND(AG25=\"-\",AH25=\"-\",AI25=\"-\"),\"-\",VLOOKUP(COUNTIF($AG25:$AI25,\"A\")-COUNTIF($AG25:$AI25,\"C\"),基本情報!$R$4:$S$10,2)))","v":""}]
[null,null,null,null,11003,null,null,3,{"$f":"IF(VLOOKUP($E26,学年名簿と評価・評定!$E$24:$K$573,5)=\"\",\"\",VLOOKUP($E26,学年名簿と評価・評定!$E$24:$K$573,5))","v":""},{"$f":"IF(VLOOKUP($E26,学年名簿と評価・評定!$E$24:$K$573,6)=\"\",\"\",VLOOKUP($E26,学年名簿と評価・評定!$E$24:$K$573,7))","v":""},null,"",null,null,null,{"$f":"IF(OR($I26=\"\",COUNTA($M26:$O26)=0),\"\",IF(AND(M26=\"-\",N26=\"-\",O26=\"-\"),\"-\",VLOOKUP(COUNTIF($M26:$O26,\"A\")-COUNTIF($M26:$O26,\"C\"),基本情報!$R$4:$S$10,2)))","v":""},null,null,null,null,null,{"$f":"Z26","v":""},null,null,null,{"$f":"IF(OR($I26=\"\",COUNTA($W26:$Y26)=0),\"\",IF(AND(W26=\"-\",X26=\"-\",Y26=\"-\"),\"-\",VLOOKUP(COUNTIF($W26:$Y26,\"A\")-COUNTIF($W26:$Y26,\"C\"),基本情報!$R$4:$S$10,2)))","v":""},null,null,null,null,null,"",null,null,null,{"$f":"IF(OR($I26=\"\",COUNTA($AG26:$AI26)=0),\"\",IF(AND(AG26=\"-\",AH26=\"-\",AI26=\"-\"),\"-\",VLOOKUP(COUNTIF($AG26:$AI26,\"A\")-COUNTIF($AG26:$AI26,\"C\"),基本情報!$R$4:$S$10,2)))","v":""}]
[null,null,null,null,11004,null,null,4,{"$f":"IF(VLOOKUP($E27,学年名簿と評価・評定!$E$24:$K$573,5)=\"\",\"\",VLOOKUP($E27,学年名簿と評価・評定!$E$24:$K$573,5))","v":""},{"$f":"IF(VLOOKUP($E27,学年名簿と評価・評定!$E$24:$K$573,6)=\"\",\"\",VLOOKUP($E27,学年名簿と評価・評定!$E$24:$K$573,7))","v":""},null,"",null,null,null,{"$f":"IF(OR($I27=\"\",COUNTA($M27:$O27)=0),\"\",IF(AND(M27=\"-\",N27=\"-\",O27=\"-\"),\"-\",VLOOKUP(COUNTIF($M27:$O27,\"A\")-COUNTIF($M27:$O27,\"C\"),基本情報!$R$4:$S$10,2)))","v":""},null,null,null,null,null,"",null,null,null,{"$f":"IF(OR($I27=\"\",COUNTA($W27:$Y27)=0),\"\",IF(AND(W27=\"-\",X27=\"-\",Y27=\"-\"),\"-\",VLOOKUP(COUNTIF($W27:$Y27,\"A\")-COUNTIF($W27:$Y27,\"C\"),基本情報!$R$4:$S$10,2)))","v":""},null,null,null,null,null,"",null,null,null,{"$f":"IF(OR($I27=\"\",COUNTA($AG27:$AI27)=0),\"\",IF(AND(AG27=\"-\",AH27=\"-\",AI27=\"-\"),\"-\",VLOOKUP(COUNTIF($AG27:$AI27,\"A\")-COUNTIF($AG27:$AI27,\"C\"),基本情報!$R$4:$S$10,2)))","v":""}]
[null,null,null,null,11005,null,null,5,{"$f":"IF(VLOOKUP($E28,学年名簿と評価・評定!$E$24:$K$573,5)=\"\",\"\",VLOOKUP($E28,学年名簿と評価・評定!$E$24:$K$573,5))","v":""},{"$f":"IF(VLOOKUP($E28,学年名簿と評価・評定!$E$24:$K$573,6)=\"\",\"\",VLOOKUP($E28,学年名簿と評価・評定!$E$24:$K$573,7))","v":""},null,"",null,null,null,{"$f":"IF(OR($I28=\"\",COUNTA($M28:$O28)=0),\"\",IF(AND(M28=\"-\",N28=\"-\",O28=\"-\"),\"-\",VLOOKUP(COUNTIF($M28:$O28,\"A\")-COUNTIF($M28:$O28,\"C\"),基本情報!$R$4:$S$10,2)))","v":""},null,null,null,null,null,"",null,null,null,{"$f":"IF(OR($I28=\"\",COUNTA($W28:$Y28)=0),\"\",IF(AND(W28=\"-\",X28=\"-\",Y28=\"-\"),\"-\",VLOOKUP(COUNTIF($W28:$Y28,\"A\")-COUNTIF($W28:$Y28,\"C\"),基本情報!$R$4:$S$10,2)))","v":""},null,null,null,null,null,"",null,null,null,{"$f":"IF(OR($I28=\"\",COUNTA($AG28:$AI28)=0),\"\",IF(AND(AG28=\"-\",AH28=\"-\",AI28=\"-\"),\"-\",VLOOKUP(COUNTIF($AG28:$AI28,\"A\")-COUNTIF($AG28:$AI28,\"C\"),基本情報!$R$4:$S$10,2)))","v":""}]
[null,null,null,null,11006,null,null,6,{"$f":"IF(VLOOKUP($E29,学年名簿と評価・評定!$E$24:$K$573,5)=\"\",\"\",VLOOKUP($E29,学年名簿と評価・評定!$E$24:$K$573,5))","v":""},{"$f":"IF(VLOOKUP($E29,学年名簿と評価・評定!$E$24:$K$573,6)=\"\",\"\",VLOOKUP($E29,学年名簿と評価・評定!$E$24:$K$573,7))","v":""},null,"",null,null,null,{"$f":"IF(OR($I29=\"\",COUNTA($M29:$O29)=0),\"\",IF(AND(M29=\"-\",N29=\"-\",O29=\"-\"),\"-\",VLOOKUP(COUNTIF($M29:$O29,\"A\")-COUNTIF($M29:$O29,\"C\"),基本情報!$R$4:$S$10,2)))","v":""},null,null,null,null,null,"",null,null,null,{"$f":"IF(OR($I29=\"\",COUNTA($W29:$Y29)=0),\"\",IF(AND(W29=\"-\",X29=\"-\",Y29=\"-\"),\"-\",VLOOKUP(COUNTIF($W29:$Y29,\"A\")-COUNTIF($W29:$Y29,\"C\"),基本情報!$R$4:$S$10,2)))","v":""},null,null,null,null,null,"",null,null,null,{"$f":"IF(OR($I29=\"\",COUNTA($AG29:$AI29)=0),\"\",IF(AND(AG29=\"-\",AH29=\"-\",AI29=\"-\"),\"-\",VLOOKUP(COUNTIF($AG29:$AI29,\"A\")-COUNTIF($AG29:$AI29,\"C\"),基本情報!$R$4:$S$10,2)))","v":""}]
[null,null,null,null,11007,null,null,7,{"$f":"IF(VLOOKUP($E30,学年名簿と評価・評定!$E$24:$K$573,5)=\"\",\"\",VLOOKUP($E30,学年名簿と評価・評定!$E$24:$K$573,5))","v":""},{"$f":"IF(VLOOKUP($E30,学年名簿と評価・評定!$E$24:$K$573,6)=\"\",\"\",VLOOKUP($E30,学年名簿と評価・評定!$E$24:$K$573,7))","v":""},null,"",null,null,null,{"$f":"IF(OR($I30=\"\",COUNTA($M30:$O30)=0),\"\",IF(AND(M30=\"-\",N30=\"-\",O30=\"-\"),\"-\",VLOOKUP(COUNTIF($M30:$O30,\"A\")-COUNTIF($M30:$O30,\"C\"),基本情報!$R$4:$S$10,2)))","v":""},null,null,null,null,null,"",null,null,null,{"$f":"IF(OR($I30=\"\",COUNTA($W30:$Y30)=0),\"\",IF(AND(W30=\"-\",X30=\"-\",Y30=\"-\"),\"-\",VLOOKUP(COUNTIF($W30:$Y30,\"A\")-COUNTIF($W30:$Y30,\"C\"),基本情報!$R$4:$S$10,2)))","v":""},null,null,null,null,null,"",null,null,null,{"$f":"IF(OR($I30=\"\",COUNTA($AG30:$AI30)=0),\"\",IF(AND(AG30=\"-\",AH30=\"-\",AI30=\"-\"),\"-\",VLOOKUP(COUNTIF($AG30:$AI30,\"A\")-COUNTIF($AG30:$AI30,\"C\"),基本情報!$R$4:$S$10,2)))","v":""}]
[null,null,null,null,11008,null,null,8,{"$f":"IF(VLOOKUP($E31,学年名簿と評価・評定!$E$24:$K$573,5)=\"\",\"\",VLOOKUP($E31,学年名簿と評価・評定!$E$24:$K$573,5))","v":""},{"$f":"IF(VLOOKUP($E31,学年名簿と評価・評定!$E$24:$K$573,6)=\"\",\"\",VLOOKUP($E31,学年名簿と評価・評定!$E$24:$K$573,7))","v":""},null,"",null,null,null,{"$f":"IF(OR($I31=\"\",COUNTA($M31:$O31)=0),\"\",IF(AND(M31=\"-\",N31=\"-\",O31=\"-\"),\"-\",VLOOKUP(COUNTIF($M31:$O31,\"A\")-COUNTIF($M31:$O31,\"C\"),基本情報!$R$4:$S$10,2)))","v":""},null,null,null,null,null,"",null,null,null,{"$f":"IF(OR($I31=\"\",COUNTA($W31:$Y31)=0),\"\",IF(AND(W31=\"-\",X31=\"-\",Y31=\"-\"),\"-\",VLOOKUP(COUNTIF($W31:$Y31,\"A\")-COUNTIF($W31:$Y31,\"C\"),基本情報!$R$4:$S$10,2)))","v":""},null,null,null,null,null,"",null,null,null,{"$f":"IF(OR($I31=\"\",COUNTA($AG31:$AI31)=0),\"\",IF(AND(AG31=\"-\",AH31=\"-\",AI31=\"-\"),\"-\",VLOOKUP(COUNTIF($AG31:$AI31,\"A\")-COUNTIF($AG31:$AI31,\"C\"),基本情報!$R$4:$S$10,2)))","v":""}]
[null,null,null,null,11009,null,null,9,{"$f":"IF(VLOOKUP($E32,学年名簿と評価・評定!$E$24:$K$573,5)=\"\",\"\",VLOOKUP($E32,学年名簿と評価・評定!$E$24:$K$573,5))","v":""},{"$f":"IF(VLOOKUP($E32,学年名簿と評価・評定!$E$24:$K$573,6)=\"\",\"\",VLOOKUP($E32,学年名簿と評価・評定!$E$24:$K$573,7))","v":""},null,"",null,null,null,{"$f":"IF(OR($I32=\"\",COUNTA($M32:$O32)=0),\"\",IF(AND(M32=\"-\",N32=\"-\",O32=\"-\"),\"-\",VLOOKUP(COUNTIF($M32:$O32,\"A\")-COUNTIF($M32:$O32,\"C\"),基本情報!$R$4:$S$10,2)))","v":""},null,null,null,null,null,"",null,null,null,{"$f":"IF(OR($I32=\"\",COUNTA($W32:$Y32)=0),\"\",IF(AND(W32=\"-\",X32=\"-\",Y32=\"-\"),\"-\",VLOOKUP(COUNTIF($W32:$Y32,\"A\")-COUNTIF($W32:$Y32,\"C\"),基本情報!$R$4:$S$10,2)))","v":""},null,null,null,null,null,"",null,null,null,{"$f":"IF(OR($I32=\"\",COUNTA($AG32:$AI32)=0),\"\",IF(AND(AG32=\"-\",AH32=\"-\",AI32=\"-\"),\"-\",VLOOKUP(COUNTIF($AG32:$AI32,\"A\")-COUNTIF($AG32:$AI32,\"C\"),基本情報!$R$4:$S$10,2)))","v":""}]
[null,null,null,null,11010,null,null,10,{"$f":"IF(VLOOKUP($E33,学年名簿と評価・評定!$E$24:$K$573,5)=\"\",\"\",VLOOKUP($E33,学年名簿と評価・評定!$E$24:$K$573,5))","v":""},{"$f":"IF(VLOOKUP($E33,学年名簿と評価・評定!$E$24:$K$573,6)=\"\",\"\",VLOOKUP($E33,学年名簿と評価・評定!$E$24:$K$573,7))","v":""},null,"",null,null,null,{"$f":"IF(OR($I33=\"\",COUNTA($M33:$O33)=0),\"\",IF(AND(M33=\"-\",N33=\"-\",O33=\"-\"),\"-\",VLOOKUP(COUNTIF($M33:$O33,\"A\")-COUNTIF($M33:$O33,\"C\"),基本情報!$R$4:$S$10,2)))","v":""},null,null,null,null,null,"",null,null,null,{"$f":"IF(OR($I33=\"\",COUNTA($W33:$Y33)=0),\"\",IF(AND(W33=\"-\",X33=\"-\",Y33=\"-\"),\"-\",VLOOKUP(COUNTIF($W33:$Y33,\"A\")-COUNTIF($W33:$Y33,\"C\"),基本情報!$R$4:$S$10,2)))","v":""},null,null,null,null,null,"",null,null,null,{"$f":"IF(OR($I33=\"\",COUNTA($AG33:$AI33)=0),\"\",IF(AND(AG33=\"-\",AH33=\"-\",AI33=\"-\"),\"-\",VLOOKUP(COUNTIF($AG33:$AI33,\"A\")-COUNTIF($AG33:$AI33,\"C\"),基本情報!$R$4:$S$10,2)))","v":""}]
[null,null,null,null,11011,null,null,11,{"$f":"IF(VLOOKUP($E34,学年名簿と評価・評定!$E$24:$K$573,5)=\"\",\"\",VLOOKUP($E34,学年名簿と評価・評定!$E$24:$K$573,5))","v":""},{"$f":"IF(VLOOKUP($E34,学年名簿と評価・評定!$E$24:$K$573,6)=\"\",\"\",VLOOKUP($E34,学年名簿と評価・評定!$E$24:$K$573,7))","v":""},null,"",null,null,null,{"$f":"IF(OR($I34=\"\",COUNTA($M34:$O34)=0),\"\",IF(AND(M34=\"-\",N34=\"-\",O34=\"-\"),\"-\",VLOOKUP(COUNTIF($M34:$O34,\"A\")-COUNTIF($M34:$O34,\"C\"),基本情報!$R$4:$S$10,2)))","v":""},null,null,null,null,null,"",null,null,null,{"$f":"IF(OR($I34=\"\",COUNTA($W34:$Y34)=0),\"\",IF(AND(W34=\"-\",X34=\"-\",Y34=\"-\"),\"-\",VLOOKUP(COUNTIF($W34:$Y34,\"A\")-COUNTIF($W34:$Y34,\"C\"),基本情報!$R$4:$S$10,2)))","v":""},null,null,null,null,null,"",null,null,null,{"$f":"IF(OR($I34=\"\",COUNTA($AG34:$AI34)=0),\"\",IF(AND(AG34=\"-\",AH34=\"-\",AI34=\"-\"),\"-\",VLOOKUP(COUNTIF($AG34:$AI34,\"A\")-COUNTIF($AG34:$AI34,\"C\"),基本情報!$R$4:$S$10,2)))","v":""}]
[null,null,null,null,11012,null,null,12,{"$f":"IF(VLOOKUP($E35,学年名簿と評価・評定!$E$24:$K$573,5)=\"\",\"\",VLOOKUP($E35,学年名簿と評価・評定!$E$24:$K$573,5))","v":""},{"$f":"IF(VLOOKUP($E35,学年名簿と評価・評定!$E$24:$K$573,6)=\"\",\"\",VLOOKUP($E35,学年名簿と評価・評定!$E$24:$K$573,7))","v":""},null,"",null,null,null,{"$f":"IF(OR($I35=\"\",COUNTA($M35:$O35)=0),\"\",IF(AND(M35=\"-\",N35=\"-\",O35=\"-\"),\"-\",VLOOKUP(COUNTIF($M35:$O35,\"A\")-COUNTIF($M35:$O35,\"C\"),基本情報!$R$4:$S$10,2)))","v":""},null,null,null,null,null,"",null,null,null,{"$f":"IF(OR($I35=\"\",COUNTA($W35:$Y35)=0),\"\",IF(AND(W35=\"-\",X35=\"-\",Y35=\"-\"),\"-\",VLOOKUP(COUNTIF($W35:$Y35,\"A\")-COUNTIF($W35:$Y35,\"C\"),基本情報!$R$4:$S$10,2)))","v":""},null,null,null,null,null,"",null,null,null,{"$f":"IF(OR($I35=\"\",COUNTA($AG35:$AI35)=0),\"\",IF(AND(AG35=\"-\",AH35=\"-\",AI35=\"-\"),\"-\",VLOOKUP(COUNTIF($AG35:$AI35,\"A\")-COUNTIF($AG35:$AI35,\"C\"),基本情報!$R$4:$S$10,2)))","v":""}]
[null,null,null,null,11013,null,null,13,{"$f":"IF(VLOOKUP($E36,学年名簿と評価・評定!$E$24:$K$573,5)=\"\",\"\",VLOOKUP($E36,学年名簿と評価・評定!$E$24:$K$573,5))","v":""},{"$f":"IF(VLOOKUP($E36,学年名簿と評価・評定!$E$24:$K$573,6)=\"\",\"\",VLOOKUP($E36,学年名簿と評価・評定!$E$24:$K$573,7))","v":""},null,"",null,null,null,{"$f":"IF(OR($I36=\"\",COUNTA($M36:$O36)=0),\"\",IF(AND(M36=\"-\",N36=\"-\",O36=\"-\"),\"-\",VLOOKUP(COUNTIF($M36:$O36,\"A\")-COUNTIF($M36:$O36,\"C\"),基本情報!$R$4:$S$10,2)))","v":""},null,null,null,null,null,"",null,null,null,{"$f":"IF(OR($I36=\"\",COUNTA($W36:$Y36)=0),\"\",IF(AND(W36=\"-\",X36=\"-\",Y36=\"-\"),\"-\",VLOOKUP(COUNTIF($W36:$Y36,\"A\")-COUNTIF($W36:$Y36,\"C\"),基本情報!$R$4:$S$10,2)))","v":""},null,null,null,null,null,"",null,null,null,{"$f":"IF(OR($I36=\"\",COUNTA($AG36:$AI36)=0),\"\",IF(AND(AG36=\"-\",AH36=\"-\",AI36=\"-\"),\"-\",VLOOKUP(COUNTIF($AG36:$AI36,\"A\")-COUNTIF($AG36:$AI36,\"C\"),基本情報!$R$4:$S$10,2)))","v":""}]
[null,null,null,null,11014,null,null,14,{"$f":"IF(VLOOKUP($E37,学年名簿と評価・評定!$E$24:$K$573,5)=\"\",\"\",VLOOKUP($E37,学年名簿と評価・評定!$E$24:$K$573,5))","v":""},{"$f":"IF(VLOOKUP($E37,学年名簿と評価・評定!$E$24:$K$573,6)=\"\",\"\",VLOOKUP($E37,学年名簿と評価・評定!$E$24:$K$573,7))","v":""},null,"",null,null,null,{"$f":"IF(OR($I37=\"\",COUNTA($M37:$O37)=0),\"\",IF(AND(M37=\"-\",N37=\"-\",O37=\"-\"),\"-\",VLOOKUP(COUNTIF($M37:$O37,\"A\")-COUNTIF($M37:$O37,\"C\"),基本情報!$R$4:$S$10,2)))","v":""},null,null,null,null,null,"",null,null,null,{"$f":"IF(OR($I37=\"\",COUNTA($W37:$Y37)=0),\"\",IF(AND(W37=\"-\",X37=\"-\",Y37=\"-\"),\"-\",VLOOKUP(COUNTIF($W37:$Y37,\"A\")-COUNTIF($W37:$Y37,\"C\"),基本情報!$R$4:$S$10,2)))","v":""},null,null,null,null,null,"",null,null,null,{"$f":"IF(OR($I37=\"\",COUNTA($AG37:$AI37)=0),\"\",IF(AND(AG37=\"-\",AH37=\"-\",AI37=\"-\"),\"-\",VLOOKUP(COUNTIF($AG37:$AI37,\"A\")-COUNTIF($AG37:$AI37,\"C\"),基本情報!$R$4:$S$10,2)))","v":""}]
[null,null,null,null,11015,null,null,15,{"$f":"IF(VLOOKUP($E38,学年名簿と評価・評定!$E$24:$K$573,5)=\"\",\"\",VLOOKUP($E38,学年名簿と評価・評定!$E$24:$K$573,5))","v":""},{"$f":"IF(VLOOKUP($E38,学年名簿と評価・評定!$E$24:$K$573,6)=\"\",\"\",VLOOKUP($E38,学年名簿と評価・評定!$E$24:$K$573,7))","v":""},null,"",null,null,null,{"$f":"IF(OR($I38=\"\",COUNTA($M38:$O38)=0),\"\",IF(AND(M38=\"-\",N38=\"-\",O38=\"-\"),\"-\",VLOOKUP(COUNTIF($M38:$O38,\"A\")-COUNTIF($M38:$O38,\"C\"),基本情報!$R$4:$S$10,2)))","v":""},null,null,null,null,null,"",null,null,null,{"$f":"IF(OR($I38=\"\",COUNTA($W38:$Y38)=0),\"\",IF(AND(W38=\"-\",X38=\"-\",Y38=\"-\"),\"-\",VLOOKUP(COUNTIF($W38:$Y38,\"A\")-COUNTIF($W38:$Y38,\"C\"),基本情報!$R$4:$S$10,2)))","v":""},null,null,null,null,null,"",null,null,null,{"$f":"IF(OR($I38=\"\",COUNTA($AG38:$AI38)=0),\"\",IF(AND(AG38=\"-\",AH38=\"-\",AI38=\"-\"),\"-\",VLOOKUP(COUNTIF($AG38:$AI38,\"A\")-COUNTIF($AG38:$AI38,\"C\"),基本情報!$R$4:$S$10,2)))","v":""}]
[null,null,null,null,11016,null,null,16,{"$f":"IF(VLOOKUP($E39,学年名簿と評価・評定!$E$24:$K$573,5)=\"\",\"\",VLOOKUP($E39,学年名簿と評価・評定!$E$24:$K$573,5))","v":""},{"$f":"IF(VLOOKUP($E39,学年名簿と評価・評定!$E$24:$K$573,6)=\"\",\"\",VLOOKUP($E39,学年名簿と評価・評定!$E$24:$K$573,7))","v":""},null,"",null,null,null,{"$f":"IF(OR($I39=\"\",COUNTA($M39:$O39)=0),\"\",IF(AND(M39=\"-\",N39=\"-\",O39=\"-\"),\"-\",VLOOKUP(COUNTIF($M39:$O39,\"A\")-COUNTIF($M39:$O39,\"C\"),基本情報!$R$4:$S$10,2)))","v":""},null,null,null,null,null,"",null,null,null,{"$f":"IF(OR($I39=\"\",COUNTA($W39:$Y39)=0),\"\",IF(AND(W39=\"-\",X39=\"-\",Y39=\"-\"),\"-\",VLOOKUP(COUNTIF($W39:$Y39,\"A\")-COUNTIF($W39:$Y39,\"C\"),基本情報!$R$4:$S$10,2)))","v":""},null,null,null,null,null,"",null,null,null,{"$f":"IF(OR($I39=\"\",COUNTA($AG39:$AI39)=0),\"\",IF(AND(AG39=\"-\",AH39=\"-\",AI39=\"-\"),\"-\",VLOOKUP(COUNTIF($AG39:$AI39,\"A\")-COUNTIF($AG39:$AI39,\"C\"),基本情報!$R$4:$S$10,2)))","v":""}]
[null,null,null,null,11017,null,null,17,{"$f":"IF(VLOOKUP($E40,学年名簿と評価・評定!$E$24:$K$573,5)=\"\",\"\",VLOOKUP($E40,学年名簿と評価・評定!$E$24:$K$573,5))","v":""},{"$f":"IF(VLOOKUP($E40,学年名簿と評価・評定!$E$24:$K$573,6)=\"\",\"\",VLOOKUP($E40,学年名簿と評価・評定!$E$24:$K$573,7))","v":""},null,"",null,null,null,{"$f":"IF(OR($I40=\"\",COUNTA($M40:$O40)=0),\"\",IF(AND(M40=\"-\",N40=\"-\",O40=\"-\"),\"-\",VLOOKUP(COUNTIF($M40:$O40,\"A\")-COUNTIF($M40:$O40,\"C\"),基本情報!$R$4:$S$10,2)))","v":""},null,null,null,null,null,"",null,null,null,{"$f":"IF(OR($I40=\"\",COUNTA($W40:$Y40)=0),\"\",IF(AND(W40=\"-\",X40=\"-\",Y40=\"-\"),\"-\",VLOOKUP(COUNTIF($W40:$Y40,\"A\")-COUNTIF($W40:$Y40,\"C\"),基本情報!$R$4:$S$10,2)))","v":""},null,null,null,null,null,"",null,null,null,{"$f":"IF(OR($I40=\"\",COUNTA($AG40:$AI40)=0),\"\",IF(AND(AG40=\"-\",AH40=\"-\",AI40=\"-\"),\"-\",VLOOKUP(COUNTIF($AG40:$AI40,\"A\")-COUNTIF($AG40:$AI40,\"C\"),基本情報!$R$4:$S$10,2)))","v":""}]
[null,null,null,null,11018,null,null,18,{"$f":"IF(VLOOKUP($E41,学年名簿と評価・評定!$E$24:$K$573,5)=\"\",\"\",VLOOKUP($E41,学年名簿と評価・評定!$E$24:$K$573,5))","v":""},{"$f":"IF(VLOOKUP($E41,学年名簿と評価・評定!$E$24:$K$573,6)=\"\",\"\",VLOOKUP($E41,学年名簿と評価・評定!$E$24:$K$573,7))","v":""},null,"",null,null,null,{"$f":"IF(OR($I41=\"\",COUNTA($M41:$O41)=0),\"\",IF(AND(M41=\"-\",N41=\"-\",O41=\"-\"),\"-\",VLOOKUP(COUNTIF($M41:$O41,\"A\")-COUNTIF($M41:$O41,\"C\"),基本情報!$R$4:$S$10,2)))","v":""},null,null,null,null,null,"",null,null,null,{"$f":"IF(OR($I41=\"\",COUNTA($W41:$Y41)=0),\"\",IF(AND(W41=\"-\",X41=\"-\",Y41=\"-\"),\"-\",VLOOKUP(COUNTIF($W41:$Y41,\"A\")-COUNTIF($W41:$Y41,\"C\"),基本情報!$R$4:$S$10,2)))","v":""},null,null,null,null,null,"",null,null,null,{"$f":"IF(OR($I41=\"\",COUNTA($AG41:$AI41)=0),\"\",IF(AND(AG41=\"-\",AH41=\"-\",AI41=\"-\"),\"-\",VLOOKUP(COUNTIF($AG41:$AI41,\"A\")-COUNTIF($AG41:$AI41,\"C\"),基本情報!$R$4:$S$10,2)))","v":""}]
[null,null,null,null,11019,null,null,19,{"$f":"IF(VLOOKUP($E42,学年名簿と評価・評定!$E$24:$K$573,5)=\"\",\"\",VLOOKUP($E42,学年名簿と評価・評定!$E$24:$K$573,5))","v":""},{"$f":"IF(VLOOKUP($E42,学年名簿と評価・評定!$E$24:$K$573,6)=\"\",\"\",VLOOKUP($E42,学年名簿と評価・評定!$E$24:$K$573,7))","v":""},null,"",null,null,null,{"$f":"IF(OR($I42=\"\",COUNTA($M42:$O42)=0),\"\",IF(AND(M42=\"-\",N42=\"-\",O42=\"-\"),\"-\",VLOOKUP(COUNTIF($M42:$O42,\"A\")-COUNTIF($M42:$O42,\"C\"),基本情報!$R$4:$S$10,2)))","v":""},null,null,null,null,null,"",null,null,null,{"$f":"IF(OR($I42=\"\",COUNTA($W42:$Y42)=0),\"\",IF(AND(W42=\"-\",X42=\"-\",Y42=\"-\"),\"-\",VLOOKUP(COUNTIF($W42:$Y42,\"A\")-COUNTIF($W42:$Y42,\"C\"),基本情報!$R$4:$S$10,2)))","v":""},null,null,null,null,null,"",null,null,null,{"$f":"IF(OR($I42=\"\",COUNTA($AG42:$AI42)=0),\"\",IF(AND(AG42=\"-\",AH42=\"-\",AI42=\"-\"),\"-\",VLOOKUP(COUNTIF($AG42:$AI42,\"A\")-COUNTIF($AG42:$AI42,\"C\"),基本情報!$R$4:$S$10,2)))","v":""}]
[null,null,null,null,11020,null,null,20,{"$f":"IF(VLOOKUP($E43,学年名簿と評価・評定!$E$24:$K$573,5)=\"\",\"\",VLOOKUP($E43,学年名簿と評価・評定!$E$24:$K$573,5))","v":""},{"$f":"IF(VLOOKUP($E43,学年名簿と評価・評定!$E$24:$K$573,6)=\"\",\"\",VLOOKUP($E43,学年名簿と評価・評定!$E$24:$K$573,7))","v":""},null,"",null,null,null,{"$f":"IF(OR($I43=\"\",COUNTA($M43:$O43)=0),\"\",IF(AND(M43=\"-\",N43=\"-\",O43=\"-\"),\"-\",VLOOKUP(COUNTIF($M43:$O43,\"A\")-COUNTIF($M43:$O43,\"C\"),基本情報!$R$4:$S$10,2)))","v":""},null,null,null,null,null,"",null,null,null,{"$f":"IF(OR($I43=\"\",COUNTA($W43:$Y43)=0),\"\",IF(AND(W43=\"-\",X43=\"-\",Y43=\"-\"),\"-\",VLOOKUP(COUNTIF($W43:$Y43,\"A\")-COUNTIF($W43:$Y43,\"C\"),基本情報!$R$4:$S$10,2)))","v":""},null,null,null,null,null,"",null,null,null,{"$f":"IF(OR($I43=\"\",COUNTA($AG43:$AI43)=0),\"\",IF(AND(AG43=\"-\",AH43=\"-\",AI43=\"-\"),\"-\",VLOOKUP(COUNTIF($AG43:$AI43,\"A\")-COUNTIF($AG43:$AI43,\"C\"),基本情報!$R$4:$S$10,2)))","v":""}]
[null,null,null,null,11021,null,null,21,{"$f":"IF(VLOOKUP($E44,学年名簿と評価・評定!$E$24:$K$573,5)=\"\",\"\",VLOOKUP($E44,学年名簿と評価・評定!$E$24:$K$573,5))","v":""},{"$f":"IF(VLOOKUP($E44,学年名簿と評価・評定!$E$24:$K$573,6)=\"\",\"\",VLOOKUP($E44,学年名簿と評価・評定!$E$24:$K$573,7))","v":""},null,"",null,null,null,{"$f":"IF(OR($I44=\"\",COUNTA($M44:$O44)=0),\"\",IF(AND(M44=\"-\",N44=\"-\",O44=\"-\"),\"-\",VLOOKUP(COUNTIF($M44:$O44,\"A\")-COUNTIF($M44:$O44,\"C\"),基本情報!$R$4:$S$10,2)))","v":""},null,null,null,null,null,"",null,null,null,{"$f":"IF(OR($I44=\"\",COUNTA($W44:$Y44)=0),\"\",IF(AND(W44=\"-\",X44=\"-\",Y44=\"-\"),\"-\",VLOOKUP(COUNTIF($W44:$Y44,\"A\")-COUNTIF($W44:$Y44,\"C\"),基本情報!$R$4:$S$10,2)))","v":""},null,null,null,null,null,"",null,null,null,{"$f":"IF(OR($I44=\"\",COUNTA($AG44:$AI44)=0),\"\",IF(AND(AG44=\"-\",AH44=\"-\",AI44=\"-\"),\"-\",VLOOKUP(COUNTIF($AG44:$AI44,\"A\")-COUNTIF($AG44:$AI44,\"C\"),基本情報!$R$4:$S$10,2)))","v":""}]
[null,null,null,null,11022,null,null,22,{"$f":"IF(VLOOKUP($E45,学年名簿と評価・評定!$E$24:$K$573,5)=\"\",\"\",VLOOKUP($E45,学年名簿と評価・評定!$E$24:$K$573,5))","v":""},{"$f":"IF(VLOOKUP($E45,学年名簿と評価・評定!$E$24:$K$573,6)=\"\",\"\",VLOOKUP($E45,学年名簿と評価・評定!$E$24:$K$573,7))","v":""},null,"",null,null,null,{"$f":"IF(OR($I45=\"\",COUNTA($M45:$O45)=0),\"\",IF(AND(M45=\"-\",N45=\"-\",O45=\"-\"),\"-\",VLOOKUP(COUNTIF($M45:$O45,\"A\")-COUNTIF($M45:$O45,\"C\"),基本情報!$R$4:$S$10,2)))","v":""},null,null,null,null,null,"",null,null,null,{"$f":"IF(OR($I45=\"\",COUNTA($W45:$Y45)=0),\"\",IF(AND(W45=\"-\",X45=\"-\",Y45=\"-\"),\"-\",VLOOKUP(COUNTIF($W45:$Y45,\"A\")-COUNTIF($W45:$Y45,\"C\"),基本情報!$R$4:$S$10,2)))","v":""},null,null,null,null,null,"",null,null,null,{"$f":"IF(OR($I45=\"\",COUNTA($AG45:$AI45)=0),\"\",IF(AND(AG45=\"-\",AH45=\"-\",AI45=\"-\"),\"-\",VLOOKUP(COUNTIF($AG45:$AI45,\"A\")-COUNTIF($AG45:$AI45,\"C\"),基本情報!$R$4:$S$10,2)))","v":""}]
[null,null,null,null,11023,null,null,23,{"$f":"IF(VLOOKUP($E46,学年名簿と評価・評定!$E$24:$K$573,5)=\"\",\"\",VLOOKUP($E46,学年名簿と評価・評定!$E$24:$K$573,5))","v":""},{"$f":"IF(VLOOKUP($E46,学年名簿と評価・評定!$E$24:$K$573,6)=\"\",\"\",VLOOKUP($E46,学年名簿と評価・評定!$E$24:$K$573,7))","v":""},null,"",null,null,null,{"$f":"IF(OR($I46=\"\",COUNTA($M46:$O46)=0),\"\",IF(AND(M46=\"-\",N46=\"-\",O46=\"-\"),\"-\",VLOOKUP(COUNTIF($M46:$O46,\"A\")-COUNTIF($M46:$O46,\"C\"),基本情報!$R$4:$S$10,2)))","v":""},null,null,null,null,null,"",null,null,null,{"$f":"IF(OR($I46=\"\",COUNTA($W46:$Y46)=0),\"\",IF(AND(W46=\"-\",X46=\"-\",Y46=\"-\"),\"-\",VLOOKUP(COUNTIF($W46:$Y46,\"A\")-COUNTIF($W46:$Y46,\"C\"),基本情報!$R$4:$S$10,2)))","v":""},null,null,null,null,null,"",null,null,null,{"$f":"IF(OR($I46=\"\",COUNTA($AG46:$AI46)=0),\"\",IF(AND(AG46=\"-\",AH46=\"-\",AI46=\"-\"),\"-\",VLOOKUP(COUNTIF($AG46:$AI46,\"A\")-COUNTIF($AG46:$AI46,\"C\"),基本情報!$R$4:$S$10,2)))","v":""}]
[null,null,null,null,11024,null,null,24,{"$f":"IF(VLOOKUP($E47,学年名簿と評価・評定!$E$24:$K$573,5)=\"\",\"\",VLOOKUP($E47,学年名簿と評価・評定!$E$24:$K$573,5))","v":""},{"$f":"IF(VLOOKUP($E47,学年名簿と評価・評定!$E$24:$K$573,6)=\"\",\"\",VLOOKUP($E47,学年名簿と評価・評定!$E$24:$K$573,7))","v":""},null,"",null,null,null,{"$f":"IF(OR($I47=\"\",COUNTA($M47:$O47)=0),\"\",IF(AND(M47=\"-\",N47=\"-\",O47=\"-\"),\"-\",VLOOKUP(COUNTIF($M47:$O47,\"A\")-COUNTIF($M47:$O47,\"C\"),基本情報!$R$4:$S$10,2)))","v":""},null,null,null,null,null,"",null,null,null,{"$f":"IF(OR($I47=\"\",COUNTA($W47:$Y47)=0),\"\",IF(AND(W47=\"-\",X47=\"-\",Y47=\"-\"),\"-\",VLOOKUP(COUNTIF($W47:$Y47,\"A\")-COUNTIF($W47:$Y47,\"C\"),基本情報!$R$4:$S$10,2)))","v":""},null,null,null,null,null,"",null,null,null,{"$f":"IF(OR($I47=\"\",COUNTA($AG47:$AI47)=0),\"\",IF(AND(AG47=\"-\",AH47=\"-\",AI47=\"-\"),\"-\",VLOOKUP(COUNTIF($AG47:$AI47,\"A\")-COUNTIF($AG47:$AI47,\"C\"),基本情報!$R$4:$S$10,2)))","v":""}]
[null,null,null,null,11025,null,null,25,{"$f":"IF(VLOOKUP($E48,学年名簿と評価・評定!$E$24:$K$573,5)=\"\",\"\",VLOOKUP($E48,学年名簿と評価・評定!$E$24:$K$573,5))","v":""},{"$f":"IF(VLOOKUP($E48,学年名簿と評価・評定!$E$24:$K$573,6)=\"\",\"\",VLOOKUP($E48,学年名簿と評価・評定!$E$24:$K$573,7))","v":""},null,"",null,null,null,{"$f":"IF(OR($I48=\"\",COUNTA($M48:$O48)=0),\"\",IF(AND(M48=\"-\",N48=\"-\",O48=\"-\"),\"-\",VLOOKUP(COUNTIF($M48:$O48,\"A\")-COUNTIF($M48:$O48,\"C\"),基本情報!$R$4:$S$10,2)))","v":""},null,null,null,null,null,"",null,null,null,{"$f":"IF(OR($I48=\"\",COUNTA($W48:$Y48)=0),\"\",IF(AND(W48=\"-\",X48=\"-\",Y48=\"-\"),\"-\",VLOOKUP(COUNTIF($W48:$Y48,\"A\")-COUNTIF($W48:$Y48,\"C\"),基本情報!$R$4:$S$10,2)))","v":""},null,null,null,null,null,"",null,null,null,{"$f":"IF(OR($I48=\"\",COUNTA($AG48:$AI48)=0),\"\",IF(AND(AG48=\"-\",AH48=\"-\",AI48=\"-\"),\"-\",VLOOKUP(COUNTIF($AG48:$AI48,\"A\")-COUNTIF($AG48:$AI48,\"C\"),基本情報!$R$4:$S$10,2)))","v":""}]
[null,null,null,null,11026,null,null,26,{"$f":"IF(VLOOKUP($E49,学年名簿と評価・評定!$E$24:$K$573,5)=\"\",\"\",VLOOKUP($E49,学年名簿と評価・評定!$E$24:$K$573,5))","v":""},{"$f":"IF(VLOOKUP($E49,学年名簿と評価・評定!$E$24:$K$573,6)=\"\",\"\",VLOOKUP($E49,学年名簿と評価・評定!$E$24:$K$573,7))","v":""},null,"",null,null,null,{"$f":"IF(OR($I49=\"\",COUNTA($M49:$O49)=0),\"\",IF(AND(M49=\"-\",N49=\"-\",O49=\"-\"),\"-\",VLOOKUP(COUNTIF($M49:$O49,\"A\")-COUNTIF($M49:$O49,\"C\"),基本情報!$R$4:$S$10,2)))","v":""},null,null,null,null,null,"",null,null,null,{"$f":"IF(OR($I49=\"\",COUNTA($W49:$Y49)=0),\"\",IF(AND(W49=\"-\",X49=\"-\",Y49=\"-\"),\"-\",VLOOKUP(COUNTIF($W49:$Y49,\"A\")-COUNTIF($W49:$Y49,\"C\"),基本情報!$R$4:$S$10,2)))","v":""},null,null,null,null,null,"",null,null,null,{"$f":"IF(OR($I49=\"\",COUNTA($AG49:$AI49)=0),\"\",IF(AND(AG49=\"-\",AH49=\"-\",AI49=\"-\"),\"-\",VLOOKUP(COUNTIF($AG49:$AI49,\"A\")-COUNTIF($AG49:$AI49,\"C\"),基本情報!$R$4:$S$10,2)))","v":""}]
[null,null,null,null,11027,null,null,27,{"$f":"IF(VLOOKUP($E50,学年名簿と評価・評定!$E$24:$K$573,5)=\"\",\"\",VLOOKUP($E50,学年名簿と評価・評定!$E$24:$K$573,5))","v":""},{"$f":"IF(VLOOKUP($E50,学年名簿と評価・評定!$E$24:$K$573,6)=\"\",\"\",VLOOKUP($E50,学年名簿と評価・評定!$E$24:$K$573,7))","v":""},null,"",null,null,null,{"$f":"IF(OR($I50=\"\",COUNTA($M50:$O50)=0),\"\",IF(AND(M50=\"-\",N50=\"-\",O50=\"-\"),\"-\",VLOOKUP(COUNTIF($M50:$O50,\"A\")-COUNTIF($M50:$O50,\"C\"),基本情報!$R$4:$S$10,2)))","v":""},null,null,null,null,null,"",null,null,null,{"$f":"IF(OR($I50=\"\",COUNTA($W50:$Y50)=0),\"\",IF(AND(W50=\"-\",X50=\"-\",Y50=\"-\"),\"-\",VLOOKUP(COUNTIF($W50:$Y50,\"A\")-COUNTIF($W50:$Y50,\"C\"),基本情報!$R$4:$S$10,2)))","v":""},null,null,null,null,null,"",null,null,null,{"$f":"IF(OR($I50=\"\",COUNTA($AG50:$AI50)=0),\"\",IF(AND(AG50=\"-\",AH50=\"-\",AI50=\"-\"),\"-\",VLOOKUP(COUNTIF($AG50:$AI50,\"A\")-COUNTIF($AG50:$AI50,\"C\"),基本情報!$R$4:$S$10,2)))","v":""}]
[null,null,null,null,11028,null,null,28,{"$f":"IF(VLOOKUP($E51,学年名簿と評価・評定!$E$24:$K$573,5)=\"\",\"\",VLOOKUP($E51,学年名簿と評価・評定!$E$24:$K$573,5))","v":""},{"$f":"IF(VLOOKUP($E51,学年名簿と評価・評定!$E$24:$K$573,6)=\"\",\"\",VLOOKUP($E51,学年名簿と評価・評定!$E$24:$K$573,7))","v":""},null,"",null,null,null,{"$f":"IF(OR($I51=\"\",COUNTA($M51:$O51)=0),\"\",IF(AND(M51=\"-\",N51=\"-\",O51=\"-\"),\"-\",VLOOKUP(COUNTIF($M51:$O51,\"A\")-COUNTIF($M51:$O51,\"C\"),基本情報!$R$4:$S$10,2)))","v":""},null,null,null,null,null,"",null,null,null,{"$f":"IF(OR($I51=\"\",COUNTA($W51:$Y51)=0),\"\",IF(AND(W51=\"-\",X51=\"-\",Y51=\"-\"),\"-\",VLOOKUP(COUNTIF($W51:$Y51,\"A\")-COUNTIF($W51:$Y51,\"C\"),基本情報!$R$4:$S$10,2)))","v":""},null,null,null,null,null,"",null,null,null,{"$f":"IF(OR($I51=\"\",COUNTA($AG51:$AI51)=0),\"\",IF(AND(AG51=\"-\",AH51=\"-\",AI51=\"-\"),\"-\",VLOOKUP(COUNTIF($AG51:$AI51,\"A\")-COUNTIF($AG51:$AI51,\"C\"),基本情報!$R$4:$S$10,2)))","v":""}]
[null,null,null,null,11029,null,null,29,{"$f":"IF(VLOOKUP($E52,学年名簿と評価・評定!$E$24:$K$573,5)=\"\",\"\",VLOOKUP($E52,学年名簿と評価・評定!$E$24:$K$573,5))","v":""},{"$f":"IF(VLOOKUP($E52,学年名簿と評価・評定!$E$24:$K$573,6)=\"\",\"\",VLOOKUP($E52,学年名簿と評価・評定!$E$24:$K$573,7))","v":""},null,"",null,null,null,{"$f":"IF(OR($I52=\"\",COUNTA($M52:$O52)=0),\"\",IF(AND(M52=\"-\",N52=\"-\",O52=\"-\"),\"-\",VLOOKUP(COUNTIF($M52:$O52,\"A\")-COUNTIF($M52:$O52,\"C\"),基本情報!$R$4:$S$10,2)))","v":""},null,null,null,null,null,"",null,null,null,{"$f":"IF(OR($I52=\"\",COUNTA($W52:$Y52)=0),\"\",IF(AND(W52=\"-\",X52=\"-\",Y52=\"-\"),\"-\",VLOOKUP(COUNTIF($W52:$Y52,\"A\")-COUNTIF($W52:$Y52,\"C\"),基本情報!$R$4:$S$10,2)))","v":""},null,null,null,null,null,"",null,null,null,{"$f":"IF(OR($I52=\"\",COUNTA($AG52:$AI52)=0),\"\",IF(AND(AG52=\"-\",AH52=\"-\",AI52=\"-\"),\"-\",VLOOKUP(COUNTIF($AG52:$AI52,\"A\")-COUNTIF($AG52:$AI52,\"C\"),基本情報!$R$4:$S$10,2)))","v":""}]
[null,null,null,null,11030,null,null,30,{"$f":"IF(VLOOKUP($E53,学年名簿と評価・評定!$E$24:$K$573,5)=\"\",\"\",VLOOKUP($E53,学年名簿と評価・評定!$E$24:$K$573,5))","v":""},{"$f":"IF(VLOOKUP($E53,学年名簿と評価・評定!$E$24:$K$573,6)=\"\",\"\",VLOOKUP($E53,学年名簿と評価・評定!$E$24:$K$573,7))","v":""},null,"",null,null,null,{"$f":"IF(OR($I53=\"\",COUNTA($M53:$O53)=0),\"\",IF(AND(M53=\"-\",N53=\"-\",O53=\"-\"),\"-\",VLOOKUP(COUNTIF($M53:$O53,\"A\")-COUNTIF($M53:$O53,\"C\"),基本情報!$R$4:$S$10,2)))","v":""},null,null,null,null,null,"",null,null,null,{"$f":"IF(OR($I53=\"\",COUNTA($W53:$Y53)=0),\"\",IF(AND(W53=\"-\",X53=\"-\",Y53=\"-\"),\"-\",VLOOKUP(COUNTIF($W53:$Y53,\"A\")-COUNTIF($W53:$Y53,\"C\"),基本情報!$R$4:$S$10,2)))","v":""},null,null,null,null,null,"",null,null,null,{"$f":"IF(OR($I53=\"\",COUNTA($AG53:$AI53)=0),\"\",IF(AND(AG53=\"-\",AH53=\"-\",AI53=\"-\"),\"-\",VLOOKUP(COUNTIF($AG53:$AI53,\"A\")-COUNTIF($AG53:$AI53,\"C\"),基本情報!$R$4:$S$10,2)))","v":""}]
[null,null,null,null,11031,null,null,31,{"$f":"IF(VLOOKUP($E54,学年名簿と評価・評定!$E$24:$K$573,5)=\"\",\"\",VLOOKUP($E54,学年名簿と評価・評定!$E$24:$K$573,5))","v":""},{"$f":"IF(VLOOKUP($E54,学年名簿と評価・評定!$E$24:$K$573,6)=\"\",\"\",VLOOKUP($E54,学年名簿と評価・評定!$E$24:$K$573,7))","v":""},null,"",null,null,null,{"$f":"IF(OR($I54=\"\",COUNTA($M54:$O54)=0),\"\",IF(AND(M54=\"-\",N54=\"-\",O54=\"-\"),\"-\",VLOOKUP(COUNTIF($M54:$O54,\"A\")-COUNTIF($M54:$O54,\"C\"),基本情報!$R$4:$S$10,2)))","v":""},null,null,null,null,null,"",null,null,null,{"$f":"IF(OR($I54=\"\",COUNTA($W54:$Y54)=0),\"\",IF(AND(W54=\"-\",X54=\"-\",Y54=\"-\"),\"-\",VLOOKUP(COUNTIF($W54:$Y54,\"A\")-COUNTIF($W54:$Y54,\"C\"),基本情報!$R$4:$S$10,2)))","v":""},null,null,null,null,null,"",null,null,null,{"$f":"IF(OR($I54=\"\",COUNTA($AG54:$AI54)=0),\"\",IF(AND(AG54=\"-\",AH54=\"-\",AI54=\"-\"),\"-\",VLOOKUP(COUNTIF($AG54:$AI54,\"A\")-COUNTIF($AG54:$AI54,\"C\"),基本情報!$R$4:$S$10,2)))","v":""}]
[null,null,null,null,11032,null,null,32,{"$f":"IF(VLOOKUP($E55,学年名簿と評価・評定!$E$24:$K$573,5)=\"\",\"\",VLOOKUP($E55,学年名簿と評価・評定!$E$24:$K$573,5))","v":""},{"$f":"IF(VLOOKUP($E55,学年名簿と評価・評定!$E$24:$K$573,6)=\"\",\"\",VLOOKUP($E55,学年名簿と評価・評定!$E$24:$K$573,7))","v":""},null,"",null,null,null,{"$f":"IF(OR($I55=\"\",COUNTA($M55:$O55)=0),\"\",IF(AND(M55=\"-\",N55=\"-\",O55=\"-\"),\"-\",VLOOKUP(COUNTIF($M55:$O55,\"A\")-COUNTIF($M55:$O55,\"C\"),基本情報!$R$4:$S$10,2)))","v":""},null,null,null,null,null,"",null,null,null,{"$f":"IF(OR($I55=\"\",COUNTA($W55:$Y55)=0),\"\",IF(AND(W55=\"-\",X55=\"-\",Y55=\"-\"),\"-\",VLOOKUP(COUNTIF($W55:$Y55,\"A\")-COUNTIF($W55:$Y55,\"C\"),基本情報!$R$4:$S$10,2)))","v":""},null,null,null,null,null,"",null,null,null,{"$f":"IF(OR($I55=\"\",COUNTA($AG55:$AI55)=0),\"\",IF(AND(AG55=\"-\",AH55=\"-\",AI55=\"-\"),\"-\",VLOOKUP(COUNTIF($AG55:$AI55,\"A\")-COUNTIF($AG55:$AI55,\"C\"),基本情報!$R$4:$S$10,2)))","v":""}]
[null,null,null,null,{"$f":"$I$8*10000+$I$9*100+$H56","v":11033},null,null,33,{"$f":"IF(VLOOKUP($E56,学年名簿と評価・評定!$E$24:$K$573,5)=\"\",\"\",VLOOKUP($E56,学年名簿と評価・評定!$E$24:$K$573,5))","v":""},{"$f":"IF(VLOOKUP($E56,学年名簿と評価・評定!$E$24:$K$573,6)=\"\",\"\",VLOOKUP($E56,学年名簿と評価・評定!$E$24:$K$573,7))","v":""},null,"",null,null,null,{"$f":"IF(OR($I56=\"\",COUNTA($M56:$O56)=0),\"\",IF(AND(M56=\"-\",N56=\"-\",O56=\"-\"),\"-\",VLOOKUP(COUNTIF($M56:$O56,\"A\")-COUNTIF($M56:$O56,\"C\"),基本情報!$R$4:$S$10,2)))","v":""},null,null,null,null,null,"",null,null,null,{"$f":"IF(OR($I56=\"\",COUNTA($W56:$Y56)=0),\"\",IF(AND(W56=\"-\",X56=\"-\",Y56=\"-\"),\"-\",VLOOKUP(COUNTIF($W56:$Y56,\"A\")-COUNTIF($W56:$Y56,\"C\"),基本情報!$R$4:$S$10,2)))","v":""},null,null,null,null,null,"",null,null,null,{"$f":"IF(OR($I56=\"\",COUNTA($AG56:$AI56)=0),\"\",IF(AND(AG56=\"-\",AH56=\"-\",AI56=\"-\"),\"-\",VLOOKUP(COUNTIF($AG56:$AI56,\"A\")-COUNTIF($AG56:$AI56,\"C\"),基本情報!$R$4:$S$10,2)))","v":""}]
[null,null,null,null,11034,null,null,34,{"$f":"IF(VLOOKUP($E57,学年名簿と評価・評定!$E$24:$K$573,5)=\"\",\"\",VLOOKUP($E57,学年名簿と評価・評定!$E$24:$K$573,5))","v":""},{"$f":"IF(VLOOKUP($E57,学年名簿と評価・評定!$E$24:$K$573,6)=\"\",\"\",VLOOKUP($E57,学年名簿と評価・評定!$E$24:$K$573,7))","v":""},null,"",null,null,null,{"$f":"IF(OR($I57=\"\",COUNTA($M57:$O57)=0),\"\",IF(AND(M57=\"-\",N57=\"-\",O57=\"-\"),\"-\",VLOOKUP(COUNTIF($M57:$O57,\"A\")-COUNTIF($M57:$O57,\"C\"),基本情報!$R$4:$S$10,2)))","v":""},null,null,null,null,null,"",null,null,null,{"$f":"IF(OR($I57=\"\",COUNTA($W57:$Y57)=0),\"\",IF(AND(W57=\"-\",X57=\"-\",Y57=\"-\"),\"-\",VLOOKUP(COUNTIF($W57:$Y57,\"A\")-COUNTIF($W57:$Y57,\"C\"),基本情報!$R$4:$S$10,2)))","v":""},null,null,null,null,null,"",null,null,null,{"$f":"IF(OR($I57=\"\",COUNTA($AG57:$AI57)=0),\"\",IF(AND(AG57=\"-\",AH57=\"-\",AI57=\"-\"),\"-\",VLOOKUP(COUNTIF($AG57:$AI57,\"A\")-COUNTIF($AG57:$AI57,\"C\"),基本情報!$R$4:$S$10,2)))","v":""}]
[null,null,null,null,11035,null,null,35,{"$f":"IF(VLOOKUP($E58,学年名簿と評価・評定!$E$24:$K$573,5)=\"\",\"\",VLOOKUP($E58,学年名簿と評価・評定!$E$24:$K$573,5))","v":""},{"$f":"IF(VLOOKUP($E58,学年名簿と評価・評定!$E$24:$K$573,6)=\"\",\"\",VLOOKUP($E58,学年名簿と評価・評定!$E$24:$K$573,7))","v":""},null,"",null,null,null,{"$f":"IF(OR($I58=\"\",COUNTA($M58:$O58)=0),\"\",IF(AND(M58=\"-\",N58=\"-\",O58=\"-\"),\"-\",VLOOKUP(COUNTIF($M58:$O58,\"A\")-COUNTIF($M58:$O58,\"C\"),基本情報!$R$4:$S$10,2)))","v":""},null,null,null,null,null,"",null,null,null,{"$f":"IF(OR($I58=\"\",COUNTA($W58:$Y58)=0),\"\",IF(AND(W58=\"-\",X58=\"-\",Y58=\"-\"),\"-\",VLOOKUP(COUNTIF($W58:$Y58,\"A\")-COUNTIF($W58:$Y58,\"C\"),基本情報!$R$4:$S$10,2)))","v":""},null,null,null,null,null,"",null,null,null,{"$f":"IF(OR($I58=\"\",COUNTA($AG58:$AI58)=0),\"\",IF(AND(AG58=\"-\",AH58=\"-\",AI58=\"-\"),\"-\",VLOOKUP(COUNTIF($AG58:$AI58,\"A\")-COUNTIF($AG58:$AI58,\"C\"),基本情報!$R$4:$S$10,2)))","v":""}]
[null,null,null,null,11036,null,null,36,{"$f":"IF(VLOOKUP($E59,学年名簿と評価・評定!$E$24:$K$573,5)=\"\",\"\",VLOOKUP($E59,学年名簿と評価・評定!$E$24:$K$573,5))","v":""},{"$f":"IF(VLOOKUP($E59,学年名簿と評価・評定!$E$24:$K$573,6)=\"\",\"\",VLOOKUP($E59,学年名簿と評価・評定!$E$24:$K$573,7))","v":""},null,"",null,null,null,{"$f":"IF(OR($I59=\"\",COUNTA($M59:$O59)=0),\"\",IF(AND(M59=\"-\",N59=\"-\",O59=\"-\"),\"-\",VLOOKUP(COUNTIF($M59:$O59,\"A\")-COUNTIF($M59:$O59,\"C\"),基本情報!$R$4:$S$10,2)))","v":""},null,null,null,null,null,"",null,null,null,{"$f":"IF(OR($I59=\"\",COUNTA($W59:$Y59)=0),\"\",IF(AND(W59=\"-\",X59=\"-\",Y59=\"-\"),\"-\",VLOOKUP(COUNTIF($W59:$Y59,\"A\")-COUNTIF($W59:$Y59,\"C\"),基本情報!$R$4:$S$10,2)))","v":""},null,null,null,null,null,"",null,null,null,{"$f":"IF(OR($I59=\"\",COUNTA($AG59:$AI59)=0),\"\",IF(AND(AG59=\"-\",AH59=\"-\",AI59=\"-\"),\"-\",VLOOKUP(COUNTIF($AG59:$AI59,\"A\")-COUNTIF($AG59:$AI59,\"C\"),基本情報!$R$4:$S$10,2)))","v":""}]
[null,null,null,null,11037,null,null,37,{"$f":"IF(VLOOKUP($E60,学年名簿と評価・評定!$E$24:$K$573,5)=\"\",\"\",VLOOKUP($E60,学年名簿と評価・評定!$E$24:$K$573,5))","v":""},{"$f":"IF(VLOOKUP($E60,学年名簿と評価・評定!$E$24:$K$573,6)=\"\",\"\",VLOOKUP($E60,学年名簿と評価・評定!$E$24:$K$573,7))","v":""},null,"",null,null,null,{"$f":"IF(OR($I60=\"\",COUNTA($M60:$O60)=0),\"\",IF(AND(M60=\"-\",N60=\"-\",O60=\"-\"),\"-\",VLOOKUP(COUNTIF($M60:$O60,\"A\")-COUNTIF($M60:$O60,\"C\"),基本情報!$R$4:$S$10,2)))","v":""},null,null,null,null,null,"",null,null,null,{"$f":"IF(OR($I60=\"\",COUNTA($W60:$Y60)=0),\"\",IF(AND(W60=\"-\",X60=\"-\",Y60=\"-\"),\"-\",VLOOKUP(COUNTIF($W60:$Y60,\"A\")-COUNTIF($W60:$Y60,\"C\"),基本情報!$R$4:$S$10,2)))","v":""},null,null,null,null,null,"",null,null,null,{"$f":"IF(OR($I60=\"\",COUNTA($AG60:$AI60)=0),\"\",IF(AND(AG60=\"-\",AH60=\"-\",AI60=\"-\"),\"-\",VLOOKUP(COUNTIF($AG60:$AI60,\"A\")-COUNTIF($AG60:$AI60,\"C\"),基本情報!$R$4:$S$10,2)))","v":""}]
[null,null,null,null,11038,null,null,38,{"$f":"IF(VLOOKUP($E61,学年名簿と評価・評定!$E$24:$K$573,5)=\"\",\"\",VLOOKUP($E61,学年名簿と評価・評定!$E$24:$K$573,5))","v":""},{"$f":"IF(VLOOKUP($E61,学年名簿と評価・評定!$E$24:$K$573,6)=\"\",\"\",VLOOKUP($E61,学年名簿と評価・評定!$E$24:$K$573,7))","v":""},null,"",null,null,null,{"$f":"IF(OR($I61=\"\",COUNTA($M61:$O61)=0),\"\",IF(AND(M61=\"-\",N61=\"-\",O61=\"-\"),\"-\",VLOOKUP(COUNTIF($M61:$O61,\"A\")-COUNTIF($M61:$O61,\"C\"),基本情報!$R$4:$S$10,2)))","v":""},null,null,null,null,null,"",null,null,null,{"$f":"IF(OR($I61=\"\",COUNTA($W61:$Y61)=0),\"\",IF(AND(W61=\"-\",X61=\"-\",Y61=\"-\"),\"-\",VLOOKUP(COUNTIF($W61:$Y61,\"A\")-COUNTIF($W61:$Y61,\"C\"),基本情報!$R$4:$S$10,2)))","v":""},null,null,null,null,null,"",null,null,null,{"$f":"IF(OR($I61=\"\",COUNTA($AG61:$AI61)=0),\"\",IF(AND(AG61=\"-\",AH61=\"-\",AI61=\"-\"),\"-\",VLOOKUP(COUNTIF($AG61:$AI61,\"A\")-COUNTIF($AG61:$AI61,\"C\"),基本情報!$R$4:$S$10,2)))","v":""}]
[null,null,null,null,11039,null,null,39,{"$f":"IF(VLOOKUP($E62,学年名簿と評価・評定!$E$24:$K$573,5)=\"\",\"\",VLOOKUP($E62,学年名簿と評価・評定!$E$24:$K$573,5))","v":""},{"$f":"IF(VLOOKUP($E62,学年名簿と評価・評定!$E$24:$K$573,6)=\"\",\"\",VLOOKUP($E62,学年名簿と評価・評定!$E$24:$K$573,7))","v":""},null,"",null,null,null,{"$f":"IF(OR($I62=\"\",COUNTA($M62:$O62)=0),\"\",IF(AND(M62=\"-\",N62=\"-\",O62=\"-\"),\"-\",VLOOKUP(COUNTIF($M62:$O62,\"A\")-COUNTIF($M62:$O62,\"C\"),基本情報!$R$4:$S$10,2)))","v":""},null,null,null,null,null,"",null,null,null,{"$f":"IF(OR($I62=\"\",COUNTA($W62:$Y62)=0),\"\",IF(AND(W62=\"-\",X62=\"-\",Y62=\"-\"),\"-\",VLOOKUP(COUNTIF($W62:$Y62,\"A\")-COUNTIF($W62:$Y62,\"C\"),基本情報!$R$4:$S$10,2)))","v":""},null,null,null,null,null,"",null,null,null,{"$f":"IF(OR($I62=\"\",COUNTA($AG62:$AI62)=0),\"\",IF(AND(AG62=\"-\",AH62=\"-\",AI62=\"-\"),\"-\",VLOOKUP(COUNTIF($AG62:$AI62,\"A\")-COUNTIF($AG62:$AI62,\"C\"),基本情報!$R$4:$S$10,2)))","v":""}]
[null,null,null,null,11040,null,null,40,{"$f":"IF(VLOOKUP($E63,学年名簿と評価・評定!$E$24:$K$573,5)=\"\",\"\",VLOOKUP($E63,学年名簿と評価・評定!$E$24:$K$573,5))","v":""},{"$f":"IF(VLOOKUP($E63,学年名簿と評価・評定!$E$24:$K$573,6)=\"\",\"\",VLOOKUP($E63,学年名簿と評価・評定!$E$24:$K$573,7))","v":""},null,"",null,null,null,{"$f":"IF(OR($I63=\"\",COUNTA($M63:$O63)=0),\"\",IF(AND(M63=\"-\",N63=\"-\",O63=\"-\"),\"-\",VLOOKUP(COUNTIF($M63:$O63,\"A\")-COUNTIF($M63:$O63,\"C\"),基本情報!$R$4:$S$10,2)))","v":""},null,null,null,null,null,"",null,null,null,{"$f":"IF(OR($I63=\"\",COUNTA($W63:$Y63)=0),\"\",IF(AND(W63=\"-\",X63=\"-\",Y63=\"-\"),\"-\",VLOOKUP(COUNTIF($W63:$Y63,\"A\")-COUNTIF($W63:$Y63,\"C\"),基本情報!$R$4:$S$10,2)))","v":""},null,null,null,null,null,"",null,null,null,{"$f":"IF(OR($I63=\"\",COUNTA($AG63:$AI63)=0),\"\",IF(AND(AG63=\"-\",AH63=\"-\",AI63=\"-\"),\"-\",VLOOKUP(COUNTIF($AG63:$AI63,\"A\")-COUNTIF($AG63:$AI63,\"C\"),基本情報!$R$4:$S$10,2)))","v":""}]
[null,null,null,null,11041,null,null,41,{"$f":"IF(VLOOKUP($E64,学年名簿と評価・評定!$E$24:$K$573,5)=\"\",\"\",VLOOKUP($E64,学年名簿と評価・評定!$E$24:$K$573,5))","v":""},{"$f":"IF(VLOOKUP($E64,学年名簿と評価・評定!$E$24:$K$573,6)=\"\",\"\",VLOOKUP($E64,学年名簿と評価・評定!$E$24:$K$573,7))","v":""},null,"",null,null,null,{"$f":"IF(OR($I64=\"\",COUNTA($M64:$O64)=0),\"\",IF(AND(M64=\"-\",N64=\"-\",O64=\"-\"),\"-\",VLOOKUP(COUNTIF($M64:$O64,\"A\")-COUNTIF($M64:$O64,\"C\"),基本情報!$R$4:$S$10,2)))","v":""},null,null,null,null,null,"",null,null,null,{"$f":"IF(OR($I64=\"\",COUNTA($W64:$Y64)=0),\"\",IF(AND(W64=\"-\",X64=\"-\",Y64=\"-\"),\"-\",VLOOKUP(COUNTIF($W64:$Y64,\"A\")-COUNTIF($W64:$Y64,\"C\"),基本情報!$R$4:$S$10,2)))","v":""},null,null,null,null,null,"",null,null,null,{"$f":"IF(OR($I64=\"\",COUNTA($AG64:$AI64)=0),\"\",IF(AND(AG64=\"-\",AH64=\"-\",AI64=\"-\"),\"-\",VLOOKUP(COUNTIF($AG64:$AI64,\"A\")-COUNTIF($AG64:$AI64,\"C\"),基本情報!$R$4:$S$10,2)))","v":""}]
[null,null,null,null,11042,null,null,42,{"$f":"IF(VLOOKUP($E65,学年名簿と評価・評定!$E$24:$K$573,5)=\"\",\"\",VLOOKUP($E65,学年名簿と評価・評定!$E$24:$K$573,5))","v":""},{"$f":"IF(VLOOKUP($E65,学年名簿と評価・評定!$E$24:$K$573,6)=\"\",\"\",VLOOKUP($E65,学年名簿と評価・評定!$E$24:$K$573,7))","v":""},null,"",null,null,null,{"$f":"IF(OR($I65=\"\",COUNTA($M65:$O65)=0),\"\",IF(AND(M65=\"-\",N65=\"-\",O65=\"-\"),\"-\",VLOOKUP(COUNTIF($M65:$O65,\"A\")-COUNTIF($M65:$O65,\"C\"),基本情報!$R$4:$S$10,2)))","v":""},null,null,null,null,null,"",null,null,null,{"$f":"IF(OR($I65=\"\",COUNTA($W65:$Y65)=0),\"\",IF(AND(W65=\"-\",X65=\"-\",Y65=\"-\"),\"-\",VLOOKUP(COUNTIF($W65:$Y65,\"A\")-COUNTIF($W65:$Y65,\"C\"),基本情報!$R$4:$S$10,2)))","v":""},null,null,null,null,null,"",null,null,null,{"$f":"IF(OR($I65=\"\",COUNTA($AG65:$AI65)=0),\"\",IF(AND(AG65=\"-\",AH65=\"-\",AI65=\"-\"),\"-\",VLOOKUP(COUNTIF($AG65:$AI65,\"A\")-COUNTIF($AG65:$AI65,\"C\"),基本情報!$R$4:$S$10,2)))","v":""}]
[null,null,null,null,11043,null,null,43,{"$f":"IF(VLOOKUP($E66,学年名簿と評価・評定!$E$24:$K$573,5)=\"\",\"\",VLOOKUP($E66,学年名簿と評価・評定!$E$24:$K$573,5))","v":""},{"$f":"IF(VLOOKUP($E66,学年名簿と評価・評定!$E$24:$K$573,6)=\"\",\"\",VLOOKUP($E66,学年名簿と評価・評定!$E$24:$K$573,7))","v":""},null,"",null,null,null,{"$f":"IF(OR($I66=\"\",COUNTA($M66:$O66)=0),\"\",IF(AND(M66=\"-\",N66=\"-\",O66=\"-\"),\"-\",VLOOKUP(COUNTIF($M66:$O66,\"A\")-COUNTIF($M66:$O66,\"C\"),基本情報!$R$4:$S$10,2)))","v":""},null,null,null,null,null,"",null,null,null,{"$f":"IF(OR($I66=\"\",COUNTA($W66:$Y66)=0),\"\",IF(AND(W66=\"-\",X66=\"-\",Y66=\"-\"),\"-\",VLOOKUP(COUNTIF($W66:$Y66,\"A\")-COUNTIF($W66:$Y66,\"C\"),基本情報!$R$4:$S$10,2)))","v":""},null,null,null,null,null,"",null,null,null,{"$f":"IF(OR($I66=\"\",COUNTA($AG66:$AI66)=0),\"\",IF(AND(AG66=\"-\",AH66=\"-\",AI66=\"-\"),\"-\",VLOOKUP(COUNTIF($AG66:$AI66,\"A\")-COUNTIF($AG66:$AI66,\"C\"),基本情報!$R$4:$S$10,2)))","v":""}]
[null,null,null,null,11044,null,null,44,{"$f":"IF(VLOOKUP($E67,学年名簿と評価・評定!$E$24:$K$573,5)=\"\",\"\",VLOOKUP($E67,学年名簿と評価・評定!$E$24:$K$573,5))","v":""},{"$f":"IF(VLOOKUP($E67,学年名簿と評価・評定!$E$24:$K$573,6)=\"\",\"\",VLOOKUP($E67,学年名簿と評価・評定!$E$24:$K$573,7))","v":""},null,"",null,null,null,{"$f":"IF(OR($I67=\"\",COUNTA($M67:$O67)=0),\"\",IF(AND(M67=\"-\",N67=\"-\",O67=\"-\"),\"-\",VLOOKUP(COUNTIF($M67:$O67,\"A\")-COUNTIF($M67:$O67,\"C\"),基本情報!$R$4:$S$10,2)))","v":""},null,null,null,null,null,"",null,null,null,{"$f":"IF(OR($I67=\"\",COUNTA($W67:$Y67)=0),\"\",IF(AND(W67=\"-\",X67=\"-\",Y67=\"-\"),\"-\",VLOOKUP(COUNTIF($W67:$Y67,\"A\")-COUNTIF($W67:$Y67,\"C\"),基本情報!$R$4:$S$10,2)))","v":""},null,null,null,null,null,"",null,null,null,{"$f":"IF(OR($I67=\"\",COUNTA($AG67:$AI67)=0),\"\",IF(AND(AG67=\"-\",AH67=\"-\",AI67=\"-\"),\"-\",VLOOKUP(COUNTIF($AG67:$AI67,\"A\")-COUNTIF($AG67:$AI67,\"C\"),基本情報!$R$4:$S$10,2)))","v":""}]
[null,null,null,null,11045,null,null,45,{"$f":"IF(VLOOKUP($E68,学年名簿と評価・評定!$E$24:$K$573,5)=\"\",\"\",VLOOKUP($E68,学年名簿と評価・評定!$E$24:$K$573,5))","v":""},{"$f":"IF(VLOOKUP($E68,学年名簿と評価・評定!$E$24:$K$573,6)=\"\",\"\",VLOOKUP($E68,学年名簿と評価・評定!$E$24:$K$573,7))","v":""},null,"",null,null,null,{"$f":"IF(OR($I68=\"\",COUNTA($M68:$O68)=0),\"\",IF(AND(M68=\"-\",N68=\"-\",O68=\"-\"),\"-\",VLOOKUP(COUNTIF($M68:$O68,\"A\")-COUNTIF($M68:$O68,\"C\"),基本情報!$R$4:$S$10,2)))","v":""},null,null,null,null,null,"",null,null,null,{"$f":"IF(OR($I68=\"\",COUNTA($W68:$Y68)=0),\"\",IF(AND(W68=\"-\",X68=\"-\",Y68=\"-\"),\"-\",VLOOKUP(COUNTIF($W68:$Y68,\"A\")-COUNTIF($W68:$Y68,\"C\"),基本情報!$R$4:$S$10,2)))","v":""},null,null,null,null,null,"",null,null,null,{"$f":"IF(OR($I68=\"\",COUNTA($AG68:$AI68)=0),\"\",IF(AND(AG68=\"-\",AH68=\"-\",AI68=\"-\"),\"-\",VLOOKUP(COUNTIF($AG68:$AI68,\"A\")-COUNTIF($AG68:$AI68,\"C\"),基本情報!$R$4:$S$10,2)))","v":""}]
[null,null,null,null,11046,null,null,46,{"$f":"IF(VLOOKUP($E69,学年名簿と評価・評定!$E$24:$K$573,5)=\"\",\"\",VLOOKUP($E69,学年名簿と評価・評定!$E$24:$K$573,5))","v":""},{"$f":"IF(VLOOKUP($E69,学年名簿と評価・評定!$E$24:$K$573,6)=\"\",\"\",VLOOKUP($E69,学年名簿と評価・評定!$E$24:$K$573,7))","v":""},null,"",null,null,null,{"$f":"IF(OR($I69=\"\",COUNTA($M69:$O69)=0),\"\",IF(AND(M69=\"-\",N69=\"-\",O69=\"-\"),\"-\",VLOOKUP(COUNTIF($M69:$O69,\"A\")-COUNTIF($M69:$O69,\"C\"),基本情報!$R$4:$S$10,2)))","v":""},null,null,null,null,null,"",null,null,null,{"$f":"IF(OR($I69=\"\",COUNTA($W69:$Y69)=0),\"\",IF(AND(W69=\"-\",X69=\"-\",Y69=\"-\"),\"-\",VLOOKUP(COUNTIF($W69:$Y69,\"A\")-COUNTIF($W69:$Y69,\"C\"),基本情報!$R$4:$S$10,2)))","v":""},null,null,null,null,null,"",null,null,null,{"$f":"IF(OR($I69=\"\",COUNTA($AG69:$AI69)=0),\"\",IF(AND(AG69=\"-\",AH69=\"-\",AI69=\"-\"),\"-\",VLOOKUP(COUNTIF($AG69:$AI69,\"A\")-COUNTIF($AG69:$AI69,\"C\"),基本情報!$R$4:$S$10,2)))","v":""}]
[null,null,null,null,11047,null,null,47,{"$f":"IF(VLOOKUP($E70,学年名簿と評価・評定!$E$24:$K$573,5)=\"\",\"\",VLOOKUP($E70,学年名簿と評価・評定!$E$24:$K$573,5))","v":""},{"$f":"IF(VLOOKUP($E70,学年名簿と評価・評定!$E$24:$K$573,6)=\"\",\"\",VLOOKUP($E70,学年名簿と評価・評定!$E$24:$K$573,7))","v":""},null,"",null,null,null,{"$f":"IF(OR($I70=\"\",COUNTA($M70:$O70)=0),\"\",IF(AND(M70=\"-\",N70=\"-\",O70=\"-\"),\"-\",VLOOKUP(COUNTIF($M70:$O70,\"A\")-COUNTIF($M70:$O70,\"C\"),基本情報!$R$4:$S$10,2)))","v":""},null,null,null,null,null,"",null,null,null,{"$f":"IF(OR($I70=\"\",COUNTA($W70:$Y70)=0),\"\",IF(AND(W70=\"-\",X70=\"-\",Y70=\"-\"),\"-\",VLOOKUP(COUNTIF($W70:$Y70,\"A\")-COUNTIF($W70:$Y70,\"C\"),基本情報!$R$4:$S$10,2)))","v":""},null,null,null,null,null,"",null,null,null,{"$f":"IF(OR($I70=\"\",COUNTA($AG70:$AI70)=0),\"\",IF(AND(AG70=\"-\",AH70=\"-\",AI70=\"-\"),\"-\",VLOOKUP(COUNTIF($AG70:$AI70,\"A\")-COUNTIF($AG70:$AI70,\"C\"),基本情報!$R$4:$S$10,2)))","v":""}]
[null,null,null,null,11048,null,null,48,{"$f":"IF(VLOOKUP($E71,学年名簿と評価・評定!$E$24:$K$573,5)=\"\",\"\",VLOOKUP($E71,学年名簿と評価・評定!$E$24:$K$573,5))","v":""},{"$f":"IF(VLOOKUP($E71,学年名簿と評価・評定!$E$24:$K$573,6)=\"\",\"\",VLOOKUP($E71,学年名簿と評価・評定!$E$24:$K$573,7))","v":""},null,"",null,null,null,{"$f":"IF(OR($I71=\"\",COUNTA($M71:$O71)=0),\"\",IF(AND(M71=\"-\",N71=\"-\",O71=\"-\"),\"-\",VLOOKUP(COUNTIF($M71:$O71,\"A\")-COUNTIF($M71:$O71,\"C\"),基本情報!$R$4:$S$10,2)))","v":""},null,null,null,null,null,"",null,null,null,{"$f":"IF(OR($I71=\"\",COUNTA($W71:$Y71)=0),\"\",IF(AND(W71=\"-\",X71=\"-\",Y71=\"-\"),\"-\",VLOOKUP(COUNTIF($W71:$Y71,\"A\")-COUNTIF($W71:$Y71,\"C\"),基本情報!$R$4:$S$10,2)))","v":""},null,null,null,null,null,"",null,null,null,{"$f":"IF(OR($I71=\"\",COUNTA($AG71:$AI71)=0),\"\",IF(AND(AG71=\"-\",AH71=\"-\",AI71=\"-\"),\"-\",VLOOKUP(COUNTIF($AG71:$AI71,\"A\")-COUNTIF($AG71:$AI71,\"C\"),基本情報!$R$4:$S$10,2)))","v":""}]
[null,null,null,null,11049,null,null,49,{"$f":"IF(VLOOKUP($E72,学年名簿と評価・評定!$E$24:$K$573,5)=\"\",\"\",VLOOKUP($E72,学年名簿と評価・評定!$E$24:$K$573,5))","v":""},{"$f":"IF(VLOOKUP($E72,学年名簿と評価・評定!$E$24:$K$573,6)=\"\",\"\",VLOOKUP($E72,学年名簿と評価・評定!$E$24:$K$573,7))","v":""},null,"",null,null,null,{"$f":"IF(OR($I72=\"\",COUNTA($M72:$O72)=0),\"\",IF(AND(M72=\"-\",N72=\"-\",O72=\"-\"),\"-\",VLOOKUP(COUNTIF($M72:$O72,\"A\")-COUNTIF($M72:$O72,\"C\"),基本情報!$R$4:$S$10,2)))","v":""},null,null,null,null,null,"",null,null,null,{"$f":"IF(OR($I72=\"\",COUNTA($W72:$Y72)=0),\"\",IF(AND(W72=\"-\",X72=\"-\",Y72=\"-\"),\"-\",VLOOKUP(COUNTIF($W72:$Y72,\"A\")-COUNTIF($W72:$Y72,\"C\"),基本情報!$R$4:$S$10,2)))","v":""},null,null,null,null,null,"",null,null,null,{"$f":"IF(OR($I72=\"\",COUNTA($AG72:$AI72)=0),\"\",IF(AND(AG72=\"-\",AH72=\"-\",AI72=\"-\"),\"-\",VLOOKUP(COUNTIF($AG72:$AI72,\"A\")-COUNTIF($AG72:$AI72,\"C\"),基本情報!$R$4:$S$10,2)))","v":""}]
[null,null,null,null,11050,null,null,50,{"$f":"IF(VLOOKUP($E73,学年名簿と評価・評定!$E$24:$K$573,5)=\"\",\"\",VLOOKUP($E73,学年名簿と評価・評定!$E$24:$K$573,5))","v":""},{"$f":"IF(VLOOKUP($E73,学年名簿と評価・評定!$E$24:$K$573,6)=\"\",\"\",VLOOKUP($E73,学年名簿と評価・評定!$E$24:$K$573,7))","v":""},null,"",null,null,null,{"$f":"IF(OR($I73=\"\",COUNTA($M73:$O73)=0),\"\",IF(AND(M73=\"-\",N73=\"-\",O73=\"-\"),\"-\",VLOOKUP(COUNTIF($M73:$O73,\"A\")-COUNTIF($M73:$O73,\"C\"),基本情報!$R$4:$S$10,2)))","v":""},null,null,null,null,null,"",null,null,null,{"$f":"IF(OR($I73=\"\",COUNTA($W73:$Y73)=0),\"\",IF(AND(W73=\"-\",X73=\"-\",Y73=\"-\"),\"-\",VLOOKUP(COUNTIF($W73:$Y73,\"A\")-COUNTIF($W73:$Y73,\"C\"),基本情報!$R$4:$S$10,2)))","v":""},null,null,null,null,null,"",null,null,null,{"$f":"IF(OR($I73=\"\",COUNTA($AG73:$AI73)=0),\"\",IF(AND(AG73=\"-\",AH73=\"-\",AI73=\"-\"),\"-\",VLOOKUP(COUNTIF($AG73:$AI73,\"A\")-COUNTIF($AG73:$AI73,\"C\"),基本情報!$R$4:$S$10,2)))","v":""}]

{"sheet":"11組","index":12,"n_rows":73,"n_cols":40,"rows_kept":73,"cut":false,"hidden":false,"merged":[[2,34,2,36],[2,37,2,39],[21,11,21,15],[21,21,21,25],[21,31,21,35],[2,11,2,13],[2,14,2,16],[2,17,2,19],[2,21,2,23],[2,24,2,26],[2,27,2,29],[2,31,2,33]]}
[]
[]
[null,null,null,null,null,null,null,null,null,null,null,"校長",null,null,"教頭",null,null,"教務",null,null,null,"校長",null,null,"教頭",null,null,"教務",null,null,null,"校長",null,null,"教頭",null,null,"教務"]
[]
[]
[]
[]
[null,null,null,null,null,null,null,null,{"$f":"基本情報!E4","v":1},null,null,null,1,2,3,4,5,"-",null,"平均",null,null,1,2,3,4,5,"-",null,"平均",null,null,1,2,3,4,5,"-",null,"平均"]
[null,null,null,null,null,null,null,null,11,null,null,1,{"$f":"学年名簿と評価・評定!M9","v":0},{"$f":"学年名簿と評価・評定!N9","v":0},{"$f":"学年名簿と評価・評定!O9","v":0},{"$f":"学年名簿と評価・評定!P9","v":0},{"$f":"学年名簿と評価・評定!Q9","v":1},{"$f":"学年名簿と評価・評定!R9","v":0},{"$f":"SUM(M9:R9)","v":1},{"$f":"学年名簿と評価・評定!T9","v":5},null,1,{"$f":"学年名簿と評価・評定!W9","v":1},{"$f":"学年名簿と評価・評定!X9","v":0},{"$f":"学年名簿と評価・評定!Y9","v":0},{"$f":"学年名簿と評価・評定!Z9","v":0},{"$f":"学年名簿と評価・評定!AA9","v":0},{"$f":"学年名簿と評価・評定!AB9","v":0},{"$f":"学年名簿と評価・評定!AC9","v":1},{"$f":"学年名簿と評価・評定!AD9","v":1},null,1,{"$f":"学年名簿と評価・評定!AG9","v":0},{"$f":"学年名簿と評価・評定!AH9","v":0},{"$f":"学年名簿と評価・評定!AI9","v":1},{"$f":"学年名簿と評価・評定!AJ9","v":0},{"$f":"学年名簿と評価・評定!AK9","v":0},{"$f":"学年名簿と評価・評定!AL9","v":0},{"$f":"学年名簿と評価・評定!AM9","v":1},{"$f":"学年名簿と評価・評定!AN9","v":3}]
[null,null,null,null,null,null,null,null,null,null,null,2,{"$f":"学年名簿と評価・評定!M10","v":0},{"$f":"学年名簿と評価・評定!N10","v":0},{"$f":"学年名簿と評価・評定!O10","v":0},{"$f":"学年名簿と評価・評定!P10","v":0},{"$f":"学年名簿と評価・評定!Q10","v":0},{"$f":"学年名簿と評価・評定!R10","v":0},{"$f":"SUM(M10:R10)","v":0},{"$f":"学年名簿と評価・評定!T10","v":""},null,2,{"$f":"学年名簿と評価・評定!W10","v":0},{"$f":"学年名簿と評価・評定!X10","v":0},{"$f":"学年名簿と評価・評定!Y10","v":0},{"$f":"学年名簿と評価・評定!Z10","v":0},{"$f":"学年名簿と評価・評定!AA10","v":0},{"$f":"学年名簿と評価・評定!AB10","v":0},{"$f":"学年名簿と評価・評定!AC10","v":0},{"$f":"学年名簿と評価・評定!AD10","v":""},null,2,{"$f":"学年名簿と評価・評定!AG10","v":0},{"$f":"学年名簿と評価・評定!AH10","v":0},{"$f":"学年名簿と評価・評定!AI10","v":0},{"$f":"学年名簿と評価・評定!AJ10","v":0},{"$f":"学年名簿と評価・評定!AK10","v":0},{"$f":"学年名簿と評価・評定!AL10","v":0},{"$f":"学年名簿と評価・評定!AM10","v":0},{"$f":"学年名簿と評価・評定!AN10","v":""}]
[null,null,null,null,null,null,null,null,null,null,null,3,{"$f":"学年名簿と評価・評定!M11","v":0},{"$f":"学年名簿と評価・評定!N11","v":0},{"$f":"学年名簿と評価・評定!O11","v":0},{"$f":"学年名簿と評価・評定!P11","v":0},{"$f":"学年名簿と評価・評定!Q11","v":0},{"$f":"学年名簿と評価・評定!R11","v":0},0,{"$f":"学年名簿と評価・評定!T11","v":""},null,3,{"$f":"学年名簿と評価・評定!W11","v":0},{"$f":"学年名簿と評価・評定!X11","v":0},{"$f":"学年名簿と評価・評定!Y11","v":0},{"$f":"学年名簿と評価・評定!Z11","v":0},{"$f":"学年名簿と評価・評定!AA11","v":0},{"$f":"学年名簿と評価・評定!AB11","v":0},{"$f":"学年名簿と評価・評定!AC11","v":0},{"$f":"学年名簿と評価・評定!AD11","v":""},null,3,{"$f":"学年名簿と評価・評定!AG11","v":0},{"$f":"学年名簿と評価・評定!AH11","v":0},{"$f":"学年名簿と評価・評定!AI11","v":0},{"$f":"学年名簿と評価・評定!AJ11","v":0},{"$f":"学年名簿と評価・評定!AK11","v":0},{"$f":"学年名簿と評価・評定!AL11","v":0},{"$f":"学年名簿と評価・評定!AM11","v":0},{"$f":"学年名簿と評価・評定!AN11","v":""}]
[null,null,null,null,null,null,null,null,null,null,null,4,{"$f":"学年名簿と評価・評定!M12","v":0},{"$f":"学年名簿と評価・評定!N12","v":0},{"$f":"学年名簿と評価・評定!O12","v":0},{"$f":"学年名簿と評価・評定!P12","v":0},{"$f":"学年名簿と評価・評定!Q12","v":0},{"$f":"学年名簿と評価・評定!R12","v":0},0,{"$f":"学年名簿と評価・評定!T12","v":""},null,4,{"$f":"学年名簿と評価・評定!W12","v":0},{"$f":"学年名簿と評価・評定!X12","v":0},{"$f":"学年名簿と評価・評定!Y12","v":0},{"$f":"学年名簿と評価・評定!Z12","v":0},{"$f":"学年名簿と評価・評定!AA12","v":0},{"$f":"学年名簿と評価・評定!AB12","v":0},{"$f":"学年名簿と評価・評定!AC12","v":0},{"$f":"学年名簿と評価・評定!AD12","v":""},null,4,{"$f":"学年名簿と評価・評定!AG12","v":0},{"$f":"学年名簿と評価・評定!AH12","v":0},{"$f":"学年名簿と評価・評定!AI12","v":0},{"$f":"学年名簿と評価・評定!AJ12","v":0},{"$f":"学年名簿と評価・評定!AK12","v":0},{"$f":"学年名簿と評価・評定!AL12","v":0},{"$f":"学年名簿と評価・評定!AM12","v":0},{"$f":"学年名簿と評価・評定!AN12","v":""}]
[null,null,null,null,null,null,null,null,null,null,null,5,{"$f":"学年名簿と評価・評定!M13","v":0},{"$f":"学年名簿と評価・評定!N13","v":0},{"$f":"学年名簿と評価・評定!O13","v":0},{"$f":"学年名簿と評価・評定!P13","v":0},{"$f":"学年名簿と評価・評定!Q13","v":0},{"$f":"学年名簿と評価・評定!R13","v":0},0,{"$f":"学年名簿と評価・評定!T13","v":""},null,5,{"$f":"学年名簿と評価・評定!W13","v":0},{"$f":"学年名簿と評価・評定!X13","v":0},{"$f":"学年名簿と評価・評定!Y13","v":0},{"$f":"学年名簿と評価・評定!Z13","v":0},{"$f":"学年名簿と評価・評定!AA13","v":0},{"$f":"学年名簿と評価・評定!AB13","v":0},{"$f":"学年名簿と評価・評定!AC13","v":0},{"$f":"学年名簿と評価・評定!AD13","v":""},null,5,{"$f":"学年名簿と評価・評定!AG13","v":0},{"$f":"学年名簿と評価・評定!AH13","v":0},{"$f":"学年名簿と評価・評定!AI13","v":0},{"$f":"学年名簿と評価・評定!AJ13","v":0},{"$f":"学年名簿と評価・評定!AK13","v":0},{"$f":"学年名簿と評価・評定!AL13","v":0},{"$f":"学年名簿と評価・評定!AM13","v":0},{"$f":"学年名簿と評価・評定!AN13","v":""}]
[null,null,null,null,null,null,null,null,null,null,null,6,{"$f":"学年名簿と評価・評定!M14","v":0},{"$f":"学年名簿と評価・評定!N14","v":0},{"$f":"学年名簿と評価・評定!O14","v":0},{"$f":"学年名簿と評価・評定!P14","v":0},{"$f":"学年名簿と評価・評定!Q14","v":0},{"$f":"学年名簿と評価・評定!R14","v":0},0,{"$f":"学年名簿と評価・評定!T14","v":""},null,6,{"$f":"学年名簿と評価・評定!W14","v":0},{"$f":"学年名簿と評価・評定!X14","v":0},{"$f":"学年名簿と評価・評定!Y14","v":0},{"$f":"学年名簿と評価・評定!Z14","v":0},{"$f":"学年名簿と評価・評定!AA14","v":0},{"$f":"学年名簿と評価・評定!AB14","v":0},{"$f":"学年名簿と評価・評定!AC14","v":0},{"$f":"学年名簿と評価・評定!AD14","v":""},null,6,{"$f":"学年名簿と評価・評定!AG14","v":0},{"$f":"学年名簿と評価・評定!AH14","v":0},{"$f":"学年名簿と評価・評定!AI14","v":0},{"$f":"学年名簿と評価・評定!AJ14","v":0},{"$f":"学年名簿と評価・評定!AK14","v":0},{"$f":"学年名簿と評価・評定!AL14","v":0},{"$f":"学年名簿と評価・評定!AM14","v":0},{"$f":"学年名簿と評価・評定!AN14","v":""}]
[null,null,null,null,null,null,null,null,null,null,null,7,{"$f":"学年名簿と評価・評定!M15","v":0},{"$f":"学年名簿と評価・評定!N15","v":0},{"$f":"学年名簿と評価・評定!O15","v":0},{"$f":"学年名簿と評価・評定!P15","v":0},{"$f":"学年名簿と評価・評定!Q15","v":0},{"$f":"学年名簿と評価・評定!R15","v":0},0,{"$f":"学年名簿と評価・評定!T15","v":""},null,7,{"$f":"学年名簿と評価・評定!W15","v":0},{"$f":"学年名簿と評価・評定!X15","v":0},{"$f":"学年名簿と評価・評定!Y15","v":0},{"$f":"学年名簿と評価・評定!Z15","v":0},{"$f":"学年名簿と評価・評定!AA15","v":0},{"$f":"学年名簿と評価・評定!AB15","v":0},{"$f":"学年名簿と評価・評定!AC15","v":0},{"$f":"学年名簿と評価・評定!AD15","v":""},null,7,{"$f":"学年名簿と評価・評定!AG15","v":0},{"$f":"学年名簿と評価・評定!AH15","v":0},{"$f":"学年名簿と評価・評定!AI15","v":0},{"$f":"学年名簿と評価・評定!AJ15","v":0},{"$f":"学年名簿と評価・評定!AK15","v":0},{"$f":"学年名簿と評価・評定!AL15","v":0},{"$f":"学年名簿と評価・評定!AM15","v":0},{"$f":"学年名簿と評価・評定!AN15","v":""}]
[null,null,null,null,null,null,null,null,null,null,null,8,{"$f":"学年名簿と評価・評定!M16","v":0},{"$f":"学年名簿と評価・評定!N16","v":0},{"$f":"学年名簿と評価・評定!O16","v":0},{"$f":"学年名簿と評価・評定!P16","v":0},{"$f":"学年名簿と評価・評定!Q16","v":0},{"$f":"学年名簿と評価・評定!R16","v":0},0,{"$f":"学年名簿と評価・評定!T16","v":""},null,8,{"$f":"学年名簿と評価・評定!W16","v":0},{"$f":"学年名簿と評価・評定!X16","v":0},{"$f":"学年名簿と評価・評定!Y16","v":0},{"$f":"学年名簿と評価・評定!Z16","v":0},{"$f":"学年名簿と評価・評定!AA16","v":0},{"$f":"学年名簿と評価・評定!AB16","v":0},{"$f":"学年名簿と評価・評定!AC16","v":0},{"$f":"学年名簿と評価・評定!AD16","v":""},null,8,{"$f":"学年名簿と評価・評定!AG16","v":0},{"$f":"学年名簿と評価・評定!AH16","v":0},{"$f":"学年名簿と評価・評定!AI16","v":0},{"$f":"学年名簿と評価・評定!AJ16","v":0},{"$f":"学年名簿と評価・評定!AK16","v":0},{"$f":"学年名簿と評価・評定!AL16","v":0},{"$f":"学年名簿と評価・評定!AM16","v":0},{"$f":"学年名簿と評価・評定!AN16","v":""}]
[null,null,null,null,null,null,null,null,null,null,null,9,{"$f":"学年名簿と評価・評定!M17","v":0},{"$f":"学年名簿と評価・評定!N17","v":0},{"$f":"学年名簿と評価・評定!O17","v":0},{"$f":"学年名簿と評価・評定!P17","v":0},{"$f":"学年名簿と評価・評定!Q17","v":0},{"$f":"学年名簿と評価・評定!R17","v":0},0,{"$f":"学年名簿と評価・評定!T17","v":""},null,9,{"$f":"学年名簿と評価・評定!W17","v":0},{"$f":"学年名簿と評価・評定!X17","v":0},{"$f":"学年名簿と評価・評定!Y17","v":0},{"$f":"学年名簿と評価・評定!Z17","v":0},{"$f":"学年名簿と評価・評定!AA17","v":0},{"$f":"学年名簿と評価・評定!AB17","v":0},{"$f":"学年名簿と評価・評定!AC17","v":0},{"$f":"学年名簿と評価・評定!AD17","v":""},null,9,{"$f":"学年名簿と評価・評定!AG17","v":0},{"$f":"学年名簿と評価・評定!AH17","v":0},{"$f":"学年名簿と評価・評定!AI17","v":0},{"$f":"学年名簿と評価・評定!AJ17","v":0},{"$f":"学年名簿と評価・評定!AK17","v":0},{"$f":"学年名簿と評価・評定!AL17","v":0},{"$f":"学年名簿と評価・評定!AM17","v":0},{"$f":"学年名簿と評価・評定!AN17","v":""}]
[null,null,null,null,null,null,null,null,null,null,null,10,{"$f":"学年名簿と評価・評定!M18","v":0},{"$f":"学年名簿と評価・評定!N18","v":0},{"$f":"学年名簿と評価・評定!O18","v":0},{"$f":"学年名簿と評価・評定!P18","v":0},{"$f":"学年名簿と評価・評定!Q18","v":0},{"$f":"学年名簿と評価・評定!R18","v":0},0,{"$f":"学年名簿と評価・評定!T18","v":""},null,10,{"$f":"学年名簿と評価・評定!W18","v":0},{"$f":"学年名簿と評価・評定!X18","v":0},{"$f":"学年名簿と評価・評定!Y18","v":0},{"$f":"学年名簿と評価・評定!Z18","v":0},{"$f":"学年名簿と評価・評定!AA18","v":0},{"$f":"学年名簿と評価・評定!AB18","v":0},{"$f":"学年名簿と評価・評定!AC18","v":0},{"$f":"学年名簿と評価・評定!AD18","v":""},null,10,{"$f":"学年名簿と評価・評定!AG18","v":0},{"$f":"学年名簿と評価・評定!AH18","v":0},{"$f":"学年名簿と評価・評定!AI18","v":0},{"$f":"学年名簿と評価・評定!AJ18","v":0},{"$f":"学年名簿と評価・評定!AK18","v":0},{"$f":"学年名簿と評価・評定!AL18","v":0},{"$f":"学年名簿と評価・評定!AM18","v":0},{"$f":"学年名簿と評価・評定!AN18","v":""}]
[null,null,null,null,null,null,null,null,null,null,null,11,{"$f":"学年名簿と評価・評定!M19","v":0},{"$f":"学年名簿と評価・評定!N19","v":0},{"$f":"学年名簿と評価・評定!O19","v":0},{"$f":"学年名簿と評価・評定!P19","v":0},{"$f":"学年名簿と評価・評定!Q19","v":0},{"$f":"学年名簿と評価・評定!R19","v":0},0,{"$f":"学年名簿と評価・評定!T19","v":""},null,11,{"$f":"学年名簿と評価・評定!W19","v":0},{"$f":"学年名簿と評価・評定!X19","v":0},{"$f":"学年名簿と評価・評定!Y19","v":0},{"$f":"学年名簿と評価・評定!Z19","v":0},{"$f":"学年名簿と評価・評定!AA19","v":0},{"$f":"学年名簿と評価・評定!AB19","v":0},{"$f":"学年名簿と評価・評定!AC19","v":0},{"$f":"学年名簿と評価・評定!AD19","v":""},null,11,{"$f":"学年名簿と評価・評定!AG19","v":0},{"$f":"学年名簿と評価・評定!AH19","v":0},{"$f":"学年名簿と評価・評定!AI19","v":0},{"$f":"学年名簿と評価・評定!AJ19","v":0},{"$f":"学年名簿と評価・評定!AK19","v":0},{"$f":"学年名簿と評価・評定!AL19","v":0},{"$f":"学年名簿と評価・評定!AM19","v":0},{"$f":"学年名簿と評価・評定!AN19","v":""}]
[null,null,null,null,null,null,null,null,{"$f":"基本情報!E6","v":"国語"},null,null,"計",{"$f":"学年名簿と評価・評定!M20","v":0},{"$f":"学年名簿と評価・評定!N20","v":0},{"$f":"学年名簿と評価・評定!O20","v":0},{"$f":"学年名簿と評価・評定!P20","v":0},{"$f":"学年名簿と評価・評定!Q20","v":1},{"$f":"学年名簿と評価・評定!R20","v":0},1,{"$f":"学年名簿と評価・評定!T20","v":5},null,"計",{"$f":"学年名簿と評価・評定!W20","v":1},{"$f":"学年名簿と評価・評定!X20","v":0},{"$f":"学年名簿と評価・評定!Y20","v":0},{"$f":"学年名簿と評価・評定!Z20","v":0},{"$f":"学年名簿と評価・評定!AA20","v":0},{"$f":"学年名簿と評価・評定!AB20","v":0},{"$f":"学年名簿と評価・評定!AC20","v":1},{"$f":"学年名簿と評価・評定!AD20","v":1},null,"計",{"$f":"学年名簿と評価・評定!AG20","v":0},{"$f":"学年名簿と評価・評定!AH20","v":0},{"$f":"学年名簿と評価・評定!AI20","v":1},{"$f":"学年名簿と評価・評定!AJ20","v":0},{"$f":"学年名簿と評価・評定!AK20","v":0},{"$f":"学年名簿と評価・評定!AL20","v":0},{"$f":"学年名簿と評価・評定!AM20","v":1},{"$f":"学年名簿と評価・評定!AN20","v":3}]
[]
[null,null,null,null,null,null,null,null,null,null,null,"前　　期",null,null,null,null,null,null,null,null,null,"後　　期",null,null,null,null,null,null,null,null,null,"学　　年"]
[null,null,null,null,null,null,null,"番","氏　　名","性",null,"評定",{"$f":"基本情報!P14","v":"知技"},{"$f":"基本情報!P15","v":"思判"},{"$f":"基本情報!P16","v":"学び"},"評定","CHECK",null,null,null,null,"評定",{"$f":"M23","v":"知技"},{"$f":"N23","v":"思判"},"学び","評定","CHECK",null,null,null,null,"評定","知技","思判","学び","評定","CHECK"]
[null,null,null,null,{"$f":"$I$8*10000+$I$9*100+$H24","v":11101},null,null,1,{"$f":"IF(VLOOKUP($E24,学年名簿と評価・評定!$E$24:$K$573,5)=\"\",\"\",VLOOKUP($E24,学年名簿と評価・評定!$E$24:$K$573,5))","v":""},{"$f":"IF(VLOOKUP($E24,学年名簿と評価・評定!$E$24:$K$573,6)=\"\",\"\",VLOOKUP($E24,学年名簿と評価・評定!$E$24:$K$573,7))","v":""},null,{"$f":"P24","v":""},null,null,null,{"$f":"IF(OR($I24=\"\",COUNTA($M24:$O24)=0),\"\",IF(AND(M24=\"-\",N24=\"-\",O24=\"-\"),\"-\",VLOOKUP(COUNTIF($M24:$O24,\"A\")-COUNTIF($M24:$O24,\"C\"),基本情報!$R$4:$S$10,2)))","v":""},null,null,null,null,null,{"$f":"Z24","v":""},null,null,null,{"$f":"IF(OR($I24=\"\",COUNTA($W24:$Y24)=0),\"\",IF(AND(W24=\"-\",X24=\"-\",Y24=\"-\"),\"-\",VLOOKUP(COUNTIF($W24:$Y24,\"A\")-COUNTIF($W24:$Y24,\"C\"),基本情報!$R$4:$S$10,2)))","v":""},null,null,null,null,null,{"$f":"AJ24","v":""},null,null,null,{"$f":"IF(OR($I24=\"\",COUNTA($AG24:$AI24)=0),\"\",IF(AND(AG24=\"-\",AH24=\"-\",AI24=\"-\"),\"-\",VLOOKUP(COUNTIF($AG24:$AI24,\"A\")-COUNTIF($AG24:$AI24,\"C\"),基本情報!$R$4:$S$10,2)))","v":""}]
[null,null,null,null,11102,null,null,2,{"$f":"IF(VLOOKUP($E25,学年名簿と評価・評定!$E$24:$K$573,5)=\"\",\"\",VLOOKUP($E25,学年名簿と評価・評定!$E$24:$K$573,5))","v":""},{"$f":"IF(VLOOKUP($E25,学年名簿と評価・評定!$E$24:$K$573,6)=\"\",\"\",VLOOKUP($E25,学年名簿と評価・評定!$E$24:$K$573,7))","v":""},null,{"$f":"P25","v":""},null,null,null,{"$f":"IF(OR($I25=\"\",COUNTA($M25:$O25)=0),\"\",IF(AND(M25=\"-\",N25=\"-\",O25=\"-\"),\"-\",VLOOKUP(COUNTIF($M25:$O25,\"A\")-COUNTIF($M25:$O25,\"C\"),基本情報!$R$4:$S$10,2)))","v":""},null,null,null,null,null,{"$f":"Z25","v":""},null,null,null,{"$f":"IF(OR($I25=\"\",COUNTA($W25:$Y25)=0),\"\",IF(AND(W25=\"-\",X25=\"-\",Y25=\"-\"),\"-\",VLOOKUP(COUNTIF($W25:$Y25,\"A\")-COUNTIF($W25:$Y25,\"C\"),基本情報!$R$4:$S$10,2)))","v":""},null,null,null,null,null,{"$f":"AJ25","v":""},null,null,null,{"$f":"IF(OR($I25=\"\",COUNTA($AG25:$AI25)=0),\"\",IF(AND(AG25=\"-\",AH25=\"-\",AI25=\"-\"),\"-\",VLOOKUP(COUNTIF($AG25:$AI25,\"A\")-COUNTIF($AG25:$AI25,\"C\"),基本情報!$R$4:$S$10,2)))","v":""}]
[null,null,null,null,11103,null,null,3,{"$f":"IF(VLOOKUP($E26,学年名簿と評価・評定!$E$24:$K$573,5)=\"\",\"\",VLOOKUP($E26,学年名簿と評価・評定!$E$24:$K$573,5))","v":""},{"$f":"IF(VLOOKUP($E26,学年名簿と評価・評定!$E$24:$K$573,6)=\"\",\"\",VLOOKUP($E26,学年名簿と評価・評定!$E$24:$K$573,7))","v":""},null,"",null,null,null,{"$f":"IF(OR($I26=\"\",COUNTA($M26:$O26)=0),\"\",IF(AND(M26=\"-\",N26=\"-\",O26=\"-\"),\"-\",VLOOKUP(COUNTIF($M26:$O26,\"A\")-COUNTIF($M26:$O26,\"C\"),基本情報!$R$4:$S$10,2)))","v":""},null,null,null,null,null,{"$f":"Z26","v":""},null,null,null,{"$f":"IF(OR($I26=\"\",COUNTA($W26:$Y26)=0),\"\",IF(AND(W26=\"-\",X26=\"-\",Y26=\"-\"),\"-\",VLOOKUP(COUNTIF($W26:$Y26,\"A\")-COUNTIF($W26:$Y26,\"C\"),基本情報!$R$4:$S$10,2)))","v":""},null,null,null,null,null,"",null,null,null,{"$f":"IF(OR($I26=\"\",COUNTA($AG26:$AI26)=0),\"\",IF(AND(AG26=\"-\",AH26=\"-\",AI26=\"-\"),\"-\",VLOOKUP(COUNTIF($AG26:$AI26,\"A\")-COUNTIF($AG26:$AI26,\"C\"),基本情報!$R$4:$S$10,2)))","v":""}]
[null,null,null,null,11104,null,null,4,{"$f":"IF(VLOOKUP($E27,学年名簿と評価・評定!$E$24:$K$573,5)=\"\",\"\",VLOOKUP($E27,学年名簿と評価・評定!$E$24:$K$573,5))","v":""},{"$f":"IF(VLOOKUP($E27,学年名簿と評価・評定!$E$24:$K$573,6)=\"\",\"\",VLOOKUP($E27,学年名簿と評価・評定!$E$24:$K$573,7))","v":""},null,"",null,null,null,{"$f":"IF(OR($I27=\"\",COUNTA($M27:$O27)=0),\"\",IF(AND(M27=\"-\",N27=\"-\",O27=\"-\"),\"-\",VLOOKUP(COUNTIF($M27:$O27,\"A\")-COUNTIF($M27:$O27,\"C\"),基本情報!$R$4:$S$10,2)))","v":""},null,null,null,null,null,"",null,null,null,{"$f":"IF(OR($I27=\"\",COUNTA($W27:$Y27)=0),\"\",IF(AND(W27=\"-\",X27=\"-\",Y27=\"-\"),\"-\",VLOOKUP(COUNTIF($W27:$Y27,\"A\")-COUNTIF($W27:$Y27,\"C\"),基本情報!$R$4:$S$10,2)))","v":""},null,null,null,null,null,"",null,null,null,{"$f":"IF(OR($I27=\"\",COUNTA($AG27:$AI27)=0),\"\",IF(AND(AG27=\"-\",AH27=\"-\",AI27=\"-\"),\"-\",VLOOKUP(COUNTIF($AG27:$AI27,\"A\")-COUNTIF($AG27:$AI27,\"C\"),基本情報!$R$4:$S$10,2)))","v":""}]
[null,null,null,null,11105,null,null,5,{"$f":"IF(VLOOKUP($E28,学年名簿と評価・評定!$E$24:$K$573,5)=\"\",\"\",VLOOKUP($E28,学年名簿と評価・評定!$E$24:$K$573,5))","v":""},{"$f":"IF(VLOOKUP($E28,学年名簿と評価・評定!$E$24:$K$573,6)=\"\",\"\",VLOOKUP($E28,学年名簿と評価・評定!$E$24:$K$573,7))","v":""},null,"",null,null,null,{"$f":"IF(OR($I28=\"\",COUNTA($M28:$O28)=0),\"\",IF(AND(M28=\"-\",N28=\"-\",O28=\"-\"),\"-\",VLOOKUP(COUNTIF($M28:$O28,\"A\")-COUNTIF($M28:$O28,\"C\"),基本情報!$R$4:$S$10,2)))","v":""},null,null,null,null,null,"",null,null,null,{"$f":"IF(OR($I28=\"\",COUNTA($W28:$Y28)=0),\"\",IF(AND(W28=\"-\",X28=\"-\",Y28=\"-\"),\"-\",VLOOKUP(COUNTIF($W28:$Y28,\"A\")-COUNTIF($W28:$Y28,\"C\"),基本情報!$R$4:$S$10,2)))","v":""},null,null,null,null,null,"",null,null,null,{"$f":"IF(OR($I28=\"\",COUNTA($AG28:$AI28)=0),\"\",IF(AND(AG28=\"-\",AH28=\"-\",AI28=\"-\"),\"-\",VLOOKUP(COUNTIF($AG28:$AI28,\"A\")-COUNTIF($AG28:$AI28,\"C\"),基本情報!$R$4:$S$10,2)))","v":""}]
[null,null,null,null,11106,null,null,6,{"$f":"IF(VLOOKUP($E29,学年名簿と評価・評定!$E$24:$K$573,5)=\"\",\"\",VLOOKUP($E29,学年名簿と評価・評定!$E$24:$K$573,5))","v":""},{"$f":"IF(VLOOKUP($E29,学年名簿と評価・評定!$E$24:$K$573,6)=\"\",\"\",VLOOKUP($E29,学年名簿と評価・評定!$E$24:$K$573,7))","v":""},null,"",null,null,null,{"$f":"IF(OR($I29=\"\",COUNTA($M29:$O29)=0),\"\",IF(AND(M29=\"-\",N29=\"-\",O29=\"-\"),\"-\",VLOOKUP(COUNTIF($M29:$O29,\"A\")-COUNTIF($M29:$O29,\"C\"),基本情報!$R$4:$S$10,2)))","v":""},null,null,null,null,null,"",null,null,null,{"$f":"IF(OR($I29=\"\",COUNTA($W29:$Y29)=0),\"\",IF(AND(W29=\"-\",X29=\"-\",Y29=\"-\"),\"-\",VLOOKUP(COUNTIF($W29:$Y29,\"A\")-COUNTIF($W29:$Y29,\"C\"),基本情報!$R$4:$S$10,2)))","v":""},null,null,null,null,null,"",null,null,null,{"$f":"IF(OR($I29=\"\",COUNTA($AG29:$AI29)=0),\"\",IF(AND(AG29=\"-\",AH29=\"-\",AI29=\"-\"),\"-\",VLOOKUP(COUNTIF($AG29:$AI29,\"A\")-COUNTIF($AG29:$AI29,\"C\"),基本情報!$R$4:$S$10,2)))","v":""}]
[null,null,null,null,11107,null,null,7,{"$f":"IF(VLOOKUP($E30,学年名簿と評価・評定!$E$24:$K$573,5)=\"\",\"\",VLOOKUP($E30,学年名簿と評価・評定!$E$24:$K$573,5))","v":""},{"$f":"IF(VLOOKUP($E30,学年名簿と評価・評定!$E$24:$K$573,6)=\"\",\"\",VLOOKUP($E30,学年名簿と評価・評定!$E$24:$K$573,7))","v":""},null,"",null,null,null,{"$f":"IF(OR($I30=\"\",COUNTA($M30:$O30)=0),\"\",IF(AND(M30=\"-\",N30=\"-\",O30=\"-\"),\"-\",VLOOKUP(COUNTIF($M30:$O30,\"A\")-COUNTIF($M30:$O30,\"C\"),基本情報!$R$4:$S$10,2)))","v":""},null,null,null,null,null,"",null,null,null,{"$f":"IF(OR($I30=\"\",COUNTA($W30:$Y30)=0),\"\",IF(AND(W30=\"-\",X30=\"-\",Y30=\"-\"),\"-\",VLOOKUP(COUNTIF($W30:$Y30,\"A\")-COUNTIF($W30:$Y30,\"C\"),基本情報!$R$4:$S$10,2)))","v":""},null,null,null,null,null,"",null,null,null,{"$f":"IF(OR($I30=\"\",COUNTA($AG30:$AI30)=0),\"\",IF(AND(AG30=\"-\",AH30=\"-\",AI30=\"-\"),\"-\",VLOOKUP(COUNTIF($AG30:$AI30,\"A\")-COUNTIF($AG30:$AI30,\"C\"),基本情報!$R$4:$S$10,2)))","v":""}]
[null,null,null,null,11108,null,null,8,{"$f":"IF(VLOOKUP($E31,学年名簿と評価・評定!$E$24:$K$573,5)=\"\",\"\",VLOOKUP($E31,学年名簿と評価・評定!$E$24:$K$573,5))","v":""},{"$f":"IF(VLOOKUP($E31,学年名簿と評価・評定!$E$24:$K$573,6)=\"\",\"\",VLOOKUP($E31,学年名簿と評価・評定!$E$24:$K$573,7))","v":""},null,"",null,null,null,{"$f":"IF(OR($I31=\"\",COUNTA($M31:$O31)=0),\"\",IF(AND(M31=\"-\",N31=\"-\",O31=\"-\"),\"-\",VLOOKUP(COUNTIF($M31:$O31,\"A\")-COUNTIF($M31:$O31,\"C\"),基本情報!$R$4:$S$10,2)))","v":""},null,null,null,null,null,"",null,null,null,{"$f":"IF(OR($I31=\"\",COUNTA($W31:$Y31)=0),\"\",IF(AND(W31=\"-\",X31=\"-\",Y31=\"-\"),\"-\",VLOOKUP(COUNTIF($W31:$Y31,\"A\")-COUNTIF($W31:$Y31,\"C\"),基本情報!$R$4:$S$10,2)))","v":""},null,null,null,null,null,"",null,null,null,{"$f":"IF(OR($I31=\"\",COUNTA($AG31:$AI31)=0),\"\",IF(AND(AG31=\"-\",AH31=\"-\",AI31=\"-\"),\"-\",VLOOKUP(COUNTIF($AG31:$AI31,\"A\")-COUNTIF($AG31:$AI31,\"C\"),基本情報!$R$4:$S$10,2)))","v":""}]
[null,null,null,null,11109,null,null,9,{"$f":"IF(VLOOKUP($E32,学年名簿と評価・評定!$E$24:$K$573,5)=\"\",\"\",VLOOKUP($E32,学年名簿と評価・評定!$E$24:$K$573,5))","v":""},{"$f":"IF(VLOOKUP($E32,学年名簿と評価・評定!$E$24:$K$573,6)=\"\",\"\",VLOOKUP($E32,学年名簿と評価・評定!$E$24:$K$573,7))","v":""},null,"",null,null,null,{"$f":"IF(OR($I32=\"\",COUNTA($M32:$O32)=0),\"\",IF(AND(M32=\"-\",N32=\"-\",O32=\"-\"),\"-\",VLOOKUP(COUNTIF($M32:$O32,\"A\")-COUNTIF($M32:$O32,\"C\"),基本情報!$R$4:$S$10,2)))","v":""},null,null,null,null,null,"",null,null,null,{"$f":"IF(OR($I32=\"\",COUNTA($W32:$Y32)=0),\"\",IF(AND(W32=\"-\",X32=\"-\",Y32=\"-\"),\"-\",VLOOKUP(COUNTIF($W32:$Y32,\"A\")-COUNTIF($W32:$Y32,\"C\"),基本情報!$R$4:$S$10,2)))","v":""},null,null,null,null,null,"",null,null,null,{"$f":"IF(OR($I32=\"\",COUNTA($AG32:$AI32)=0),\"\",IF(AND(AG32=\"-\",AH32=\"-\",AI32=\"-\"),\"-\",VLOOKUP(COUNTIF($AG32:$AI32,\"A\")-COUNTIF($AG32:$AI32,\"C\"),基本情報!$R$4:$S$10,2)))","v":""}]
[null,null,null,null,11110,null,null,10,{"$f":"IF(VLOOKUP($E33,学年名簿と評価・評定!$E$24:$K$573,5)=\"\",\"\",VLOOKUP($E33,学年名簿と評価・評定!$E$24:$K$573,5))","v":""},{"$f":"IF(VLOOKUP($E33,学年名簿と評価・評定!$E$24:$K$573,6)=\"\",\"\",VLOOKUP($E33,学年名簿と評価・評定!$E$24:$K$573,7))","v":""},null,"",null,null,null,{"$f":"IF(OR($I33=\"\",COUNTA($M33:$O33)=0),\"\",IF(AND(M33=\"-\",N33=\"-\",O33=\"-\"),\"-\",VLOOKUP(COUNTIF($M33:$O33,\"A\")-COUNTIF($M33:$O33,\"C\"),基本情報!$R$4:$S$10,2)))","v":""},null,null,null,null,null,"",null,null,null,{"$f":"IF(OR($I33=\"\",COUNTA($W33:$Y33)=0),\"\",IF(AND(W33=\"-\",X33=\"-\",Y33=\"-\"),\"-\",VLOOKUP(COUNTIF($W33:$Y33,\"A\")-COUNTIF($W33:$Y33,\"C\"),基本情報!$R$4:$S$10,2)))","v":""},null,null,null,null,null,"",null,null,null,{"$f":"IF(OR($I33=\"\",COUNTA($AG33:$AI33)=0),\"\",IF(AND(AG33=\"-\",AH33=\"-\",AI33=\"-\"),\"-\",VLOOKUP(COUNTIF($AG33:$AI33,\"A\")-COUNTIF($AG33:$AI33,\"C\"),基本情報!$R$4:$S$10,2)))","v":""}]
[null,null,null,null,11111,null,null,11,{"$f":"IF(VLOOKUP($E34,学年名簿と評価・評定!$E$24:$K$573,5)=\"\",\"\",VLOOKUP($E34,学年名簿と評価・評定!$E$24:$K$573,5))","v":""},{"$f":"IF(VLOOKUP($E34,学年名簿と評価・評定!$E$24:$K$573,6)=\"\",\"\",VLOOKUP($E34,学年名簿と評価・評定!$E$24:$K$573,7))","v":""},null,"",null,null,null,{"$f":"IF(OR($I34=\"\",COUNTA($M34:$O34)=0),\"\",IF(AND(M34=\"-\",N34=\"-\",O34=\"-\"),\"-\",VLOOKUP(COUNTIF($M34:$O34,\"A\")-COUNTIF($M34:$O34,\"C\"),基本情報!$R$4:$S$10,2)))","v":""},null,null,null,null,null,"",null,null,null,{"$f":"IF(OR($I34=\"\",COUNTA($W34:$Y34)=0),\"\",IF(AND(W34=\"-\",X34=\"-\",Y34=\"-\"),\"-\",VLOOKUP(COUNTIF($W34:$Y34,\"A\")-COUNTIF($W34:$Y34,\"C\"),基本情報!$R$4:$S$10,2)))","v":""},null,null,null,null,null,"",null,null,null,{"$f":"IF(OR($I34=\"\",COUNTA($AG34:$AI34)=0),\"\",IF(AND(AG34=\"-\",AH34=\"-\",AI34=\"-\"),\"-\",VLOOKUP(COUNTIF($AG34:$AI34,\"A\")-COUNTIF($AG34:$AI34,\"C\"),基本情報!$R$4:$S$10,2)))","v":""}]
[null,null,null,null,11112,null,null,12,{"$f":"IF(VLOOKUP($E35,学年名簿と評価・評定!$E$24:$K$573,5)=\"\",\"\",VLOOKUP($E35,学年名簿と評価・評定!$E$24:$K$573,5))","v":""},{"$f":"IF(VLOOKUP($E35,学年名簿と評価・評定!$E$24:$K$573,6)=\"\",\"\",VLOOKUP($E35,学年名簿と評価・評定!$E$24:$K$573,7))","v":""},null,"",null,null,null,{"$f":"IF(OR($I35=\"\",COUNTA($M35:$O35)=0),\"\",IF(AND(M35=\"-\",N35=\"-\",O35=\"-\"),\"-\",VLOOKUP(COUNTIF($M35:$O35,\"A\")-COUNTIF($M35:$O35,\"C\"),基本情報!$R$4:$S$10,2)))","v":""},null,null,null,null,null,"",null,null,null,{"$f":"IF(OR($I35=\"\",COUNTA($W35:$Y35)=0),\"\",IF(AND(W35=\"-\",X35=\"-\",Y35=\"-\"),\"-\",VLOOKUP(COUNTIF($W35:$Y35,\"A\")-COUNTIF($W35:$Y35,\"C\"),基本情報!$R$4:$S$10,2)))","v":""},null,null,null,null,null,"",null,null,null,{"$f":"IF(OR($I35=\"\",COUNTA($AG35:$AI35)=0),\"\",IF(AND(AG35=\"-\",AH35=\"-\",AI35=\"-\"),\"-\",VLOOKUP(COUNTIF($AG35:$AI35,\"A\")-COUNTIF($AG35:$AI35,\"C\"),基本情報!$R$4:$S$10,2)))","v":""}]
[null,null,null,null,11113,null,null,13,{"$f":"IF(VLOOKUP($E36,学年名簿と評価・評定!$E$24:$K$573,5)=\"\",\"\",VLOOKUP($E36,学年名簿と評価・評定!$E$24:$K$573,5))","v":""},{"$f":"IF(VLOOKUP($E36,学年名簿と評価・評定!$E$24:$K$573,6)=\"\",\"\",VLOOKUP($E36,学年名簿と評価・評定!$E$24:$K$573,7))","v":""},null,"",null,null,null,{"$f":"IF(OR($I36=\"\",COUNTA($M36:$O36)=0),\"\",IF(AND(M36=\"-\",N36=\"-\",O36=\"-\"),\"-\",VLOOKUP(COUNTIF($M36:$O36,\"A\")-COUNTIF($M36:$O36,\"C\"),基本情報!$R$4:$S$10,2)))","v":""},null,null,null,null,null,"",null,null,null,{"$f":"IF(OR($I36=\"\",COUNTA($W36:$Y36)=0),\"\",IF(AND(W36=\"-\",X36=\"-\",Y36=\"-\"),\"-\",VLOOKUP(COUNTIF($W36:$Y36,\"A\")-COUNTIF($W36:$Y36,\"C\"),基本情報!$R$4:$S$10,2)))","v":""},null,null,null,null,null,"",null,null,null,{"$f":"IF(OR($I36=\"\",COUNTA($AG36:$AI36)=0),\"\",IF(AND(AG36=\"-\",AH36=\"-\",AI36=\"-\"),\"-\",VLOOKUP(COUNTIF($AG36:$AI36,\"A\")-COUNTIF($AG36:$AI36,\"C\"),基本情報!$R$4:$S$10,2)))","v":""}]
[null,null,null,null,11114,null,null,14,{"$f":"IF(VLOOKUP($E37,学年名簿と評価・評定!$E$24:$K$573,5)=\"\",\"\",VLOOKUP($E37,学年名簿と評価・評定!$E$24:$K$573,5))","v":""},{"$f":"IF(VLOOKUP($E37,学年名簿と評価・評定!$E$24:$K$573,6)=\"\",\"\",VLOOKUP($E37,学年名簿と評価・評定!$E$24:$K$573,7))","v":""},null,"",null,null,null,{"$f":"IF(OR($I37=\"\",COUNTA($M37:$O37)=0),\"\",IF(AND(M37=\"-\",N37=\"-\",O37=\"-\"),\"-\",VLOOKUP(COUNTIF($M37:$O37,\"A\")-COUNTIF($M37:$O37,\"C\"),基本情報!$R$4:$S$10,2)))","v":""},null,null,null,null,null,"",null,null,null,{"$f":"IF(OR($I37=\"\",COUNTA($W37:$Y37)=0),\"\",IF(AND(W37=\"-\",X37=\"-\",Y37=\"-\"),\"-\",VLOOKUP(COUNTIF($W37:$Y37,\"A\")-COUNTIF($W37:$Y37,\"C\"),基本情報!$R$4:$S$10,2)))","v":""},null,null,null,null,null,"",null,null,null,{"$f":"IF(OR($I37=\"\",COUNTA($AG37:$AI37)=0),\"\",IF(AND(AG37=\"-\",AH37=\"-\",AI37=\"-\"),\"-\",VLOOKUP(COUNTIF($AG37:$AI37,\"A\")-COUNTIF($AG37:$AI37,\"C\"),基本情報!$R$4:$S$10,2)))","v":""}]
[null,null,null,null,11115,null,null,15,{"$f":"IF(VLOOKUP($E38,学年名簿と評価・評定!$E$24:$K$573,5)=\"\",\"\",VLOOKUP($E38,学年名簿と評価・評定!$E$24:$K$573,5))","v":""},{"$f":"IF(VLOOKUP($E38,学年名簿と評価・評定!$E$24:$K$573,6)=\"\",\"\",VLOOKUP($E38,学年名簿と評価・評定!$E$24:$K$573,7))","v":""},null,"",null,null,null,{"$f":"IF(OR($I38=\"\",COUNTA($M38:$O38)=0),\"\",IF(AND(M38=\"-\",N38=\"-\",O38=\"-\"),\"-\",VLOOKUP(COUNTIF($M38:$O38,\"A\")-COUNTIF($M38:$O38,\"C\"),基本情報!$R$4:$S$10,2)))","v":""},null,null,null,null,null,"",null,null,null,{"$f":"IF(OR($I38=\"\",COUNTA($W38:$Y38)=0),\"\",IF(AND(W38=\"-\",X38=\"-\",Y38=\"-\"),\"-\",VLOOKUP(COUNTIF($W38:$Y38,\"A\")-COUNTIF($W38:$Y38,\"C\"),基本情報!$R$4:$S$10,2)))","v":""},null,null,null,null,null,"",null,null,null,{"$f":"IF(OR($I38=\"\",COUNTA($AG38:$AI38)=0),\"\",IF(AND(AG38=\"-\",AH38=\"-\",AI38=\"-\"),\"-\",VLOOKUP(COUNTIF($AG38:$AI38,\"A\")-COUNTIF($AG38:$AI38,\"C\"),基本情報!$R$4:$S$10,2)))","v":""}]
[null,null,null,null,11116,null,null,16,{"$f":"IF(VLOOKUP($E39,学年名簿と評価・評定!$E$24:$K$573,5)=\"\",\"\",VLOOKUP($E39,学年名簿と評価・評定!$E$24:$K$573,5))","v":""},{"$f":"IF(VLOOKUP($E39,学年名簿と評価・評定!$E$24:$K$573,6)=\"\",\"\",VLOOKUP($E39,学年名簿と評価・評定!$E$24:$K$573,7))","v":""},null,"",null,null,null,{"$f":"IF(OR($I39=\"\",COUNTA($M39:$O39)=0),\"\",IF(AND(M39=\"-\",N39=\"-\",O39=\"-\"),\"-\",VLOOKUP(COUNTIF($M39:$O39,\"A\")-COUNTIF($M39:$O39,\"C\"),基本情報!$R$4:$S$10,2)))","v":""},null,null,null,null,null,"",null,null,null,{"$f":"IF(OR($I39=\"\",COUNTA($W39:$Y39)=0),\"\",IF(AND(W39=\"-\",X39=\"-\",Y39=\"-\"),\"-\",VLOOKUP(COUNTIF($W39:$Y39,\"A\")-COUNTIF($W39:$Y39,\"C\"),基本情報!$R$4:$S$10,2)))","v":""},null,null,null,null,null,"",null,null,null,{"$f":"IF(OR($I39=\"\",COUNTA($AG39:$AI39)=0),\"\",IF(AND(AG39=\"-\",AH39=\"-\",AI39=\"-\"),\"-\",VLOOKUP(COUNTIF($AG39:$AI39,\"A\")-COUNTIF($AG39:$AI39,\"C\"),基本情報!$R$4:$S$10,2)))","v":""}]
[null,null,null,null,11117,null,null,17,{"$f":"IF(VLOOKUP($E40,学年名簿と評価・評定!$E$24:$K$573,5)=\"\",\"\",VLOOKUP($E40,学年名簿と評価・評定!$E$24:$K$573,5))","v":""},{"$f":"IF(VLOOKUP($E40,学年名簿と評価・評定!$E$24:$K$573,6)=\"\",\"\",VLOOKUP($E40,学年名簿と評価・評定!$E$24:$K$573,7))","v":""},null,"",null,null,null,{"$f":"IF(OR($I40=\"\",COUNTA($M40:$O40)=0),\"\",IF(AND(M40=\"-\",N40=\"-\",O40=\"-\"),\"-\",VLOOKUP(COUNTIF($M40:$O40,\"A\")-COUNTIF($M40:$O40,\"C\"),基本情報!$R$4:$S$10,2)))","v":""},null,null,null,null,null,"",null,null,null,{"$f":"IF(OR($I40=\"\",COUNTA($W40:$Y40)=0),\"\",IF(AND(W40=\"-\",X40=\"-\",Y40=\"-\"),\"-\",VLOOKUP(COUNTIF($W40:$Y40,\"A\")-COUNTIF($W40:$Y40,\"C\"),基本情報!$R$4:$S$10,2)))","v":""},null,null,null,null,null,"",null,null,null,{"$f":"IF(OR($I40=\"\",COUNTA($AG40:$AI40)=0),\"\",IF(AND(AG40=\"-\",AH40=\"-\",AI40=\"-\"),\"-\",VLOOKUP(COUNTIF($AG40:$AI40,\"A\")-COUNTIF($AG40:$AI40,\"C\"),基本情報!$R$4:$S$10,2)))","v":""}]
[null,null,null,null,11118,null,null,18,{"$f":"IF(VLOOKUP($E41,学年名簿と評価・評定!$E$24:$K$573,5)=\"\",\"\",VLOOKUP($E41,学年名簿と評価・評定!$E$24:$K$573,5))","v":""},{"$f":"IF(VLOOKUP($E41,学年名簿と評価・評定!$E$24:$K$573,6)=\"\",\"\",VLOOKUP($E41,学年名簿と評価・評定!$E$24:$K$573,7))","v":""},null,"",null,null,null,{"$f":"IF(OR($I41=\"\",COUNTA($M41:$O41)=0),\"\",IF(AND(M41=\"-\",N41=\"-\",O41=\"-\"),\"-\",VLOOKUP(COUNTIF($M41:$O41,\"A\")-COUNTIF($M41:$O41,\"C\"),基本情報!$R$4:$S$10,2)))","v":""},null,null,null,null,null,"",null,null,null,{"$f":"IF(OR($I41=\"\",COUNTA($W41:$Y41)=0),\"\",IF(AND(W41=\"-\",X41=\"-\",Y41=\"-\"),\"-\",VLOOKUP(COUNTIF($W41:$Y41,\"A\")-COUNTIF($W41:$Y41,\"C\"),基本情報!$R$4:$S$10,2)))","v":""},null,null,null,null,null,"",null,null,null,{"$f":"IF(OR($I41=\"\",COUNTA($AG41:$AI41)=0),\"\",IF(AND(AG41=\"-\",AH41=\"-\",AI41=\"-\"),\"-\",VLOOKUP(COUNTIF($AG41:$AI41,\"A\")-COUNTIF($AG41:$AI41,\"C\"),基本情報!$R$4:$S$10,2)))","v":""}]
[null,null,null,null,11119,null,null,19,{"$f":"IF(VLOOKUP($E42,学年名簿と評価・評定!$E$24:$K$573,5)=\"\",\"\",VLOOKUP($E42,学年名簿と評価・評定!$E$24:$K$573,5))","v":""},{"$f":"IF(VLOOKUP($E42,学年名簿と評価・評定!$E$24:$K$573,6)=\"\",\"\",VLOOKUP($E42,学年名簿と評価・評定!$E$24:$K$573,7))","v":""},null,"",null,null,null,{"$f":"IF(OR($I42=\"\",COUNTA($M42:$O42)=0),\"\",IF(AND(M42=\"-\",N42=\"-\",O42=\"-\"),\"-\",VLOOKUP(COUNTIF($M42:$O42,\"A\")-COUNTIF($M42:$O42,\"C\"),基本情報!$R$4:$S$10,2)))","v":""},null,null,null,null,null,"",null,null,null,{"$f":"IF(OR($I42=\"\",COUNTA($W42:$Y42)=0),\"\",IF(AND(W42=\"-\",X42=\"-\",Y42=\"-\"),\"-\",VLOOKUP(COUNTIF($W42:$Y42,\"A\")-COUNTIF($W42:$Y42,\"C\"),基本情報!$R$4:$S$10,2)))","v":""},null,null,null,null,null,"",null,null,null,{"$f":"IF(OR($I42=\"\",COUNTA($AG42:$AI42)=0),\"\",IF(AND(AG42=\"-\",AH42=\"-\",AI42=\"-\"),\"-\",VLOOKUP(COUNTIF($AG42:$AI42,\"A\")-COUNTIF($AG42:$AI42,\"C\"),基本情報!$R$4:$S$10,2)))","v":""}]
[null,null,null,null,11120,null,null,20,{"$f":"IF(VLOOKUP($E43,学年名簿と評価・評定!$E$24:$K$573,5)=\"\",\"\",VLOOKUP($E43,学年名簿と評価・評定!$E$24:$K$573,5))","v":""},{"$f":"IF(VLOOKUP($E43,学年名簿と評価・評定!$E$24:$K$573,6)=\"\",\"\",VLOOKUP($E43,学年名簿と評価・評定!$E$24:$K$573,7))","v":""},null,"",null,null,null,{"$f":"IF(OR($I43=\"\",COUNTA($M43:$O43)=0),\"\",IF(AND(M43=\"-\",N43=\"-\",O43=\"-\"),\"-\",VLOOKUP(COUNTIF($M43:$O43,\"A\")-COUNTIF($M43:$O43,\"C\"),基本情報!$R$4:$S$10,2)))","v":""},null,null,null,null,null,"",null,null,null,{"$f":"IF(OR($I43=\"\",COUNTA($W43:$Y43)=0),\"\",IF(AND(W43=\"-\",X43=\"-\",Y43=\"-\"),\"-\",VLOOKUP(COUNTIF($W43:$Y43,\"A\")-COUNTIF($W43:$Y43,\"C\"),基本情報!$R$4:$S$10,2)))","v":""},null,null,null,null,null,"",null,null,null,{"$f":"IF(OR($I43=\"\",COUNTA($AG43:$AI43)=0),\"\",IF(AND(AG43=\"-\",AH43=\"-\",AI43=\"-\"),\"-\",VLOOKUP(COUNTIF($AG43:$AI43,\"A\")-COUNTIF($AG43:$AI43,\"C\"),基本情報!$R$4:$S$10,2)))","v":""}]
[null,null,null,null,11121,null,null,21,{"$f":"IF(VLOOKUP($E44,学年名簿と評価・評定!$E$24:$K$573,5)=\"\",\"\",VLOOKUP($E44,学年名簿と評価・評定!$E$24:$K$573,5))","v":""},{"$f":"IF(VLOOKUP($E44,学年名簿と評価・評定!$E$24:$K$573,6)=\"\",\"\",VLOOKUP($E44,学年名簿と評価・評定!$E$24:$K$573,7))","v":""},null,"",null,null,null,{"$f":"IF(OR($I44=\"\",COUNTA($M44:$O44)=0),\"\",IF(AND(M44=\"-\",N44=\"-\",O44=\"-\"),\"-\",VLOOKUP(COUNTIF($M44:$O44,\"A\")-COUNTIF($M44:$O44,\"C\"),基本情報!$R$4:$S$10,2)))","v":""},null,null,null,null,null,"",null,null,null,{"$f":"IF(OR($I44=\"\",COUNTA($W44:$Y44)=0),\"\",IF(AND(W44=\"-\",X44=\"-\",Y44=\"-\"),\"-\",VLOOKUP(COUNTIF($W44:$Y44,\"A\")-COUNTIF($W44:$Y44,\"C\"),基本情報!$R$4:$S$10,2)))","v":""},null,null,null,null,null,"",null,null,null,{"$f":"IF(OR($I44=\"\",COUNTA($AG44:$AI44)=0),\"\",IF(AND(AG44=\"-\",AH44=\"-\",AI44=\"-\"),\"-\",VLOOKUP(COUNTIF($AG44:$AI44,\"A\")-COUNTIF($AG44:$AI44,\"C\"),基本情報!$R$4:$S$10,2)))","v":""}]
[null,null,null,null,11122,null,null,22,{"$f":"IF(VLOOKUP($E45,学年名簿と評価・評定!$E$24:$K$573,5)=\"\",\"\",VLOOKUP($E45,学年名簿と評価・評定!$E$24:$K$573,5))","v":""},{"$f":"IF(VLOOKUP($E45,学年名簿と評価・評定!$E$24:$K$573,6)=\"\",\"\",VLOOKUP($E45,学年名簿と評価・評定!$E$24:$K$573,7))","v":""},null,"",null,null,null,{"$f":"IF(OR($I45=\"\",COUNTA($M45:$O45)=0),\"\",IF(AND(M45=\"-\",N45=\"-\",O45=\"-\"),\"-\",VLOOKUP(COUNTIF($M45:$O45,\"A\")-COUNTIF($M45:$O45,\"C\"),基本情報!$R$4:$S$10,2)))","v":""},null,null,null,null,null,"",null,null,null,{"$f":"IF(OR($I45=\"\",COUNTA($W45:$Y45)=0),\"\",IF(AND(W45=\"-\",X45=\"-\",Y45=\"-\"),\"-\",VLOOKUP(COUNTIF($W45:$Y45,\"A\")-COUNTIF($W45:$Y45,\"C\"),基本情報!$R$4:$S$10,2)))","v":""},null,null,null,null,null,"",null,null,null,{"$f":"IF(OR($I45=\"\",COUNTA($AG45:$AI45)=0),\"\",IF(AND(AG45=\"-\",AH45=\"-\",AI45=\"-\"),\"-\",VLOOKUP(COUNTIF($AG45:$AI45,\"A\")-COUNTIF($AG45:$AI45,\"C\"),基本情報!$R$4:$S$10,2)))","v":""}]
[null,null,null,null,11123,null,null,23,{"$f":"IF(VLOOKUP($E46,学年名簿と評価・評定!$E$24:$K$573,5)=\"\",\"\",VLOOKUP($E46,学年名簿と評価・評定!$E$24:$K$573,5))","v":""},{"$f":"IF(VLOOKUP($E46,学年名簿と評価・評定!$E$24:$K$573,6)=\"\",\"\",VLOOKUP($E46,学年名簿と評価・評定!$E$24:$K$573,7))","v":""},null,"",null,null,null,{"$f":"IF(OR($I46=\"\",COUNTA($M46:$O46)=0),\"\",IF(AND(M46=\"-\",N46=\"-\",O46=\"-\"),\"-\",VLOOKUP(COUNTIF($M46:$O46,\"A\")-COUNTIF($M46:$O46,\"C\"),基本情報!$R$4:$S$10,2)))","v":""},null,null,null,null,null,"",null,null,null,{"$f":"IF(OR($I46=\"\",COUNTA($W46:$Y46)=0),\"\",IF(AND(W46=\"-\",X46=\"-\",Y46=\"-\"),\"-\",VLOOKUP(COUNTIF($W46:$Y46,\"A\")-COUNTIF($W46:$Y46,\"C\"),基本情報!$R$4:$S$10,2)))","v":""},null,null,null,null,null,"",null,null,null,{"$f":"IF(OR($I46=\"\",COUNTA($AG46:$AI46)=0),\"\",IF(AND(AG46=\"-\",AH46=\"-\",AI46=\"-\"),\"-\",VLOOKUP(COUNTIF($AG46:$AI46,\"A\")-COUNTIF($AG46:$AI46,\"C\"),基本情報!$R$4:$S$10,2)))","v":""}]
[null,null,null,null,11124,null,null,24,{"$f":"IF(VLOOKUP($E47,学年名簿と評価・評定!$E$24:$K$573,5)=\"\",\"\",VLOOKUP($E47,学年名簿と評価・評定!$E$24:$K$573,5))","v":""},{"$f":"IF(VLOOKUP($E47,学年名簿と評価・評定!$E$24:$K$573,6)=\"\",\"\",VLOOKUP($E47,学年名簿と評価・評定!$E$24:$K$573,7))","v":""},null,"",null,null,null,{"$f":"IF(OR($I47=\"\",COUNTA($M47:$O47)=0),\"\",IF(AND(M47=\"-\",N47=\"-\",O47=\"-\"),\"-\",VLOOKUP(COUNTIF($M47:$O47,\"A\")-COUNTIF($M47:$O47,\"C\"),基本情報!$R$4:$S$10,2)))","v":""},null,null,null,null,null,"",null,null,null,{"$f":"IF(OR($I47=\"\",COUNTA($W47:$Y47)=0),\"\",IF(AND(W47=\"-\",X47=\"-\",Y47=\"-\"),\"-\",VLOOKUP(COUNTIF($W47:$Y47,\"A\")-COUNTIF($W47:$Y47,\"C\"),基本情報!$R$4:$S$10,2)))","v":""},null,null,null,null,null,"",null,null,null,{"$f":"IF(OR($I47=\"\",COUNTA($AG47:$AI47)=0),\"\",IF(AND(AG47=\"-\",AH47=\"-\",AI47=\"-\"),\"-\",VLOOKUP(COUNTIF($AG47:$AI47,\"A\")-COUNTIF($AG47:$AI47,\"C\"),基本情報!$R$4:$S$10,2)))","v":""}]
[null,null,null,null,11125,null,null,25,{"$f":"IF(VLOOKUP($E48,学年名簿と評価・評定!$E$24:$K$573,5)=\"\",\"\",VLOOKUP($E48,学年名簿と評価・評定!$E$24:$K$573,5))","v":""},{"$f":"IF(VLOOKUP($E48,学年名簿と評価・評定!$E$24:$K$573,6)=\"\",\"\",VLOOKUP($E48,学年名簿と評価・評定!$E$24:$K$573,7))","v":""},null,"",null,null,null,{"$f":"IF(OR($I48=\"\",COUNTA($M48:$O48)=0),\"\",IF(AND(M48=\"-\",N48=\"-\",O48=\"-\"),\"-\",VLOOKUP(COUNTIF($M48:$O48,\"A\")-COUNTIF($M48:$O48,\"C\"),基本情報!$R$4:$S$10,2)))","v":""},null,null,null,null,null,"",null,null,null,{"$f":"IF(OR($I48=\"\",COUNTA($W48:$Y48)=0),\"\",IF(AND(W48=\"-\",X48=\"-\",Y48=\"-\"),\"-\",VLOOKUP(COUNTIF($W48:$Y48,\"A\")-COUNTIF($W48:$Y48,\"C\"),基本情報!$R$4:$S$10,2)))","v":""},null,null,null,null,null,"",null,null,null,{"$f":"IF(OR($I48=\"\",COUNTA($AG48:$AI48)=0),\"\",IF(AND(AG48=\"-\",AH48=\"-\",AI48=\"-\"),\"-\",VLOOKUP(COUNTIF($AG48:$AI48,\"A\")-COUNTIF($AG48:$AI48,\"C\"),基本情報!$R$4:$S$10,2)))","v":""}]
[null,null,null,null,11126,null,null,26,{"$f":"IF(VLOOKUP($E49,学年名簿と評価・評定!$E$24:$K$573,5)=\"\",\"\",VLOOKUP($E49,学年名簿と評価・評定!$E$24:$K$573,5))","v":""},{"$f":"IF(VLOOKUP($E49,学年名簿と評価・評定!$E$24:$K$573,6)=\"\",\"\",VLOOKUP($E49,学年名簿と評価・評定!$E$24:$K$573,7))","v":""},null,"",null,null,null,{"$f":"IF(OR($I49=\"\",COUNTA($M49:$O49)=0),\"\",IF(AND(M49=\"-\",N49=\"-\",O49=\"-\"),\"-\",VLOOKUP(COUNTIF($M49:$O49,\"A\")-COUNTIF($M49:$O49,\"C\"),基本情報!$R$4:$S$10,2)))","v":""},null,null,null,null,null,"",null,null,null,{"$f":"IF(OR($I49=\"\",COUNTA($W49:$Y49)=0),\"\",IF(AND(W49=\"-\",X49=\"-\",Y49=\"-\"),\"-\",VLOOKUP(COUNTIF($W49:$Y49,\"A\")-COUNTIF($W49:$Y49,\"C\"),基本情報!$R$4:$S$10,2)))","v":""},null,null,null,null,null,"",null,null,null,{"$f":"IF(OR($I49=\"\",COUNTA($AG49:$AI49)=0),\"\",IF(AND(AG49=\"-\",AH49=\"-\",AI49=\"-\"),\"-\",VLOOKUP(COUNTIF($AG49:$AI49,\"A\")-COUNTIF($AG49:$AI49,\"C\"),基本情報!$R$4:$S$10,2)))","v":""}]
[null,null,null,null,11127,null,null,27,{"$f":"IF(VLOOKUP($E50,学年名簿と評価・評定!$E$24:$K$573,5)=\"\",\"\",VLOOKUP($E50,学年名簿と評価・評定!$E$24:$K$573,5))","v":""},{"$f":"IF(VLOOKUP($E50,学年名簿と評価・評定!$E$24:$K$573,6)=\"\",\"\",VLOOKUP($E50,学年名簿と評価・評定!$E$24:$K$573,7))","v":""},null,"",null,null,null,{"$f":"IF(OR($I50=\"\",COUNTA($M50:$O50)=0),\"\",IF(AND(M50=\"-\",N50=\"-\",O50=\"-\"),\"-\",VLOOKUP(COUNTIF($M50:$O50,\"A\")-COUNTIF($M50:$O50,\"C\"),基本情報!$R$4:$S$10,2)))","v":""},null,null,null,null,null,"",null,null,null,{"$f":"IF(OR($I50=\"\",COUNTA($W50:$Y50)=0),\"\",IF(AND(W50=\"-\",X50=\"-\",Y50=\"-\"),\"-\",VLOOKUP(COUNTIF($W50:$Y50,\"A\")-COUNTIF($W50:$Y50,\"C\"),基本情報!$R$4:$S$10,2)))","v":""},null,null,null,null,null,"",null,null,null,{"$f":"IF(OR($I50=\"\",COUNTA($AG50:$AI50)=0),\"\",IF(AND(AG50=\"-\",AH50=\"-\",AI50=\"-\"),\"-\",VLOOKUP(COUNTIF($AG50:$AI50,\"A\")-COUNTIF($AG50:$AI50,\"C\"),基本情報!$R$4:$S$10,2)))","v":""}]
[null,null,null,null,11128,null,null,28,{"$f":"IF(VLOOKUP($E51,学年名簿と評価・評定!$E$24:$K$573,5)=\"\",\"\",VLOOKUP($E51,学年名簿と評価・評定!$E$24:$K$573,5))","v":""},{"$f":"IF(VLOOKUP($E51,学年名簿と評価・評定!$E$24:$K$573,6)=\"\",\"\",VLOOKUP($E51,学年名簿と評価・評定!$E$24:$K$573,7))","v":""},null,"",null,null,null,{"$f":"IF(OR($I51=\"\",COUNTA($M51:$O51)=0),\"\",IF(AND(M51=\"-\",N51=\"-\",O51=\"-\"),\"-\",VLOOKUP(COUNTIF($M51:$O51,\"A\")-COUNTIF($M51:$O51,\"C\"),基本情報!$R$4:$S$10,2)))","v":""},null,null,null,null,null,"",null,null,null,{"$f":"IF(OR($I51=\"\",COUNTA($W51:$Y51)=0),\"\",IF(AND(W51=\"-\",X51=\"-\",Y51=\"-\"),\"-\",VLOOKUP(COUNTIF($W51:$Y51,\"A\")-COUNTIF($W51:$Y51,\"C\"),基本情報!$R$4:$S$10,2)))","v":""},null,null,null,null,null,"",null,null,null,{"$f":"IF(OR($I51=\"\",COUNTA($AG51:$AI51)=0),\"\",IF(AND(AG51=\"-\",AH51=\"-\",AI51=\"-\"),\"-\",VLOOKUP(COUNTIF($AG51:$AI51,\"A\")-COUNTIF($AG51:$AI51,\"C\"),基本情報!$R$4:$S$10,2)))","v":""}]
[null,null,null,null,11129,null,null,29,{"$f":"IF(VLOOKUP($E52,学年名簿と評価・評定!$E$24:$K$573,5)=\"\",\"\",VLOOKUP($E52,学年名簿と評価・評定!$E$24:$K$573,5))","v":""},{"$f":"IF(VLOOKUP($E52,学年名簿と評価・評定!$E$24:$K$573,6)=\"\",\"\",VLOOKUP($E52,学年名簿と評価・評定!$E$24:$K$573,7))","v":""},null,"",null,null,null,{"$f":"IF(OR($I52=\"\",COUNTA($M52:$O52)=0),\"\",IF(AND(M52=\"-\",N52=\"-\",O52=\"-\"),\"-\",VLOOKUP(COUNTIF($M52:$O52,\"A\")-COUNTIF($M52:$O52,\"C\"),基本情報!$R$4:$S$10,2)))","v":""},null,null,null,null,null,"",null,null,null,{"$f":"IF(OR($I52=\"\",COUNTA($W52:$Y52)=0),\"\",IF(AND(W52=\"-\",X52=\"-\",Y52=\"-\"),\"-\",VLOOKUP(COUNTIF($W52:$Y52,\"A\")-COUNTIF($W52:$Y52,\"C\"),基本情報!$R$4:$S$10,2)))","v":""},null,null,null,null,null,"",null,null,null,{"$f":"IF(OR($I52=\"\",COUNTA($AG52:$AI52)=0),\"\",IF(AND(AG52=\"-\",AH52=\"-\",AI52=\"-\"),\"-\",VLOOKUP(COUNTIF($AG52:$AI52,\"A\")-COUNTIF($AG52:$AI52,\"C\"),基本情報!$R$4:$S$10,2)))","v":""}]
[null,null,null,null,11130,null,null,30,{"$f":"IF(VLOOKUP($E53,学年名簿と評価・評定!$E$24:$K$573,5)=\"\",\"\",VLOOKUP($E53,学年名簿と評価・評定!$E$24:$K$573,5))","v":""},{"$f":"IF(VLOOKUP($E53,学年名簿と評価・評定!$E$24:$K$573,6)=\"\",\"\",VLOOKUP($E53,学年名簿と評価・評定!$E$24:$K$573,7))","v":""},null,"",null,null,null,{"$f":"IF(OR($I53=\"\",COUNTA($M53:$O53)=0),\"\",IF(AND(M53=\"-\",N53=\"-\",O53=\"-\"),\"-\",VLOOKUP(COUNTIF($M53:$O53,\"A\")-COUNTIF($M53:$O53,\"C\"),基本情報!$R$4:$S$10,2)))","v":""},null,null,null,null,null,"",null,null,null,{"$f":"IF(OR($I53=\"\",COUNTA($W53:$Y53)=0),\"\",IF(AND(W53=\"-\",X53=\"-\",Y53=\"-\"),\"-\",VLOOKUP(COUNTIF($W53:$Y53,\"A\")-COUNTIF($W53:$Y53,\"C\"),基本情報!$R$4:$S$10,2)))","v":""},null,null,null,null,null,"",null,null,null,{"$f":"IF(OR($I53=\"\",COUNTA($AG53:$AI53)=0),\"\",IF(AND(AG53=\"-\",AH53=\"-\",AI53=\"-\"),\"-\",VLOOKUP(COUNTIF($AG53:$AI53,\"A\")-COUNTIF($AG53:$AI53,\"C\"),基本情報!$R$4:$S$10,2)))","v":""}]
[null,null,null,null,11131,null,null,31,{"$f":"IF(VLOOKUP($E54,学年名簿と評価・評定!$E$24:$K$573,5)=\"\",\"\",VLOOKUP($E54,学年名簿と評価・評定!$E$24:$K$573,5))","v":""},{"$f":"IF(VLOOKUP($E54,学年名簿と評価・評定!$E$24:$K$573,6)=\"\",\"\",VLOOKUP($E54,学年名簿と評価・評定!$E$24:$K$573,7))","v":""},null,"",null,null,null,{"$f":"IF(OR($I54=\"\",COUNTA($M54:$O54)=0),\"\",IF(AND(M54=\"-\",N54=\"-\",O54=\"-\"),\"-\",VLOOKUP(COUNTIF($M54:$O54,\"A\")-COUNTIF($M54:$O54,\"C\"),基本情報!$R$4:$S$10,2)))","v":""},null,null,null,null,null,"",null,null,null,{"$f":"IF(OR($I54=\"\",COUNTA($W54:$Y54)=0),\"\",IF(AND(W54=\"-\",X54=\"-\",Y54=\"-\"),\"-\",VLOOKUP(COUNTIF($W54:$Y54,\"A\")-COUNTIF($W54:$Y54,\"C\"),基本情報!$R$4:$S$10,2)))","v":""},null,null,null,null,null,"",null,null,null,{"$f":"IF(OR($I54=\"\",COUNTA($AG54:$AI54)=0),\"\",IF(AND(AG54=\"-\",AH54=\"-\",AI54=\"-\"),\"-\",VLOOKUP(COUNTIF($AG54:$AI54,\"A\")-COUNTIF($AG54:$AI54,\"C\"),基本情報!$R$4:$S$10,2)))","v":""}]
[null,null,null,null,11132,null,null,32,{"$f":"IF(VLOOKUP($E55,学年名簿と評価・評定!$E$24:$K$573,5)=\"\",\"\",VLOOKUP($E55,学年名簿と評価・評定!$E$24:$K$573,5))","v":""},{"$f":"IF(VLOOKUP($E55,学年名簿と評価・評定!$E$24:$K$573,6)=\"\",\"\",VLOOKUP($E55,学年名簿と評価・評定!$E$24:$K$573,7))","v":""},null,"",null,null,null,{"$f":"IF(OR($I55=\"\",COUNTA($M55:$O55)=0),\"\",IF(AND(M55=\"-\",N55=\"-\",O55=\"-\"),\"-\",VLOOKUP(COUNTIF($M55:$O55,\"A\")-COUNTIF($M55:$O55,\"C\"),基本情報!$R$4:$S$10,2)))","v":""},null,null,null,null,null,"",null,null,null,{"$f":"IF(OR($I55=\"\",COUNTA($W55:$Y55)=0),\"\",IF(AND(W55=\"-\",X55=\"-\",Y55=\"-\"),\"-\",VLOOKUP(COUNTIF($W55:$Y55,\"A\")-COUNTIF($W55:$Y55,\"C\"),基本情報!$R$4:$S$10,2)))","v":""},null,null,null,null,null,"",null,null,null,{"$f":"IF(OR($I55=\"\",COUNTA($AG55:$AI55)=0),\"\",IF(AND(AG55=\"-\",AH55=\"-\",AI55=\"-\"),\"-\",VLOOKUP(COUNTIF($AG55:$AI55,\"A\")-COUNTIF($AG55:$AI55,\"C\"),基本情報!$R$4:$S$10,2)))","v":""}]
[null,null,null,null,{"$f":"$I$8*10000+$I$9*100+$H56","v":11133},null,null,33,{"$f":"IF(VLOOKUP($E56,学年名簿と評価・評定!$E$24:$K$573,5)=\"\",\"\",VLOOKUP($E56,学年名簿と評価・評定!$E$24:$K$573,5))","v":""},{"$f":"IF(VLOOKUP($E56,学年名簿と評価・評定!$E$24:$K$573,6)=\"\",\"\",VLOOKUP($E56,学年名簿と評価・評定!$E$24:$K$573,7))","v":""},null,"",null,null,null,{"$f":"IF(OR($I56=\"\",COUNTA($M56:$O56)=0),\"\",IF(AND(M56=\"-\",N56=\"-\",O56=\"-\"),\"-\",VLOOKUP(COUNTIF($M56:$O56,\"A\")-COUNTIF($M56:$O56,\"C\"),基本情報!$R$4:$S$10,2)))","v":""},null,null,null,null,null,"",null,null,null,{"$f":"IF(OR($I56=\"\",COUNTA($W56:$Y56)=0),\"\",IF(AND(W56=\"-\",X56=\"-\",Y56=\"-\"),\"-\",VLOOKUP(COUNTIF($W56:$Y56,\"A\")-COUNTIF($W56:$Y56,\"C\"),基本情報!$R$4:$S$10,2)))","v":""},null,null,null,null,null,"",null,null,null,{"$f":"IF(OR($I56=\"\",COUNTA($AG56:$AI56)=0),\"\",IF(AND(AG56=\"-\",AH56=\"-\",AI56=\"-\"),\"-\",VLOOKUP(COUNTIF($AG56:$AI56,\"A\")-COUNTIF($AG56:$AI56,\"C\"),基本情報!$R$4:$S$10,2)))","v":""}]
[null,null,null,null,11134,null,null,34,{"$f":"IF(VLOOKUP($E57,学年名簿と評価・評定!$E$24:$K$573,5)=\"\",\"\",VLOOKUP($E57,学年名簿と評価・評定!$E$24:$K$573,5))","v":""},{"$f":"IF(VLOOKUP($E57,学年名簿と評価・評定!$E$24:$K$573,6)=\"\",\"\",VLOOKUP($E57,学年名簿と評価・評定!$E$24:$K$573,7))","v":""},null,"",null,null,null,{"$f":"IF(OR($I57=\"\",COUNTA($M57:$O57)=0),\"\",IF(AND(M57=\"-\",N57=\"-\",O57=\"-\"),\"-\",VLOOKUP(COUNTIF($M57:$O57,\"A\")-COUNTIF($M57:$O57,\"C\"),基本情報!$R$4:$S$10,2)))","v":""},null,null,null,null,null,"",null,null,null,{"$f":"IF(OR($I57=\"\",COUNTA($W57:$Y57)=0),\"\",IF(AND(W57=\"-\",X57=\"-\",Y57=\"-\"),\"-\",VLOOKUP(COUNTIF($W57:$Y57,\"A\")-COUNTIF($W57:$Y57,\"C\"),基本情報!$R$4:$S$10,2)))","v":""},null,null,null,null,null,"",null,null,null,{"$f":"IF(OR($I57=\"\",COUNTA($AG57:$AI57)=0),\"\",IF(AND(AG57=\"-\",AH57=\"-\",AI57=\"-\"),\"-\",VLOOKUP(COUNTIF($AG57:$AI57,\"A\")-COUNTIF($AG57:$AI57,\"C\"),基本情報!$R$4:$S$10,2)))","v":""}]
[null,null,null,null,11135,null,null,35,{"$f":"IF(VLOOKUP($E58,学年名簿と評価・評定!$E$24:$K$573,5)=\"\",\"\",VLOOKUP($E58,学年名簿と評価・評定!$E$24:$K$573,5))","v":""},{"$f":"IF(VLOOKUP($E58,学年名簿と評価・評定!$E$24:$K$573,6)=\"\",\"\",VLOOKUP($E58,学年名簿と評価・評定!$E$24:$K$573,7))","v":""},null,"",null,null,null,{"$f":"IF(OR($I58=\"\",COUNTA($M58:$O58)=0),\"\",IF(AND(M58=\"-\",N58=\"-\",O58=\"-\"),\"-\",VLOOKUP(COUNTIF($M58:$O58,\"A\")-COUNTIF($M58:$O58,\"C\"),基本情報!$R$4:$S$10,2)))","v":""},null,null,null,null,null,"",null,null,null,{"$f":"IF(OR($I58=\"\",COUNTA($W58:$Y58)=0),\"\",IF(AND(W58=\"-\",X58=\"-\",Y58=\"-\"),\"-\",VLOOKUP(COUNTIF($W58:$Y58,\"A\")-COUNTIF($W58:$Y58,\"C\"),基本情報!$R$4:$S$10,2)))","v":""},null,null,null,null,null,"",null,null,null,{"$f":"IF(OR($I58=\"\",COUNTA($AG58:$AI58)=0),\"\",IF(AND(AG58=\"-\",AH58=\"-\",AI58=\"-\"),\"-\",VLOOKUP(COUNTIF($AG58:$AI58,\"A\")-COUNTIF($AG58:$AI58,\"C\"),基本情報!$R$4:$S$10,2)))","v":""}]
[null,null,null,null,11136,null,null,36,{"$f":"IF(VLOOKUP($E59,学年名簿と評価・評定!$E$24:$K$573,5)=\"\",\"\",VLOOKUP($E59,学年名簿と評価・評定!$E$24:$K$573,5))","v":""},{"$f":"IF(VLOOKUP($E59,学年名簿と評価・評定!$E$24:$K$573,6)=\"\",\"\",VLOOKUP($E59,学年名簿と評価・評定!$E$24:$K$573,7))","v":""},null,"",null,null,null,{"$f":"IF(OR($I59=\"\",COUNTA($M59:$O59)=0),\"\",IF(AND(M59=\"-\",N59=\"-\",O59=\"-\"),\"-\",VLOOKUP(COUNTIF($M59:$O59,\"A\")-COUNTIF($M59:$O59,\"C\"),基本情報!$R$4:$S$10,2)))","v":""},null,null,null,null,null,"",null,null,null,{"$f":"IF(OR($I59=\"\",COUNTA($W59:$Y59)=0),\"\",IF(AND(W59=\"-\",X59=\"-\",Y59=\"-\"),\"-\",VLOOKUP(COUNTIF($W59:$Y59,\"A\")-COUNTIF($W59:$Y59,\"C\"),基本情報!$R$4:$S$10,2)))","v":""},null,null,null,null,null,"",null,null,null,{"$f":"IF(OR($I59=\"\",COUNTA($AG59:$AI59)=0),\"\",IF(AND(AG59=\"-\",AH59=\"-\",AI59=\"-\"),\"-\",VLOOKUP(COUNTIF($AG59:$AI59,\"A\")-COUNTIF($AG59:$AI59,\"C\"),基本情報!$R$4:$S$10,2)))","v":""}]
[null,null,null,null,11137,null,null,37,{"$f":"IF(VLOOKUP($E60,学年名簿と評価・評定!$E$24:$K$573,5)=\"\",\"\",VLOOKUP($E60,学年名簿と評価・評定!$E$24:$K$573,5))","v":""},{"$f":"IF(VLOOKUP($E60,学年名簿と評価・評定!$E$24:$K$573,6)=\"\",\"\",VLOOKUP($E60,学年名簿と評価・評定!$E$24:$K$573,7))","v":""},null,"",null,null,null,{"$f":"IF(OR($I60=\"\",COUNTA($M60:$O60)=0),\"\",IF(AND(M60=\"-\",N60=\"-\",O60=\"-\"),\"-\",VLOOKUP(COUNTIF($M60:$O60,\"A\")-COUNTIF($M60:$O60,\"C\"),基本情報!$R$4:$S$10,2)))","v":""},null,null,null,null,null,"",null,null,null,{"$f":"IF(OR($I60=\"\",COUNTA($W60:$Y60)=0),\"\",IF(AND(W60=\"-\",X60=\"-\",Y60=\"-\"),\"-\",VLOOKUP(COUNTIF($W60:$Y60,\"A\")-COUNTIF($W60:$Y60,\"C\"),基本情報!$R$4:$S$10,2)))","v":""},null,null,null,null,null,"",null,null,null,{"$f":"IF(OR($I60=\"\",COUNTA($AG60:$AI60)=0),\"\",IF(AND(AG60=\"-\",AH60=\"-\",AI60=\"-\"),\"-\",VLOOKUP(COUNTIF($AG60:$AI60,\"A\")-COUNTIF($AG60:$AI60,\"C\"),基本情報!$R$4:$S$10,2)))","v":""}]
[null,null,null,null,11138,null,null,38,{"$f":"IF(VLOOKUP($E61,学年名簿と評価・評定!$E$24:$K$573,5)=\"\",\"\",VLOOKUP($E61,学年名簿と評価・評定!$E$24:$K$573,5))","v":""},{"$f":"IF(VLOOKUP($E61,学年名簿と評価・評定!$E$24:$K$573,6)=\"\",\"\",VLOOKUP($E61,学年名簿と評価・評定!$E$24:$K$573,7))","v":""},null,"",null,null,null,{"$f":"IF(OR($I61=\"\",COUNTA($M61:$O61)=0),\"\",IF(AND(M61=\"-\",N61=\"-\",O61=\"-\"),\"-\",VLOOKUP(COUNTIF($M61:$O61,\"A\")-COUNTIF($M61:$O61,\"C\"),基本情報!$R$4:$S$10,2)))","v":""},null,null,null,null,null,"",null,null,null,{"$f":"IF(OR($I61=\"\",COUNTA($W61:$Y61)=0),\"\",IF(AND(W61=\"-\",X61=\"-\",Y61=\"-\"),\"-\",VLOOKUP(COUNTIF($W61:$Y61,\"A\")-COUNTIF($W61:$Y61,\"C\"),基本情報!$R$4:$S$10,2)))","v":""},null,null,null,null,null,"",null,null,null,{"$f":"IF(OR($I61=\"\",COUNTA($AG61:$AI61)=0),\"\",IF(AND(AG61=\"-\",AH61=\"-\",AI61=\"-\"),\"-\",VLOOKUP(COUNTIF($AG61:$AI61,\"A\")-COUNTIF($AG61:$AI61,\"C\"),基本情報!$R$4:$S$10,2)))","v":""}]
[null,null,null,null,11139,null,null,39,{"$f":"IF(VLOOKUP($E62,学年名簿と評価・評定!$E$24:$K$573,5)=\"\",\"\",VLOOKUP($E62,学年名簿と評価・評定!$E$24:$K$573,5))","v":""},{"$f":"IF(VLOOKUP($E62,学年名簿と評価・評定!$E$24:$K$573,6)=\"\",\"\",VLOOKUP($E62,学年名簿と評価・評定!$E$24:$K$573,7))","v":""},null,"",null,null,null,{"$f":"IF(OR($I62=\"\",COUNTA($M62:$O62)=0),\"\",IF(AND(M62=\"-\",N62=\"-\",O62=\"-\"),\"-\",VLOOKUP(COUNTIF($M62:$O62,\"A\")-COUNTIF($M62:$O62,\"C\"),基本情報!$R$4:$S$10,2)))","v":""},null,null,null,null,null,"",null,null,null,{"$f":"IF(OR($I62=\"\",COUNTA($W62:$Y62)=0),\"\",IF(AND(W62=\"-\",X62=\"-\",Y62=\"-\"),\"-\",VLOOKUP(COUNTIF($W62:$Y62,\"A\")-COUNTIF($W62:$Y62,\"C\"),基本情報!$R$4:$S$10,2)))","v":""},null,null,null,null,null,"",null,null,null,{"$f":"IF(OR($I62=\"\",COUNTA($AG62:$AI62)=0),\"\",IF(AND(AG62=\"-\",AH62=\"-\",AI62=\"-\"),\"-\",VLOOKUP(COUNTIF($AG62:$AI62,\"A\")-COUNTIF($AG62:$AI62,\"C\"),基本情報!$R$4:$S$10,2)))","v":""}]
[null,null,null,null,11140,null,null,40,{"$f":"IF(VLOOKUP($E63,学年名簿と評価・評定!$E$24:$K$573,5)=\"\",\"\",VLOOKUP($E63,学年名簿と評価・評定!$E$24:$K$573,5))","v":""},{"$f":"IF(VLOOKUP($E63,学年名簿と評価・評定!$E$24:$K$573,6)=\"\",\"\",VLOOKUP($E63,学年名簿と評価・評定!$E$24:$K$573,7))","v":""},null,"",null,null,null,{"$f":"IF(OR($I63=\"\",COUNTA($M63:$O63)=0),\"\",IF(AND(M63=\"-\",N63=\"-\",O63=\"-\"),\"-\",VLOOKUP(COUNTIF($M63:$O63,\"A\")-COUNTIF($M63:$O63,\"C\"),基本情報!$R$4:$S$10,2)))","v":""},null,null,null,null,null,"",null,null,null,{"$f":"IF(OR($I63=\"\",COUNTA($W63:$Y63)=0),\"\",IF(AND(W63=\"-\",X63=\"-\",Y63=\"-\"),\"-\",VLOOKUP(COUNTIF($W63:$Y63,\"A\")-COUNTIF($W63:$Y63,\"C\"),基本情報!$R$4:$S$10,2)))","v":""},null,null,null,null,null,"",null,null,null,{"$f":"IF(OR($I63=\"\",COUNTA($AG63:$AI63)=0),\"\",IF(AND(AG63=\"-\",AH63=\"-\",AI63=\"-\"),\"-\",VLOOKUP(COUNTIF($AG63:$AI63,\"A\")-COUNTIF($AG63:$AI63,\"C\"),基本情報!$R$4:$S$10,2)))","v":""}]
[null,null,null,null,11141,null,null,41,{"$f":"IF(VLOOKUP($E64,学年名簿と評価・評定!$E$24:$K$573,5)=\"\",\"\",VLOOKUP($E64,学年名簿と評価・評定!$E$24:$K$573,5))","v":""},{"$f":"IF(VLOOKUP($E64,学年名簿と評価・評定!$E$24:$K$573,6)=\"\",\"\",VLOOKUP($E64,学年名簿と評価・評定!$E$24:$K$573,7))","v":""},null,"",null,null,null,{"$f":"IF(OR($I64=\"\",COUNTA($M64:$O64)=0),\"\",IF(AND(M64=\"-\",N64=\"-\",O64=\"-\"),\"-\",VLOOKUP(COUNTIF($M64:$O64,\"A\")-COUNTIF($M64:$O64,\"C\"),基本情報!$R$4:$S$10,2)))","v":""},null,null,null,null,null,"",null,null,null,{"$f":"IF(OR($I64=\"\",COUNTA($W64:$Y64)=0),\"\",IF(AND(W64=\"-\",X64=\"-\",Y64=\"-\"),\"-\",VLOOKUP(COUNTIF($W64:$Y64,\"A\")-COUNTIF($W64:$Y64,\"C\"),基本情報!$R$4:$S$10,2)))","v":""},null,null,null,null,null,"",null,null,null,{"$f":"IF(OR($I64=\"\",COUNTA($AG64:$AI64)=0),\"\",IF(AND(AG64=\"-\",AH64=\"-\",AI64=\"-\"),\"-\",VLOOKUP(COUNTIF($AG64:$AI64,\"A\")-COUNTIF($AG64:$AI64,\"C\"),基本情報!$R$4:$S$10,2)))","v":""}]
[null,null,null,null,11142,null,null,42,{"$f":"IF(VLOOKUP($E65,学年名簿と評価・評定!$E$24:$K$573,5)=\"\",\"\",VLOOKUP($E65,学年名簿と評価・評定!$E$24:$K$573,5))","v":""},{"$f":"IF(VLOOKUP($E65,学年名簿と評価・評定!$E$24:$K$573,6)=\"\",\"\",VLOOKUP($E65,学年名簿と評価・評定!$E$24:$K$573,7))","v":""},null,"",null,null,null,{"$f":"IF(OR($I65=\"\",COUNTA($M65:$O65)=0),\"\",IF(AND(M65=\"-\",N65=\"-\",O65=\"-\"),\"-\",VLOOKUP(COUNTIF($M65:$O65,\"A\")-COUNTIF($M65:$O65,\"C\"),基本情報!$R$4:$S$10,2)))","v":""},null,null,null,null,null,"",null,null,null,{"$f":"IF(OR($I65=\"\",COUNTA($W65:$Y65)=0),\"\",IF(AND(W65=\"-\",X65=\"-\",Y65=\"-\"),\"-\",VLOOKUP(COUNTIF($W65:$Y65,\"A\")-COUNTIF($W65:$Y65,\"C\"),基本情報!$R$4:$S$10,2)))","v":""},null,null,null,null,null,"",null,null,null,{"$f":"IF(OR($I65=\"\",COUNTA($AG65:$AI65)=0),\"\",IF(AND(AG65=\"-\",AH65=\"-\",AI65=\"-\"),\"-\",VLOOKUP(COUNTIF($AG65:$AI65,\"A\")-COUNTIF($AG65:$AI65,\"C\"),基本情報!$R$4:$S$10,2)))","v":""}]
[null,null,null,null,11143,null,null,43,{"$f":"IF(VLOOKUP($E66,学年名簿と評価・評定!$E$24:$K$573,5)=\"\",\"\",VLOOKUP($E66,学年名簿と評価・評定!$E$24:$K$573,5))","v":""},{"$f":"IF(VLOOKUP($E66,学年名簿と評価・評定!$E$24:$K$573,6)=\"\",\"\",VLOOKUP($E66,学年名簿と評価・評定!$E$24:$K$573,7))","v":""},null,"",null,null,null,{"$f":"IF(OR($I66=\"\",COUNTA($M66:$O66)=0),\"\",IF(AND(M66=\"-\",N66=\"-\",O66=\"-\"),\"-\",VLOOKUP(COUNTIF($M66:$O66,\"A\")-COUNTIF($M66:$O66,\"C\"),基本情報!$R$4:$S$10,2)))","v":""},null,null,null,null,null,"",null,null,null,{"$f":"IF(OR($I66=\"\",COUNTA($W66:$Y66)=0),\"\",IF(AND(W66=\"-\",X66=\"-\",Y66=\"-\"),\"-\",VLOOKUP(COUNTIF($W66:$Y66,\"A\")-COUNTIF($W66:$Y66,\"C\"),基本情報!$R$4:$S$10,2)))","v":""},null,null,null,null,null,"",null,null,null,{"$f":"IF(OR($I66=\"\",COUNTA($AG66:$AI66)=0),\"\",IF(AND(AG66=\"-\",AH66=\"-\",AI66=\"-\"),\"-\",VLOOKUP(COUNTIF($AG66:$AI66,\"A\")-COUNTIF($AG66:$AI66,\"C\"),基本情報!$R$4:$S$10,2)))","v":""}]
[null,null,null,null,11144,null,null,44,{"$f":"IF(VLOOKUP($E67,学年名簿と評価・評定!$E$24:$K$573,5)=\"\",\"\",VLOOKUP($E67,学年名簿と評価・評定!$E$24:$K$573,5))","v":""},{"$f":"IF(VLOOKUP($E67,学年名簿と評価・評定!$E$24:$K$573,6)=\"\",\"\",VLOOKUP($E67,学年名簿と評価・評定!$E$24:$K$573,7))","v":""},null,"",null,null,null,{"$f":"IF(OR($I67=\"\",COUNTA($M67:$O67)=0),\"\",IF(AND(M67=\"-\",N67=\"-\",O67=\"-\"),\"-\",VLOOKUP(COUNTIF($M67:$O67,\"A\")-COUNTIF($M67:$O67,\"C\"),基本情報!$R$4:$S$10,2)))","v":""},null,null,null,null,null,"",null,null,null,{"$f":"IF(OR($I67=\"\",COUNTA($W67:$Y67)=0),\"\",IF(AND(W67=\"-\",X67=\"-\",Y67=\"-\"),\"-\",VLOOKUP(COUNTIF($W67:$Y67,\"A\")-COUNTIF($W67:$Y67,\"C\"),基本情報!$R$4:$S$10,2)))","v":""},null,null,null,null,null,"",null,null,null,{"$f":"IF(OR($I67=\"\",COUNTA($AG67:$AI67)=0),\"\",IF(AND(AG67=\"-\",AH67=\"-\",AI67=\"-\"),\"-\",VLOOKUP(COUNTIF($AG67:$AI67,\"A\")-COUNTIF($AG67:$AI67,\"C\"),基本情報!$R$4:$S$10,2)))","v":""}]
[null,null,null,null,11145,null,null,45,{"$f":"IF(VLOOKUP($E68,学年名簿と評価・評定!$E$24:$K$573,5)=\"\",\"\",VLOOKUP($E68,学年名簿と評価・評定!$E$24:$K$573,5))","v":""},{"$f":"IF(VLOOKUP($E68,学年名簿と評価・評定!$E$24:$K$573,6)=\"\",\"\",VLOOKUP($E68,学年名簿と評価・評定!$E$24:$K$573,7))","v":""},null,"",null,null,null,{"$f":"IF(OR($I68=\"\",COUNTA($M68:$O68)=0),\"\",IF(AND(M68=\"-\",N68=\"-\",O68=\"-\"),\"-\",VLOOKUP(COUNTIF($M68:$O68,\"A\")-COUNTIF($M68:$O68,\"C\"),基本情報!$R$4:$S$10,2)))","v":""},null,null,null,null,null,"",null,null,null,{"$f":"IF(OR($I68=\"\",COUNTA($W68:$Y68)=0),\"\",IF(AND(W68=\"-\",X68=\"-\",Y68=\"-\"),\"-\",VLOOKUP(COUNTIF($W68:$Y68,\"A\")-COUNTIF($W68:$Y68,\"C\"),基本情報!$R$4:$S$10,2)))","v":""},null,null,null,null,null,"",null,null,null,{"$f":"IF(OR($I68=\"\",COUNTA($AG68:$AI68)=0),\"\",IF(AND(AG68=\"-\",AH68=\"-\",AI68=\"-\"),\"-\",VLOOKUP(COUNTIF($AG68:$AI68,\"A\")-COUNTIF($AG68:$AI68,\"C\"),基本情報!$R$4:$S$10,2)))","v":""}]
[null,null,null,null,11146,null,null,46,{"$f":"IF(VLOOKUP($E69,学年名簿と評価・評定!$E$24:$K$573,5)=\"\",\"\",VLOOKUP($E69,学年名簿と評価・評定!$E$24:$K$573,5))","v":""},{"$f":"IF(VLOOKUP($E69,学年名簿と評価・評定!$E$24:$K$573,6)=\"\",\"\",VLOOKUP($E69,学年名簿と評価・評定!$E$24:$K$573,7))","v":""},null,"",null,null,null,{"$f":"IF(OR($I69=\"\",COUNTA($M69:$O69)=0),\"\",IF(AND(M69=\"-\",N69=\"-\",O69=\"-\"),\"-\",VLOOKUP(COUNTIF($M69:$O69,\"A\")-COUNTIF($M69:$O69,\"C\"),基本情報!$R$4:$S$10,2)))","v":""},null,null,null,null,null,"",null,null,null,{"$f":"IF(OR($I69=\"\",COUNTA($W69:$Y69)=0),\"\",IF(AND(W69=\"-\",X69=\"-\",Y69=\"-\"),\"-\",VLOOKUP(COUNTIF($W69:$Y69,\"A\")-COUNTIF($W69:$Y69,\"C\"),基本情報!$R$4:$S$10,2)))","v":""},null,null,null,null,null,"",null,null,null,{"$f":"IF(OR($I69=\"\",COUNTA($AG69:$AI69)=0),\"\",IF(AND(AG69=\"-\",AH69=\"-\",AI69=\"-\"),\"-\",VLOOKUP(COUNTIF($AG69:$AI69,\"A\")-COUNTIF($AG69:$AI69,\"C\"),基本情報!$R$4:$S$10,2)))","v":""}]
[null,null,null,null,11147,null,null,47,{"$f":"IF(VLOOKUP($E70,学年名簿と評価・評定!$E$24:$K$573,5)=\"\",\"\",VLOOKUP($E70,学年名簿と評価・評定!$E$24:$K$573,5))","v":""},{"$f":"IF(VLOOKUP($E70,学年名簿と評価・評定!$E$24:$K$573,6)=\"\",\"\",VLOOKUP($E70,学年名簿と評価・評定!$E$24:$K$573,7))","v":""},null,"",null,null,null,{"$f":"IF(OR($I70=\"\",COUNTA($M70:$O70)=0),\"\",IF(AND(M70=\"-\",N70=\"-\",O70=\"-\"),\"-\",VLOOKUP(COUNTIF($M70:$O70,\"A\")-COUNTIF($M70:$O70,\"C\"),基本情報!$R$4:$S$10,2)))","v":""},null,null,null,null,null,"",null,null,null,{"$f":"IF(OR($I70=\"\",COUNTA($W70:$Y70)=0),\"\",IF(AND(W70=\"-\",X70=\"-\",Y70=\"-\"),\"-\",VLOOKUP(COUNTIF($W70:$Y70,\"A\")-COUNTIF($W70:$Y70,\"C\"),基本情報!$R$4:$S$10,2)))","v":""},null,null,null,null,null,"",null,null,null,{"$f":"IF(OR($I70=\"\",COUNTA($AG70:$AI70)=0),\"\",IF(AND(AG70=\"-\",AH70=\"-\",AI70=\"-\"),\"-\",VLOOKUP(COUNTIF($AG70:$AI70,\"A\")-COUNTIF($AG70:$AI70,\"C\"),基本情報!$R$4:$S$10,2)))","v":""}]
[null,null,null,null,11148,null,null,48,{"$f":"IF(VLOOKUP($E71,学年名簿と評価・評定!$E$24:$K$573,5)=\"\",\"\",VLOOKUP($E71,学年名簿と評価・評定!$E$24:$K$573,5))","v":""},{"$f":"IF(VLOOKUP($E71,学年名簿と評価・評定!$E$24:$K$573,6)=\"\",\"\",VLOOKUP($E71,学年名簿と評価・評定!$E$24:$K$573,7))","v":""},null,"",null,null,null,{"$f":"IF(OR($I71=\"\",COUNTA($M71:$O71)=0),\"\",IF(AND(M71=\"-\",N71=\"-\",O71=\"-\"),\"-\",VLOOKUP(COUNTIF($M71:$O71,\"A\")-COUNTIF($M71:$O71,\"C\"),基本情報!$R$4:$S$10,2)))","v":""},null,null,null,null,null,"",null,null,null,{"$f":"IF(OR($I71=\"\",COUNTA($W71:$Y71)=0),\"\",IF(AND(W71=\"-\",X71=\"-\",Y71=\"-\"),\"-\",VLOOKUP(COUNTIF($W71:$Y71,\"A\")-COUNTIF($W71:$Y71,\"C\"),基本情報!$R$4:$S$10,2)))","v":""},null,null,null,null,null,"",null,null,null,{"$f":"IF(OR($I71=\"\",COUNTA($AG71:$AI71)=0),\"\",IF(AND(AG71=\"-\",AH71=\"-\",AI71=\"-\"),\"-\",VLOOKUP(COUNTIF($AG71:$AI71,\"A\")-COUNTIF($AG71:$AI71,\"C\"),基本情報!$R$4:$S$10,2)))","v":""}]
[null,null,null,null,11149,null,null,49,{"$f":"IF(VLOOKUP($E72,学年名簿と評価・評定!$E$24:$K$573,5)=\"\",\"\",VLOOKUP($E72,学年名簿と評価・評定!$E$24:$K$573,5))","v":""},{"$f":"IF(VLOOKUP($E72,学年名簿と評価・評定!$E$24:$K$573,6)=\"\",\"\",VLOOKUP($E72,学年名簿と評価・評定!$E$24:$K$573,7))","v":""},null,"",null,null,null,{"$f":"IF(OR($I72=\"\",COUNTA($M72:$O72)=0),\"\",IF(AND(M72=\"-\",N72=\"-\",O72=\"-\"),\"-\",VLOOKUP(COUNTIF($M72:$O72,\"A\")-COUNTIF($M72:$O72,\"C\"),基本情報!$R$4:$S$10,2)))","v":""},null,null,null,null,null,"",null,null,null,{"$f":"IF(OR($I72=\"\",COUNTA($W72:$Y72)=0),\"\",IF(AND(W72=\"-\",X72=\"-\",Y72=\"-\"),\"-\",VLOOKUP(COUNTIF($W72:$Y72,\"A\")-COUNTIF($W72:$Y72,\"C\"),基本情報!$R$4:$S$10,2)))","v":""},null,null,null,null,null,"",null,null,null,{"$f":"IF(OR($I72=\"\",COUNTA($AG72:$AI72)=0),\"\",IF(AND(AG72=\"-\",AH72=\"-\",AI72=\"-\"),\"-\",VLOOKUP(COUNTIF($AG72:$AI72,\"A\")-COUNTIF($AG72:$AI72,\"C\"),基本情報!$R$4:$S$10,2)))","v":""}]
[null,null,null,null,11150,null,null,50,{"$f":"IF(VLOOKUP($E73,学年名簿と評価・評定!$E$24:$K$573,5)=\"\",\"\",VLOOKUP($E73,学年名簿と評価・評定!$E$24:$K$573,5))","v":""},{"$f":"IF(VLOOKUP($E73,学年名簿と評価・評定!$E$24:$K$573,6)=\"\",\"\",VLOOKUP($E73,学年名簿と評価・評定!$E$24:$K$573,7))","v":""},null,"",null,null,null,{"$f":"IF(OR($I73=\"\",COUNTA($M73:$O73)=0),\"\",IF(AND(M73=\"-\",N73=\"-\",O73=\"-\"),\"-\",VLOOKUP(COUNTIF($M73:$O73,\"A\")-COUNTIF($M73:$O73,\"C\"),基本情報!$R$4:$S$10,2)))","v":""},null,null,null,null,null,"",null,null,null,{"$f":"IF(OR($I73=\"\",COUNTA($W73:$Y73)=0),\"\",IF(AND(W73=\"-\",X73=\"-\",Y73=\"-\"),\"-\",VLOOKUP(COUNTIF($W73:$Y73,\"A\")-COUNTIF($W73:$Y73,\"C\"),基本情報!$R$4:$S$10,2)))","v":""},null,null,null,null,null,"",null,null,null,{"$f":"IF(OR($I73=\"\",COUNTA($AG73:$AI73)=0),\"\",IF(AND(AG73=\"-\",AH73=\"-\",AI73=\"-\"),\"-\",VLOOKUP(COUNTIF($AG73:$AI73,\"A\")-COUNTIF($AG73:$AI73,\"C\"),基本情報!$R$4:$S$10,2)))","v":""}]