{"text_format":"1","workbook":"xlsx","n_sheets":7,"sheets":["動詞の活用まとめ","五段活用","五段活用 (2)","下一段","上一段","カ変","サ変"],"not_rendered":{"charts":0,"images":0,"macros":0,"external_links":0,"defined_names":0,"comments":0,"pivot_tables":0},"unopened":[],"bounds":{"document_bytes":16777216,"sheet_cells":100000,"rows_first":2000,"rows_last":500,"rows_between":2000,"halvings":0,"cell_chars":16384,"cell_head_chars":4096},"cells_cut":0,"cells_raw":0,"read":"whole","date_system":"1900"}

{"sheet":"動詞の活用まとめ","index":0,"n_rows":42,"n_cols":56,"rows_kept":42,"cut":false,"hidden":false,"merged":[[16,3,18,3],[16,4,18,4],[16,5,21,5],[16,6,18,6],[22,5,26,5],[1,55,4,56],[1,47,6,48],[7,47,9,48],[10,47,12,48],[13,47,18,48],[13,49,18,50],[1,51,6,52],[7,51,14,52],[8,49,10,50],[5,5,6,5],[8,5,12,5],[13,5,14,5],[13,6,15,6],[13,45,18,46],[13,43,18,44],[7,45,12,46]]}
[]
[null,null,null,null,null,null,null,null,null,null,null,null,null,null,null,null,null,null,null,null,null,null,null,null,null,null,null,null,null,null,null,null,null,null,null,null,null,null,null,null,null,null,null,null,null,null,null,{"$f":"F9","v":"(まだ)"},null,null,null,{"$f":"IF(VLOOKUP($D$29,$E$29:$F$42,2)=\"\",\"\",VLOOKUP($D$29,$E$29:$F$42,2))","v":"五段活用"},null,null,null,{"$f":"F4&F5","v":"か行"}]
[null,null,null,null,null,null,null,null,null,null,null,null,null,{"$f":"MAX($O$3:$AI$3)","v":11},1,1.5,2,2.5,3,3.5,4,4.5,5,5.5,6,6.5,7,7.5,8,8.5,9,9.5,10,10.5,11,11.5,12,12.5,13,13.5]
[null,null,null,null,null,{"$f":"HLOOKUP($B$9,$O$3:$AP$17,15)","v":"か"},null,null,null,null,null,1,2,3,4,5,6,7,8,9,10,11,12,13,14,15,16,17,18,19,20,21,22,23,24,25,26,27,28,29]
[null,null,null,null,null,"行",null,null,null,null,null,2,null,null,null,{"$f":"IF(O5=\"\",\"\",O5)","v":""},"突",{"$f":"IF(Q5=\"\",\"\",Q5)","v":"突"},"足",{"$f":"IF(S5=\"\",\"\",S5)","v":"足"},"打",{"$f":"IF(U5=\"\",\"\",U5)","v":"打"},"死",{"$f":"IF(W5=\"\",\"\",W5)","v":"死"},null,{"$f":"IF(Y5=\"\",\"\",Y5)","v":""},"励",{"$f":"IF(AA5=\"\",\"\",AA5)","v":"励"},"止ま",{"$f":"IF(AC5=\"\",\"\",AC5)","v":"止ま"},"吸",{"$f":"IF(AE5=\"\",\"\",AE5)","v":"吸"},"つな",{"$f":"IF(AG5=\"\",\"\",AG5)","v":"つな"},null,{"$f":"IF(AI5=\"\",\"\",AI5)","v":""},null,{"$f":"IF(AK5=\"\",\"\",AK5)","v":""},"学",{"$f":"IF(AM5=\"\",\"\",AM5)","v":"学"}]
[null,null,null,null,null,{"$f":"IF($D$29=1,五段活用!F6,IF($D$29=2,'五段活用 (2)'!F6,IF($D$29=3,下一段!F6,IF($D$29=4,上一段!F6,IF($D$29=4,上一段!F6,IF($D$29=5,カ変!F6,IF($D$29=6,サ変!F6,\"\")))))))","v":"書"},"例",null,null,null,null,3,null,null,null,{"$f":"IF(O6=\"\",\"\",O6)","v":""},"咲",{"$f":"IF(Q6=\"\",\"\",Q6)","v":"咲"},"咲か",{"$f":"IF(S6=\"\",\"\",S6)","v":"咲か"},"待",{"$f":"IF(U6=\"\",\"\",U6)","v":"待"},null,{"$f":"IF(W6=\"\",\"\",W6)","v":""},null,{"$f":"IF(Y6=\"\",\"\",Y6)","v":""},"積",{"$f":"IF(AA6=\"\",\"\",AA6)","v":"積"},"登",{"$f":"IF(AC6=\"\",\"\",AC6)","v":"登"},"結",{"$f":"IF(AE6=\"\",\"\",AE6)","v":"結"},"継",{"$f":"IF(AG6=\"\",\"\",AG6)","v":"継"},null,{"$f":"IF(AI6=\"\",\"\",AI6)","v":""},null,{"$f":"IF(AK6=\"\",\"\",AK6)","v":""},"結",{"$f":"IF(AM6=\"\",\"\",AM6)","v":"結"}]
[null,3,null,null,null,null,{"$f":"(6-B7)*(-1)+4","v":1},null,null,null,null,4,null,null,null,{"$f":"IF(O7=\"\",\"\",O7)","v":""},"歩",{"$f":"IF(Q7=\"\",\"\",Q7)","v":"歩"},"回",{"$f":"IF(S7=\"\",\"\",S7)","v":"回"},"立",{"$f":"IF(U7=\"\",\"\",U7)","v":"立"},null,{"$f":"IF(W7=\"\",\"\",W7)","v":""},null,{"$f":"IF(Y7=\"\",\"\",Y7)","v":""},"噛",{"$f":"IF(AA7=\"\",\"\",AA7)","v":"噛"},"走",{"$f":"IF(AC7=\"\",\"\",AC7)","v":"走"},"洗",{"$f":"IF(AE7=\"\",\"\",AE7)","v":"洗"},"泳",{"$f":"IF(AG7=\"\",\"\",AG7)","v":"泳"},null,{"$f":"IF(AI7=\"\",\"\",AI7)","v":""},null,{"$f":"IF(AK7=\"\",\"\",AK7)","v":""},"飛",{"$f":"IF(AM7=\"\",\"\",AM7)","v":"飛"}]
[null,null,null,null,null,{"$f":"IF($D$29=1,五段活用!F8,IF($D$29=2,'五段活用 (2)'!F8,IF($D$29=3,下一段!F8,IF($D$29=4,上一段!F8,IF($D$29=4,上一段!F8,IF($D$29=5,カ変!F8,IF($D$29=6,サ変!F8,\"\")))))))","v":"く"},null,null,null,1,"未然",1,"ない",null,null,null,"か",null,"さ",null,"た",null,"な",null,"は",null,"ま",null,"ら",null,"わ",null,"が",null,null,null,null,null,"ば",null,null,null,null,null,null,{"$f":"G14","v":"未然形"},null,{"$f":"F14","v":"書"},null,null,null,{"$f":"IF(F6&F8=\"\",\"\",\"「\"&F6&F8&\"」\")","v":"「書く」"}]
[null,2,{"$f":"IF($D$29=1,五段活用!C9,IF($D$29=2,'五段活用 (2)'!C9,IF($D$29=3,下一段!C9,IF($D$29=4,上一段!C9,IF($D$29=4,上一段!C9,IF($D$29=5,カ変!C9,IF($D$29=6,サ変!C9,\"\")))))))","v":"書"},null,null,{"$f":"IF($D$29=1,五段活用!F9,IF($D$29=2,'五段活用 (2)'!F9,IF($D$29=3,下一段!F9,IF($D$29=4,上一段!F9,IF($D$29=4,上一段!F9,IF($D$29=5,カ変!F9,IF($D$29=6,サ変!F9,\"\")))))))","v":"(まだ)"},null,null,null,2,"未然",2,"う",null,null,null,"こ",null,"そ",null,"と",null,"の",null,"ほ",null,"も",null,"ろ",null,"お",null,"ご",null,null,null,null,null,"ぼ",null,null,null,null,null,null,null,null,null,null,{"$f":"IF(AZ8=\"\",\"\",\"←\")","v":"←"}]
[null,{"$f":"B9+0.5","v":2.5},null,null,null,null,null,null,null,3,"連用",4,"ます",null,null,null,"き",null,"し",null,"ち",null,"に",null,"ひ",null,"み",null,"り",null,"い",null,"ぎ",null,null,null,null,null,"び"]
[null,1,{"$f":"IF($D$29=1,五段活用!C11,IF($D$29=2,'五段活用 (2)'!C11,IF($D$29=3,下一段!C11,IF($D$29=4,上一段!C11,IF($D$29=4,上一段!C11,IF($D$29=5,カ変!C11,IF($D$29=6,サ変!C11,\"\")))))))","v":"か"},null,null,null,null,null,null,4,"連用",5,"た","だ",null,null,"い",null,"し",null,"っ",null,null,"ん",null,"ん",null,"ん","っ",null,"っ",null,null,"い",null,null,null,null,null,"ん",null,null,null,null,null,null,null,{"$f":"F16","v":"か"}]
[null,null,{"$f":"IF($D$29=1,五段活用!C12,IF($D$29=2,'五段活用 (2)'!C12,IF($D$29=3,下一段!C12,IF($D$29=4,上一段!C12,IF($D$29=4,上一段!C12,IF($D$29=5,カ変!C12,IF($D$29=6,サ変!C12,\"\")))))))","v":"ない"},null,null,null,null,null,null,5,"終止",6,"。",null,null,null,"く",null,"す",null,"つ",null,"ぬ",null,"ふ",null,"む",null,"る",null,"う",null,"ぐ",null,null,null,null,null,"ぶ"]
[null,null,{"$f":"IF($D$29=1,五段活用!C13,IF($D$29=2,'五段活用 (2)'!C13,IF($D$29=3,下一段!C13,IF($D$29=4,上一段!C13,IF($D$29=4,上一段!C13,IF($D$29=5,カ変!C13,IF($D$29=6,サ変!C13,\"\")))))))","v":""},null,null,null,null,null,null,6,"連体",7,"とき",null,null,null,"く",null,"す",null,"つ",null,"ぬ",null,"ふ",null,"む",null,"る",null,"う",null,"ぐ",null,null,null,null,null,"ぶ"]
[null,null,{"$f":"IF($D$29=1,五段活用!C14,IF($D$29=2,'五段活用 (2)'!C14,IF($D$29=3,下一段!C14,IF($D$29=4,上一段!C14,IF($D$29=4,上一段!C14,IF($D$29=5,カ変!C14,IF($D$29=6,サ変!C14,\"\")))))))","v":""},null,null,{"$f":"IF($D$29=1,五段活用!F14,IF($D$29=2,'五段活用 (2)'!F14,IF($D$29=3,下一段!F14,IF($D$29=4,上一段!F14,IF($D$29=4,上一段!F14,IF($D$29=5,カ変!F14,IF($D$29=6,サ変!F14,\"\")))))))","v":"書"},{"$f":"VLOOKUP($B$11,$J$8:$K$15,2)&\"形\"","v":"未然形"},null,null,7,"仮定",8,"ば",null,null,null,"け",null,"せ",null,"て",null,"ね",null,"へ",null,"め",null,"れ",null,"え",null,"げ",null,null,null,null,null,"べ",null,null,null,null,{"$f":"D17","v":"せる"},null,{"$f":"E17","v":"れる"},null,{"$f":"F17","v":"ない"},null,{"$f":"G17","v":"ず"}]
[null,null,null,null,null,null,null,null,null,8,"命令",9,"。",null,null,null,"け",null,"せ",null,"て",null,"ね",null,"へ",null,"め",null,"れ",null,"え",null,"げ",null,null,null,null,null,"べ"]
[null,null,null,null,null,{"$f":"IF($D$29=1,五段活用!F16,IF($D$29=2,'五段活用 (2)'!F16,IF($D$29=3,下一段!F16,IF($D$29=4,上一段!F16,IF($D$29=4,上一段!F16,IF($D$29=5,カ変!F16,IF($D$29=6,サ変!F16,\"\")))))))","v":"か"},null,null,null,9]
[null,null,null,{"$f":"IF($D$29=1,五段活用!D17,IF($D$29=2,'五段活用 (2)'!D17,IF($D$29=3,下一段!D17,IF($D$29=4,上一段!D17,IF($D$29=4,上一段!D17,IF($D$29=5,カ変!D17,IF($D$29=6,サ変!D17,\"\")))))))","v":"せる"},{"$f":"IF($D$29=1,五段活用!E17,IF($D$29=2,'五段活用 (2)'!E17,IF($D$29=3,下一段!E17,IF($D$29=4,上一段!E17,IF($D$29=4,上一段!E17,IF($D$29=5,カ変!E17,IF($D$29=6,サ変!E17,\"\")))))))","v":"れる"},{"$f":"IF($D$29=1,五段活用!F17,IF($D$29=2,'五段活用 (2)'!F17,IF($D$29=3,下一段!F17,IF($D$29=4,上一段!F17,IF($D$29=4,上一段!F17,IF($D$29=5,カ変!F17,IF($D$29=6,サ変!F17,\"\")))))))","v":"ない"},{"$f":"IF($D$29=1,五段活用!G17,IF($D$29=2,'五段活用 (2)'!G17,IF($D$29=3,下一段!G17,IF($D$29=4,上一段!G17,IF($D$29=4,上一段!G17,IF($D$29=5,カ変!G17,IF($D$29=6,サ変!G17,\"\")))))))","v":"ず"},null,null,null,null,null,null,null,"あ",null,"か",null,"さ",null,"た",null,"な",null,"は",null,"ま",null,"ら",null,"わ",null,"が",null,"ざ",null,"だ",null,"ば"]
[null,null,null,null,null,null,null,null,null,1,"まだ"]
[null,null,null,null,null,null,null,null,null,2,"これから"]
[null,null,null,null,null,null,null,null,null,3,"今"]
[null,null,null,null,null,null,null,null,null,4,"さっき"]
[null,null,null,null,null,null,null,null,null,5,"しっかりと"]
[null,null,null,null,null,{"$f":"IF(VLOOKUP($B$11,$J$18:$L$25,3)=\"\",\"\",\"(\"&VLOOKUP($B$11,$J$18:$L$25,3)&\")\")","v":""},null,null,null,6,"それは","です"]
[null,null,null,null,null,null,null,null,null,7,"もしも"]
[null,null,null,null,null,null,null,null,null,8,"必ず"]
[]
[]
[]
[null,null,null,1,1,"五段活用"]
[null,null,null,null,2,"五段活用(岐)"]
[null,null,null,null,3,"下一段活用"]
[null,null,null,null,4,"上一段活用"]
[null,null,null,null,5,"カ行変格活用"]
[null,null,null,null,6,"サ行変格活用"]
[null,null,null,null,7]
[null,null,null,null,8]
[null,null,null,null,9]
[null,null,null,null,10]
[null,null,null,null,11]
[null,null,null,null,12]
[null,null,null,null,13]
[null,null,null,null,14]

{"sheet":"五段活用","index":1,"n_rows":25,"n_cols":40,"rows_kept":25,"cut":false,"hidden":true,"merged":[[5,5,6,5],[8,5,12,5],[22,5,26,5],[16,5,21,5],[16,4,18,4],[16,3,18,3],[16,6,18,6],[13,6,15,6],[13,5,14,5]]}
[]
[]
[null,null,null,null,null,null,null,null,null,null,null,null,null,{"$f":"MAX($O$3:$AI$3)","v":11},1,1.5,2,2.5,3,3.5,4,4.5,5,5.5,6,6.5,7,7.5,8,8.5,9,9.5,10,10.5,11,11.5,12,12.5,13,13.5]
[null,null,null,null,null,{"$f":"HLOOKUP($B$9,$O$3:$AP$17,15)","v":"か"},null,null,null,null,null,1,2,3,4,5,6,7,8,9,10,11,12,13,14,15,16,17,18,19,20,21,22,23,24,25,26,27,28,29]
[null,null,null,null,null,"行",null,null,null,null,null,2,null,null,null,{"$f":"IF(O5=\"\",\"\",O5)","v":""},"書",{"$f":"IF(Q5=\"\",\"\",Q5)","v":"書"},"足",{"$f":"IF(S5=\"\",\"\",S5)","v":"足"},"打",{"$f":"IF(U5=\"\",\"\",U5)","v":"打"},"死",{"$f":"IF(W5=\"\",\"\",W5)","v":"死"},null,{"$f":"IF(Y5=\"\",\"\",Y5)","v":""},"励",{"$f":"IF(AA5=\"\",\"\",AA5)","v":"励"},"止ま",{"$f":"IF(AC5=\"\",\"\",AC5)","v":"止ま"},"吸",{"$f":"IF(AE5=\"\",\"\",AE5)","v":"吸"},"つな",{"$f":"IF(AG5=\"\",\"\",AG5)","v":"つな"},null,{"$f":"IF(AI5=\"\",\"\",AI5)","v":""},null,{"$f":"IF(AK5=\"\",\"\",AK5)","v":""},"学",{"$f":"IF(AM5=\"\",\"\",AM5)","v":"学"}]
[null,null,null,null,null,{"$f":"F14","v":"書"},"例",null,null,null,null,3,null,null,null,{"$f":"IF(O6=\"\",\"\",O6)","v":""},"咲",{"$f":"IF(Q6=\"\",\"\",Q6)","v":"咲"},"咲か",{"$f":"IF(S6=\"\",\"\",S6)","v":"咲か"},"待",{"$f":"IF(U6=\"\",\"\",U6)","v":"待"},null,{"$f":"IF(W6=\"\",\"\",W6)","v":""},null,{"$f":"IF(Y6=\"\",\"\",Y6)","v":""},"積",{"$f":"IF(AA6=\"\",\"\",AA6)","v":"積"},"登",{"$f":"IF(AC6=\"\",\"\",AC6)","v":"登"},"結",{"$f":"IF(AE6=\"\",\"\",AE6)","v":"結"},"継",{"$f":"IF(AG6=\"\",\"\",AG6)","v":"継"},null,{"$f":"IF(AI6=\"\",\"\",AI6)","v":""},null,{"$f":"IF(AK6=\"\",\"\",AK6)","v":""},"結",{"$f":"IF(AM6=\"\",\"\",AM6)","v":"結"}]
[null,{"$f":"動詞の活用まとめ!B7","v":3},null,null,null,null,{"$f":"(6-B7)*(-1)+4","v":1},null,null,null,null,4,null,null,null,{"$f":"IF(O7=\"\",\"\",O7)","v":""},"歩",{"$f":"IF(Q7=\"\",\"\",Q7)","v":"歩"},"回",{"$f":"IF(S7=\"\",\"\",S7)","v":"回"},"立",{"$f":"IF(U7=\"\",\"\",U7)","v":"立"},null,{"$f":"IF(W7=\"\",\"\",W7)","v":""},null,{"$f":"IF(Y7=\"\",\"\",Y7)","v":""},"噛",{"$f":"IF(AA7=\"\",\"\",AA7)","v":"噛"},"走",{"$f":"IF(AC7=\"\",\"\",AC7)","v":"走"},"洗",{"$f":"IF(AE7=\"\",\"\",AE7)","v":"洗"},"泳",{"$f":"IF(AG7=\"\",\"\",AG7)","v":"泳"},null,{"$f":"IF(AI7=\"\",\"\",AI7)","v":""},null,{"$f":"IF(AK7=\"\",\"\",AK7)","v":""},"飛",{"$f":"IF(AM7=\"\",\"\",AM7)","v":"飛"}]
[null,null,null,null,null,{"$f":"IF(F6=\"\",\"\",HLOOKUP($B$9,$O$3:$AP$12,10))","v":"く"},null,null,null,1,"未然",1,"ない",null,null,null,"か",null,"さ",null,"た",null,"な",null,"は",null,"ま",null,"ら",null,"わ",null,"が",null,null,null,null,null,"ば"]
[null,{"$f":"動詞の活用まとめ!B9","v":2},{"$f":"IF(HLOOKUP($B$9,$O$3:$AP$7,$B$7)=\"\",\"\",HLOOKUP($B$9,$O$3:$AP$7,$B$7))","v":"書"},null,null,{"$f":"IF(F8=\"\",\"\",\"(\"&VLOOKUP($B$11,$J$18:$K$25,2)&\")\")","v":"(まだ)"},null,null,null,2,"未然",2,"う",null,null,null,"こ",null,"そ",null,"と",null,"の",null,"ほ",null,"も",null,"ろ",null,"お",null,"ご",null,null,null,null,null,"ぼ"]
[null,{"$f":"動詞の活用まとめ!B10","v":2.5},null,null,null,null,null,null,null,3,"連用",3,"ます",null,null,null,"き",null,"し",null,"ち",null,"に",null,"ひ",null,"み",null,"り",null,"い",null,"ぎ",null,null,null,null,null,"び"]
[null,{"$f":"動詞の活用まとめ!B11","v":1},{"$f":"IF(VLOOKUP($B$11,$L$8:$AP$17,HLOOKUP($B$9,$O$3:$AP$4,2))=\"\",\"\",VLOOKUP($B$11,$L$8:$AP$17,HLOOKUP($B$9,$O$3:$AP$4,2)))","v":"か"},null,null,null,null,null,null,4,"連用",4,"た","だ",null,null,"い",null,"し",null,"っ",null,null,"ん",null,"ん",null,"ん","っ",null,"っ",null,null,"い",null,null,null,null,null,"ん"]
[null,null,{"$f":"IF(C11=\"\",\"\",VLOOKUP($B$11,$L$8:$AP$17,2))","v":"ない"},null,null,null,null,null,null,5,"終止",5,"。",null,null,null,"く",null,"す",null,"つ",null,"ぬ",null,"ふ",null,"む",null,"る",null,"う",null,"ぐ",null,null,null,null,null,"ぶ"]
[null,null,{"$f":"IF(VLOOKUP($B$11,$L$8:$AP$17,HLOOKUP($B$10,$O$3:$AP$4,2))=\"\",\"\",VLOOKUP($B$11,$L$8:$AP$17,HLOOKUP($B$10,$O$3:$AP$4,2)))","v":""},null,null,null,null,null,null,6,"連体",6,"とき",null,null,null,"く",null,"す",null,"つ",null,"ぬ",null,"ふ",null,"む",null,"る",null,"う",null,"ぐ",null,null,null,null,null,"ぶ"]
[null,null,{"$f":"IF(C13=\"\",\"\",VLOOKUP($B$11,$L$8:$AP$17,3))","v":""},null,null,{"$f":"IF(C9=\"\",\"\",C9)","v":"書"},{"$f":"VLOOKUP($B$11,$J$8:$K$15,2)&\"形\"","v":"未然形"},null,null,7,"仮定",7,"ば",null,null,null,"け",null,"せ",null,"て",null,"ね",null,"へ",null,"め",null,"れ",null,"え",null,"げ",null,null,null,null,null,"べ"]
[null,null,null,null,null,null,null,null,null,8,"命令",8,"。",null,null,null,"け",null,"せ",null,"て",null,"ね",null,"へ",null,"め",null,"れ",null,"え",null,"げ",null,null,null,null,null,"べ"]
[null,null,null,null,null,{"$f":"IF(F6=\"\",\"\",C11&C13)","v":"か"},null,null,null,9]
[null,null,null,{"$f":"IF($F$6=\"\",\"\",IF(B11=1,\"せる\",\"\"))","v":"せる"},{"$f":"IF($F$6=\"\",\"\",IF(B11=1,\"れる\",\"\"))","v":"れる"},{"$f":"IF(F6=\"\",\"\",C12&C14)","v":"ない"},{"$f":"IF(F6=\"\",\"\",IF(B11=1,\"ず\",\"\"))","v":"ず"},null,null,null,null,null,null,null,"あ",null,"か",null,"さ",null,"た",null,"な",null,"は",null,"ま",null,"ら",null,"わ",null,"が",null,"ざ",null,"だ",null,"ば"]
[null,null,null,null,null,null,null,null,null,1,"まだ"]
[null,null,null,null,null,null,null,null,null,2,"これから"]
[null,null,null,null,null,null,null,null,null,3,"今"]
[null,null,null,null,null,null,null,null,null,4,"さっき"]
[null,null,null,null,null,null,null,null,null,5,"しっかりと"]
[null,null,null,null,null,{"$f":"IF(VLOOKUP($B$11,$J$18:$L$25,3)=\"\",\"\",\"(\"&VLOOKUP($B$11,$J$18:$L$25,3)&\")\")","v":""},null,null,null,6,"それは","です"]
[null,null,null,null,null,null,null,null,null,7,"もしも"]
[null,null,null,null,null,null,null,null,null,8,"必ず"]

{"sheet":"五段活用 (2)","index":2,"n_rows":25,"n_cols":40,"rows_kept":25,"cut":false,"hidden":true,"merged":[[16,4,18,4],[16,3,18,3],[16,6,18,6],[5,5,6,5],[8,5,12,5],[13,5,14,5],[13,6,15,6],[22,5,26,5],[16,5,21,5]]}
[]
[]
[null,null,null,null,null,null,null,null,null,null,null,null,null,{"$f":"MAX($O$3:$AI$3)","v":11},1,1.5,2,2.5,3,3.5,4,4.5,5,5.5,6,6.5,7,7.5,8,8.5,9,9.5,10,10.5,11,11.5,12,12.5,13,13.5]
[null,null,null,null,null,{"$f":"HLOOKUP($B$9,$O$3:$AP$17,15)","v":"か"},null,null,null,null,null,1,2,3,4,5,6,7,8,9,10,11,12,13,14,15,16,17,18,19,20,21,22,23,24,25,26,27,28,29]
[null,null,null,null,null,"行",null,null,null,null,null,2,null,null,null,{"$f":"IF(O5=\"\",\"\",O5)","v":""},"書",{"$f":"IF(Q5=\"\",\"\",Q5)","v":"書"},"足",{"$f":"IF(S5=\"\",\"\",S5)","v":"足"},"打",{"$f":"IF(U5=\"\",\"\",U5)","v":"打"},"死",{"$f":"IF(W5=\"\",\"\",W5)","v":"死"},null,{"$f":"IF(Y5=\"\",\"\",Y5)","v":""},"励",{"$f":"IF(AA5=\"\",\"\",AA5)","v":"励"},"止ま",{"$f":"IF(AC5=\"\",\"\",AC5)","v":"止ま"},"吸",{"$f":"IF(AE5=\"\",\"\",AE5)","v":"吸"},"つな",{"$f":"IF(AG5=\"\",\"\",AG5)","v":"つな"},null,{"$f":"IF(AI5=\"\",\"\",AI5)","v":""},null,{"$f":"IF(AK5=\"\",\"\",AK5)","v":""},"学",{"$f":"AM5","v":"学"}]
[null,null,null,null,null,{"$f":"F14","v":"書"},"例",null,null,null,null,3,null,null,null,{"$f":"IF(O6=\"\",\"\",O6)","v":""},"咲",{"$f":"IF(Q6=\"\",\"\",Q6)","v":"咲"},"咲か",{"$f":"IF(S6=\"\",\"\",S6)","v":"咲か"},"待",{"$f":"IF(U6=\"\",\"\",U6)","v":"待"},null,{"$f":"IF(W6=\"\",\"\",W6)","v":""},null,{"$f":"IF(Y6=\"\",\"\",Y6)","v":""},"積",{"$f":"IF(AA6=\"\",\"\",AA6)","v":"積"},"登",{"$f":"IF(AC6=\"\",\"\",AC6)","v":"登"},"結",{"$f":"IF(AE6=\"\",\"\",AE6)","v":"結"},"継",{"$f":"IF(AG6=\"\",\"\",AG6)","v":"継"},null,{"$f":"IF(AI6=\"\",\"\",AI6)","v":""},null,{"$f":"IF(AK6=\"\",\"\",AK6)","v":""},"結",{"$f":"AM6","v":"結"}]
[null,{"$f":"動詞の活用まとめ!B7","v":3},null,null,null,null,{"$f":"(6-B7)*(-1)+4","v":1},null,null,null,null,4,null,null,null,{"$f":"IF(O7=\"\",\"\",O7)","v":""},"歩",{"$f":"IF(Q7=\"\",\"\",Q7)","v":"歩"},"回",{"$f":"IF(S7=\"\",\"\",S7)","v":"回"},"立",{"$f":"IF(U7=\"\",\"\",U7)","v":"立"},null,{"$f":"IF(W7=\"\",\"\",W7)","v":""},null,{"$f":"IF(Y7=\"\",\"\",Y7)","v":""},"噛",{"$f":"IF(AA7=\"\",\"\",AA7)","v":"噛"},"走",{"$f":"IF(AC7=\"\",\"\",AC7)","v":"走"},"洗",{"$f":"IF(AE7=\"\",\"\",AE7)","v":"洗"},"泳",{"$f":"IF(AG7=\"\",\"\",AG7)","v":"泳"},null,{"$f":"IF(AI7=\"\",\"\",AI7)","v":""},null,{"$f":"IF(AK7=\"\",\"\",AK7)","v":""},"飛",{"$f":"AM7","v":"飛"}]
[null,null,null,null,null,{"$f":"IF(F6=\"\",\"\",HLOOKUP($B$9,$O$3:$AP$12,10))","v":"く"},null,null,null,1,"未然",1,"へん。",null,null,null,"か",null,"さ",null,"た",null,"な",null,"は",null,"ま",null,"ら",null,"わ",null,"が",null,null,null,null,null,"ば"]
[null,{"$f":"動詞の活用まとめ!B9","v":2},{"$f":"IF(HLOOKUP($B$9,$O$3:$AP$7,$B$7)=\"\",\"\",HLOOKUP($B$9,$O$3:$AP$7,$B$7))","v":"書"},null,null,{"$f":"IF(F8=\"\",\"\",\"(\"&VLOOKUP($B$11,$J$18:$K$25,2)&\")\")","v":"(まんだ)"},null,null,null,2,"未然",2,"まいか。",null,null,null,"こ",null,"そ",null,"と",null,"の",null,"ほ",null,"も",null,"ろ",null,"お",null,"ご",null,null,null,null,null,"ぼ"]
[null,{"$f":"動詞の活用まとめ!B10","v":2.5},null,null,null,null,null,null,null,3,"連用",3,"んさる。",null,null,null,"き",null,"し",null,"ち",null,"に",null,"ひ",null,"み",null,"り",null,"い",null,"ぎ",null,null,null,null,null,"び"]
[null,{"$f":"動詞の活用まとめ!B11","v":1},{"$f":"IF(VLOOKUP($B$11,$L$8:$AP$17,HLOOKUP($B$9,$O$3:$AP$4,2))=\"\",\"\",VLOOKUP($B$11,$L$8:$AP$17,HLOOKUP($B$9,$O$3:$AP$4,2)))","v":"か"},null,null,null,null,null,null,4,"連用",4,"とった。","どりゃあした。",null,null,"い",null,"し",null,"っ",null,null,"ん",null,"ん",null,"ん","っ",null,"っ",null,null,"い",null,null,null,null,null,"ん"]
[null,null,{"$f":"IF(C11=\"\",\"\",VLOOKUP($B$11,$L$8:$AP$17,2))","v":"へん。"},null,null,null,null,null,null,5,"終止",5,"て。",null,null,null,"く",null,"す",null,"つ",null,"ぬ",null,"ふ",null,"む",null,"る",null,"う",null,"ぐ",null,null,null,null,null,"ぶ"]
[null,null,{"$f":"IF(VLOOKUP($B$11,$L$8:$AP$17,HLOOKUP($B$10,$O$3:$AP$4,2))=\"\",\"\",VLOOKUP($B$11,$L$8:$AP$17,HLOOKUP($B$10,$O$3:$AP$4,2)))","v":""},null,null,null,null,null,null,6,"連体",6,"ことないて。",null,null,null,"く",null,"す",null,"つ",null,"ぬ",null,"ふ",null,"む",null,"る",null,"う",null,"ぐ",null,null,null,null,null,"ぶ"]
[null,null,{"$f":"IF(C13=\"\",\"\",VLOOKUP($B$11,$L$8:$AP$17,3))","v":""},null,null,{"$f":"IF(C9=\"\",\"\",C9)","v":"書"},{"$f":"VLOOKUP($B$11,$J$8:$K$15,2)&\"形\"","v":"未然形"},null,null,7,"仮定",7,"ばええて。",null,null,null,"け",null,"せ",null,"て",null,"ね",null,"へ",null,"め",null,"れ",null,"え",null,"げ",null,null,null,null,null,"べ"]
[null,null,null,null,null,null,null,null,null,8,"命令",8,"て。",null,null,null,"け",null,"せ",null,"て",null,"ね",null,"へ",null,"め",null,"れ",null,"え",null,"げ",null,null,null,null,null,"べ"]
[null,null,null,null,null,{"$f":"IF(F6=\"\",\"\",C11&C13)","v":"か"}]
[null,null,null,{"$f":"IF($F$6=\"\",\"\",IF(B11=1,\"せる\",\"\"))","v":"せる"},{"$f":"IF($F$6=\"\",\"\",IF(B11=1,\"れる\",\"\"))","v":"れる"},{"$f":"IF(F6=\"\",\"\",C12&C14)","v":"へん。"},{"$f":"IF($F$6=\"\",\"\",IF(B11=1,\"ず\",\"\"))","v":"ず"},null,null,null,null,null,null,null,"あ",null,"か",null,"さ",null,"た",null,"な",null,"は",null,"ま",null,"ら",null,"わ",null,"が",null,"ざ",null,"だ",null,"ば"]
[null,null,null,null,null,null,null,null,null,1,"まんだ"]
[null,null,null,null,null,null,null,null,null,2,"一緒に"]
[null,null,null,null,null,null,null,null,null,3,"今"]
[null,null,null,null,null,null,null,null,null,4,"さっき"]
[null,null,null,null,null,null,null,null,null,5,"しっかり"]
[null,null,null,null,null,{"$f":"IF(VLOOKUP($B$11,$J$18:$L$25,3)=\"\",\"\",\"(\"&VLOOKUP($B$11,$J$18:$L$25,3)&\")\")","v":""},null,null,null,6,"わざわざ"]
[null,null,null,null,null,null,null,null,null,7]
[null,null,null,null,null,null,null,null,null,8,"ちゃんと"]

{"sheet":"下一段","index":3,"n_rows":25,"n_cols":40,"rows_kept":25,"cut":false,"hidden":true,"merged":[[22,5,26,5],[16,4,18,4],[16,3,18,3],[16,6,18,6],[5,5,6,5],[8,5,12,5],[13,5,14,5],[13,6,15,6],[16,5,21,5]]}
[]
[]
[null,null,null,null,null,null,null,null,null,null,null,null,null,{"$f":"MAX($O$3:$AI$3)","v":11},1,1.5,2,2.5,3,3.5,4,4.5,5,5.5,6,6.5,7,7.5,8,8.5,9,9.5,10,10.5,11,11.5,12,12.5,13,13.5]
[null,null,null,null,null,{"$f":"HLOOKUP($B$9,$O$3:$AP$17,15)","v":"か"},null,null,null,null,null,1,2,3,4,5,6,7,8,9,10,11,12,13,14,15,16,17,18,19,20,21,22,23,24,25,26,27,28,29]
[null,null,null,null,null,"行",null,null,null,null,null,2,null,null,"加",{"$f":"IF(O5=\"\",\"\",O5)","v":"加"},"掛",{"$f":"IF(Q5=\"\",\"\",Q5)","v":"掛"},"伏",{"$f":"IF(S5=\"\",\"\",S5)","v":"伏"},"も",{"$f":"IF(U5=\"\",\"\",U5)","v":"も"},"ま",{"$f":"IF(W5=\"\",\"\",W5)","v":"ま"},"(経)",{"$f":"IF(Y5=\"\",\"\",Y5)","v":"(経)"},"詰",{"$f":"IF(AA5=\"\",\"\",AA5)","v":"詰"},"暮",{"$f":"IF(AC5=\"\",\"\",AC5)","v":"暮"},null,{"$f":"IF(AE5=\"\",\"\",AE5)","v":""},"上",{"$f":"IF(AG5=\"\",\"\",AG5)","v":"上"},"混",{"$f":"IF(AI5=\"\",\"\",AI5)","v":"混"},"茹",{"$f":"IF(AK5=\"\",\"\",AK5)","v":"茹"},"食",{"$f":"IF(AM5=\"\",\"\",AM5)","v":"食"}]
[null,null,null,null,null,{"$f":"F14","v":"掛"},"例",null,null,null,null,3,null,null,"結わ",{"$f":"IF(O6=\"\",\"\",O6)","v":"結わ"},"付",{"$f":"IF(Q6=\"\",\"\",Q6)","v":"付"},"合わ",{"$f":"IF(S6=\"\",\"\",S6)","v":"合わ"},"捨",{"$f":"IF(U6=\"\",\"\",U6)","v":"捨"},"す",{"$f":"IF(W6=\"\",\"\",W6)","v":"す"},null,{"$f":"IF(Y6=\"\",\"\",Y6)","v":""},"眺",{"$f":"IF(AA6=\"\",\"\",AA6)","v":"眺"},"ず",{"$f":"IF(AC6=\"\",\"\",AC6)","v":"ず"},null,{"$f":"IF(AE6=\"\",\"\",AE6)","v":""},"下",{"$f":"IF(AG6=\"\",\"\",AG6)","v":"下"},"爆",{"$f":"IF(AI6=\"\",\"\",AI6)","v":"爆"},"撫",{"$f":"IF(AK6=\"\",\"\",AK6)","v":"撫"},"調",{"$f":"IF(AM6=\"\",\"\",AM6)","v":"調"}]
[null,{"$f":"動詞の活用まとめ!B7","v":3},null,null,null,null,{"$f":"(6-B7)*(-1)+4","v":1},null,null,null,null,4,null,null,"仕",{"$f":"IF(O7=\"\",\"\",O7)","v":"仕"},"受",{"$f":"IF(Q7=\"\",\"\",Q7)","v":"受"},"失",{"$f":"IF(S7=\"\",\"\",S7)","v":"失"},"当",{"$f":"IF(U7=\"\",\"\",U7)","v":"当"},"(寝)",{"$f":"IF(W7=\"\",\"\",W7)","v":"(寝)"},null,{"$f":"IF(Y7=\"\",\"\",Y7)","v":""},"極",{"$f":"IF(AA7=\"\",\"\",AA7)","v":"極"},"照",{"$f":"IF(AC7=\"\",\"\",AC7)","v":"照"},null,{"$f":"IF(AE7=\"\",\"\",AE7)","v":""},"告",{"$f":"IF(AG7=\"\",\"\",AG7)","v":"告"},"進",{"$f":"IF(AI7=\"\",\"\",AI7)","v":"進"},"(出)",{"$f":"IF(AK7=\"\",\"\",AK7)","v":"(出)"},"浮か",{"$f":"IF(AM7=\"\",\"\",AM7)","v":"浮か"}]
[null,null,null,null,null,{"$f":"IF(F6=\"\",\"\",HLOOKUP($B$9,$O$3:$AP$12,10))","v":"ける"},null,null,null,1,"未然",1,"ない",null,"え",null,"け",null,"せ",null,"て",null,"ね",null,"へ",null,"め",null,"れ",null,null,null,"げ",null,"ぜ",null,"で",null,"べ"]
[null,{"$f":"動詞の活用まとめ!B9","v":2},{"$f":"IF(HLOOKUP($B$9,$O$3:$AP$7,$B$7)=\"\",\"\",HLOOKUP($B$9,$O$3:$AP$7,$B$7))","v":"掛"},null,null,{"$f":"IF(F8=\"\",\"\",\"(\"&VLOOKUP($B$11,$J$18:$K$25,2)&\")\")","v":"(まだ)"},null,null,null,2,"未然",2,"よう",null,"え",null,"け",null,"せ",null,"て",null,"ね",null,"へ",null,"め",null,"れ",null,null,null,"げ",null,"ぜ",null,"で",null,"べ"]
[null,{"$f":"動詞の活用まとめ!B10","v":2.5},null,null,null,null,null,null,null,3,"連用",3,"ます",null,"え",null,"け",null,"せ",null,"て",null,"ね",null,"へ",null,"め",null,"れ",null,null,null,"げ",null,"ぜ",null,"で",null,"べ"]
[null,{"$f":"動詞の活用まとめ!B11","v":1},{"$f":"IF(VLOOKUP($B$11,$L$8:$AP$17,HLOOKUP($B$9,$O$3:$AP$4,2))=\"\",\"\",VLOOKUP($B$11,$L$8:$AP$17,HLOOKUP($B$9,$O$3:$AP$4,2)))","v":"け"},null,null,null,null,null,null,4,"連用",4,"た","だ","え",null,"け",null,"せ",null,"て",null,"ね",null,"へ",null,"め",null,"れ",null,null,null,"げ",null,"ぜ",null,"で",null,"べ"]
[null,null,{"$f":"IF(C11=\"\",\"\",VLOOKUP($B$11,$L$8:$AP$17,2))","v":"ない"},null,null,null,null,null,null,5,"終止",5,"。",null,"える",null,"ける",null,"せる",null,"てる",null,"ねる",null,"へる",null,"める",null,"れる",null,null,null,"げる",null,"ぜる",null,"でる",null,"べる"]
[null,null,{"$f":"IF(VLOOKUP($B$11,$L$8:$AP$17,HLOOKUP($B$10,$O$3:$AP$4,2))=\"\",\"\",VLOOKUP($B$11,$L$8:$AP$17,HLOOKUP($B$10,$O$3:$AP$4,2)))","v":""},null,null,null,null,null,null,6,"連体",6,"とき",null,"える",null,"ける",null,"せる",null,"てる",null,"ねる",null,"へる",null,"める",null,"れる",null,null,null,"げる",null,"ぜる",null,"でる",null,"べる"]
[null,null,{"$f":"IF(C13=\"\",\"\",VLOOKUP($B$11,$L$8:$AP$17,3))","v":""},null,null,{"$f":"IF(C9=\"\",\"\",C9)","v":"掛"},{"$f":"VLOOKUP($B$11,$J$8:$K$15,2)&\"形\"","v":"未然形"},null,null,7,"仮定",7,"ば",null,"えれ",null,"けれ",null,"せれ",null,"てれ",null,"ねれ",null,"へれ",null,"めれ",null,"れれ",null,null,null,"げれ",null,"ぜれ",null,"でれ",null,"べれ"]
[null,null,null,null,null,null,null,null,null,8,"命令",8,"。",null,"えろ",null,"けろ",null,"せろ",null,"てろ",null,"ねろ",null,"へろ",null,"めろ",null,"れろ",null,null,null,"げろ",null,"ぜろ",null,"でろ",null,"べろ"]
[null,null,null,null,null,{"$f":"IF(F6=\"\",\"\",C11&C13)","v":"け"},null,null,null,null,null,9]
[null,null,null,{"$f":"IF($F$6=\"\",\"\",IF(B11=1,\"させる\",\"\"))","v":"させる"},{"$f":"IF($F$6=\"\",\"\",IF(B11=1,\"られる\",\"\"))","v":"られる"},{"$f":"IF(F6=\"\",\"\",C12&C14)","v":"ない"},{"$f":"IF($F$6=\"\",\"\",IF(B11=1,\"ず\",\"\"))","v":"ず"},null,null,null,null,null,null,null,"あ",null,"か",null,"さ",null,"た",null,"な",null,"は",null,"ま",null,"ら",null,"わ",null,"が",null,"ざ",null,"だ",null,"ば"]
[null,null,null,null,null,null,null,null,null,1,"まだ"]
[null,null,null,null,null,null,null,null,null,2,"これから"]
[null,null,null,null,null,null,null,null,null,3,"今"]
[null,null,null,null,null,null,null,null,null,4,"さっき"]
[null,null,null,null,null,null,null,null,null,5,"しっかりと"]
[null,null,null,null,null,{"$f":"IF(VLOOKUP($B$11,$J$18:$L$25,3)=\"\",\"\",\"(\"&VLOOKUP($B$11,$J$18:$L$25,3)&\")\")","v":""},null,null,null,6,"それは","です"]
[null,null,null,null,null,null,null,null,null,7,"もしも"]
[null,null,null,null,null,null,null,null,null,8,"必ず"]

{"sheet":"上一段","index":4,"n_rows":25,"n_cols":40,"rows_kept":25,"cut":false,"hidden":true,"merged":[[22,5,26,5],[16,4,18,4],[16,3,18,3],[16,6,18,6],[5,5,6,5],[8,5,12,5],[13,5,14,5],[13,6,15,6],[16,5,21,5]]}
[]
[]
[null,null,null,null,null,null,null,null,null,null,null,null,null,{"$f":"MAX($O$3:$AI$3)","v":11},1,1.5,2,2.5,3,3.5,4,4.5,5,5.5,6,6.5,7,7.5,8,8.5,9,9.5,10,10.5,11,11.5,12,12.5,13,13.5]
[null,null,null,null,null,{"$f":"HLOOKUP($B$9,$O$3:$AP$17,15)","v":"か"},null,null,null,null,null,1,2,3,4,5,6,7,8,9,10,11,12,13,14,15,16,17,18,19,20,21,22,23,24,25,26,27,28,29]
[null,null,null,null,null,"行",null,null,null,null,null,2,null,null,"老",{"$f":"IF(O5=\"\",\"\",O5)","v":"老"},"起",{"$f":"IF(Q5=\"\",\"\",Q5)","v":"起"},null,{"$f":"IF(S5=\"\",\"\",S5)","v":""},"落",{"$f":"IF(U5=\"\",\"\",U5)","v":"落"},"(似)",{"$f":"IF(W5=\"\",\"\",W5)","v":"(似)"},"(干)",{"$f":"IF(Y5=\"\",\"\",Y5)","v":"(干)"},"(見)",{"$f":"IF(AA5=\"\",\"\",AA5)","v":"(見)"},"降",{"$f":"IF(AC5=\"\",\"\",AC5)","v":"降"},null,{"$f":"IF(AE5=\"\",\"\",AE5)","v":""},"過",{"$f":"IF(AG5=\"\",\"\",AG5)","v":"過"},"混",{"$f":"IF(AI5=\"\",\"\",AI5)","v":"混"},null,{"$f":"IF(AK5=\"\",\"\",AK5)","v":""},"浴",{"$f":"IF(AM5=\"\",\"\",AM5)","v":"浴"}]
[null,null,null,null,null,{"$f":"F14","v":"起"},"例",null,null,null,null,3,null,null,"悔",{"$f":"IF(O6=\"\",\"\",O6)","v":"悔"},"飽",{"$f":"IF(Q6=\"\",\"\",Q6)","v":"飽"},null,{"$f":"IF(S6=\"\",\"\",S6)","v":""},"朽",{"$f":"IF(U6=\"\",\"\",U6)","v":"朽"},"(煮)",{"$f":"IF(W6=\"\",\"\",W6)","v":"(煮)"},null,{"$f":"IF(Y6=\"\",\"\",Y6)","v":""},"試",{"$f":"IF(AA6=\"\",\"\",AA6)","v":"試"},"借",{"$f":"IF(AC6=\"\",\"\",AC6)","v":"借"},null,{"$f":"IF(AE6=\"\",\"\",AE6)","v":""},"言い過",{"$f":"IF(AG6=\"\",\"\",AG6)","v":"言い過"},"重ん",{"$f":"IF(AI6=\"\",\"\",AI6)","v":"重ん"},null,{"$f":"IF(AK6=\"\",\"\",AK6)","v":""},"生き延",{"$f":"IF(AM6=\"\",\"\",AM6)","v":"生き延"}]
[null,{"$f":"動詞の活用まとめ!B7","v":3},null,null,null,null,{"$f":"(6-B7)*(-1)+4","v":1},null,null,null,null,4,null,null,"(居)",{"$f":"IF(O7=\"\",\"\",O7)","v":"(居)"},"尽",{"$f":"IF(Q7=\"\",\"\",Q7)","v":"尽"},null,{"$f":"IF(S7=\"\",\"\",S7)","v":""},"満",{"$f":"IF(U7=\"\",\"\",U7)","v":"満"},null,{"$f":"IF(W7=\"\",\"\",W7)","v":""},null,{"$f":"IF(Y7=\"\",\"\",Y7)","v":""},"染",{"$f":"IF(AA7=\"\",\"\",AA7)","v":"染"},"懲",{"$f":"IF(AC7=\"\",\"\",AC7)","v":"懲"},null,{"$f":"IF(AE7=\"\",\"\",AE7)","v":""},null,{"$f":"IF(AG7=\"\",\"\",AG7)","v":""},"演",{"$f":"IF(AI7=\"\",\"\",AI7)","v":"演"},null,{"$f":"IF(AK7=\"\",\"\",AK7)","v":""},"大人",{"$f":"IF(AM7=\"\",\"\",AM7)","v":"大人"}]
[null,null,null,null,null,{"$f":"IF(F6=\"\",\"\",HLOOKUP($B$9,$O$3:$AP$12,10))","v":"きる"},null,null,null,1,"未然",1,"ない",null,"い",null,"き",null,"し",null,"ち",null,"に",null,"ひ",null,"み",null,"り",null,null,null,"ぎ",null,"じ",null,"ぢ",null,"び"]
[null,{"$f":"動詞の活用まとめ!B9","v":2},{"$f":"IF(HLOOKUP($B$9,$O$3:$AP$7,$B$7)=\"\",\"\",HLOOKUP($B$9,$O$3:$AP$7,$B$7))","v":"起"},null,null,{"$f":"IF(F8=\"\",\"\",\"(\"&VLOOKUP($B$11,$J$18:$K$25,2)&\")\")","v":"(まだ)"},null,null,null,2,"未然",2,"よう",null,"い",null,"き",null,"し",null,"ち",null,"に",null,"ひ",null,"み",null,"り",null,null,null,"ぎ",null,"じ",null,"ぢ",null,"び"]
[null,{"$f":"動詞の活用まとめ!B10","v":2.5},null,null,null,null,null,null,null,3,"連用",3,"ます",null,"い",null,"き",null,"し",null,"ち",null,"に",null,"ひ",null,"み",null,"り",null,null,null,"ぎ",null,"じ",null,"ぢ",null,"び"]
[null,{"$f":"動詞の活用まとめ!B11","v":1},{"$f":"IF(VLOOKUP($B$11,$L$8:$AP$17,HLOOKUP($B$9,$O$3:$AP$4,2))=\"\",\"\",VLOOKUP($B$11,$L$8:$AP$17,HLOOKUP($B$9,$O$3:$AP$4,2)))","v":"き"},null,null,null,null,null,null,4,"連用",4,"た","だ","い",null,"き",null,"し",null,"ち",null,"に",null,"ひ",null,"み",null,"り",null,null,null,"ぎ",null,"じ",null,"ぢ",null,"び"]
[null,null,{"$f":"IF(C11=\"\",\"\",VLOOKUP($B$11,$L$8:$AP$17,2))","v":"ない"},null,null,null,null,null,null,5,"終止",5,"。",null,"いる",null,"きる",null,"しる",null,"ちる",null,"にる",null,"ひる",null,"みる",null,"りる",null,null,null,"ぎる",null,"じる",null,"ぢる",null,"びる"]
[null,null,{"$f":"IF(VLOOKUP($B$11,$L$8:$AP$17,HLOOKUP($B$10,$O$3:$AP$4,2))=\"\",\"\",VLOOKUP($B$11,$L$8:$AP$17,HLOOKUP($B$10,$O$3:$AP$4,2)))","v":""},null,null,null,null,null,null,6,"連体",6,"とき",null,"いる",null,"きる",null,"しる",null,"ちる",null,"にる",null,"ひる",null,"みる",null,"りる",null,null,null,"ぎる",null,"じる",null,"ぢる",null,"びる"]
[null,null,{"$f":"IF(C13=\"\",\"\",VLOOKUP($B$11,$L$8:$AP$17,3))","v":""},null,null,{"$f":"IF(C9=\"\",\"\",C9)","v":"起"},{"$f":"VLOOKUP($B$11,$J$8:$K$15,2)&\"形\"","v":"未然形"},null,null,7,"仮定",7,"ば",null,"いれ",null,"きれ",null,"しれ",null,"ちれ",null,"にれ",null,"ひれ",null,"みれ",null,"りり",null,null,null,"ぎれ",null,"じれ",null,"ぢれ",null,"びれ"]
[null,null,null,null,null,null,null,null,null,8,"命令",8,"。",null,"いろ",null,"きろ",null,"しろ",null,"ちろ",null,"にろ",null,"ひろ",null,"みろ",null,"りろ",null,null,null,"ぎろ",null,"じろ",null,"ぢろ",null,"びろ"]
[null,null,null,null,null,{"$f":"IF(F6=\"\",\"\",C11&C13)","v":"き"},null,null,null,null,null,9]
[null,null,null,{"$f":"IF($F$6=\"\",\"\",IF(B11=1,\"させる\",\"\"))","v":"させる"},{"$f":"IF($F$6=\"\",\"\",IF(B11=1,\"られる\",\"\"))","v":"られる"},{"$f":"IF(F6=\"\",\"\",C12&C14)","v":"ない"},{"$f":"IF($F$6=\"\",\"\",IF(B11=1,\"ず\",\"\"))","v":"ず"},null,null,null,null,null,null,null,"あ",null,"か",null,"さ",null,"た",null,"な",null,"は",null,"ま",null,"ら",null,"わ",null,"が",null,"ざ",null,"だ",null,"ば"]
[null,null,null,null,null,null,null,null,null,1,"まだ"]
[null,null,null,null,null,null,null,null,null,2,"これから"]
[null,null,null,null,null,null,null,null,null,3,"今"]
[null,null,null,null,null,null,null,null,null,4,"さっき"]
[null,null,null,null,null,null,null,null,null,5,"しっかりと"]
[null,null,null,null,null,{"$f":"IF(VLOOKUP($B$11,$J$18:$L$25,3)=\"\",\"\",\"(\"&VLOOKUP($B$11,$J$18:$L$25,3)&\")\")","v":""},null,null,null,6,"それは","です"]
[null,null,null,null,null,null,null,null,null,7,"もしも"]
[null,null,null,null,null,null,null,null,null,8,"必ず"]

{"sheet":"カ変","index":5,"n_rows":25,"n_cols":40,"rows_kept":25,"cut":false,"hidden":true,"merged":[[22,5,26,5],[16,4,18,4],[16,3,18,3],[16,6,18,6],[5,5,6,5],[8,5,12,5],[13,5,14,5],[13,6,15,6],[16,5,21,5]]}
[]
[]
[null,null,null,null,null,null,null,null,null,null,null,null,null,{"$f":"MAX($O$3:$AI$3)","v":11},1,1.5,2,2.5,3,3.5,4,4.5,5,5.5,6,6.5,7,7.5,8,8.5,9,9.5,10,10.5,11,11.5,12,12.5,13,13.5]
[null,null,null,null,null,{"$f":"HLOOKUP($B$9,$O$3:$AP$17,15)","v":"か"},null,null,null,null,null,1,2,3,4,5,6,7,8,9,10,11,12,13,14,15,16,17,18,19,20,21,22,23,24,25,26,27,28,29]
[null,null,null,null,null,"行",null,null,null,null,null,2,null,null,null,{"$f":"IF(O5=\"\",\"\",O5)","v":""},"（来）",{"$f":"IF(Q5=\"\",\"\",Q5)","v":"（来）"},null,{"$f":"IF(S5=\"\",\"\",S5)","v":""},null,{"$f":"IF(U5=\"\",\"\",U5)","v":""},null,{"$f":"IF(W5=\"\",\"\",W5)","v":""},null,{"$f":"IF(Y5=\"\",\"\",Y5)","v":""},null,{"$f":"IF(AA5=\"\",\"\",AA5)","v":""},null,{"$f":"IF(AC5=\"\",\"\",AC5)","v":""},null,{"$f":"IF(AE5=\"\",\"\",AE5)","v":""},null,{"$f":"IF(AG5=\"\",\"\",AG5)","v":""},null,{"$f":"IF(AI5=\"\",\"\",AI5)","v":""},null,{"$f":"IF(AK5=\"\",\"\",AK5)","v":""},null,{"$f":"IF(AM5=\"\",\"\",AM5)","v":""}]
[null,null,null,null,null,{"$f":"F14","v":"（来）"},"例",null,null,null,null,3,null,null,null,{"$f":"IF(O6=\"\",\"\",O6)","v":""},"(・て)",{"$f":"IF(Q6=\"\",\"\",Q6)","v":"(・て)"},null,{"$f":"IF(S6=\"\",\"\",S6)","v":""},null,{"$f":"IF(U6=\"\",\"\",U6)","v":""},null,{"$f":"IF(W6=\"\",\"\",W6)","v":""},null,{"$f":"IF(Y6=\"\",\"\",Y6)","v":""},null,{"$f":"IF(AA6=\"\",\"\",AA6)","v":""},null,{"$f":"IF(AC6=\"\",\"\",AC6)","v":""},null,{"$f":"IF(AE6=\"\",\"\",AE6)","v":""},null,{"$f":"IF(AG6=\"\",\"\",AG6)","v":""},null,{"$f":"IF(AI6=\"\",\"\",AI6)","v":""},null,{"$f":"IF(AK6=\"\",\"\",AK6)","v":""},null,{"$f":"IF(AM6=\"\",\"\",AM6)","v":""}]
[null,{"$f":"動詞の活用まとめ!B7","v":3},null,null,null,null,{"$f":"(6-B7)*(-1)+4","v":1},null,null,null,null,4,null,null,null,{"$f":"IF(O7=\"\",\"\",O7)","v":""},null,{"$f":"IF(Q7=\"\",\"\",Q7)","v":""},null,{"$f":"IF(S7=\"\",\"\",S7)","v":""},null,{"$f":"IF(U7=\"\",\"\",U7)","v":""},null,{"$f":"IF(W7=\"\",\"\",W7)","v":""},null,{"$f":"IF(Y7=\"\",\"\",Y7)","v":""},null,{"$f":"IF(AA7=\"\",\"\",AA7)","v":""},null,{"$f":"IF(AC7=\"\",\"\",AC7)","v":""},null,{"$f":"IF(AE7=\"\",\"\",AE7)","v":""},null,{"$f":"IF(AG7=\"\",\"\",AG7)","v":""},null,{"$f":"IF(AI7=\"\",\"\",AI7)","v":""},null,{"$f":"IF(AK7=\"\",\"\",AK7)","v":""},null,{"$f":"IF(AM7=\"\",\"\",AM7)","v":""}]
[null,null,null,null,null,{"$f":"IF(F6=\"\",\"\",HLOOKUP($B$9,$O$3:$AP$12,10))","v":"くる"},null,null,null,1,"未然",1,"ない",null,null,null,"こ"]
[null,{"$f":"動詞の活用まとめ!B9","v":2},{"$f":"IF(HLOOKUP($B$9,$O$3:$AP$7,$B$7)=\"\",\"\",HLOOKUP($B$9,$O$3:$AP$7,$B$7))","v":"（来）"},null,null,{"$f":"IF(F8=\"\",\"\",\"(\"&VLOOKUP($B$11,$J$18:$K$25,2)&\")\")","v":"(まだ)"},null,null,null,2,"未然",2,"よう",null,null,null,"こ"]
[null,{"$f":"動詞の活用まとめ!B10","v":2.5},null,null,null,null,null,null,null,3,"連用",3,"ます",null,null,null,"き"]
[null,{"$f":"動詞の活用まとめ!B11","v":1},{"$f":"IF(VLOOKUP($B$11,$L$8:$AP$17,HLOOKUP($B$9,$O$3:$AP$4,2))=\"\",\"\",VLOOKUP($B$11,$L$8:$AP$17,HLOOKUP($B$9,$O$3:$AP$4,2)))","v":"こ"},null,null,null,null,null,null,4,"連用",4,"た","だ",null,null,"き"]
[null,null,{"$f":"IF(C11=\"\",\"\",VLOOKUP($B$11,$L$8:$AP$17,2))","v":"ない"},null,null,null,null,null,null,5,"終止",5,"。",null,null,null,"くる"]
[null,null,{"$f":"IF(VLOOKUP($B$11,$L$8:$AP$17,HLOOKUP($B$10,$O$3:$AP$4,2))=\"\",\"\",VLOOKUP($B$11,$L$8:$AP$17,HLOOKUP($B$10,$O$3:$AP$4,2)))","v":""},null,null,null,null,null,null,6,"連体",6,"とき",null,null,null,"くる"]
[null,null,{"$f":"IF(C13=\"\",\"\",VLOOKUP($B$11,$L$8:$AP$17,3))","v":""},null,null,{"$f":"IF(C9=\"\",\"\",C9)","v":"（来）"},{"$f":"VLOOKUP($B$11,$J$8:$K$15,2)&\"形\"","v":"未然形"},null,null,7,"仮定",7,"ば",null,null,null,"くれ"]
[null,null,null,null,null,null,null,null,null,8,"命令",8,"。",null,null,null,"こい"]
[null,null,null,null,null,{"$f":"IF(F6=\"\",\"\",C11&C13)","v":"こ"},null,null,null,null,null,9]
[null,null,null,{"$f":"IF($F$6=\"\",\"\",IF(B11=1,\"させる\",\"\"))","v":"させる"},{"$f":"IF($F$6=\"\",\"\",IF(B11=1,\"られる\",\"\"))","v":"られる"},{"$f":"IF(F6=\"\",\"\",C12&C14)","v":"ない"},{"$f":"IF($F$6=\"\",\"\",IF(B11=1,\"ず\",\"\"))","v":"ず"},null,null,null,null,null,null,null,"あ",null,"か",null,"さ",null,"た",null,"な",null,"は",null,"ま",null,"ら",null,"わ",null,"が",null,"ざ",null,"だ",null,"ば"]
[null,null,null,null,null,null,null,null,null,1,"まだ"]
[null,null,null,null,null,null,null,null,null,2,"これから"]
[null,null,null,null,null,null,null,null,null,3,"今"]
[null,null,null,null,null,null,null,null,null,4,"さっき"]
[null,null,null,null,null,null,null,null,null,5,"しっかりと"]
[null,null,null,null,null,{"$f":"IF(VLOOKUP($B$11,$J$18:$L$25,3)=\"\",\"\",\"(\"&VLOOKUP($B$11,$J$18:$L$25,3)&\")\")","v":""},null,null,null,6,"それは","です"]
[null,null,null,null,null,null,null,null,null,7,"もしも"]
[null,null,null,null,null,null,null,null,null,8,"必ず"]

{"sheet":"サ変","index":6,"n_rows":25,"n_cols":40,"rows_kept":25,"cut":false,"hidden":true,"merged":[[22,5,26,5],[16,4,18,4],[16,6,18,6],[16,3,18,3],[5,5,6,5],[8,5,12,5],[13,5,14,5],[13,6,15,6],[16,5,21,5]]}
[]
[]
[null,null,null,null,null,null,null,null,null,null,null,null,null,{"$f":"MAX($O$3:$AI$3)","v":11},1,1.5,2,2.5,3,3.5,4,4.5,5,5.5,6,6.5,7,7.5,8,8.5,9,9.5,10,10.5,11,11.5,12,12.5,13,13.5]
[null,null,null,null,null,{"$f":"HLOOKUP($B$9,$O$3:$AP$17,15)","v":"か"},null,null,null,null,null,1,2,3,4,5,6,7,8,9,10,11,12,13,14,15,16,17,18,19,20,21,22,23,24,25,26,27,28,29]
[null,null,null,null,null,"行",null,null,null,null,null,2,null,null,null,{"$f":"IF(O5=\"\",\"\",O5)","v":""},null,{"$f":"IF(Q5=\"\",\"\",Q5)","v":""},"・",{"$f":"IF(S5=\"\",\"\",S5)","v":"・"},null,{"$f":"IF(U5=\"\",\"\",U5)","v":""},null,{"$f":"IF(W5=\"\",\"\",W5)","v":""},null,{"$f":"IF(Y5=\"\",\"\",Y5)","v":""},null,{"$f":"IF(AA5=\"\",\"\",AA5)","v":""},null,{"$f":"IF(AC5=\"\",\"\",AC5)","v":""},null,{"$f":"IF(AE5=\"\",\"\",AE5)","v":""},null,{"$f":"IF(AG5=\"\",\"\",AG5)","v":""},null,{"$f":"IF(AI5=\"\",\"\",AI5)","v":""},null,{"$f":"IF(AK5=\"\",\"\",AK5)","v":""},null,{"$f":"IF(AM5=\"\",\"\",AM5)","v":""}]
[null,null,null,null,null,{"$f":"F14","v":""},"例",null,null,null,null,3,null,null,null,{"$f":"IF(O6=\"\",\"\",O6)","v":""},null,{"$f":"IF(Q6=\"\",\"\",Q6)","v":""},"・",{"$f":"IF(S6=\"\",\"\",S6)","v":"・"},null,{"$f":"IF(U6=\"\",\"\",U6)","v":""},null,{"$f":"IF(W6=\"\",\"\",W6)","v":""},null,{"$f":"IF(Y6=\"\",\"\",Y6)","v":""},null,{"$f":"IF(AA6=\"\",\"\",AA6)","v":""},null,{"$f":"IF(AC6=\"\",\"\",AC6)","v":""},null,{"$f":"IF(AE6=\"\",\"\",AE6)","v":""},null,{"$f":"IF(AG6=\"\",\"\",AG6)","v":""},null,{"$f":"IF(AI6=\"\",\"\",AI6)","v":""},null,{"$f":"IF(AK6=\"\",\"\",AK6)","v":""},null,{"$f":"IF(AM6=\"\",\"\",AM6)","v":""}]
[null,{"$f":"動詞の活用まとめ!B7","v":3},null,null,null,null,{"$f":"(6-B7)*(-1)+4","v":1},null,null,null,null,4,null,null,null,{"$f":"IF(O7=\"\",\"\",O7)","v":""},null,{"$f":"IF(Q7=\"\",\"\",Q7)","v":""},"・",{"$f":"IF(S7=\"\",\"\",S7)","v":"・"},null,{"$f":"IF(U7=\"\",\"\",U7)","v":""},null,{"$f":"IF(W7=\"\",\"\",W7)","v":""},null,{"$f":"IF(Y7=\"\",\"\",Y7)","v":""},null,{"$f":"IF(AA7=\"\",\"\",AA7)","v":""},null,{"$f":"IF(AC7=\"\",\"\",AC7)","v":""},null,{"$f":"IF(AE7=\"\",\"\",AE7)","v":""},null,{"$f":"IF(AG7=\"\",\"\",AG7)","v":""},null,{"$f":"IF(AI7=\"\",\"\",AI7)","v":""},null,{"$f":"IF(AK7=\"\",\"\",AK7)","v":""},null,{"$f":"IF(AM7=\"\",\"\",AM7)","v":""}]
[null,null,null,null,null,{"$f":"IF(F6=\"\",\"\",HLOOKUP($B$9,$O$3:$AP$12,10))","v":""},null,null,null,1,"未然",1,"ない",null,null,null,null,null,"し・さ"]
[null,{"$f":"動詞の活用まとめ!B9","v":2},{"$f":"IF(HLOOKUP($B$9,$O$3:$AP$7,$B$7)=\"\",\"\",HLOOKUP($B$9,$O$3:$AP$7,$B$7))","v":""},null,null,{"$f":"IF(F8=\"\",\"\",\"(\"&VLOOKUP($B$11,$J$18:$K$25,2)&\")\")","v":""},null,null,null,2,"未然",2,"よう",null,null,null,null,null,"し・せ"]
[null,{"$f":"動詞の活用まとめ!B10","v":2.5},null,null,null,null,null,null,null,3,"連用",3,"ます",null,null,null,null,null,"し"]
[null,{"$f":"動詞の活用まとめ!B11","v":1},{"$f":"IF(VLOOKUP($B$11,$L$8:$AP$17,HLOOKUP($B$9,$O$3:$AP$4,2))=\"\",\"\",VLOOKUP($B$11,$L$8:$AP$17,HLOOKUP($B$9,$O$3:$AP$4,2)))","v":""},null,null,null,null,null,null,4,"連用",4,"た","だ",null,null,null,null,"し"]
[null,null,{"$f":"IF(C11=\"\",\"\",VLOOKUP($B$11,$L$8:$AP$17,2))","v":""},null,null,null,null,null,null,5,"終止",5,"。",null,null,null,null,null,"する"]
[null,null,{"$f":"IF(VLOOKUP($B$11,$L$8:$AP$17,HLOOKUP($B$10,$O$3:$AP$4,2))=\"\",\"\",VLOOKUP($B$11,$L$8:$AP$17,HLOOKUP($B$10,$O$3:$AP$4,2)))","v":""},null,null,null,null,null,null,6,"連体",6,"とき",null,null,null,null,null,"する"]
[null,null,{"$f":"IF(C13=\"\",\"\",VLOOKUP($B$11,$L$8:$AP$17,3))","v":""},null,null,{"$f":"IF(C9=\"\",\"\",C9)","v":""},{"$f":"VLOOKUP($B$11,$J$8:$K$15,2)&\"形\"","v":"未然形"},null,null,7,"仮定",7,"ば",null,null,null,null,null,"すれ"]
[null,null,null,null,null,null,null,null,null,8,"命令",8,"。",null,null,null,null,null,"しろ"]
[null,null,null,null,null,{"$f":"IF(F6=\"\",\"\",C11&C13)","v":""},null,null,null,null,null,9]
[null,null,null,{"$f":"IF($F$6=\"\",\"\",IF(B11=1,\"せる\",\"\"))","v":""},{"$f":"IF($F$6=\"\",\"\",IF(B11=1,\"れる\",\"\"))","v":""},{"$f":"IF(F6=\"\",\"\",C12&C14)","v":""},{"$f":"IF($F$6=\"\",\"\",IF(B11=1,\"ず\",\"\"))","v":""},null,null,null,null,null,null,null,"あ",null,"か",null,"さ",null,"た",null,"な",null,"は",null,"ま",null,"ら",null,"わ",null,"が",null,"ざ",null,"だ",null,"ば"]
[null,null,null,null,null,null,null,null,null,1,"まだ"]
[null,null,null,null,null,null,null,null,null,2,"これから"]
[null,null,null,null,null,null,null,null,null,3,"今"]
[null,null,null,null,null,null,null,null,null,4,"さっき"]
[null,null,null,null,null,null,null,null,null,5,"しっかりと"]
[null,null,null,null,null,{"$f":"IF(VLOOKUP($B$11,$J$18:$L$25,3)=\"\",\"\",\"(\"&VLOOKUP($B$11,$J$18:$L$25,3)&\")\")","v":""},null,null,null,6,"それは","です"]
[null,null,null,null,null,null,null,null,null,7,"もしも"]
[null,null,null,null,null,null,null,null,null,8,"必ず"]